Workbook

Sheet A remplir
C1: Nombre de chaque
A2: Index | B2: CTA Capteurs | C2: 0°C + 50°C 0 + 100 Pa 0 - 100% 0 - 2000ppm Pas de plage | D2: -20°C + 80°C 0 + 1000 Pa | E2: -40°C + 150°C 0 + 1000 Pa | F2: Distance moyenne armoire (m)
A3: 1 | B3: Sonde de température | D3: 0
A4: 2 | B4: Thermostat antigel | C4: 0
A5: 3 | B5: Thermostat de surchauffe manuel supplémentaire | C5: 0
A6: 4 | B6: Thermostat de surchauffe auto supplémentaire | C6: 0
A7: 5 | B7: Sonde de CO2 | C7: 0
A8: 6 | B8: Sonde mixte (T/Hygro)
A9: 7 | B9: Sonde mixte (T/CO2)
A10: 8 | B10: Capteur de pression / filtre
A11: 9 | B11: Pressostat à contact sec (1 niveau) | C11: 0
A12: 10 | B12: Sonde d'hygrométrie | C12: 0
A13: 11 | B13: Hygrostat
A14: 12 | B14: Sonde température d'ambiance
A15: 13 | B15: Sonde d'ambiance mixte T/hygro
A16: 14 | B16: Sonde d'ambiance mixte T/CO2
A17: 15 | B17: Sonde extérieure | E17: 0
A18: 16 | B18: Thermostat température ambiante | C18: 0 | D18: 0 | E18: 0
A19: 17
F24: Batterie type 1 | K24: Batterie type 2 | P24: Batterie type 3
A25: Index | B25: CTA Actionneurs | C25: TOR | D25: PV-GV | E25: Régulé | F25: Monophase/triphasé | G25: Tension d'alim | H25: Puissance | I25: nombre | J25: Distance armoire | K25: Monophase/triphasé2 | L25: Tension d'alim2 | M25: Puissance2 | N25: Nombre2 | O25: Distance armoire2 | P25: Monophase/triphasé3 | Q25: Tension d'alim3 | R25: Puissance3 | S25: Nombre3 | T25: Distance armoire3
A26: 20 | B26: Batterie électrique 1er étage
A27: 21 | B27: Batterie électrique 2ème étage
A28: 22 | B28: Batterie électrique 3ème étage
A29: 23 | B29: Ventilateur
A30: 24 | B30: Registre simple
A31: 26 | B31: Registre avec Retour à 0, ressort de rappel
A32: 28 | B32: Clapet coupe feu avec THC
A33: 29 | B33: Clapet coupe feu sans THC (contact DI)
A34: 30 | B34: Humidificateur
A35: 31 | B35: Vanne de régulation EC / EG
A36: 32
A37: 33
A38: 34
A39: 35
A40: 36
A41: 37
A45: Index | B45: Circuit ES/EC/EG - capteurs | C45: 0 +100°C | D45: 0 +200°C | E45: TOR | F45: Distance moyenne armoire (m)
A46: 40 | B46: Sonde de température
A47: 41 | B47: Thermostat surchauffe
...

Sheet Base de données prix
A2: Index | B2: Désignation | C2: Fournisseur | D2: référence | E2: Prix public HT | F2: Remise | G2: Prix achat HT | H2: Condition DQE | I2: Prix DQE | J2: ID Câble | K2: Colonne1 | L2: Nb de fils | M2: Raccordements | N2: Bornes
A3: 1 | B3: Automate PCD3.M5340 | C3: SAIA | D3: PCD3.M5340 | E3: 1579.35 | F3: 0.3 | G3: =E3*(1-F3) -> 1105.545 | H3: 0.94 | I3: =E3*H3 -> 1484.589
A4: 2 | B4: Support batterie pour PCD3 | C4: SAIA | D4: 4 639 4898 0 | E4: 23.8 | F4: 0.3 | G4: =E4*(1-F4) -> 16.66 | H4: 0.94 | I4: =E4*H4 -> 22.372 | J4: 0
A5: 3 | B5: Pile de sauvegarde | C5: SAIA | D5: 4 507 4817 0 | E5: 11.9 | F5: 0.3 | G5: =E5*(1-F5) -> 8.33 | H5: 0.94 | I5: =E5*H5 -> 11.186 | J5: 0
A6: 4 | B6: Module carte SD PCD7.R610 | C6: SAIA | D6: PCD7.R610 | E6: 190.5 | F6: 0.3 | G6: =E6*(1-F6) -> 133.35 | H6: 0.94 | I6: =E6*H6 -> 179.07 | J6: 0
A7: 5 | B7: Carte SD PCD7.R-MSD1024 | C7: SAIA | D7: PCD7.R-MSD1024 | E7: 59.5 | F7: 0.3 | G7: =E7*(1-F7) -> 41.65 | H7: 0.94 | I7: =E7*H7 -> 55.93 | J7: 0
A8: 6 | B8: Extension pour automate SAIA - 4 Modules | C8: SAIA | D8: PCD3.C200 | E8: 190.5 | F8: 0.3 | G8: =E8*(1-F8) -> 133.35 | H8: 0.94 | I8: =E8*H8 -> 179.07
A9: 7 | B9: Connecteur de raccordement PCD3.M/T/C à PCD3.Cxxx | C9: SAIA | D9: PCD3.K010 | E9: 42.85 | F9: 0.3 | G9: =E9*(1-F9) -> 29.995 | H9: 0.94 | I9: =E9*H9 -> 40.279
A10: 8 | B10: Carte 16 entrées TOR | C10: SAIA | D10: PCD3.E165 | E10: 133.35 | F10: 0.3 | G10: =E10*(1-F10) -> 93.345 | H10: 0.94 | I10: =E10*H10 -> 125.349
A11: 9 | B11: Carte 8 sorties TOR | C11: SAIA | D11: PCD3.A251 | E11: 143.65 | F11: 0.3 | G11: =E11*(1-F11) -> 100.555 | H11: 0.94 | I11: =E11*H11 -> 135.031
A12: 10 | B12: Carte 8 entrées analogiques | C12: SAIA | D12: PCD3.W340 | E12: 315.85 | F12: 0.3 | G12: =E12*(1-F12) -> 221.095 | H12: 0.94 | I12: =E12*H12 -> 296.899
A13: 11 | B13: Carte 4 sorties analogiques | C13: SAIA | D13: PCD3.W410 | E13: 293.65 | F13: 0.3 | G13: =E13*(1-F13) -> 205.555 | H13: 0.94 | I13: =E13*H13 -> 276.031
A14: 12 | B14: Protection pour emplacements inutilisés | C14: SAIA | D14: 4 104 7515 0 | E14: 11.1 | F14: 0.3 | G14: =E14*(1-F14) -> 7.77 | H14: 0.94 | I14: =E14*H14 -> 10.434
A15: 13 | B15: Ecran Web 12" | C15: SAIA | D15: PCD7.D421DTPF | E15: 1646.8 | F15: 0.3 | G15: =E15*(1-F15) -> 1152.76 | H15: 0.94 | I15: =E15*H15 -> 1547.992
A16: 14 | B16: Carte de communication supplémentaire | C16: SAIA
A17: 15 | B17: Sonde de pression 0 - 100 Pa | C17: C2AI | D17: CP111-PO | F17: 0.35 | G17: =E17*(1-F17) -> 0 | H17: 1.15
A18: 16 | B18: Sonde de pression 0 - 1 000 Pa | C18: C2AI | D18: CP112-PO | E18: 288 | F18: 0.35 | G18: =E18*(1-F18) -> 187.2 | H18: 1.15 | I18: =G18*H18 -> 215.28
A19: 17 | B19: Sonde de pression 0 - 10 000Pa | C19: C2AI | D19: CP113-PO | F19: 0.35 | G19: =E19*(1-F19) -> 0 | H19: 1.15
A20: 18
A21: 19
A22: 20
A23: 21
A24: 22
A25: 23
A26: 24
A27: 25
A28: 26
A29: 27
A30: 28
A31: 29
... A59: 50

Sheet Calcul automatisme
A2: Index | B2: Designation | C2: type de point
C3: TA/TS | D3: TM | E3: TC | F3: TR
B4: Divers
A5: 80 | B5: Présence tension 230V | C5: =VLOOKUP($B5,Tableau14568[[Divers]:[Distance moyenne armoire (m)]],2,0) -> 1
A6: 81 | B6: Présence tension 24V | C6: =VLOOKUP($B6,Tableau14568[[Divers]:[Distance moyenne armoire (m)]],2,0) -> 1
A7: 82 | B7: Voyant Défaut général | E7: =VLOOKUP($B7,Tableau14568[[Divers]:[Distance moyenne armoire (m)]],2,0) -> 1
A8: 83 | B8: Voyant mode manuel | E8: =VLOOKUP($B8,Tableau14568[[Divers]:[Distance moyenne armoire (m)]],2,0) -> 1
A9: 84 | B9: Bouton réarmement | E9: =VLOOKUP($B9,Tableau14568[[Divers]:[Distance moyenne armoire (m)]],2,0) -> 1
A10: 85 | B10: Détection incendie | C10: =VLOOKUP($B10,Tableau14568[[Divers]:[Distance moyenne armoire (m)]],2,0) -> 1
A11: 86 | B11: Synthèse alarme niveau 1 | E11: =VLOOKUP($B11,Tableau14568[[Divers]:[Distance moyenne armoire (m)]],2,0) -> 1
A12: 87 | B12: Synthèse alarme niveau 2 | E12: =VLOOKUP($B12,Tableau14568[[Divers]:[Distance moyenne armoire (m)]],2,0) -> 1
A13: 88 | B13: Interrupteur marche/arrêt/retour position supplémentaire | C13: =VLOOKUP($B13,Tableau14568[[Divers]:[Distance moyenne armoire (m)]],2,0) -> 0
A14: 89 | B14: Ajustement consigne/ réglage/retour position | D14: =VLOOKUP($B14,Tableau14568[[Divers]:[Distance moyenne armoire (m)]],3,0) -> 0
A15: 90 | B15: Equipement supplémentaire | E15: =VLOOKUP($B15,Tableau14568[[Divers]:[Distance moyenne armoire (m)]],2,0) -> 0 | F15: =VLOOKUP($B15,Tableau14568[[Divers]:[Distance moyenne armoire (m)]],3,0) -> 0
A17: 0 | B17: Calculés
A18: 1 | B18: Sonde de température | D18: =SUM(VLOOKUP($B18,Tableau1[[CTA Capteurs]:[Distance moyenne armoire (m)]],2,0),VLOOKUP($B18,Tableau1[[CTA Capteurs]:[Distance moyenne armoire (m)]],3,0),VLOOKUP($B18,Tableau1[[CTA Capteurs]:[Distance moyenne armoire (m)]],4,0)) -> 0
A19: 2 | B19: Thermostat antigel | C19: =SUM(VLOOKUP($B19,Tableau1[[CTA Capteurs]:[Distance moyenne armoire (m)]],2,0),VLOOKUP($B19,Tableau1[[CTA Capteurs]:[Distance moyenne armoire (m)]],3,0),VLOOKUP($B19,Tableau1[[CTA Capteurs]:[Distance moyenne armoire (m)]],4,0)) -> 0
A20: 3 | B20: Thermostat de surchauffe manuel supplémentaire | C20: =SUM(VLOOKUP($B20,Tableau1[[CTA Capteurs]:[Distance moyenne armoire (m)]],2,0),VLOOKUP($B20,Tableau1[[CTA Capteurs]:[Distance moyenne armoire (m)]],3,0),VLOOKUP($B20,Tableau1[[CTA Capteurs]:[Distance moyenne armoire (m)]],4,0)) -> 0
A21: 4 | B21: Thermostat de surchauffe auto supplémentaire | C21: =SUM(VLOOKUP($B21,Tableau1[[CTA Capteurs]:[Distance moyenne armoire (m)]],2,0),VLOOKUP($B21,Tableau1[[CTA Capteurs]:[Distance moyenne armoire (m)]],3,0),VLOOKUP($B21,Tableau1[[CTA Capteurs]:[Distance moyenne armoire (m)]],4,0)) -> 0
A22: 5 | B22: Sonde de CO2 | D22: =SUM(VLOOKUP($B22,Tableau1[[CTA Capteurs]:[Distance moyenne armoire (m)]],2,0),VLOOKUP($B22,Tableau1[[CTA Capteurs]:[Distance moyenne armoire (m)]],3,0),VLOOKUP($B22,Tableau1[[CTA Capteurs]:[Distance moyenne armoire (m)]],4,0)) -> 0
A23: 6 | B23: Sonde mixte (T/Hygro) | D23: =SUM(VLOOKUP($B23,Tableau1[[CTA Capteurs]:[Distance moyenne armoire (m)]],2,0),VLOOKUP($B23,Tableau1[[CTA Capteurs]:[Distance moyenne armoire (m)]],3,0),VLOOKUP($B23,Tableau1[[CTA Capteurs]:[Distance moyenne armoire (m)]],4,0))*2 -> 0
A24: 7 | B24: Sonde mixte (T/CO2) | D24: =SUM(VLOOKUP($B24,Tableau1[[CTA Capteurs]:[Distance moyenne armoire (m)]],2,0),VLOOKUP($B24,Tableau1[[CTA Capteurs]:[Distance moyenne armoire (m)]],3,0),VLOOKUP($B24,Tableau1[[CTA Capteurs]:[Distance moyenne armoire (m)]],4,0))*2 -> 0
A25: 8 | B25: Capteur de pression / filtre | D25: =SUM(VLOOKUP($B25,Tableau1[[CTA Capteurs]:[Distance moyenne armoire (m)]],2,0),VLOOKUP($B25,Tableau1[[CTA Capteurs]:[Distance moyenne armoire (m)]],3,0),VLOOKUP($B25,Tableau1[[CTA Capteurs]:[Distance moyenne armoire (m)]],4,0)) -> 0
A26: 9 | B26: Pressostat à contact sec (1 niveau) | C26: =SUM(VLOOKUP($B26,Tableau1[[CTA Capteurs]:[Distance moyenne armoire (m)]],2,0),VLOOKUP($B26,Tableau1[[CTA Capteurs]:[Distance moyenne armoire (m)]],3,0),VLOOKUP($B26,Tableau1[[CTA Capteurs]:[Distance moyenne armoire (m)]],4,0)) -> 0
A27: 10 | B27: Sonde d'hygrométrie | D27: =SUM(VLOOKUP($B27,Tableau1[[CTA Capteurs]:[Distance moyenne armoire (m)]],2,0),VLOOKUP($B27,Tableau1[[CTA Capteurs]:[Distance moyenne armoire (m)]],3,0),VLOOKUP($B27,Tableau1[[CTA Capteurs]:[Distance moyenne armoire (m)]],4,0)) -> 0
A28: 11 | B28: Hygrostat | C28: =SUM(VLOOKUP($B28,Tableau1[[CTA Capteurs]:[Distance moyenne armoire (m)]],2,0),VLOOKUP($B28,Tableau1[[CTA Capteurs]:[Distance moyenne armoire (m)]],3,0),VLOOKUP($B28,Tableau1[[CTA Capteurs]:[Distance moyenne armoire (m)]],4,0)) -> 0
A29: 12 | B29: Sonde température d'ambiance | D29: =SUM(VLOOKUP($B29,Tableau1[[CTA Capteurs]:[Distance moyenne armoire (m)]],2,0),VLOOKUP($B29,Tableau1[[CTA Capteurs]:[Distance moyenne armoire (m)]],3,0),VLOOKUP($B29,Tableau1[[CTA Capteurs]:[Distance moyenne armoire (m)]],4,0)) -> 0
A30: 13 | B30: Sonde d'ambiance mixte T/hygro | D30: =SUM(VLOOKUP($B30,Tableau1[[CTA Capteurs]:[Distance moyenne armoire (m)]],2,0),VLOOKUP($B30,Tableau1[[CTA Capteurs]:[Distance moyenne armoire (m)]],3,0),VLOOKUP($B30,Tableau1[[CTA Capteurs]:[Distance moyenne armoire (m)]],4,0))*2 -> 0
A31: 14 | B31: Sonde d'ambiance mixte T/CO2 | D31: =SUM(VLOOKUP($B31,Tableau1[[CTA Capteurs]:[Distance moyenne armoire (m)]],2,0),VLOOKUP($B31,Tableau1[[CTA Capteurs]:[Distance moyenne armoire (m)]],3,0),VLOOKUP($B31,Tableau1[[CTA Capteurs]:[Distance moyenne armoire (m)]],4,0))*2 -> 0
A32: 15 | B32: Sonde extérieure | D32: =SUM(VLOOKUP($B32,Tableau1[[CTA Capteurs]:[Distance moyenne armoire (m)]],2,0),VLOOKUP($B32,Tableau1[[CTA Capteurs]:[Distance moyenne armoire (m)]],3,0),VLOOKUP($B32,Tableau1[[CTA Capteurs]:[Distance moyenne armoire (m)]],4,0))*2 -> 0
A33: 16 | B33: Thermostat température ambiante | D33: =SUM(VLOOKUP($B33,Tableau1[[CTA Capteurs]:[Distance moyenne armoire (m)]],2,0),VLOOKUP($B33,Tableau1[[CTA Capteurs]:[Distance moyenne armoire (m)]],3,0),VLOOKUP($B33,Tableau1[[CTA Capteurs]:[Distance moyenne armoire (m)]],4,0)) -> 0
A35: 20 | B35: Batterie électrique 1er étage | C35: =SUM(VLOOKUP($B35,Tableau14[[CTA Actionneurs]:[Régulé]],2,0),VLOOKUP($B35,Tableau14[[CTA Actionneurs]:[Régulé]],3,0),VLOOKUP($B35,Tableau14[[CTA Actionneurs]:[Régulé]],4,0))*3 -> 0 | E35: =VLOOKUP($B35,Tableau14[[CTA Actionneurs]:[Régulé]],2,0) -> 0 | F35: =VLOOKUP($B35,Tableau14[[CTA Actionneurs]:[Régulé]],4,0) -> 0
A36: 21 | B36: Batterie électrique 2ème étage | C36: =SUM(VLOOKUP($B36,Tableau14[[CTA Actionneurs]:[Régulé]],2,0),VLOOKUP($B36,Tableau14[[CTA Actionneurs]:[Régulé]],3,0),VLOOKUP($B36,Tableau14[[CTA Actionneurs]:[Régulé]],4,0)) -> 0 | E36: =VLOOKUP($B36,Tableau14[[CTA Actionneurs]:[Régulé]],2,0) -> 0 | F36: =VLOOKUP($B36,Tableau14[[CTA Actionneurs]:[Régulé]],4,0) -> 0
A37: 22 | B37: Batterie électrique 3ème étage | C37: =SUM(VLOOKUP($B37,Tableau14[[CTA Actionneurs]:[Régulé]],2,0),VLOOKUP($B37,Tableau14[[CTA Actionneurs]:[Régulé]],3,0),VLOOKUP($B37,Tableau14[[CTA Actionneurs]:[Régulé]],4,0)) -> 0 | E37: =VLOOKUP($B37,Tableau14[[CTA Actionneurs]:[Régulé]],2,0) -> 0 | F37: =VLOOKUP($B37,Tableau14[[CTA Actionneurs]:[Régulé]],4,0) -> 0
A38: 23 | B38: Ventilateur | C38: =SUM(VLOOKUP($B38,Tableau14[[CTA Actionneurs]:[Régulé]],2,0)*2,VLOOKUP($B38,Tableau14[[CTA Actionneurs]:[Régulé]],3,0)*3,VLOOKUP($B38,Tableau14[[CTA Actionneurs]:[Régulé]],4,0)*2) -> 0 | E38: =SUM(VLOOKUP($B38,Tableau14[[CTA Actionneurs]:[Régulé]],2,0),VLOOKUP($B38,Tableau14[[CTA Actionneurs]:[Régulé]],3,0)*2,VLOOKUP($B38,Tableau14[[CTA Actionneurs]:[Régulé]],4,0)) -> 0 | F38: =VLOOKUP($B38,Tableau14[[CTA Actionneurs]:[Régulé]],4,0) -> 0
A39: 24 | B39: Registre simple | C39: =VLOOKUP($B39,Tableau14[[CTA Actionneurs]:[Régulé]],2,0)*2 -> 0 | D39: =VLOOKUP($B39,Tableau14[[CTA Actionneurs]:[Régulé]],4,0) -> 0 | E39: =VLOOKUP($B39,Tableau14[[CTA Actionneurs]:[Régulé]],2,0) -> 0 | F39: =VLOOKUP($B39,Tableau14[[CTA Actionneurs]:[Régulé]],4,0) -> 0
A40: 25 | B40: Registre avec Retour à 0, ressort de rappel | C40: =VLOOKUP($B40,Tableau14[[CTA Actionneurs]:[Régulé]],2,0)*2 -> 0 | D40: =VLOOKUP($B40,Tableau14[[CTA Actionneurs]:[Régulé]],4,0) -> 0 | E40: =VLOOKUP($B40,Tableau14[[CTA Actionneurs]:[Régulé]],2,0) -> 0 | F40: =VLOOKUP($B40,Tableau14[[CTA Actionneurs]:[Régulé]],4,0) -> 0
A41: 26 | B41: Clapet coupe feu avec THC | C41: =VLOOKUP($B41,Tableau14[[CTA Actionneurs]:[Régulé]],2,0)*3 -> 0 | E41: =VLOOKUP($B41,Tableau14[[CTA Actionneurs]:[Régulé]],2,0) -> 0
A42: 27 | B42: Clapet coupe feu sans THC (contact DI) | C42: =VLOOKUP($B42,Tableau14[[CTA Actionneurs]:[Régulé]],2,0)*2 -> 0
A43: 28 | B43: Humidificateur | C43: =VLOOKUP($B43,Tableau14[[CTA Actionneurs]:[Régulé]],4,0)*2 -> 0 | E43: =VLOOKUP($B43,Tableau14[[CTA Actionneurs]:[Régulé]],4,0) -> 0 | F43: =VLOOKUP($B43,Tableau14[[CTA Actionneurs]:[Régulé]],4,0) -> 0
...

Sheet Calcul capteur
B2: Désignation | C2: Nombre
B3: Sonde de température en gaine | C3: =Tableau1[[#This Row],[-20°C + 80°C 0 + 1000 Pa]] -> 0
B4: Thermostat antigel en gaine | C4: =Tableau1[[#This Row],[0°C + 50°C 0 + 100 Pa 0 - 100% 0 - 2000ppm Pas de plage]] -> 0
B5: Thermostat de surchauffe manuel supplémentaire | C5: =Tableau1[[#This Row],[0°C + 50°C 0 + 100 Pa 0 - 100% 0 - 2000ppm Pas de plage]] -> 0
B6: Thermostat de surchauffe auto supplémentaire | C6: =Tableau1[[#This Row],[0°C + 50°C 0 + 100 Pa 0 - 100% 0 - 2000ppm Pas de plage]] -> 0
B7: Sonde de CO2 en gaine | C7: =Tableau1[[#This Row],[0°C + 50°C 0 + 100 Pa 0 - 100% 0 - 2000ppm Pas de plage]] -> 0
B8: Sonde mixte (T/Hygro) | C8: =Tableau1[[#This Row],[-20°C + 80°C 0 + 1000 Pa]] -> 0
B9: Sonde mixte (T/CO2) | C9: =Tableau1[[#This Row],[-20°C + 80°C 0 + 1000 Pa]] -> 0
B10: Sonde de pression 0 - 100 Pa | C10: =Tableau1[[#This Row],[0°C + 50°C 0 + 100 Pa 0 - 100% 0 - 2000ppm Pas de plage]] -> 0
B11: Sonde de pression 0 - 1 000 Pa | C11: ='A remplir'!D10 -> 0
B12: Sonde de pression 0 - 10 000Pa | C12: ='A remplir'!E10 -> 0
B14: Pressostat à contact sec (1 niveau) | C14: ='A remplir'!C11 -> 0
B15: Sonde d'hygrométrie | C15: ='A remplir'!C12 -> 0
B16: Hygrostat | C16: ='A remplir'!C13 -> 0
B17: Sonde température d'ambiance | C17: ='A remplir'!C14 -> 0
B18: Sonde d'ambiance mixte T/hygro | C18: ='A remplir'!C15 -> 0
B19: Sonde d'ambiance mixte T/CO2 | C19: ='A remplir'!C16 -> 0
B20: Sonde extérieure | C20: ='A remplir'!E17 -> 0
B21: Thermostat température ambiante 1 | C21: ='A remplir'!C18 -> 0
B22: Thermostat température ambiante 2 | C22: ='A remplir'!D18 -> 0
B23: Thermostat température ambiante 3 | C23: ='A remplir'!E18 -> 0

Sheet Agglomération
B2: Fournisseur | C2: Référence | D2: Désignation2 | E2: Nombre | F2: PU DQE | G2: Prix vente DQE | H2: Colonne1
B3: =VLOOKUP(Tableau810[[#This Row],[Désignation2]],Tableau6[[Désignation]:[Prix DQE]],2,0) -> SAIA | C3: =VLOOKUP(Tableau810[[#This Row],[Désignation2]],Tableau6[[Désignation]:[Prix DQE]],3,0) -> PCD3.M5340 | D3: Automate PCD3.M5340 | E3: ='Calcul automatisme'!C71 -> 1 | F3: =VLOOKUP(D3,Tableau6[[Désignation]:[Prix DQE]],8,0) -> 1484.589 | G3: =E3*F3 -> 1484.589 | H3: =IF(Tableau810[[#This Row],[Nombre]]>0,1,0) -> 1
B4: =VLOOKUP(Tableau810[[#This Row],[Désignation2]],Tableau6[[Désignation]:[Prix DQE]],2,0) -> SAIA | C4: =VLOOKUP(Tableau810[[#This Row],[Désignation2]],Tableau6[[Désignation]:[Prix DQE]],3,0) -> 4 639 4898 0 | D4: Support batterie pour PCD3 | E4: ='Calcul automatisme'!C72 -> 1 | F4: =VLOOKUP(D4,Tableau6[[Désignation]:[Prix DQE]],8,0) -> 22.372 | G4: =E4*F4 -> 22.372 | H4: =IF(Tableau810[[#This Row],[Nombre]]>0,1,0) -> 1
B5: =VLOOKUP(Tableau810[[#This Row],[Désignation2]],Tableau6[[Désignation]:[Prix DQE]],2,0) -> SAIA | C5: =VLOOKUP(Tableau810[[#This Row],[Désignation2]],Tableau6[[Désignation]:[Prix DQE]],3,0) -> 4 507 4817 0 | D5: Pile de sauvegarde | E5: ='Calcul automatisme'!C73 -> 1 | F5: =VLOOKUP(D5,Tableau6[[Désignation]:[Prix DQE]],8,0) -> 11.186 | G5: =E5*F5 -> 11.186 | H5: =IF(Tableau810[[#This Row],[Nombre]]>0,1,0) -> 1
B6: =VLOOKUP(Tableau810[[#This Row],[Désignation2]],Tableau6[[Désignation]:[Prix DQE]],2,0) -> SAIA | C6: =VLOOKUP(Tableau810[[#This Row],[Désignation2]],Tableau6[[Désignation]:[Prix DQE]],3,0) -> PCD7.R610 | D6: Module carte SD PCD7.R610 | E6: ='Calcul automatisme'!C74 -> 1 | F6: =VLOOKUP(D6,Tableau6[[Désignation]:[Prix DQE]],8,0) -> 179.07 | G6: =E6*F6 -> 179.07 | H6: =IF(Tableau810[[#This Row],[Nombre]]>0,1,0) -> 1
B7: =VLOOKUP(Tableau810[[#This Row],[Désignation2]],Tableau6[[Désignation]:[Prix DQE]],2,0) -> SAIA | C7: =VLOOKUP(Tableau810[[#This Row],[Désignation2]],Tableau6[[Désignation]:[Prix DQE]],3,0) -> PCD7.R-MSD1024 | D7: Carte SD PCD7.R-MSD1024 | E7: ='Calcul automatisme'!C75 -> 1 | F7: =VLOOKUP(D7,Tableau6[[Désignation]:[Prix DQE]],8,0) -> 55.93 | G7: =E7*F7 -> 55.93 | H7: =IF(Tableau810[[#This Row],[Nombre]]>0,1,0) -> 1
B8: =VLOOKUP(Tableau810[[#This Row],[Désignation2]],Tableau6[[Désignation]:[Prix DQE]],2,0) -> SAIA | C8: =VLOOKUP(Tableau810[[#This Row],[Désignation2]],Tableau6[[Désignation]:[Prix DQE]],3,0) -> 0 | D8: Carte de communication supplémentaire | E8: ='Calcul automatisme'!C76 -> 0 | F8: =VLOOKUP(D8,Tableau6[[Désignation]:[Prix DQE]],8,0) -> 0 | G8: =E8*F8 -> 0 | H8: =IF(Tableau810[[#This Row],[Nombre]]>0,1,0) -> 0
B9: =VLOOKUP(Tableau810[[#This Row],[Désignation2]],Tableau6[[Désignation]:[Prix DQE]],2,0) -> SAIA | C9: =VLOOKUP(Tableau810[[#This Row],[Désignation2]],Tableau6[[Désignation]:[Prix DQE]],3,0) -> PCD3.C200 | D9: Extension pour automate SAIA - 4 Modules | E9: ='Calcul automatisme'!C77 -> 0 | F9: =VLOOKUP(D9,Tableau6[[Désignation]:[Prix DQE]],8,0) -> 179.07 | G9: =E9*F9 -> 0 | H9: =IF(Tableau810[[#This Row],[Nombre]]>0,1,0) -> 0
B10: =VLOOKUP(Tableau810[[#This Row],[Désignation2]],Tableau6[[Désignation]:[Prix DQE]],2,0) -> SAIA | C10: =VLOOKUP(Tableau810[[#This Row],[Désignation2]],Tableau6[[Désignation]:[Prix DQE]],3,0) -> PCD3.K010 | D10: Connecteur de raccordement PCD3.M/T/C à PCD3.Cxxx | E10: ='Calcul automatisme'!C78 -> 0 | F10: =VLOOKUP(D10,Tableau6[[Désignation]:[Prix DQE]],8,0) -> 40.279 | G10: =E10*F10 -> 0 | H10: =IF(Tableau810[[#This Row],[Nombre]]>0,1,0) -> 0
B11: =VLOOKUP(Tableau810[[#This Row],[Désignation2]],Tableau6[[Désignation]:[Prix DQE]],2,0) -> SAIA | C11: =VLOOKUP(Tableau810[[#This Row],[Désignation2]],Tableau6[[Désignation]:[Prix DQE]],3,0) -> PCD3.E165 | D11: Carte 16 entrées TOR | E11: ='Calcul automatisme'!C79 -> 1 | F11: =VLOOKUP(D11,Tableau6[[Désignation]:[Prix DQE]],8,0) -> 125.349 | G11: =E11*F11 -> 125.349 | H11: =IF(Tableau810[[#This Row],[Nombre]]>0,1,0) -> 1
B12: =VLOOKUP(Tableau810[[#This Row],[Désignation2]],Tableau6[[Désignation]:[Prix DQE]],2,0) -> SAIA | C12: =VLOOKUP(Tableau810[[#This Row],[Désignation2]],Tableau6[[Désignation]:[Prix DQE]],3,0) -> PCD3.A251 | D12: Carte 8 sorties TOR | E12: ='Calcul automatisme'!C80 -> 1 | F12: =VLOOKUP(D12,Tableau6[[Désignation]:[Prix DQE]],8,0) -> 135.031 | G12: =E12*F12 -> 135.031 | H12: =IF(Tableau810[[#This Row],[Nombre]]>0,1,0) -> 1
B13: =VLOOKUP(Tableau810[[#This Row],[Désignation2]],Tableau6[[Désignation]:[Prix DQE]],2,0) -> SAIA | C13: =VLOOKUP(Tableau810[[#This Row],[Désignation2]],Tableau6[[Désignation]:[Prix DQE]],3,0) -> PCD3.W340 | D13: Carte 8 entrées analogiques | E13: ='Calcul automatisme'!C81 -> 0 | F13: =VLOOKUP(D13,Tableau6[[Désignation]:[Prix DQE]],8,0) -> 296.899 | G13: =E13*F13 -> 0 | H13: =IF(Tableau810[[#This Row],[Nombre]]>0,1,0) -> 0
B14: =VLOOKUP(Tableau810[[#This Row],[Désignation2]],Tableau6[[Désignation]:[Prix DQE]],2,0) -> SAIA | C14: =VLOOKUP(Tableau810[[#This Row],[Désignation2]],Tableau6[[Désignation]:[Prix DQE]],3,0) -> PCD3.W410 | D14: Carte 4 sorties analogiques | E14: ='Calcul automatisme'!C82 -> 0 | F14: =VLOOKUP(D14,Tableau6[[Désignation]:[Prix DQE]],8,0) -> 276.031 | G14: =E14*F14 -> 0 | H14: =IF(Tableau810[[#This Row],[Nombre]]>0,1,0) -> 0
... B16: =VLOOKUP(Tableau810[[#This Row],[Désignation2]],Tableau6[[Désignation]:[Prix DQE]],2,0) -> SAIA | C16: =VLOOKUP(Tableau810[[#This Row],[Désignation2]],Tableau6[[Désignation]:[Prix DQE]],3,0) -> PCD7.D421DTPF | D16: Ecran Web 12" | E16: ='Calcul automatisme'!C84 -> 1 | F16: =VLOOKUP(D16,Tableau6[[Désignation]:[Prix DQE]],8,0) -> 1547.992 | G16: =E16*F16 -> 1547.992 | H16: =IF(Tableau810[[#This Row],[Nombre]]>0,1,0) -> 1

Sheet Synthèse
C4: Besoin | D4: Réelle | E4: Marge réelle
B5: Nombre d'entrées logiques | C5: ='Calcul automatisme'!C59 -> 3 | D5: ='Calcul automatisme'!E59 -> 16 | E5: =D5/C5-1 -> 4.3333333
B6: Nombre de sorties logiques | C6: ='Calcul automatisme'!C60 -> 5 | D6: ='Calcul automatisme'!E60 -> 8 | E6: =D6/C6-1 -> 0.6
B7: Nombre d'entrées analogiques | C7: ='Calcul automatisme'!C61 -> 0 | D7: ='Calcul automatisme'!E61 -> 0 | E7: =D7/C7-1 -> #DIV/0!
B8: Nombre de sorties analogiques | C8: ='Calcul automatisme'!C62 -> 0 | D8: ='Calcul automatisme'!E62 -> 0 | E8: =D8/C8-1 -> #DIV/0!
B11: Désignation | C11: Référence | D11: nombre | E11: PU HT | F11: Prix Total
B12: =VLOOKUP(1,Tableau810[],1,0) -> #N/A
B13: =VLOOKUP(1,Tableau810[],1,0) -> #N/A
B14: =VLOOKUP(1,Tableau810[],1,0) -> #N/A
B15: =VLOOKUP(1,Tableau810[],1,0) -> #N/A
B16: =VLOOKUP(1,Tableau810[],1,0) -> #N/A
B17: =VLOOKUP(1,Tableau810[],1,0) -> #N/A
B18: =VLOOKUP(1,Tableau810[],1,0) -> #N/A
B19: =VLOOKUP(1,Tableau810[],1,0) -> #N/A
B20: =VLOOKUP(1,Tableau810[],1,0) -> #N/A
B21: =VLOOKUP(1,Tableau810[],1,0) -> #N/A
B22: =VLOOKUP(1,Tableau810[],1,0) -> #N/A

Sheet Calcul section câble
A2: 230V | C2: Section de câble
A3: Puissance | B3: Intensité | C3: 1.5 | D3: 2.5 | E3: 4 | F3: 6 | G3: 10 | H3: 16 | I3: 25 | J3: 35 | K3: 50 | L3: 70 | M3: 95
A4: 0.5 | B4: 2.3 | C4: 100 | D4: 165 | E4: 265 | F4: 395
A5: 1 | B5: 4.6 | C5: 30 | D5: 84 | E5: 135 | F5: 200 | G5: 335 | H5: 530
A6: 1.5 | B6: 6.8 | C6: 33 | D6: 57 | E6: 90 | F6: 130 | G6: 225 | H6: 355 | I6: 565
A7: 2 | B7: 9 | C7: 25 | D7: 43 | E7: 68 | F7: 100 | G7: 170 | H7: 265 | I7: 430 | J7: 595
A8: 2.5 | B8: 11.5 | C8: 20 | D8: 34 | E8: 54 | F8: 80 | G8: 135 | H8: 210 | I8: 340 | J8: 470 | K8: 630
A9: 3 | B9: 13.5 | C9: 17 | D9: 29 | E9: 45 | F9: 66 | G9: 110 | H9: 180 | I9: 285 | J9: 395 | K9: 520
A10: 3.5 | B10: 16 | C10: 14 | D10: 24 | E10: 39 | F10: 56 | G10: 96 | H10: 155 | I10: 245 | J10: 335 | K10: 450
A11: 4 | B11: 18 | D11: 21 | E11: 34 | F11: 49 | G11: 84 | H11: 135 | I11: 210 | J11: 295 | K11: 395 | L11: 580
A12: 4.5 | B12: 20 | D12: 19 | E12: 30 | F12: 44 | G12: 75 | H12: 120 | I12: 190 | J12: 260 | K12: 350 | L12: 515
A13: 5 | B13: 23 | E13: 27 | F13: 39 | G13: 68 | H13: 105 | I13: 170 | J13: 235 | K13: 315 | L13: 460 | M13: 630
A14: 6 | B14: 27 | E14: 23 | F14: 32 | G14: 56 | H14: 90 | I14: 140 | J14: 195 | K14: 260 | L14: 385 | M14: 530
A15: 7 | B15: 32 | F15: 28 | G15: 48 | H15: 76 | I15: 120 | J15: 170 | K15: 225 | L15: 330 | M15: 460
A16: 8 | B16: 36 | G16: 42 | H16: 67 | I16: 105 | J16: 145 | K16: 195 | L16: 290 | M16: 400
A17: 9 | B17: 41 | G17: 38 | H17: 60 | I17: 94 | J17: 130 | K17: 175 | L17: 255 | M17: 355
A18: 10 | B18: 45 | G18: 34 | H18: 54 | I18: 84 | J18: 120 | K18: 155 | L18: 230 | M18: 320
A19: 12 | B19: 55 | H19: 45 | I19: 80 | J19: 98 | K19: 130 | L19: 190 | M19: 265
A20: 14 | B20: 64 | H20: 38 | I20: 60 | J20: 84 | K20: 110 | L20: 165 | M20: 230
A21: 16 | B21: 73 | I21: 53 | J21: 74 | K21: 99 | L21: 145 | M21: 200
A22: 18 | B22: 82 | I22: 47 | J22: 65 | K22: 88 | L22: 125 | M22: 175
A23: 20 | B23: 91 | J23: 59 | K23: 79 | L23: 115 | M23: 160
A25: 380V | C25: Section de câble
A26: Puissance | B26: Intensité | C26: 1.5 | D26: 2.5 | E26: 4 | F26: 6 | G26: 10 | H26: 16 | I26: 25 | J26: 35 | K26: 50 | L26: 70 | M26: 95
A27: 2.5 | B27: 5 | C27: 190 | D27: 325 | E27: 510 | F27: 745
A28: 3 | B28: 6 | C28: 160 | D28: 270 | E28: 420 | F28: 620
A29: 3.5 | B29: 7 | C29: 135 | D29: 230 | E29: 362 | F29: 540 | G29: 895
A30: 4 | B30: 8 | C30: 120 | D30: 200 | E30: 320 | F30: 470 | G30: 785
A31: 4.5 | B31: 9 | C31: 96 | D31: 180 | E31: 28 | F31: 420 | G31: 700
A32: 5 | B32: 10 | C32: 79 | D32: 165 | E32: 255 | F32: 375 | G32: 630 | H32: 970
A33: 6 | B33: 12 | C33: 68 | D33: 135 | E33: 210 | F33: 315 | G33: 525 | H33: 810
A34: 7 | B34: 14 | C34: 60 | D34: 115 | E34: 180 | F34: 270 | G34: 455 | H34: 700
A35: 8 | B35: 16 | C35: 51 | D35: 105 | E35: 160 | F35: 240 | G35: 400 | H35: 610 | I35: 940
A36: 9 | B36: 18 | D36: 92 | E36: 145 | F36: 215 | G36: 355 | H36: 550 | I36: 850
A37: 10 | B37: 19 | D37: 84 | E37: 130 | F37: 190 | G37: 320 | H37: 500 | I37: 780
A38: 12 | B38: 23 | D38: 69 | E38: 110 | F38: 160 | G38: 265 | H38: 45 | I38: 640 | J38: 880
A39: 14 | B39: 27 | E39: 94 | F39: 140 | G39: 230 | H39: 355 | I39: 550 | J39: 750
A40: 16 | B40: 31 | E40: 81 | F40: 120 | G40: 200 | H40: 315 | I40: 485 | J40: 655 | K40: 860
A41: 18 | B41: 35 | F41: 110 | G41: 180 | H41: 280 | I41: 430 | J41: 580 | K41: 770
A42: 20 | B42: 38 | F42: 98 | G42: 160 | H42: 255 | I42: 390 | J42: 520 | K42: 690
...
