Workbook

Sheet TOTAUX
F1: STATISTIQUES DU MOIS DE : | L1: =UPPER('GESTION DES FICHES'!F2) | AB1: A6:A36 | AC1: B6:B36 | AD1: C6:C36 | AE1: D6:D36 | AF1: F6:F36 | AG1: G6:G36 | AH1: H6:H36 | AI1: I6:I36 | AJ1: J6:J36 | AK1: K6:K36 | AL1: L6:L36 | AM1: M6:M36 | AN1: N6:N36 | AO1: P6:P36 | AP1: Q6:Q36 | AQ1: S6:S36 | AR1: T6:T36 | AS1: V6:V36 | AT1: W6:W35 | AU1: X6:X36
A2: Report des TOTAUX | B2: =B37 -> 23 | C2: =C37 -> 19 | D2: =D37 -> 166 | F2: =F37 -> 7 | G2: =G37 -> 13 | H2: =H37 -> 167 | I2: =I37 -> 3 | J2: =J37 -> 7.5 | K2: =K37 -> 26 | L2: =L37 -> 4 | M2: =M37 -> 11 | N2: =N37 -> 66 | P2: =P37 -> 0 | Q2: =Q37 -> 51 | S2: =S37 -> 55.25 | T2: =T37 -> 150 | V2: =V37 -> 0 | W2: =W37 -> 0 | X2: =X37 -> 0 | AB2: date | AC2: VAD NBRE | AD2: VAD TEMPS | AE2: VAD KM | AF2: ACCOMP. SANTE MBRE | AG2: ACCOMP. SANTE TEMPS | AH2: ACCOMP. SANTE KM | AI2: ACCOMPT.ADMINISTRATIF NBRE | AJ2: ACCOMPT.ADMINISTRATIF TEMPS | AK2: ACCOMPT.ADMINISTRATIF KM | AL2: ACCOMPT.AUTRES NBRE | AM2: ACCOMPT.AUTRES TEMPS | AN2: ACCOMPT.AUTRES KM | AO2: TELEPHONE NBRE | AP2: TELEPHONE TEMPS | AQ2: SOUTIEN TEMPS | AR2: SOUTIEN KM | AS2: RENAULT | AT2: PEUGEOT | AU2: DUSTER
A3: ACTIVITES INDIVIDUELLES
A4: Date | B4: VAD | F4: ACCOMP. SANTE | I4: ACCOMP. ADMINISTRATIF | L4: ACCOMP. AUTRES | P4: TELEPHONE | S4: SOUTIEN | V4: VEHICULES KILOMÉTRAGE | Z4: Anita | AB4: ="'"&$Z4&"'!"&AB$1 -> 'Anita'!A6:A36 | AC4: ="'"&$Z4&"'!"&AC$1 -> 'Anita'!B6:B36 | AD4: ="'"&$Z4&"'!"&AD$1 -> 'Anita'!C6:C36 | AE4: ="'"&$Z4&"'!"&AE$1 -> 'Anita'!D6:D36 | AF4: ="'"&$Z4&"'!"&AF$1 -> 'Anita'!F6:F36 | AG4: ="'"&$Z4&"'!"&AG$1 -> 'Anita'!G6:G36 | AH4: ="'"&$Z4&"'!"&AH$1 -> 'Anita'!H6:H36 | AI4: ="'"&$Z4&"'!"&AI$1 -> 'Anita'!I6:I36 | ... AU4: ="'"&$Z4&"'!"&AU$1 -> 'Anita'!X6:X36
B5: NBRE | C5: TEMPS | D5: KM | F5: NBRE | G5: TEMPS | H5: KM | I5: NBRE | J5: TEMPS | K5: KM | L5: NBRE | M5: TEMPS | N5: KM | P5: NBRE | Q5: TEMPS | S5: TEMP | T5: KM | V5: Renault | W5: Peugeot | X5: Duster | Z5: Annick | AB5: ="'"&$Z5&"'!"&AB$1 -> 'Annick'!A6:A36 | AC5: ="'"&$Z5&"'!"&AC$1 -> 'Annick'!B6:B36 | AD5: ="'"&$Z5&"'!"&AD$1 -> 'Annick'!C6:C36 | AE5: ="'"&$Z5&"'!"&AE$1 -> 'Annick'!D6:D36 | AF5: ="'"&$Z5&"'!"&AF$1 -> 'Annick'!F6:F36 | AG5: ="'"&$Z5&"'!"&AG$1 -> 'Annick'!G6:G36 | AH5: ="'"&$Z5&"'!"&AH$1 -> 'Annick'!H6:H36 | AI5: ="'"&$Z5&"'!"&AI$1 -> 'Annick'!I6:I36 | ... AU5: ="'"&$Z5&"'!"&AU$1 -> 'Annick'!X6:X36
A6: 45658 | B6: =SUM(Christine:Gérard!B6) -> 0 | C6: =SUM(Christine:Gérard!C6) -> 0 | D6: =SUM(Christine:Gérard!D6) -> 0 | E6: =SUM(Christine:Gérard!E6) -> 0 | F6: =SUM(Christine:Gérard!F6) -> 0 | G6: =SUM(Christine:Gérard!G6) -> 0 | H6: =SUM(Christine:Gérard!H6) -> 0 | I6: =SUM(Christine:Gérard!I6) -> 0 | ... X6: =SUM(Christine:Gérard!X6) -> 0 | Z6: Marie-France | AB6: ="'"&$Z6&"'!"&AB$1 -> 'Marie-France'!A6:A36 | AC6: ="'"&$Z6&"'!"&AC$1 -> 'Marie-France'!B6:B36 | AD6: ="'"&$Z6&"'!"&AD$1 -> 'Marie-France'!C6:C36 | AE6: ="'"&$Z6&"'!"&AE$1 -> 'Marie-France'!D6:D36 | AF6: ="'"&$Z6&"'!"&AF$1 -> 'Marie-France'!F6:F36 | AG6: ="'"&$Z6&"'!"&AG$1 -> 'Marie-France'!G6:G36 | AH6: ="'"&$Z6&"'!"&AH$1 -> 'Marie-France'!H6:H36 | AI6: ="'"&$Z6&"'!"&AI$1 -> 'Marie-France'!I6:I36 | ... AU6: ="'"&$Z6&"'!"&AU$1 -> 'Marie-France'!X6:X36
A7: 45659 | B7: =SUM(Christine:Gérard!B7) -> 0 | C7: =SUM(Christine:Gérard!C7) -> 0 | D7: =SUM(Christine:Gérard!D7) -> 0 | E7: =SUM(Christine:Gérard!E7) -> 0 | F7: =SUM(Christine:Gérard!F7) -> 0 | G7: =SUM(Christine:Gérard!G7) -> 0 | H7: =SUM(Christine:Gérard!H7) -> 0 | I7: =SUM(Christine:Gérard!I7) -> 0 | ... X7: =SUM(Christine:Gérard!X7) -> 0 | Z7: Émilie | AB7: ="'"&$Z7&"'!"&AB$1 -> 'Émilie'!A6:A36 | AC7: ="'"&$Z7&"'!"&AC$1 -> 'Émilie'!B6:B36 | AD7: ="'"&$Z7&"'!"&AD$1 -> 'Émilie'!C6:C36 | AE7: ="'"&$Z7&"'!"&AE$1 -> 'Émilie'!D6:D36 | AF7: ="'"&$Z7&"'!"&AF$1 -> 'Émilie'!F6:F36 | AG7: ="'"&$Z7&"'!"&AG$1 -> 'Émilie'!G6:G36 | AH7: ="'"&$Z7&"'!"&AH$1 -> 'Émilie'!H6:H36 | AI7: ="'"&$Z7&"'!"&AI$1 -> 'Émilie'!I6:I36 | ... AU7: ="'"&$Z7&"'!"&AU$1 -> 'Émilie'!X6:X36
A8: 45660 | B8: =SUM(Christine:Gérard!B8) -> 0 | C8: =SUM(Christine:Gérard!C8) -> 0 | D8: =SUM(Christine:Gérard!D8) -> 0 | E8: =SUM(Christine:Gérard!E8) -> 0 | F8: =SUM(Christine:Gérard!F8) -> 0 | G8: =SUM(Christine:Gérard!G8) -> 0 | H8: =SUM(Christine:Gérard!H8) -> 0 | I8: =SUM(Christine:Gérard!I8) -> 0 | ... X8: =SUM(Christine:Gérard!X8) -> 0 | Z8: Lina | AB8: ="'"&$Z8&"'!"&AB$1 -> 'Lina'!A6:A36 | AC8: ="'"&$Z8&"'!"&AC$1 -> 'Lina'!B6:B36 | AD8: ="'"&$Z8&"'!"&AD$1 -> 'Lina'!C6:C36 | AE8: ="'"&$Z8&"'!"&AE$1 -> 'Lina'!D6:D36 | AF8: ="'"&$Z8&"'!"&AF$1 -> 'Lina'!F6:F36 | AG8: ="'"&$Z8&"'!"&AG$1 -> 'Lina'!G6:G36 | AH8: ="'"&$Z8&"'!"&AH$1 -> 'Lina'!H6:H36 | AI8: ="'"&$Z8&"'!"&AI$1 -> 'Lina'!I6:I36 | ... AU8: ="'"&$Z8&"'!"&AU$1 -> 'Lina'!X6:X36
A9: 45661 | B9: =SUM(Christine:Gérard!B9) -> 0 | C9: =SUM(Christine:Gérard!C9) -> 0 | D9: =SUM(Christine:Gérard!D9) -> 0 | E9: =SUM(Christine:Gérard!E9) -> 0 | F9: =SUM(Christine:Gérard!F9) -> 0 | G9: =SUM(Christine:Gérard!G9) -> 0 | H9: =SUM(Christine:Gérard!H9) -> 0 | I9: =SUM(Christine:Gérard!I9) -> 0 | ... X9: =SUM(Christine:Gérard!X9) -> 0 | Z9: Christine T. | AB9: ="'"&$Z9&"'!"&AB$1 -> 'Christine T.'!A6:A36 | AC9: ="'"&$Z9&"'!"&AC$1 -> 'Christine T.'!B6:B36 | AD9: ="'"&$Z9&"'!"&AD$1 -> 'Christine T.'!C6:C36 | AE9: ="'"&$Z9&"'!"&AE$1 -> 'Christine T.'!D6:D36 | AF9: ="'"&$Z9&"'!"&AF$1 -> 'Christine T.'!F6:F36 | AG9: ="'"&$Z9&"'!"&AG$1 -> 'Christine T.'!G6:G36 | AH9: ="'"&$Z9&"'!"&AH$1 -> 'Christine T.'!H6:H36 | AI9: ="'"&$Z9&"'!"&AI$1 -> 'Christine T.'!I6:I36 | ... AU9: ="'"&$Z9&"'!"&AU$1 -> 'Christine T.'!X6:X36
A10: 45662 | B10: =SUM(Christine:Gérard!B10) -> 0 | C10: =SUM(Christine:Gérard!C10) -> 0 | D10: =SUM(Christine:Gérard!D10) -> 0 | E10: =SUM(Christine:Gérard!E10) -> 0 | F10: =SUM(Christine:Gérard!F10) -> 0 | G10: =SUM(Christine:Gérard!G10) -> 0 | H10: =SUM(Christine:Gérard!H10) -> 0 | I10: =SUM(Christine:Gérard!I10) -> 0 | ... X10: =SUM(Christine:Gérard!X10) -> 0 | Z10: Emmanuel | AB10: ="'"&$Z10&"'!"&AB$1 -> 'Emmanuel'!A6:A36 | AC10: ="'"&$Z10&"'!"&AC$1 -> 'Emmanuel'!B6:B36 | AD10: ="'"&$Z10&"'!"&AD$1 -> 'Emmanuel'!C6:C36 | AE10: ="'"&$Z10&"'!"&AE$1 -> 'Emmanuel'!D6:D36 | AF10: ="'"&$Z10&"'!"&AF$1 -> 'Emmanuel'!F6:F36 | AG10: ="'"&$Z10&"'!"&AG$1 -> 'Emmanuel'!G6:G36 | AH10: ="'"&$Z10&"'!"&AH$1 -> 'Emmanuel'!H6:H36 | AI10: ="'"&$Z10&"'!"&AI$1 -> 'Emmanuel'!I6:I36 | ... AU10: ="'"&$Z10&"'!"&AU$1 -> 'Emmanuel'!X6:X36
A11: 45663 | B11: =SUM(Christine:Gérard!B11) -> 0 | C11: =SUM(Christine:Gérard!C11) -> 0 | D11: =SUM(Christine:Gérard!D11) -> 0 | E11: =SUM(Christine:Gérard!E11) -> 0 | F11: =SUM(Christine:Gérard!F11) -> 1 | G11: =SUM(Christine:Gérard!G11) -> 5 | H11: =SUM(Christine:Gérard!H11) -> 26 | I11: =SUM(Christine:Gérard!I11) -> 0 | ... X11: =SUM(Christine:Gérard!X11) -> 0 | Z11: Paul | AB11: ="'"&$Z11&"'!"&AB$1 -> 'Paul'!A6:A36 | AC11: ="'"&$Z11&"'!"&AC$1 -> 'Paul'!B6:B36 | AD11: ="'"&$Z11&"'!"&AD$1 -> 'Paul'!C6:C36 | AE11: ="'"&$Z11&"'!"&AE$1 -> 'Paul'!D6:D36 | AF11: ="'"&$Z11&"'!"&AF$1 -> 'Paul'!F6:F36 | AG11: ="'"&$Z11&"'!"&AG$1 -> 'Paul'!G6:G36 | AH11: ="'"&$Z11&"'!"&AH$1 -> 'Paul'!H6:H36 | AI11: ="'"&$Z11&"'!"&AI$1 -> 'Paul'!I6:I36 | ... AU11: ="'"&$Z11&"'!"&AU$1 -> 'Paul'!X6:X36
A12: 45664 | B12: =SUM(Christine:Gérard!B12) -> 0 | C12: =SUM(Christine:Gérard!C12) -> 0 | D12: =SUM(Christine:Gérard!D12) -> 0 | E12: =SUM(Christine:Gérard!E12) -> 0 | F12: =SUM(Christine:Gérard!F12) -> 0 | G12: =SUM(Christine:Gérard!G12) -> 0 | H12: =SUM(Christine:Gérard!H12) -> 0 | I12: =SUM(Christine:Gérard!I12) -> 0 | ... X12: =SUM(Christine:Gérard!X12) -> 0 | Z12: Joël | AB12: ="'"&$Z12&"'!"&AB$1 -> 'Joël'!A6:A36 | AC12: ="'"&$Z12&"'!"&AC$1 -> 'Joël'!B6:B36 | AD12: ="'"&$Z12&"'!"&AD$1 -> 'Joël'!C6:C36 | AE12: ="'"&$Z12&"'!"&AE$1 -> 'Joël'!D6:D36 | AF12: ="'"&$Z12&"'!"&AF$1 -> 'Joël'!F6:F36 | AG12: ="'"&$Z12&"'!"&AG$1 -> 'Joël'!G6:G36 | AH12: ="'"&$Z12&"'!"&AH$1 -> 'Joël'!H6:H36 | AI12: ="'"&$Z12&"'!"&AI$1 -> 'Joël'!I6:I36 | ... AU12: ="'"&$Z12&"'!"&AU$1 -> 'Joël'!X6:X36
A13: 45665 | B13: =SUM(Christine:Gérard!B13) -> 1 | C13: =SUM(Christine:Gérard!C13) -> 2.5 | D13: =SUM(Christine:Gérard!D13) -> 13 | E13: =SUM(Christine:Gérard!E13) -> 0 | F13: =SUM(Christine:Gérard!F13) -> 0 | G13: =SUM(Christine:Gérard!G13) -> 0 | H13: =SUM(Christine:Gérard!H13) -> 0 | I13: =SUM(Christine:Gérard!I13) -> 1 | ... X13: =SUM(Christine:Gérard!X13) -> 0 | Z13: Arlette | AB13: ="'"&$Z13&"'!"&AB$1 -> 'Arlette'!A6:A36 | AC13: ="'"&$Z13&"'!"&AC$1 -> 'Arlette'!B6:B36 | AD13: ="'"&$Z13&"'!"&AD$1 -> 'Arlette'!C6:C36 | AE13: ="'"&$Z13&"'!"&AE$1 -> 'Arlette'!D6:D36 | AF13: ="'"&$Z13&"'!"&AF$1 -> 'Arlette'!F6:F36 | AG13: ="'"&$Z13&"'!"&AG$1 -> 'Arlette'!G6:G36 | AH13: ="'"&$Z13&"'!"&AH$1 -> 'Arlette'!H6:H36 | AI13: ="'"&$Z13&"'!"&AI$1 -> 'Arlette'!I6:I36 | ... AU13: ="'"&$Z13&"'!"&AU$1 -> 'Arlette'!X6:X36
A14: 45666 | B14: =SUM(Christine:Gérard!B14) -> 3 | C14: =SUM(Christine:Gérard!C14) -> 3 | D14: =SUM(Christine:Gérard!D14) -> 29 | E14: =SUM(Christine:Gérard!E14) -> 0 | F14: =SUM(Christine:Gérard!F14) -> 0 | G14: =SUM(Christine:Gérard!G14) -> 0 | H14: =SUM(Christine:Gérard!H14) -> 0 | I14: =SUM(Christine:Gérard!I14) -> 1 | ... X14: =SUM(Christine:Gérard!X14) -> 0 | Z14: Gérard | AB14: ="'"&$Z14&"'!"&AB$1 -> 'Gérard'!A6:A36 | AC14: ="'"&$Z14&"'!"&AC$1 -> 'Gérard'!B6:B36 | AD14: ="'"&$Z14&"'!"&AD$1 -> 'Gérard'!C6:C36 | AE14: ="'"&$Z14&"'!"&AE$1 -> 'Gérard'!D6:D36 | AF14: ="'"&$Z14&"'!"&AF$1 -> 'Gérard'!F6:F36 | AG14: ="'"&$Z14&"'!"&AG$1 -> 'Gérard'!G6:G36 | AH14: ="'"&$Z14&"'!"&AH$1 -> 'Gérard'!H6:H36 | AI14: ="'"&$Z14&"'!"&AI$1 -> 'Gérard'!I6:I36 | ... AU14: ="'"&$Z14&"'!"&AU$1 -> 'Gérard'!X6:X36
A15: 45667 | B15: =SUM(Christine:Gérard!B15) -> 8 | C15: =SUM(Christine:Gérard!C15) -> 5 | D15: =SUM(Christine:Gérard!D15) -> 55 | E15: =SUM(Christine:Gérard!E15) -> 0 | F15: =SUM(Christine:Gérard!F15) -> 2 | G15: =SUM(Christine:Gérard!G15) -> 2 | H15: =SUM(Christine:Gérard!H15) -> 18 | I15: =SUM(Christine:Gérard!I15) -> 0 | ... X15: =SUM(Christine:Gérard!X15) -> 0
A16: 45668 | B16: =SUM(Christine:Gérard!B16) -> 0 | C16: =SUM(Christine:Gérard!C16) -> 0 | D16: =SUM(Christine:Gérard!D16) -> 0 | E16: =SUM(Christine:Gérard!E16) -> 0 | F16: =SUM(Christine:Gérard!F16) -> 0 | G16: =SUM(Christine:Gérard!G16) -> 0 | H16: =SUM(Christine:Gérard!H16) -> 0 | I16: =SUM(Christine:Gérard!I16) -> 0 | ... X16: =SUM(Christine:Gérard!X16) -> 0
A17: 45669 | B17: =SUM(Christine:Gérard!B17) -> 0 | C17: =SUM(Christine:Gérard!C17) -> 0 | D17: =SUM(Christine:Gérard!D17) -> 0 | E17: =SUM(Christine:Gérard!E17) -> 0 | F17: =SUM(Christine:Gérard!F17) -> 0 | G17: =SUM(Christine:Gérard!G17) -> 0 | H17: =SUM(Christine:Gérard!H17) -> 0 | I17: =SUM(Christine:Gérard!I17) -> 0 | ... X17: =SUM(Christine:Gérard!X17) -> 0
A18: 45670 | B18: =SUM(Christine:Gérard!B18) -> 0 | C18: =SUM(Christine:Gérard!C18) -> 0 | D18: =SUM(Christine:Gérard!D18) -> 0 | E18: =SUM(Christine:Gérard!E18) -> 0 | F18: =SUM(Christine:Gérard!F18) -> 2 | G18: =SUM(Christine:Gérard!G18) -> 2 | H18: =SUM(Christine:Gérard!H18) -> 30 | I18: =SUM(Christine:Gérard!I18) -> 0 | ... X18: =SUM(Christine:Gérard!X18) -> 0
A19: 45671 | B19: =SUM(Christine:Gérard!B19) -> 0 | C19: =SUM(Christine:Gérard!C19) -> 0 | D19: =SUM(Christine:Gérard!D19) -> 0 | E19: =SUM(Christine:Gérard!E19) -> 0 | F19: =SUM(Christine:Gérard!F19) -> 0 | G19: =SUM(Christine:Gérard!G19) -> 0 | H19: =SUM(Christine:Gérard!H19) -> 0 | I19: =SUM(Christine:Gérard!I19) -> 0 | ... X19: =SUM(Christine:Gérard!X19) -> 0 | AC19: INFORMATIONS : NE PAS SUPPRIMER CE TABLEAU, il sert à garnir la feuille "TOTAUX"
A20: 45672 | B20: =SUM(Christine:Gérard!B20) -> 1 | C20: =SUM(Christine:Gérard!C20) -> 1.5 | D20: =SUM(Christine:Gérard!D20) -> 8 | E20: =SUM(Christine:Gérard!E20) -> 0 | F20: =SUM(Christine:Gérard!F20) -> 0 | G20: =SUM(Christine:Gérard!G20) -> 0 | H20: =SUM(Christine:Gérard!H20) -> 0 | I20: =SUM(Christine:Gérard!I20) -> 1 | ... X20: =SUM(Christine:Gérard!X20) -> 0 | AC20: AJOUT D'UN BÉNÉVOLE :
A21: 45673 | B21: =SUM(Christine:Gérard!B21) -> 0 | C21: =SUM(Christine:Gérard!C21) -> 0 | D21: =SUM(Christine:Gérard!D21) -> 0 | E21: =SUM(Christine:Gérard!E21) -> 0 | F21: =SUM(Christine:Gérard!F21) -> 0 | G21: =SUM(Christine:Gérard!G21) -> 0 | H21: =SUM(Christine:Gérard!H21) -> 0 | I21: =SUM(Christine:Gérard!I21) -> 0 | ... X21: =SUM(Christine:Gérard!X21) -> 0 | AC21: - 1° Sélectionner les cellules MODÈLE
A22: 45674 | B22: =SUM(Christine:Gérard!B22) -> 10 | C22: =SUM(Christine:Gérard!C22) -> 7 | D22: =SUM(Christine:Gérard!D22) -> 61 | E22: =SUM(Christine:Gérard!E22) -> 0 | F22: =SUM(Christine:Gérard!F22) -> 1 | G22: =SUM(Christine:Gérard!G22) -> 1 | H22: =SUM(Christine:Gérard!H22) -> 0 | I22: =SUM(Christine:Gérard!I22) -> 0 | ... X22: =SUM(Christine:Gérard!X22) -> 0 | AC22: - 2° Copier les cellules en fin de tableaux
A23: 45675 | B23: =SUM(Christine:Gérard!B23) -> 0 | C23: =SUM(Christine:Gérard!C23) -> 0 | D23: =SUM(Christine:Gérard!D23) -> 0 | E23: =SUM(Christine:Gérard!E23) -> 0 | F23: =SUM(Christine:Gérard!F23) -> 0 | G23: =SUM(Christine:Gérard!G23) -> 0 | H23: =SUM(Christine:Gérard!H23) -> 0 | I23: =SUM(Christine:Gérard!I23) -> 0 | ... X23: =SUM(Christine:Gérard!X23) -> 0 | AC23: - 3° RECHERCHER/REMPLACER dans chaque nouvelle cellule copiée TOTAUX par le prénom du bénévole
A24: 45676 | B24: =SUM(Christine:Gérard!B24) -> 0 | C24: =SUM(Christine:Gérard!C24) -> 0 | D24: =SUM(Christine:Gérard!D24) -> 0 | E24: =SUM(Christine:Gérard!E24) -> 0 | F24: =SUM(Christine:Gérard!F24) -> 0 | G24: =SUM(Christine:Gérard!G24) -> 0 | H24: =SUM(Christine:Gérard!H24) -> 0 | I24: =SUM(Christine:Gérard!I24) -> 0 | ... X24: =SUM(Christine:Gérard!X24) -> 0 | AC24: SUPPRIMER UN BÉNÉVOLE :
A25: 45677 | B25: =SUM(Christine:Gérard!B25) -> 0 | C25: =SUM(Christine:Gérard!C25) -> 0 | D25: =SUM(Christine:Gérard!D25) -> 0 | E25: =SUM(Christine:Gérard!E25) -> 0 | F25: =SUM(Christine:Gérard!F25) -> 0 | G25: =SUM(Christine:Gérard!G25) -> 0 | H25: =SUM(Christine:Gérard!H25) -> 0 | I25: =SUM(Christine:Gérard!I25) -> 0 | ... X25: =SUM(Christine:Gérard!X25) -> 0 | AC25: Sélectionner les cellules du bénévole, SUPPRIMER et DEPLACER VERS LE HAUT
A26: 45678 | B26: =SUM(Christine:Gérard!B26) -> 0 | C26: =SUM(Christine:Gérard!C26) -> 0 | D26: =SUM(Christine:Gérard!D26) -> 0 | E26: =SUM(Christine:Gérard!E26) -> 0 | F26: =SUM(Christine:Gérard!F26) -> 1 | G26: =SUM(Christine:Gérard!G26) -> 3 | H26: =SUM(Christine:Gérard!H26) -> 93 | I26: =SUM(Christine:Gérard!I26) -> 0 | ... X26: =SUM(Christine:Gérard!X26) -> 0
A27: 45679 | B27: =SUM(Christine:Gérard!B27) -> 0 | C27: =SUM(Christine:Gérard!C27) -> 0 | D27: =SUM(Christine:Gérard!D27) -> 0 | E27: =SUM(Christine:Gérard!E27) -> 0 | F27: =SUM(Christine:Gérard!F27) -> 0 | G27: =SUM(Christine:Gérard!G27) -> 0 | H27: =SUM(Christine:Gérard!H27) -> 0 | I27: =SUM(Christine:Gérard!I27) -> 0 | ... X27: =SUM(Christine:Gérard!X27) -> 0
A28: 45680 | B28: =SUM(Christine:Gérard!B28) -> 0 | C28: =SUM(Christine:Gérard!C28) -> 0 | D28: =SUM(Christine:Gérard!D28) -> 0 | E28: =SUM(Christine:Gérard!E28) -> 0 | F28: =SUM(Christine:Gérard!F28) -> 0 | G28: =SUM(Christine:Gérard!G28) -> 0 | H28: =SUM(Christine:Gérard!H28) -> 0 | I28: =SUM(Christine:Gérard!I28) -> 0 | ... X28: =SUM(Christine:Gérard!X28) -> 0
A29: 45681 | B29: =SUM(Christine:Gérard!B29) -> 0 | C29: =SUM(Christine:Gérard!C29) -> 0 | D29: =SUM(Christine:Gérard!D29) -> 0 | E29: =SUM(Christine:Gérard!E29) -> 0 | F29: =SUM(Christine:Gérard!F29) -> 0 | G29: =SUM(Christine:Gérard!G29) -> 0 | H29: =SUM(Christine:Gérard!H29) -> 0 | I29: =SUM(Christine:Gérard!I29) -> 0 | ... X29: =SUM(Christine:Gérard!X29) -> 0
A30: 45682 | B30: =SUM(Christine:Gérard!B30) -> 0 | C30: =SUM(Christine:Gérard!C30) -> 0 | D30: =SUM(Christine:Gérard!D30) -> 0 | E30: =SUM(Christine:Gérard!E30) -> 0 | F30: =SUM(Christine:Gérard!F30) -> 0 | G30: =SUM(Christine:Gérard!G30) -> 0 | H30: =SUM(Christine:Gérard!H30) -> 0 | I30: =SUM(Christine:Gérard!I30) -> 0 | ... X30: =SUM(Christine:Gérard!X30) -> 0
A31: 45683 | B31: =SUM(Christine:Gérard!B31) -> 0 | C31: =SUM(Christine:Gérard!C31) -> 0 | D31: =SUM(Christine:Gérard!D31) -> 0 | E31: =SUM(Christine:Gérard!E31) -> 0 | F31: =SUM(Christine:Gérard!F31) -> 0 | G31: =SUM(Christine:Gérard!G31) -> 0 | H31: =SUM(Christine:Gérard!H31) -> 0 | I31: =SUM(Christine:Gérard!I31) -> 0 | ... X31: =SUM(Christine:Gérard!X31) -> 0
A32: 45684 | B32: =SUM(Christine:Gérard!B32) -> 0 | C32: =SUM(Christine:Gérard!C32) -> 0 | D32: =SUM(Christine:Gérard!D32) -> 0 | E32: =SUM(Christine:Gérard!E32) -> 0 | F32: =SUM(Christine:Gérard!F32) -> 0 | G32: =SUM(Christine:Gérard!G32) -> 0 | H32: =SUM(Christine:Gérard!H32) -> 0 | I32: =SUM(Christine:Gérard!I32) -> 0 | ... X32: =SUM(Christine:Gérard!X32) -> 0
A33: 45685 | B33: =SUM(Christine:Gérard!B33) -> 0 | C33: =SUM(Christine:Gérard!C33) -> 0 | D33: =SUM(Christine:Gérard!D33) -> 0 | E33: =SUM(Christine:Gérard!E33) -> 0 | F33: =SUM(Christine:Gérard!F33) -> 0 | G33: =SUM(Christine:Gérard!G33) -> 0 | H33: =SUM(Christine:Gérard!H33) -> 0 | I33: =SUM(Christine:Gérard!I33) -> 0 | ... X33: =SUM(Christine:Gérard!X33) -> 0
A34: 45686 | B34: =SUM(Christine:Gérard!B34) -> 0 | C34: =SUM(Christine:Gérard!C34) -> 0 | D34: =SUM(Christine:Gérard!D34) -> 0 | E34: =SUM(Christine:Gérard!E34) -> 0 | F34: =SUM(Christine:Gérard!F34) -> 0 | G34: =SUM(Christine:Gérard!G34) -> 0 | H34: =SUM(Christine:Gérard!H34) -> 0 | I34: =SUM(Christine:Gérard!I34) -> 0 | ... X34: =SUM(Christine:Gérard!X34) -> 0
A35: 45687 | B35: =SUM(Christine:Gérard!B35) -> 0 | C35: =SUM(Christine:Gérard!C35) -> 0 | D35: =SUM(Christine:Gérard!D35) -> 0 | E35: =SUM(Christine:Gérard!E35) -> 0 | F35: =SUM(Christine:Gérard!F35) -> 0 | G35: =SUM(Christine:Gérard!G35) -> 0 | H35: =SUM(Christine:Gérard!H35) -> 0 | I35: =SUM(Christine:Gérard!I35) -> 0 | ... X35: =SUM(Christine:Gérard!X35) -> 0
A36: 45688 | B36: =SUM(Christine:Gérard!B36) -> 0 | C36: =SUM(Christine:Gérard!C36) -> 0 | D36: =SUM(Christine:Gérard!D36) -> 0 | E36: =SUM(Christine:Gérard!E36) -> 0 | F36: =SUM(Christine:Gérard!F36) -> 0 | G36: =SUM(Christine:Gérard!G36) -> 0 | H36: =SUM(Christine:Gérard!H36) -> 0 | I36: =SUM(Christine:Gérard!I36) -> 0 | ... X36: =SUM(Christine:Gérard!X36) -> 0
A37: TOTAL | B37: =SUM(B6:B36) -> 23 | C37: =SUM(C6:C36) -> 19 | D37: =SUM(D6:D36) -> 166 | F37: =SUM(F6:F36) -> 7 | G37: =SUM(G6:G36) -> 13 | H37: =SUM(H6:H36) -> 167 | I37: =SUM(I6:I36) -> 3 | J37: =SUM(J6:J36) -> 7.5 | K37: =SUM(K6:K36) -> 26 | L37: =SUM(L6:L36) -> 4 | M37: =SUM(M6:M36) -> 11 | N37: =SUM(N6:N36) -> 66 | P37: =SUM(P6,P36) -> 0 | Q37: =SUM(Q6:Q36) -> 51 | S37: =SUM(S6:S36) -> 55.25 | T37: =SUM(T6:T36) -> 150 | V37: =SUM(V6:V36) -> 0 | W37: =SUM(W6:W36) -> 0 | X37: =SUM(X6:X36) -> 0

Sheet Christine
A1: NOM: Christine
A2: Report des TOTAUX | B2: =B37 -> 0 | C2: =C37 -> 0 | D2: =D37 -> 0 | F2: =F37 -> 2 | G2: =G37 -> 8 | H2: =H37 -> 119 | I2: =I37 -> 0 | J2: =J37 -> 0 | K2: =K37 -> 0 | L2: =L37 -> 2 | M2: =M37 -> 5 | N2: =N37 -> 22 | P2: =P37 -> 12 | Q2: =Q37 -> 3 | S2: =S37 -> 10 | T2: =T37 -> 0
A3: ACTIVITES INDIVIDUELLES - Mois de | L3: =TEXT(A6,"mmmm") -> janvier
A4: Date | B4: VAD | F4: ACCOMP. SANTE | I4: ACCOMP. ADMINISTRATIF | L4: ACCOMP. AUTRES | P4: TELEPHONE | S4: SOUTIEN
B5: NBRE | C5: TEMPS | D5: KM | F5: NBRE | G5: TEMPS | H5: KM | I5: NBRE | J5: TEMPS | K5: KM | L5: NBRE | M5: TEMPS | N5: KM | P5: NBRE | Q5: TEMPS | S5: TEMP | T5: KM
A6: 45658
A7: 45659
A8: 45660 | L8: 2 | M8: 5 | N8: 22
A9: 45661
A10: 45662 | P10: 4 | Q10: 1 | S10: 2
A11: 45663 | F11: 1 | G11: 5 | H11: 26
A12: 45664
A13: 45665
A14: 45666 | S14: 4
A15: 45667
A16: 45668
A17: 45669 | P17: 4 | Q17: 1 | S17: 2
A18: 45670
A19: 45671
A20: 45672
A21: 45673
A22: 45674
A23: 45675
A24: 45676 | P24: 4 | Q24: 1 | S24: 2
A25: 45677
A26: 45678 | F26: 1 | G26: 3 | H26: 93
A27: 45679
A28: 45680
A29: 45681
A30: 45682
A31: 45683
A32: 45684
A33: 45685
A34: 45686
A35: 45687
A36: 45688
A37: TOTAL | B37: =SUM(B6:B36) -> 0 | C37: =SUM(C6:C36) -> 0 | D37: =SUM(D6:D36) -> 0 | F37: =SUM(F6:F36) -> 2 | G37: =SUM(G6:G36) -> 8 | H37: =SUM(H6:H36) -> 119 | I37: =SUM(I6:I36) -> 0 | J37: =SUM(J6:J36) -> 0 | K37: =SUM(K6:K36) -> 0 | L37: =SUM(L6:L36) -> 2 | M37: =SUM(M6:M36) -> 5 | N37: =SUM(N6:N36) -> 22 | P37: =SUM(P6:P36) -> 12 | Q37: =SUM(Q6:Q36) -> 3 | S37: =SUM(S6:S36) -> 10 | T37: =SUM(T6:T36) -> 0

Sheet Anita
A1: NOM: Anita
A2: Report des TOTAUX | B2: =B37 -> 16 | C2: =C37 -> 10 | D2: =SUM(D6:D36) -> 110 | F2: =F37 -> 0 | G2: =G37 -> 0 | H2: =H37 -> 0 | I2: =I37 -> 0 | J2: =J37 -> 0 | K2: =K37 -> 0 | L2: =L37 -> 0 | M2: =M37 -> 0 | N2: =N37 -> 0 | P2: =P37 -> 36 | Q2: =Q37 -> 15 | S2: =S37 -> 10 | T2: =T37 -> 0
A3: ACTIVITES INDIVIDUELLES - Mois de | L3: =TEXT(A6,"mmmm") -> janvier
A4: Date | B4: VAD | F4: ACCOMP. SANTE | I4: ACCOMP. ADMINISTRATIF | L4: ACCOMP. AUTRES | P4: TELEPHONE | S4: SOUTIEN
B5: NBRE | C5: TEMPS | D5: KM | F5: NBRE | G5: TEMPS | H5: KM | I5: NBRE | J5: TEMPS | K5: KM | L5: NBRE | M5: TEMPS | N5: KM | P5: NBRE | Q5: TEMPS | S5: TEMP | T5: KM
A6: 45658
A7: 45659
A8: 45660
A9: 45661
A10: 45662 | P10: 12 | Q10: 5 | S10: 2
A11: 45663
A12: 45664
A13: 45665
A14: 45666 | S14: 4
A15: 45667 | B15: 8 | C15: 5 | D15: 55
A16: 45668
A17: 45669 | P17: 12 | Q17: 5 | S17: 2
A18: 45670
A19: 45671
A20: 45672
A21: 45673
A22: 45674 | B22: 8 | C22: 5 | D22: 55
A23: 45675
A24: 45676 | P24: 12 | Q24: 5 | S24: 2
A25: 45677
A26: 45678
A27: 45679
A28: 45680
A29: 45681
A30: 45682
A31: 45683
A32: 45684
A33: 45685
A34: 45686
A35: 45687
A36: 45688
A37: TOTAL | B37: =SUM(B6:B36) -> 16 | C37: =SUM(C6:C36) -> 10 | D37: =SUM(D6:D36) -> 110 | F37: =SUM(F6:F36) -> 0 | G37: =SUM(G6:G36) -> 0 | H37: =SUM(H6:H36) -> 0 | I37: =SUM(I6:I36) -> 0 | J37: =SUM(J6:J36) -> 0 | K37: =SUM(K6:K36) -> 0 | L37: =SUM(L6:L36) -> 0 | M37: =SUM(M6:M36) -> 0 | N37: =SUM(N6:N36) -> 0 | P37: =SUM(P6:P36) -> 36 | Q37: =SUM(Q6:Q36) -> 15 | S37: =SUM(S6:S36) -> 10 | T37: =SUM(T6:T36) -> 0

Sheet Annick
A1: NOM: Annick
A2: Report des TOTAUX | B2: =B37 -> 0 | C2: =C37 -> 0 | D2: =D37 -> 0 | F2: =F37 -> 0 | G2: =G37 -> 0 | H2: =H37 -> 0 | I2: =I37 -> 0 | J2: =J37 -> 0 | K2: =K37 -> 0 | L2: =L37 -> 0 | M2: =M37 -> 0 | N2: =N37 -> 0 | P2: =P37 -> 9 | Q2: =Q37 -> 3 | S2: =S37 -> 0 | T2: =T37 -> 0
A3: ACTIVITES INDIVIDUELLES - Mois de | L3: =TEXT(A6,"mmmm") -> janvier
A4: Date | B4: VAD | F4: ACCOMP. SANTE | I4: ACCOMP. ADMINISTRATIF | L4: ACCOMP. AUTRES | P4: TELEPHONE | S4: SOUTIEN
B5: NBRE | C5: TEMPS | D5: KM | F5: NBRE | G5: TEMPS | H5: KM | I5: NBRE | J5: TEMPS | K5: KM | L5: NBRE | M5: TEMPS | N5: KM | P5: NBRE | Q5: TEMPS | S5: TEMP | T5: KM
A6: 45658
A7: 45659
A8: 45660
A9: 45661
A10: 45662 | P10: 3 | Q10: 1
A11: 45663
A12: 45664
A13: 45665
A14: 45666
A15: 45667
A16: 45668
A17: 45669 | P17: 3 | Q17: 1
A18: 45670
A19: 45671
A20: 45672
A21: 45673
A22: 45674
A23: 45675
A24: 45676 | P24: 3 | Q24: 1
A25: 45677
A26: 45678
A27: 45679
A28: 45680
A29: 45681
A30: 45682
A31: 45683
A32: 45684
A33: 45685
A34: 45686
A35: 45687
A36: 45688
A37: TOTAL | B37: =SUM(B6:B36) -> 0 | C37: =SUM(C6:C36) -> 0 | D37: =SUM(D6:D36) -> 0 | F37: =SUM(F6:F36) -> 0 | G37: =SUM(G6:G36) -> 0 | H37: =SUM(H6:H36) -> 0 | I37: =SUM(I6:I36) -> 0 | J37: =SUM(J6:J36) -> 0 | K37: =SUM(K6:K36) -> 0 | L37: =SUM(L6:L36) -> 0 | M37: =SUM(M6:M36) -> 0 | N37: =SUM(N6:N36) -> 0 | P37: =SUM(P6:P36) -> 9 | Q37: =SUM(Q6:Q36) -> 3 | S37: =SUM(S6:S36) -> 0 | T37: =SUM(T6:T36) -> 0

Sheet Marie-France
A1: NOM: Marie-France
A2: Report des TOTAUX | B2: =B37 -> 0 | C2: =C37 -> 0 | D2: =D37 -> 0 | F2: =F37 -> 0 | G2: =G37 -> 0 | H2: =H37 -> 0 | I2: =I37 -> 0 | J2: =J37 -> 0 | K2: =K37 -> 0 | L2: =L37 -> 0 | M2: =M37 -> 0 | N2: =N37 -> 0 | P2: =P37 -> 18 | Q2: =Q37 -> 6 | S2: =S37 -> 0 | T2: =T37 -> 0
A3: ACTIVITES INDIVIDUELLES - Mois de | L3: =TEXT(A6,"mmmm") -> janvier
A4: Date | B4: VAD | F4: ACCOMP. SANTE | I4: ACCOMP. ADMINISTRATIF | L4: ACCOMP. AUTRES | P4: TELEPHONE | S4: SOUTIEN
B5: NBRE | C5: TEMPS | D5: KM | F5: NBRE | G5: TEMPS | H5: KM | I5: NBRE | J5: TEMPS | K5: KM | L5: NBRE | M5: TEMPS | N5: KM | P5: NBRE | Q5: TEMPS | S5: TEMP | T5: KM
A6: 45658
A7: 45659
A8: 45660
A9: 45661
A10: 45662 | P10: 6 | Q10: 2
A11: 45663
A12: 45664
A13: 45665
A14: 45666
A15: 45667
A16: 45668
A17: 45669 | P17: 6 | Q17: 2
A18: 45670
A19: 45671
A20: 45672
A21: 45673
A22: 45674
A23: 45675
A24: 45676 | P24: 6 | Q24: 2
A25: 45677
A26: 45678
A27: 45679
A28: 45680
A29: 45681
A30: 45682
A31: 45683
A32: 45684
A33: 45685
A34: 45686
A35: 45687
A36: 45688
A37: TOTAL | B37: =SUM(B6:B36) -> 0 | C37: =SUM(C6:C36) -> 0 | D37: =SUM(D6:D36) -> 0 | F37: =SUM(F6:F36) -> 0 | G37: =SUM(G6:G36) -> 0 | H37: =SUM(H6:H36) -> 0 | I37: =SUM(I6:I36) -> 0 | J37: =SUM(J6:J36) -> 0 | K37: =SUM(K6:K36) -> 0 | L37: =SUM(L6:L36) -> 0 | M37: =SUM(M6:M36) -> 0 | N37: =SUM(N6:N36) -> 0 | P37: =SUM(P6:P36) -> 18 | Q37: =SUM(Q6:Q36) -> 6 | S37: =SUM(S6:S36) -> 0 | T37: =SUM(T6:T36) -> 0

Sheet Émilie
A1: NOM: Émilie
A2: Report des TOTAUX | B2: =B37 -> 0 | C2: =C37 -> 0 | D2: =D37 -> 0 | F2: =F37 -> 0 | G2: =G37 -> 0 | H2: =H37 -> 0 | I2: =I37 -> 0 | J2: =J37 -> 0 | K2: =K37 -> 0 | L2: =L37 -> 0 | M2: =M37 -> 0 | N2: =N37 -> 0 | P2: =P37 -> 9 | Q2: =Q37 -> 3 | S2: =S37 -> 0 | T2: =T37 -> 0
A3: ACTIVITES INDIVIDUELLES - Mois de | L3: =TEXT(A6,"mmmm") -> janvier
A4: Date | B4: VAD | F4: ACCOMP. SANTE | I4: ACCOMP. ADMINISTRATIF | L4: ACCOMP. AUTRES | P4: TELEPHONE | S4: SOUTIEN
B5: NBRE | C5: TEMPS | D5: KM | F5: NBRE | G5: TEMPS | H5: KM | I5: NBRE | J5: TEMPS | K5: KM | L5: NBRE | M5: TEMPS | N5: KM | P5: NBRE | Q5: TEMPS | S5: TEMP | T5: KM
A6: 45658
A7: 45659
A8: 45660
A9: 45661
A10: 45662 | P10: 3 | Q10: 1
A11: 45663
A12: 45664
A13: 45665
A14: 45666
A15: 45667
A16: 45668
A17: 45669 | P17: 3 | Q17: 1
A18: 45670
A19: 45671
A20: 45672
A21: 45673
A22: 45674
A23: 45675
A24: 45676 | P24: 3 | Q24: 1
A25: 45677
A26: 45678
A27: 45679
A28: 45680
A29: 45681
A30: 45682
A31: 45683
A32: 45684
A33: 45685
A34: 45686
A35: 45687
A36: 45688
A37: TOTAL | B37: =SUM(B6:B36) -> 0 | C37: =SUM(C6:C36) -> 0 | D37: =SUM(D6:D36) -> 0 | F37: =SUM(F6:F36) -> 0 | G37: =SUM(G6:G36) -> 0 | H37: =SUM(H6:H36) -> 0 | I37: =SUM(I6:I36) -> 0 | J37: =SUM(J6:J36) -> 0 | K37: =SUM(K6:K36) -> 0 | L37: =SUM(L6:L36) -> 0 | M37: =SUM(M6:M36) -> 0 | N37: =SUM(N6:N36) -> 0 | P37: =SUM(P6:P36) -> 9 | Q37: =SUM(Q6:Q36) -> 3 | S37: =SUM(S6:S36) -> 0 | T37: =SUM(T6:T36) -> 0

Sheet Arlette
A1: NOM: Arlette
A2: Report des TOTAUX | B2: =B37 -> 0 | C2: =C37 -> 0 | D2: =D37 -> 0 | F2: =F37 -> 0 | G2: =G37 -> 0 | H2: =H37 -> 0 | I2: =I37 -> 0 | J2: =J37 -> 0 | K2: =K37 -> 0 | L2: =L37 -> 0 | M2: =M37 -> 0 | N2: =N37 -> 0 | P2: =P37 -> 0 | Q2: =Q37 -> 0 | S2: =S37 -> 0 | T2: =T37 -> 0
A3: ACTIVITES INDIVIDUELLES - Mois de | L3: =TEXT(A6,"mmmm") -> janvier
A4: Date | B4: VAD | F4: ACCOMP. SANTE | I4: ACCOMP. ADMINISTRATIF | L4: ACCOMP. AUTRES | P4: TELEPHONE | S4: SOUTIEN
B5: NBRE | C5: TEMPS | D5: KM | F5: NBRE | G5: TEMPS | H5: KM | I5: NBRE | J5: TEMPS | K5: KM | L5: NBRE | M5: TEMPS | N5: KM | P5: NBRE | Q5: TEMPS | S5: TEMP | T5: KM
A6: 45658
A7: 45659
A8: 45660
A9: 45661
A10: 45662
A11: 45663
A12: 45664
A13: 45665
A14: 45666
A15: 45667
A16: 45668
A17: 45669
... A36: 45688
A37: TOTAL | B37: =SUM(B6:B36) -> 0 | C37: =SUM(C6:C36) -> 0 | D37: =SUM(D6:D36) -> 0 | F37: =SUM(F6:F36) -> 0 | G37: =SUM(G6:G36) -> 0 | H37: =SUM(H6:H36) -> 0 | I37: =SUM(I6:I36) -> 0 | J37: =SUM(J6:J36) -> 0 | K37: =SUM(K6:K36) -> 0 | L37: =SUM(L6:L36) -> 0 | M37: =SUM(M6:M36) -> 0 | N37: =SUM(N6:N36) -> 0 | P37: =SUM(P6:P36) -> 0 | Q37: =SUM(Q6:Q36) -> 0 | S37: =SUM(S6:S36) -> 0 | T37: =SUM(T6:T36) -> 0

Sheet Lina
A1: NOM: Lina
A2: Report des TOTAUX | B2: =B37 -> 0 | C2: =C37 -> 0 | D2: =D37 -> 0 | F2: =F37 -> 0 | G2: =G37 -> 0 | H2: =H37 -> 0 | I2: =I37 -> 0 | J2: =J37 -> 0 | K2: =K37 -> 0 | L2: =L37 -> 0 | M2: =M37 -> 0 | N2: =N37 -> 0 | P2: =P37 -> 9 | Q2: =Q37 -> 3 | S2: =S37 -> 0 | T2: =T37 -> 0
A3: ACTIVITES INDIVIDUELLES - Mois de | L3: =TEXT(A6,"mmmm") -> janvier
A4: Date | B4: VAD | F4: ACCOMP. SANTE | I4: ACCOMP. ADMINISTRATIF | L4: ACCOMP. AUTRES | P4: TELEPHONE | S4: SOUTIEN
B5: NBRE | C5: TEMPS | D5: KM | F5: NBRE | G5: TEMPS | H5: KM | I5: NBRE | J5: TEMPS | K5: KM | L5: NBRE | M5: TEMPS | N5: KM | P5: NBRE | Q5: TEMPS | S5: TEMP | T5: KM
A6: 45658
A7: 45659
A8: 45660
A9: 45661
A10: 45662 | P10: 3 | Q10: 1
A11: 45663
A12: 45664
A13: 45665
A14: 45666
A15: 45667
A16: 45668
A17: 45669 | P17: 3 | Q17: 1
A18: 45670
A19: 45671
A20: 45672
A21: 45673
A22: 45674
A23: 45675
A24: 45676 | P24: 3 | Q24: 1
A25: 45677
A26: 45678
A27: 45679
A28: 45680
A29: 45681
A30: 45682
A31: 45683
A32: 45684
A33: 45685
A34: 45686
A35: 45687
A36: 45688
A37: TOTAL | B37: =SUM(B6:B36) -> 0 | C37: =SUM(C6:C36) -> 0 | D37: =SUM(D6:D36) -> 0 | F37: =SUM(F6:F36) -> 0 | G37: =SUM(G6:G36) -> 0 | H37: =SUM(H6:H36) -> 0 | I37: =SUM(I6:I36) -> 0 | J37: =SUM(J6:J36) -> 0 | K37: =SUM(K6:K36) -> 0 | L37: =SUM(L6:L36) -> 0 | M37: =SUM(M6:M36) -> 0 | N37: =SUM(N6:N36) -> 0 | P37: =SUM(P6:P36) -> 9 | Q37: =SUM(Q6:Q36) -> 3 | S37: =SUM(S6:S36) -> 0 | T37: =SUM(T6:T36) -> 0

Sheet Christine T.
A1: NOM: Christine T.
A2: Report des TOTAUX | B2: =B37 -> 0 | C2: =C37 -> 0 | D2: =D37 -> 0 | F2: =F37 -> 0 | G2: =G37 -> 0 | H2: =H37 -> 0 | I2: =I37 -> 0 | J2: =J37 -> 0 | K2: =K37 -> 0 | L2: =L37 -> 0 | M2: =M37 -> 0 | N2: =N37 -> 0 | P2: =P37 -> 0 | Q2: =Q37 -> 0 | S2: =S37 -> 0 | T2: =T37 -> 0
A3: ACTIVITES INDIVIDUELLES - Mois de | L3: =TEXT(A6,"mmmm") -> janvier
A4: Date | B4: VAD | F4: ACCOMP. SANTE | I4: ACCOMP. ADMINISTRATIF | L4: ACCOMP. AUTRES | P4: TELEPHONE | S4: SOUTIEN
B5: NBRE | C5: TEMPS | D5: KM | F5: NBRE | G5: TEMPS | H5: KM | I5: NBRE | J5: TEMPS | K5: KM | L5: NBRE | M5: TEMPS | N5: KM | P5: NBRE | Q5: TEMPS | S5: TEMP | T5: KM
A6: 45658
A7: 45659
A8: 45660
A9: 45661
A10: 45662
A11: 45663
A12: 45664
A13: 45665
A14: 45666
A15: 45667
A16: 45668
A17: 45669
... A36: 45688
A37: TOTAL | B37: =SUM(B6:B36) -> 0 | C37: =SUM(C6:C36) -> 0 | D37: =SUM(D6:D36) -> 0 | F37: =SUM(F6:F36) -> 0 | G37: =SUM(G6:G36) -> 0 | H37: =SUM(H6:H36) -> 0 | I37: =SUM(I6:I36) -> 0 | J37: =SUM(J6:J36) -> 0 | K37: =SUM(K6:K36) -> 0 | L37: =SUM(L6:L36) -> 0 | M37: =SUM(M6:M36) -> 0 | N37: =SUM(N6:N36) -> 0 | P37: =SUM(P6:P36) -> 0 | Q37: =SUM(Q6:Q36) -> 0 | S37: =SUM(S6:S36) -> 0 | T37: =SUM(T6:T36) -> 0

Sheet Emmanuel
A1: NOM: Emmanuel
A2: Report des TOTAUX | B2: =B37 -> 7 | C2: =C37 -> 9 | D2: =D37 -> 56 | F2: =F37 -> 5 | G2: =G37 -> 5 | H2: =H37 -> 48 | I2: =I37 -> 2 | J2: =J37 -> 3.5 | K2: =K37 -> 12 | L2: =L37 -> 0 | M2: =M37 -> 0 | N2: =N37 -> 0 | P2: =P37 -> 56 | Q2: =Q37 -> 11 | S2: =S37 -> 31.25 | T2: =T37 -> 136 | V2: =V37 -> 0 | W2: =W37 -> 0 | X2: =X37 -> 0
A3: ACTIVITES INDIVIDUELLES - Mois de | L3: =TEXT(A6,"mmmm") -> janvier
A4: Date | B4: VAD | F4: ACCOMP. SANTE | I4: ACCOMP. ADMINISTRATIF | L4: ACCOMP. AUTRES | P4: TELEPHONE | S4: SOUTIEN | V4: VEHICULES KILOMÉTRAGE
B5: NBRE | C5: TEMPS | D5: KM | F5: NBRE | G5: TEMPS | H5: KM | I5: NBRE | J5: TEMPS | K5: KM | L5: NBRE | M5: TEMPS | N5: KM | P5: NBRE | Q5: TEMPS | S5: TEMP | T5: KM | V5: Renault | W5: Peugeot | X5: Duster
A6: 45658
A7: 45659
A8: 45660
A9: 45661 | S9: 3
A10: 45662
A11: 45663 | P11: 12 | Q11: 2
A12: 45664 | P12: 10 | Q12: 2 | S12: 2 | T12: 9 | U12: ACCUEIL
A13: 45665 | B13: 1 | C13: 2.5 | D13: 13 | I13: 1 | J13: 1.5 | K13: 5 | P13: 3 | Q13: 1 | S13: 1 | U13: COIFFURE
A14: 45666 | B14: 3 | C14: 3 | D14: 29 | S14: 4 | T14: 18
A15: 45667 | F15: 2 | G15: 2 | H15: 18 | P15: 4 | Q15: 1 | S15: 5.25 | T15: 17
A16: 45668
A17: 45669
A18: 45670 | F18: 2 | G18: 2 | H18: 30 | P18: 3 | Q18: 1 | S18: 3.5 | T18: 7
A19: 45671 | P19: 7 | Q19: 1 | S19: 2.5
A20: 45672 | B20: 1 | C20: 1.5 | D20: 8 | I20: 1 | J20: 2 | K20: 7 | P20: 12 | Q20: 2 | S20: 1 | T20: 60
A21: 45673 | P21: 5 | Q21: 1 | S21: 1
A22: 45674 | B22: 2 | C22: 2 | D22: 6 | F22: 1 | G22: 1 | S22: 8 | T22: 25
A23: 45675
A24: 45676
A25: 45677
A26: 45678
A27: 45679
A28: 45680
A29: 45681
A30: 45682
A31: 45683
A32: 45684
A33: 45685
A34: 45686
... A36: 45688
A37: TOTAL | B37: =SUM(B6:B36) -> 7 | C37: =SUM(C6:C36) -> 9 | D37: =SUM(D6:D36) -> 56 | F37: =SUM(F6:F36) -> 5 | G37: =SUM(G6:G36) -> 5 | H37: =SUM(H6:H36) -> 48 | I37: =SUM(I6:I36) -> 2 | J37: =SUM(J6:J36) -> 3.5 | K37: =SUM(K6:K36) -> 12 | L37: =SUM(L6:L36) -> 0 | M37: =SUM(M6:M36) -> 0 | N37: =SUM(N6:N36) -> 0 | P37: =SUM(P6:P36) -> 56 | Q37: =SUM(Q6:Q36) -> 11 | S37: =SUM(S6:S36) -> 31.25 | T37: =SUM(T6:T36) -> 136 | V37: =SUM(V6:V36) -> 0 | W37: =SUM(W6:W36) -> 0 | X37: =SUM(X6:X36) -> 0

Sheet Paul
A1: NOM: Paul
A2: Report des TOTAUX | B2: =B37 -> 0 | C2: =C37 -> 0 | D2: =D37 -> 0 | F2: =F37 -> 0 | G2: =G37 -> 0 | H2: =H37 -> 0 | I2: =I37 -> 1 | J2: =J37 -> 4 | K2: =K37 -> 14 | L2: =L37 -> 2 | M2: =M37 -> 6 | N2: =N37 -> 44 | P2: =P37 -> 16 | Q2: =Q37 -> 6 | S2: =S37 -> 4 | T2: =T37 -> 14 | V2: =V37 -> 0 | W2: =W37 -> 0 | X2: =X37 -> 0
A3: ACTIVITES INDIVIDUELLES - Mois de | L3: =TEXT(A6,"mmmm") -> janvier
A4: Date | B4: VAD | F4: ACCOMP. SANTE | I4: ACCOMP. ADMINISTRATIF | L4: ACCOMP. AUTRES | P4: TELEPHONE | S4: SOUTIEN | V4: VEHICULES KILOMÉTRAGE
B5: NBRE | C5: TEMPS | D5: KM | F5: NBRE | G5: TEMPS | H5: KM | I5: NBRE | J5: TEMPS | K5: KM | L5: NBRE | M5: TEMPS | N5: KM | P5: NBRE | Q5: TEMPS | S5: TEMP | T5: KM | V5: Renault | W5: Peugeot | X5: Duster
A6: 45658
A7: 45659
A8: 45660 | L8: 1 | M8: 4 | N8: 30
A9: 45661
A10: 45662
A11: 45663 | L11: 1 | M11: 2 | N11: 14 | P11: 5 | Q11: 2
A12: 45664
A13: 45665
A14: 45666 | I14: 1 | J14: 4 | K14: 14 | S14: 4 | T14: 14
A15: 45667
A16: 45668
A17: 45669 | P17: 6 | Q17: 2
A18: 45670
A19: 45671
A20: 45672
A21: 45673
A22: 45674
A23: 45675
A24: 45676 | P24: 5 | Q24: 2
A25: 45677
A26: 45678
A27: 45679
A28: 45680
A29: 45681
A30: 45682
A31: 45683
A32: 45684
A33: 45685
A34: 45686
A35: 45687
A36: 45688
A37: TOTAL | B37: =SUM(B6:B36) -> 0 | C37: =SUM(C6:C36) -> 0 | D37: =SUM(D6:D36) -> 0 | F37: =SUM(F6:F36) -> 0 | G37: =SUM(G6:G36) -> 0 | H37: =SUM(H6:H36) -> 0 | I37: =SUM(I6:I36) -> 1 | J37: =SUM(J6:J36) -> 4 | K37: =SUM(K6:K36) -> 14 | L37: =SUM(L6:L36) -> 2 | M37: =SUM(M6:M36) -> 6 | N37: =SUM(N6:N36) -> 44 | P37: =SUM(P6:P36) -> 16 | Q37: =SUM(Q6:Q36) -> 6 | S37: =SUM(S6:S36) -> 4 | T37: =SUM(T6:T36) -> 14 | V37: =SUM(V6:V36) -> 0 | W37: =SUM(W6:W36) -> 0 | X37: =SUM(X6:X36) -> 0

Sheet Joël
A1: NOM: Joël
A2: Report des TOTAUX | B2: =B37 -> 0 | C2: =C37 -> 0 | D2: =D37 -> 0 | F2: =F37 -> 0 | G2: =G37 -> 0 | H2: =H37 -> 0 | I2: =I37 -> 0 | J2: =J37 -> 0 | K2: =K37 -> 0 | L2: =L37 -> 0 | M2: =M37 -> 0 | N2: =N37 -> 0 | P2: =P37 -> 3 | Q2: =Q37 -> 1 | S2: =S37 -> 0 | T2: =T37 -> 0 | V2: =V37 -> 0 | W2: =W37 -> 0 | X2: =X37 -> 0
A3: ACTIVITES INDIVIDUELLES - Mois de | L3: =TEXT(A6,"mmmm") -> janvier
A4: Date | B4: VAD | F4: ACCOMP. SANTE | I4: ACCOMP. ADMINISTRATIF | L4: ACCOMP. AUTRES | P4: TELEPHONE | S4: SOUTIEN | V4: VEHICULES KILOMÉTRAGE
B5: NBRE | C5: TEMPS | D5: KM | F5: NBRE | G5: TEMPS | H5: KM | I5: NBRE | J5: TEMPS | K5: KM | L5: NBRE | M5: TEMPS | N5: KM | P5: NBRE | Q5: TEMPS | S5: TEMP | T5: KM | V5: Renault | W5: Peugeot | X5: Duster
A6: 45658
A7: 45659
A8: 45660
A9: 45661
A10: 45662
A11: 45663
A12: 45664
A13: 45665
A14: 45666
A15: 45667
A16: 45668
A17: 45669 | P17: 3 | Q17: 1
A18: 45670
A19: 45671
A20: 45672
A21: 45673
A22: 45674
A23: 45675
A24: 45676
A25: 45677
A26: 45678
A27: 45679
A28: 45680
A29: 45681
... A36: 45688
A37: TOTAL | B37: =SUM(B6:B36) -> 0 | C37: =SUM(C6:C36) -> 0 | D37: =SUM(D6:D36) -> 0 | F37: =SUM(F6:F36) -> 0 | G37: =SUM(G6:G36) -> 0 | H37: =SUM(H6:H36) -> 0 | I37: =SUM(I6:I36) -> 0 | J37: =SUM(J6:J36) -> 0 | K37: =SUM(K6:K36) -> 0 | L37: =SUM(L6:L36) -> 0 | M37: =SUM(M6:M36) -> 0 | N37: =SUM(N6:N36) -> 0 | P37: =SUM(P6:P36) -> 3 | Q37: =SUM(Q6:Q36) -> 1 | S37: =SUM(S6:S36) -> 0 | T37: =SUM(T6:T36) -> 0 | V37: =SUM(V6:V36) -> 0 | W37: =SUM(W6:W36) -> 0 | X37: =SUM(X6:X36) -> 0

Sheet Gérard
A1: NOM: Gérard
A2: Report des TOTAUX | B2: =B37 -> 0 | C2: =C37 -> 0 | D2: =D37 -> 0 | F2: =F37 -> 0 | G2: =G37 -> 0 | H2: =H37 -> 0 | I2: =I37 -> 0 | J2: =J37 -> 0 | K2: =K37 -> 0 | L2: =L37 -> 0 | M2: =M37 -> 0 | N2: =N37 -> 0 | P2: =P37 -> 0 | Q2: =Q37 -> 0 | S2: =S37 -> 0 | T2: =T37 -> 0 | V2: =V37 -> 0 | W2: =W37 -> 0 | X2: =X37 -> 0
A3: ACTIVITES INDIVIDUELLES - Mois de | L3: =TEXT(A6,"mmmm") -> janvier
A4: Date | B4: VAD | F4: ACCOMP. SANTE | I4: ACCOMP. ADMINISTRATIF | L4: ACCOMP. AUTRES | P4: TELEPHONE | S4: SOUTIEN | V4: VEHICULES KILOMÉTRAGE
B5: NBRE | C5: TEMPS | D5: KM | F5: NBRE | G5: TEMPS | H5: KM | I5: NBRE | J5: TEMPS | K5: KM | L5: NBRE | M5: TEMPS | N5: KM | P5: NBRE | Q5: TEMPS | S5: TEMP | T5: KM | V5: Renault | W5: Peugeot | X5: Duster
A6: 45658
A7: 45659
A8: 45660
A9: 45661
A10: 45662
A11: 45663
A12: 45664
A13: 45665
A14: 45666
A15: 45667
A16: 45668
A17: 45669
... A36: 45688
A37: TOTAL | B37: =SUM(B6:B36) -> 0 | C37: =SUM(C6:C36) -> 0 | D37: =SUM(D6:D36) -> 0 | F37: =SUM(F6:F36) -> 0 | G37: =SUM(G6:G36) -> 0 | H37: =SUM(H6:H36) -> 0 | I37: =SUM(I6:I36) -> 0 | J37: =SUM(J6:J36) -> 0 | K37: =SUM(K6:K36) -> 0 | L37: =SUM(L6:L36) -> 0 | M37: =SUM(M6:M36) -> 0 | N37: =SUM(N6:N36) -> 0 | P37: =SUM(P6:P36) -> 0 | Q37: =SUM(Q6:Q36) -> 0 | S37: =SUM(S6:S36) -> 0 | T37: =SUM(T6:T36) -> 0 | V37: =SUM(V6:V36) -> 0 | W37: =SUM(W6:W36) -> 0 | X37: =SUM(X6:X36) -> 0

Sheet MODELE
A1: NOM:
A2: Report des TOTAUX | B2: =B37 -> 0 | C2: =C37 -> 0 | D2: =D37 -> 0 | F2: =F37 -> 0 | G2: =G37 -> 0 | H2: =H37 -> 0 | I2: =I37 -> 0 | J2: =J37 -> 0 | K2: =K37 -> 0 | L2: =L37 -> 0 | M2: =M37 -> 0 | N2: =N37 -> 0 | P2: =P37 -> 0 | Q2: =Q37 -> 0 | S2: =S37 -> 0 | T2: =T37 -> 0 | V2: =V37 -> 0 | W2: =W37 -> 0 | X2: =X37 -> 0
A3: ACTIVITES INDIVIDUELLES - Mois de | L3: =TEXT(A6,"mmmm") -> janvier
A4: Date | B4: VAD | F4: ACCOMP. SANTE | I4: ACCOMP. ADMINISTRATIF | L4: ACCOMP. AUTRES | P4: TELEPHONE | S4: SOUTIEN | V4: VEHICULES KILOMÉTRAGE
B5: NBRE | C5: TEMPS | D5: KM | F5: NBRE | G5: TEMPS | H5: KM | I5: NBRE | J5: TEMPS | K5: KM | L5: NBRE | M5: TEMPS | N5: KM | P5: NBRE | Q5: TEMPS | S5: TEMP | T5: KM | V5: Renault | W5: Peugeot | X5: Duster
A6: 45658
A7: 45659
A8: 45660
A9: 45661
A10: 45662
A11: 45663
A12: 45664
A13: 45665
A14: 45666
A15: 45667
A16: 45668
A17: 45669
... A36: 45688
A37: TOTAL | B37: =SUM(B6:B36) -> 0 | C37: =SUM(C6:C36) -> 0 | D37: =SUM(D6:D36) -> 0 | F37: =SUM(F6:F36) -> 0 | G37: =SUM(G6:G36) -> 0 | H37: =SUM(H6:H36) -> 0 | I37: =SUM(I6:I36) -> 0 | J37: =SUM(J6:J36) -> 0 | K37: =SUM(K6:K36) -> 0 | L37: =SUM(L6:L36) -> 0 | M37: =SUM(M6:M36) -> 0 | N37: =SUM(N6:N36) -> 0 | P37: =SUM(P6:P36) -> 0 | Q37: =SUM(Q6:Q36) -> 0 | S37: =SUM(S6:S36) -> 0 | T37: =SUM(T6:T36) -> 0 | V37: =SUM(V6:V36) -> 0 | W37: =SUM(W6:W36) -> 0 | X37: =SUM(X6:X36) -> 0

Sheet GESTION DES FICHES
