Workbook

Sheet Feuil1
A1: NOM | B1: PRENOM | C1: Congés payés | D1: Entrée | E1: Sortie | F1: Motif | G1: Tps de présence | H1: PROD TEL. | I1: POINTS PROD | J1: Tx DE VENTE | K1: POINTS GE/GP | L1: POINTS OPTENUS | M1: NOTE QUALITE | N1: VARIABLE | O1: Variable obtenu
H2: 11 | I2: 6.6 | J2: 30 | K2: 12 | L2: 18.6 | M2: 90 | N2: seuil3 | O2: =IFERROR(HLOOKUP(N2,Feuil2!$A$1:$D$6,IF(M2<75,5,IF(M2<80,4,IF(M2<85,3,IF(M2<90,2,1))))+1,FALSE),"") -> 40
I3: 0 | K3: 0 | L3: 0 | O3: =IFERROR(HLOOKUP(N3,Feuil2!$A$1:$D$6,IF(M3<75,5,IF(M3<80,4,IF(M3<85,3,IF(M3<90,2,1))))+1,FALSE),"")
I4: 0 | K4: 0 | L4: 0 | O4: =IFERROR(HLOOKUP(N4,Feuil2!$A$1:$D$6,IF(M4<75,5,IF(M4<80,4,IF(M4<85,3,IF(M4<90,2,1))))+1,FALSE),"")
I5: 0 | K5: 0 | L5: 0 | O5: =IFERROR(HLOOKUP(N5,Feuil2!$A$1:$D$6,IF(M5<75,5,IF(M5<80,4,IF(M5<85,3,IF(M5<90,2,1))))+1,FALSE),"")
I6: 0 | K6: 0 | L6: 0 | O6: =IFERROR(HLOOKUP(N6,Feuil2!$A$1:$D$6,IF(M6<75,5,IF(M6<80,4,IF(M6<85,3,IF(M6<90,2,1))))+1,FALSE),"")
I7: 0 | K7: 0 | L7: 0 | O7: =IFERROR(HLOOKUP(N7,Feuil2!$A$1:$D$6,IF(M7<75,5,IF(M7<80,4,IF(M7<85,3,IF(M7<90,2,1))))+1,FALSE),"")
I8: 0 | K8: 0 | L8: 0 | O8: =IFERROR(HLOOKUP(N8,Feuil2!$A$1:$D$6,IF(M8<75,5,IF(M8<80,4,IF(M8<85,3,IF(M8<90,2,1))))+1,FALSE),"")
I9: 0 | K9: 0 | L9: 0 | O9: =IFERROR(HLOOKUP(N9,Feuil2!$A$1:$D$6,IF(M9<75,5,IF(M9<80,4,IF(M9<85,3,IF(M9<90,2,1))))+1,FALSE),"")
I10: 0 | K10: 0 | L10: 0 | O10: =IFERROR(HLOOKUP(N10,Feuil2!$A$1:$D$6,IF(M10<75,5,IF(M10<80,4,IF(M10<85,3,IF(M10<90,2,1))))+1,FALSE),"")
I11: 0 | K11: 0 | L11: 0 | O11: =IFERROR(HLOOKUP(N11,Feuil2!$A$1:$D$6,IF(M11<75,5,IF(M11<80,4,IF(M11<85,3,IF(M11<90,2,1))))+1,FALSE),"")
I12: 0 | K12: 0 | L12: 0 | O12: =IFERROR(HLOOKUP(N12,Feuil2!$A$1:$D$6,IF(M12<75,5,IF(M12<80,4,IF(M12<85,3,IF(M12<90,2,1))))+1,FALSE),"")
I13: 0 | K13: 0 | L13: 0 | O13: =IFERROR(HLOOKUP(N13,Feuil2!$A$1:$D$6,IF(M13<75,5,IF(M13<80,4,IF(M13<85,3,IF(M13<90,2,1))))+1,FALSE),"")
I14: 0 | K14: 0 | L14: 0 | O14: =IFERROR(HLOOKUP(N14,Feuil2!$A$1:$D$6,IF(M14<75,5,IF(M14<80,4,IF(M14<85,3,IF(M14<90,2,1))))+1,FALSE),"")
... I44: 0 | K44: 0 | L44: 0 | O44: =IFERROR(HLOOKUP(N44,Feuil2!$A$1:$D$6,IF(M44<75,5,IF(M44<80,4,IF(M44<85,3,IF(M44<90,2,1))))+1,FALSE),"")

Sheet Feuil2
A1: Note | B1: seuil1 | C1: seuil2 | D1: seuil3
A2: 1 | B2: 80 | C2: 60 | D2: 40
A3: 2 | B3: 60 | C3: 40 | D3: 30
A4: 3 | B4: 40 | C4: 30 | D4: 20
A5: 4 | B5: 30 | C5: 20 | D5: 10
A6: 5 | B6: 0 | C6: 0 | D6: 0

Sheet Feuil3
