Workbook

Sheet Arrêts production
E3: calcul en mn
B4: Somme des arrêts / temps ouverture de la ligne | C4: 0.141 | D4: 0.029861111 | E4: =+D4*1440 -> 43
B5: Nombre d arrêts | D5: =+COUNT(C2:C2) -> 0
B6: duree de prod | D6: 0.21111111 | E6: =+D6*1440 -> 304
B7: TRS Prod avec temps de production effectif | E7: =E6-E4 -> 261
B8: TRS Total | C8: =E24 -> 0.85855263
B18: TRS TOTAL : un poste
B20: Nbre pièces fabriquées (toujours à saisir) | E20: 26100
B21: temps d'ouverture de la ligne en minutes | C21: =D6 -> 0.21111111 | D21: en mn | E21: =VLOOKUP("duree de prod",B4:E16,4,FALSE) -> 304 | F21: automatique
B22: cadence nominale de la ligne ramenée à la minute | C22: 6000 | D22: en mn | E22: =C22/60 -> 100 | F22: automatique
D24: TRS TOTAL | E24: =E20/(E22*E21) -> 0.85855263 | F24: automatique
B27: TRS PRODUCTION : temps de production d'un poste
B29: Nbre pièces fabriquées | E29: =E20 -> 26100 | F29: automatique
B30: temps de production de la ligne en minutes | C30: 0.18125 | D30: en mn | E30: =VLOOKUP("TRS Prod avec temps de production effectif",B4:E16,4,FALSE) -> 261 | F30: automatique
B31: cadence nominale de la ligne ramenée à la minute | C31: 6000 | D31: en mn | E31: =C31/60 -> 100 | F31: automatique
D33: TRS PROD. | E33: =E29/(E31*E30) -> 1 | F33: automatique

Sheet Type d'arrets
B1: TYPES ARRETS | C1: % | D1: TOTAL
A2: 1 | B2: ARRET CHANGEMENT CUVE (0003) | C2: =IF(D2/'Arrêts production'!$D$4=0,0,D2/'Arrêts production'!$D$4) -> 0 | D2: =IF(SUMIF('Arrêts production'!$B$2:$B$2,B2,'Arrêts production'!$C$2:$C$2)=0,0,SUMIF('Arrêts production'!$B$2:$B$2,B2,'Arrêts production'!$C$2:$C$2)) -> 0
A3: 2 | B3: ARRET RUPTURE EMBALLAGE (0019) | C3: =IF(D3/'Arrêts production'!$D$4=0,0,D3/'Arrêts production'!$D$4) -> 0 | D3: =IF(SUMIF('Arrêts production'!$B$2:$B$2,B3,'Arrêts production'!$C$2:$C$2)=0,0,SUMIF('Arrêts production'!$B$2:$B$2,B3,'Arrêts production'!$C$2:$C$2)) -> 0
A4: 3 | B4: ARRET CHANGT BOBINE ETIQUETTE (0026) | C4: =IF(D4/'Arrêts production'!$D$4=0,0,D4/'Arrêts production'!$D$4) -> 0 | D4: =IF(SUMIF('Arrêts production'!$B$2:$B$2,B4,'Arrêts production'!$C$2:$C$2)=0,0,SUMIF('Arrêts production'!$B$2:$B$2,B4,'Arrêts production'!$C$2:$C$2)) -> 0
A5: 4 | B5: ARRET CHANGEMENT BANDE ALU (0001) | C5: =IF(D5/'Arrêts production'!$D$4=0,0,D5/'Arrêts production'!$D$4) -> 0 | D5: =IF(SUMIF('Arrêts production'!$B$2:$B$2,B5,'Arrêts production'!$C$2:$C$2)=0,0,SUMIF('Arrêts production'!$B$2:$B$2,B5,'Arrêts production'!$C$2:$C$2)) -> 0
A6: 5 | B6: ARRET CHANGEMENT DE PRESURE (0027) | C6: =IF(D6/'Arrêts production'!$D$4=0,0,D6/'Arrêts production'!$D$4) -> 0 | D6: =IF(SUMIF('Arrêts production'!$B$2:$B$2,B6,'Arrêts production'!$C$2:$C$2)=0,0,SUMIF('Arrêts production'!$B$2:$B$2,B6,'Arrêts production'!$C$2:$C$2)) -> 0
