Workbook

Sheet SAISIE MP
B1: Date : | D1: CLIENT | F1: MINUTE DE PRIX : | I1: I25XXX_MP | L1: LISTES
B2: 45627 | D2: PROJET : | T2: VERIFICATION
D3: A l'attention de :
L4: Type | M4: NB | N4: Désignation | O4: Réf SB | R4: N° | S4: CHAPITRE | T4: Prix GP 1 | U4: Prix GP 2 | V4: Prix INOX | W4: MO | X4: MO Saisie
Q6: {=IF(ROW()>1,INDIRECT(ADDRESS(ROW()-1,COLUMN())),"")} -> 0 | S6: =B6 -> 0 | T6: 0 | U6: 0 | V6: 0 | W6: 0
B7: Descriptif : | Q7: {=IF(ROW()>1,INDIRECT(ADDRESS(ROW()-1,COLUMN())),"")} -> 0 | S7: {=IF(ROW()>1,INDIRECT(ADDRESS(ROW()-1,COLUMN())),"")} -> 0 | T7: {=IF(ROW()>1,INDIRECT(ADDRESS(ROW()-1,COLUMN())),"")} -> 0 | U7: {=IF(ROW()>1,INDIRECT(ADDRESS(ROW()-1,COLUMN())),"")} -> 0 | V7: {=IF(ROW()>1,INDIRECT(ADDRESS(ROW()-1,COLUMN())),"")} -> 0 | W7: {=IF(ROW()>1,INDIRECT(ADDRESS(ROW()-1,COLUMN())),"")} -> 0
Q8: {=IF(ROW()>1,INDIRECT(ADDRESS(ROW()-1,COLUMN())),"")} -> 0 | S8: {=IF(ROW()>1,INDIRECT(ADDRESS(ROW()-1,COLUMN())),"")} -> 0 | T8: {=IF(ROW()>1,INDIRECT(ADDRESS(ROW()-1,COLUMN())),"")} -> 0 | U8: {=IF(ROW()>1,INDIRECT(ADDRESS(ROW()-1,COLUMN())),"")} -> 0 | V8: {=IF(ROW()>1,INDIRECT(ADDRESS(ROW()-1,COLUMN())),"")} -> 0 | W8: {=IF(ROW()>1,INDIRECT(ADDRESS(ROW()-1,COLUMN())),"")} -> 0
Q9: {=IF(ROW()>1,INDIRECT(ADDRESS(ROW()-1,COLUMN())),"")} -> 0 | S9: {=IF(ROW()>1,INDIRECT(ADDRESS(ROW()-1,COLUMN())),"")} -> 0 | T9: {=IF(ROW()>1,INDIRECT(ADDRESS(ROW()-1,COLUMN())),"")} -> 0 | U9: {=IF(ROW()>1,INDIRECT(ADDRESS(ROW()-1,COLUMN())),"")} -> 0 | V9: {=IF(ROW()>1,INDIRECT(ADDRESS(ROW()-1,COLUMN())),"")} -> 0 | W9: {=IF(ROW()>1,INDIRECT(ADDRESS(ROW()-1,COLUMN())),"")} -> 0
B10: NB de pieces | C10: Repères | D10: GROS POSTE | Q10: {=IF(ROW()>1,INDIRECT(ADDRESS(ROW()-1,COLUMN())),"")} -> 0 | S10: {=IF(ROW()>1,INDIRECT(ADDRESS(ROW()-1,COLUMN())),"")} -> 0 | T10: {=IF(ROW()>1,INDIRECT(ADDRESS(ROW()-1,COLUMN())),"")} -> 0 | U10: {=IF(ROW()>1,INDIRECT(ADDRESS(ROW()-1,COLUMN())),"")} -> 0 | V10: {=IF(ROW()>1,INDIRECT(ADDRESS(ROW()-1,COLUMN())),"")} -> 0 | W10: {=IF(ROW()>1,INDIRECT(ADDRESS(ROW()-1,COLUMN())),"")} -> 0
D11: Désignation | F11: P.A. HT | G11: Marge | H11: P.U. HT | I11: Prix Total | J11: MO | Q11: {=IF(ROW()>1,INDIRECT(ADDRESS(ROW()-1,COLUMN())),"")} -> 0 | S11: {=IF(ROW()>1,INDIRECT(ADDRESS(ROW()-1,COLUMN())),"")} -> 0 | T11: {=IF(ROW()>1,INDIRECT(ADDRESS(ROW()-1,COLUMN())),"")} -> 0 | U11: {=IF(ROW()>1,INDIRECT(ADDRESS(ROW()-1,COLUMN())),"")} -> 0 | V11: {=IF(ROW()>1,INDIRECT(ADDRESS(ROW()-1,COLUMN())),"")} -> 0 | W11: {=IF(ROW()>1,INDIRECT(ADDRESS(ROW()-1,COLUMN())),"")} -> 0
G12: 1 | H12: =IF(B12=0,0,(F12/G12)) -> 0 | I12: =IF(B12=0,0,(H12*B12)) -> 0 | L12: GP | M12: =B12 -> 0 | N12: =D12 -> 0 | O12: - | Q12: {=IF(ROW()>1,INDIRECT(ADDRESS(ROW()-1,COLUMN())),"")} -> 0 | S12: {=IF(ROW()>1,INDIRECT(ADDRESS(ROW()-1,COLUMN())),"")} -> 0 | T12: {=IF(ROW()>1,INDIRECT(ADDRESS(ROW()-1,COLUMN())),"")+I12} -> 0 | U12: {=IF(ROW()>1,INDIRECT(ADDRESS(ROW()-1,COLUMN())),"")} -> 0 | V12: {=IF(ROW()>1,INDIRECT(ADDRESS(ROW()-1,COLUMN())),"")} -> 0 | W12: {=IF(ROW()>1,INDIRECT(ADDRESS(ROW()-1,COLUMN())),"")+J12} -> 0
G13: 1 | H13: =IF(B13=0,0,(F13/G13)) -> 0 | I13: =IF(B13=0,0,(H13*B13)) -> 0 | L13: GP | M13: =B13 -> 0 | N13: =D13 -> 0 | O13: - | Q13: {=IF(ROW()>1,INDIRECT(ADDRESS(ROW()-1,COLUMN())),"")} -> 0 | S13: {=IF(ROW()>1,INDIRECT(ADDRESS(ROW()-1,COLUMN())),"")} -> 0 | T13: {=IF(ROW()>1,INDIRECT(ADDRESS(ROW()-1,COLUMN())),"")+I13} -> 0 | U13: {=IF(ROW()>1,INDIRECT(ADDRESS(ROW()-1,COLUMN())),"")} -> 0 | V13: {=IF(ROW()>1,INDIRECT(ADDRESS(ROW()-1,COLUMN())),"")} -> 0 | W13: {=IF(ROW()>1,INDIRECT(ADDRESS(ROW()-1,COLUMN())),"")+J13} -> 0
G14: 1 | H14: =IF(B14=0,0,(F14/G14)) -> 0 | I14: =IF(B14=0,0,(H14*B14)) -> 0 | L14: GP | M14: =B14 -> 0 | N14: =D14 -> 0 | O14: - | Q14: {=IF(ROW()>1,INDIRECT(ADDRESS(ROW()-1,COLUMN())),"")} -> 0 | S14: {=IF(ROW()>1,INDIRECT(ADDRESS(ROW()-1,COLUMN())),"")} -> 0 | T14: {=IF(ROW()>1,INDIRECT(ADDRESS(ROW()-1,COLUMN())),"")+I14} -> 0 | U14: {=IF(ROW()>1,INDIRECT(ADDRESS(ROW()-1,COLUMN())),"")} -> 0 | V14: {=IF(ROW()>1,INDIRECT(ADDRESS(ROW()-1,COLUMN())),"")} -> 0 | W14: {=IF(ROW()>1,INDIRECT(ADDRESS(ROW()-1,COLUMN())),"")+J14} -> 0
B15: NB de pieces | C15: Repères | D15: GROS POSTE avec REF | Q15: {=IF(ROW()>1,INDIRECT(ADDRESS(ROW()-1,COLUMN())),"")} -> 0 | S15: {=IF(ROW()>1,INDIRECT(ADDRESS(ROW()-1,COLUMN())),"")} -> 0 | T15: {=IF(ROW()>1,INDIRECT(ADDRESS(ROW()-1,COLUMN())),"")} -> 0 | U15: {=IF(ROW()>1,INDIRECT(ADDRESS(ROW()-1,COLUMN())),"")} -> 0 | V15: {=IF(ROW()>1,INDIRECT(ADDRESS(ROW()-1,COLUMN())),"")} -> 0 | W15: {=IF(ROW()>1,INDIRECT(ADDRESS(ROW()-1,COLUMN())),"")} -> 0
D16: REF SB | E16: Désignation | H16: P.U. HT | I16: Prix Total | J16: MO | Q16: {=IF(ROW()>1,INDIRECT(ADDRESS(ROW()-1,COLUMN())),"")} -> 0 | S16: {=IF(ROW()>1,INDIRECT(ADDRESS(ROW()-1,COLUMN())),"")} -> 0 | T16: {=IF(ROW()>1,INDIRECT(ADDRESS(ROW()-1,COLUMN())),"")} -> 0 | U16: {=IF(ROW()>1,INDIRECT(ADDRESS(ROW()-1,COLUMN())),"")} -> 0 | V16: {=IF(ROW()>1,INDIRECT(ADDRESS(ROW()-1,COLUMN())),"")} -> 0 | W16: {=IF(ROW()>1,INDIRECT(ADDRESS(ROW()-1,COLUMN())),"")} -> 0
E17: =IF(D17=0,"",(VLOOKUP(D17,GP!A:H,3,0))) | H17: =IF(D17=0,0,(VLOOKUP(D17,GP!A:H,7,0))) -> 0 | I17: =IF(B17=0,0,(H17*B17)) -> 0 | J17: - | L17: GP | M17: =B17 -> 0 | N17: =IF(D17=0,0,(VLOOKUP(D17,GP!A:H,3,0))) -> 0 | O17: =IF(D17=0,0,(VLOOKUP(D17,GP!A:H,2,0))) -> 0 | Q17: {=IF(ROW()>1,INDIRECT(ADDRESS(ROW()-1,COLUMN())),"")} -> 0 | S17: {=IF(ROW()>1,INDIRECT(ADDRESS(ROW()-1,COLUMN())),"")} -> 0 | T17: {=IF(ROW()>1,INDIRECT(ADDRESS(ROW()-1,COLUMN())),"")} -> 0 | U17: {=IF(ROW()>1,INDIRECT(ADDRESS(ROW()-1,COLUMN())),"")+I17} -> 0 | V17: {=IF(ROW()>1,INDIRECT(ADDRESS(ROW()-1,COLUMN())),"")} -> 0 | W17: {=IF(ROW()>1,INDIRECT(ADDRESS(ROW()-1,COLUMN())),"")} -> 0
E18: =IF(D18=0,"",(VLOOKUP(D18,GP!A:H,3,0))) | H18: =IF(D18=0,0,(VLOOKUP(D18,GP!A:H,7,0))) -> 0 | I18: =IF(B18=0,0,(H18*B18)) -> 0 | J18: - | L18: GP | M18: =B18 -> 0 | N18: =IF(D18=0,0,(VLOOKUP(D18,GP!A:H,3,0))) -> 0 | O18: =IF(D18=0,0,(VLOOKUP(D18,GP!A:H,2,0))) -> 0 | Q18: {=IF(ROW()>1,INDIRECT(ADDRESS(ROW()-1,COLUMN())),"")} -> 0 | S18: {=IF(ROW()>1,INDIRECT(ADDRESS(ROW()-1,COLUMN())),"")} -> 0 | T18: {=IF(ROW()>1,INDIRECT(ADDRESS(ROW()-1,COLUMN())),"")} -> 0 | U18: {=IF(ROW()>1,INDIRECT(ADDRESS(ROW()-1,COLUMN())),"")+I18} -> 0 | V18: {=IF(ROW()>1,INDIRECT(ADDRESS(ROW()-1,COLUMN())),"")} -> 0 | W18: {=IF(ROW()>1,INDIRECT(ADDRESS(ROW()-1,COLUMN())),"")} -> 0
E19: =IF(D19=0,"",(VLOOKUP(D19,GP!A:H,3,0))) | H19: =IF(D19=0,0,(VLOOKUP(D19,GP!A:H,7,0))) -> 0 | I19: =IF(B19=0,0,(H19*B19)) -> 0 | J19: - | L19: GP | M19: =B19 -> 0 | N19: =IF(D19=0,0,(VLOOKUP(D19,GP!A:H,3,0))) -> 0 | O19: =IF(D19=0,0,(VLOOKUP(D19,GP!A:H,2,0))) -> 0 | Q19: {=IF(ROW()>1,INDIRECT(ADDRESS(ROW()-1,COLUMN())),"")} -> 0 | S19: {=IF(ROW()>1,INDIRECT(ADDRESS(ROW()-1,COLUMN())),"")} -> 0 | T19: {=IF(ROW()>1,INDIRECT(ADDRESS(ROW()-1,COLUMN())),"")} -> 0 | U19: {=IF(ROW()>1,INDIRECT(ADDRESS(ROW()-1,COLUMN())),"")+I19} -> 0 | V19: {=IF(ROW()>1,INDIRECT(ADDRESS(ROW()-1,COLUMN())),"")} -> 0 | W19: {=IF(ROW()>1,INDIRECT(ADDRESS(ROW()-1,COLUMN())),"")} -> 0
B20: NB de pieces | C20: REF SB | D20: INOX | Q20: {=IF(ROW()>1,INDIRECT(ADDRESS(ROW()-1,COLUMN())),"")} -> 0 | S20: {=IF(ROW()>1,INDIRECT(ADDRESS(ROW()-1,COLUMN())),"")} -> 0 | T20: {=IF(ROW()>1,INDIRECT(ADDRESS(ROW()-1,COLUMN())),"")} -> 0 | U20: {=IF(ROW()>1,INDIRECT(ADDRESS(ROW()-1,COLUMN())),"")} -> 0 | V20: {=IF(ROW()>1,INDIRECT(ADDRESS(ROW()-1,COLUMN())),"")} -> 0 | W20: {=IF(ROW()>1,INDIRECT(ADDRESS(ROW()-1,COLUMN())),"")} -> 0
D21: Désignation | H21: P.U. HT | I21: Prix Total | J21: MO | Q21: {=IF(ROW()>1,INDIRECT(ADDRESS(ROW()-1,COLUMN())),"")} -> 0 | S21: {=IF(ROW()>1,INDIRECT(ADDRESS(ROW()-1,COLUMN())),"")} -> 0 | T21: {=IF(ROW()>1,INDIRECT(ADDRESS(ROW()-1,COLUMN())),"")} -> 0 | U21: {=IF(ROW()>1,INDIRECT(ADDRESS(ROW()-1,COLUMN())),"")} -> 0 | V21: {=IF(ROW()>1,INDIRECT(ADDRESS(ROW()-1,COLUMN())),"")} -> 0 | W21: {=IF(ROW()>1,INDIRECT(ADDRESS(ROW()-1,COLUMN())),"")} -> 0
D22: =IF(C22=0,"",(VLOOKUP(C22,INOX!A:D,3,0))) | H22: =IF(C22=0,0,(VLOOKUP(C22,INOX!A:D,4,0))) -> 0 | I22: =IF(B22=0,0,(H22*B22)) -> 0 | J22: - | L22: INOX | M22: =B22 -> 0 | N22: =IF(C22=0,0,(VLOOKUP(C22,INOX!A:D,3,0))) -> 0 | O22: =IF(C22=0,0,(VLOOKUP(C22,INOX!A:D,2,0))) -> 0 | Q22: {=IF(ROW()>1,INDIRECT(ADDRESS(ROW()-1,COLUMN())),"")} -> 0 | S22: {=IF(ROW()>1,INDIRECT(ADDRESS(ROW()-1,COLUMN())),"")} -> 0 | T22: {=IF(ROW()>1,INDIRECT(ADDRESS(ROW()-1,COLUMN())),"")} -> 0 | U22: {=IF(ROW()>1,INDIRECT(ADDRESS(ROW()-1,COLUMN())),"")} -> 0 | V22: {=IF(ROW()>1,INDIRECT(ADDRESS(ROW()-1,COLUMN())),"")+I22} -> 0 | W22: {=IF(ROW()>1,INDIRECT(ADDRESS(ROW()-1,COLUMN())),"")} -> 0
D23: =IF(C23=0,"",(VLOOKUP(C23,INOX!A:D,3,0))) | H23: =IF(C23=0,0,(VLOOKUP(C23,INOX!A:D,4,0))) -> 0 | I23: =IF(B23=0,0,(H23*B23)) -> 0 | J23: - | L23: INOX | M23: =B23 -> 0 | N23: =IF(C23=0,0,(VLOOKUP(C23,INOX!A:D,3,0))) -> 0 | O23: =IF(C23=0,0,(VLOOKUP(C23,INOX!A:D,2,0))) -> 0 | Q23: {=IF(ROW()>1,INDIRECT(ADDRESS(ROW()-1,COLUMN())),"")} -> 0 | S23: {=IF(ROW()>1,INDIRECT(ADDRESS(ROW()-1,COLUMN())),"")} -> 0 | T23: {=IF(ROW()>1,INDIRECT(ADDRESS(ROW()-1,COLUMN())),"")} -> 0 | U23: {=IF(ROW()>1,INDIRECT(ADDRESS(ROW()-1,COLUMN())),"")} -> 0 | V23: {=IF(ROW()>1,INDIRECT(ADDRESS(ROW()-1,COLUMN())),"")+I23} -> 0 | W23: {=IF(ROW()>1,INDIRECT(ADDRESS(ROW()-1,COLUMN())),"")} -> 0
D24: =IF(C24=0,"",(VLOOKUP(C24,INOX!A:D,3,0))) | H24: =IF(C24=0,0,(VLOOKUP(C24,INOX!A:D,4,0))) -> 0 | I24: =IF(B24=0,0,(H24*B24)) -> 0 | J24: - | L24: INOX | M24: =B24 -> 0 | N24: =IF(C24=0,0,(VLOOKUP(C24,INOX!A:D,3,0))) -> 0 | O24: =IF(C24=0,0,(VLOOKUP(C24,INOX!A:D,2,0))) -> 0 | Q24: {=IF(ROW()>1,INDIRECT(ADDRESS(ROW()-1,COLUMN())),"")} -> 0 | S24: {=IF(ROW()>1,INDIRECT(ADDRESS(ROW()-1,COLUMN())),"")} -> 0 | T24: {=IF(ROW()>1,INDIRECT(ADDRESS(ROW()-1,COLUMN())),"")} -> 0 | U24: {=IF(ROW()>1,INDIRECT(ADDRESS(ROW()-1,COLUMN())),"")} -> 0 | V24: {=IF(ROW()>1,INDIRECT(ADDRESS(ROW()-1,COLUMN())),"")+I24} -> 0 | W24: {=IF(ROW()>1,INDIRECT(ADDRESS(ROW()-1,COLUMN())),"")} -> 0
E25: MO calculée Gros Postes | F25: =W27 -> 0 | G25: Total Gros Postes | I25: =T27+U27 -> 0 | Q25: {=IF(ROW()>1,INDIRECT(ADDRESS(ROW()-1,COLUMN())),"")} -> 0 | S25: {=IF(ROW()>1,INDIRECT(ADDRESS(ROW()-1,COLUMN())),"")} -> 0 | T25: {=IF(ROW()>1,INDIRECT(ADDRESS(ROW()-1,COLUMN())),"")} -> 0 | U25: {=IF(ROW()>1,INDIRECT(ADDRESS(ROW()-1,COLUMN())),"")} -> 0 | V25: {=IF(ROW()>1,INDIRECT(ADDRESS(ROW()-1,COLUMN())),"")} -> 0 | W25: {=IF(ROW()>1,INDIRECT(ADDRESS(ROW()-1,COLUMN())),"")} -> 0
E26: MO Calculée Inox | F26: =I26/26.68 -> 0 | G26: Total Inox | I26: =V27 -> 0 | Q26: {=IF(ROW()>1,INDIRECT(ADDRESS(ROW()-1,COLUMN())),"")} -> 0 | S26: {=IF(ROW()>1,INDIRECT(ADDRESS(ROW()-1,COLUMN())),"")} -> 0 | T26: {=IF(ROW()>1,INDIRECT(ADDRESS(ROW()-1,COLUMN())),"")} -> 0 | U26: {=IF(ROW()>1,INDIRECT(ADDRESS(ROW()-1,COLUMN())),"")} -> 0 | V26: {=IF(ROW()>1,INDIRECT(ADDRESS(ROW()-1,COLUMN())),"")} -> 0 | W26: {=IF(ROW()>1,INDIRECT(ADDRESS(ROW()-1,COLUMN())),"")} -> 0
G27: MO PREVUE | Q27: {=IF(ROW()>1,INDIRECT(ADDRESS(ROW()-1,COLUMN())),"")} -> 0 | R27: {=IF(ROW()>1,INDIRECT(ADDRESS(ROW(),COLUMN()-1)),"")+1} -> 1 | S27: {=IF(ROW()>1,INDIRECT(ADDRESS(ROW()-1,COLUMN())),"")} -> 0 | T27: {=IF(ROW()>1,INDIRECT(ADDRESS(ROW()-1,COLUMN())),"")} -> 0 | U27: {=IF(ROW()>1,INDIRECT(ADDRESS(ROW()-1,COLUMN())),"")} -> 0 | V27: {=IF(ROW()>1,INDIRECT(ADDRESS(ROW()-1,COLUMN())),"")} -> 0 | W27: {=IF(ROW()>1,INDIRECT(ADDRESS(ROW()-1,COLUMN())),"")} -> 0 | X27: =I27 -> 0
B28: Commentaire: | Q28: {=IF(ROW()>1,INDIRECT(ADDRESS(ROW()-1,COLUMN())),"")+1} -> 1 | S28: - | T28: - | U28: - | V28: - | W28: - | X28: -
Q29: {=IF(ROW()>1,INDIRECT(ADDRESS(ROW()-1,COLUMN())),"")} -> 1

Sheet Tableau de prix
A1: 1 | C1: {='SAISIE MP'!D1:E1} -> #VALUE! | E1: GROS POSTES | F1: INOX | G1: HEURES | H1: AFFECTATION | I1: {='SAISIE MP'!D1:E1} -> #VALUE! | AT1: {='SAISIE MP'!I1:J1} -> I25XXX_MP | AU1: 0
I2: ELEC-AUTO | J2: % | K2: ISO. CALORIF. | L2: % | M2: LOC. | N2: % | O2: MANUT. | P2: % | Q2: SOUS-TRAITANT | R2: % | S2: GP | T2: % | U2: INOX | V2: % | W2: IMP | X2: total INOX+GP+IMP | Y2: HRES | Z2: MO | AA2: % | AB2: MO ATELIER | AC2: % | AD2: TECH. | AE2: % | AF2: BE | AG2: % | AH2: DAO | AI2: % | AJ2: SUIVI | AK2: % | AL2: VOY MONTEURS | AM2: % | AN2: NB VOY | AO2: VOY BE DAO CA | AP2: % | AQ2: ING | AR2: % | AS2: TOTAL MO+VOY+ING | AT2: TOTAL | AU2: TOTAL + %
Z3: 73 | AB3: 71 | AD3: 73 | AF3: 99 | AH3: 99 | AJ3: 99 | AU3: 10
A4: =IF(C4=0,0,1) -> 0 | B4: 1 | C4: =IFERROR(VLOOKUP(B4,'SAISIE MP'!R:X,2,FALSE),0) -> 0 | E4: =IFERROR((VLOOKUP(B4,'SAISIE MP'!R:X,3,FALSE))+(VLOOKUP(B4,'SAISIE MP'!R:X,4,FALSE)),0) -> 0 | F4: =IFERROR(VLOOKUP(B4,'SAISIE MP'!R:X,5,FALSE),0) -> 0 | G4: =IFERROR(VLOOKUP(B4,'SAISIE MP'!R:X,7,FALSE),0) -> 0 | I4: =IF($H4="ELECTRICITE",E4*J4,0) -> 0 | J4: 1 | K4: =IF($H4="ISOLATION",E4*L4,0) -> 0 | L4: 1 | M4: =IF($H4="LOCATION",E4*N4,0) -> 0 | N4: 1 | O4: =IF($H4="MANUTENTION",E4*P4,0) -> 0 | P4: 1 | Q4: =IF($H4="SOUS-TRAITANT",E4*R4,0) -> 0 | R4: 1 | S4: =IF($H4=0,E4*T4,(IF($H4="ATELIER",E4*T4,(IF($H4="TECH",E4 *T4,(IF($H4="BE",E4*T4,(IF($H4="DAO",E4*T4,(IF($H4="SUIVI",E4*T4,0))))))))))) -> 0 | T4: 1 | U4: =F4*V4 -> 0 | V4: 1 | W4: =U4*10% -> 0 | X4: =I4+K4+M4+O4+Q4+S4+U4+W4 -> 0 | Y4: =IF($H4="",G4,0) -> 0 | Z4: =IF($H4="Atelier",0,IF($H4="Tech",0,IF($H4="DAO",0,IF($H4="Suivi",0,Y4*AA4*$Z$3)))) -> 0 | AA4: 1 | AB4: =IF($H4="ATELIER",G4*AC4*$AB$3,0) -> 0 | AC4: 1 | AD4: =IF($H4="TECH",G4*AG4*$AD$3,0) -> 0 | AE4: 1 | AF4: =IF($H4="BE",G4*AG4*$AF$3,0) -> 0 | AG4: 1 | AH4: =IF($H4="DAO",G4*AI4*$AH$3,0) -> 0 | AI4: 1 | AJ4: =IF($H4="SUIVI",G4*AK4*$AJ$3,0) -> 0 | AK4: 1 | AL4: =IF(H4="ATELIER",0,IF(H4="TECH",0,IF(H4="BE",0,IF(H4="DAO",0,IF(H4="SUIVI",0,$D$148/$Y$134*Y4)))))*AM4 -> #DIV/0! | AM4: 1 | AN4: 1 | AO4: =IF(H4="ATELIER",0,IF(H4="TECH",AN4*$E$148,IF(H4="BE",AN4*$F$148,IF(H4="DAO",AN4*$G$148,IF(H4="SUIVI",AN4*$H$148,0)))))*AP4 -> 0 | AP4: 1 | AQ4: =IF($H4="ELECTRICITE",0,(X4+Z4)*5%*AR4) -> 0 | AR4: 1 | AS4: =Z4+AB4+AD4+AH4+AJ4+AO4+AQ4+AF4 -> 0 | AT4: =X4+AS4 -> 0 | AU4: =AT4/(1-$AU$3/100) -> 0
A5: =IF(C5=0,0,1) -> 0 | B5: 2 | C5: =IFERROR(VLOOKUP(B5,'SAISIE MP'!R:X,2,FALSE),0) -> 0 | E5: =IFERROR((VLOOKUP(B5,'SAISIE MP'!R:X,3,FALSE))+(VLOOKUP(B5,'SAISIE MP'!R:X,4,FALSE)),0) -> 0 | F5: =IFERROR(VLOOKUP(B5,'SAISIE MP'!R:X,5,FALSE),0) -> 0 | G5: =IFERROR(VLOOKUP(B5,'SAISIE MP'!R:X,7,FALSE),0) -> 0 | I5: =IF($H5="ELECTRICITE",E5*J5,0) -> 0 | J5: 1 | K5: =IF($H5="ISOLATION",E5*L5,0) -> 0 | L5: 1 | M5: =IF($H5="LOCATION",E5*N5,0) -> 0 | N5: 1 | O5: =IF($H5="MANUTENTION",E5*P5,0) -> 0 | P5: 1 | Q5: =IF($H5="SOUS-TRAITANT",E5*R5,0) -> 0 | R5: 1 | S5: =IF($H5=0,E5*T5,(IF($H5="ATELIER",E5*T5,(IF($H5="TECH",E5 *T5,(IF($H5="BE",E5*T5,(IF($H5="DAO",E5*T5,(IF($H5="SUIVI",E5*T5,0))))))))))) -> 0 | T5: 1 | U5: =F5*V5 -> 0 | V5: 1 | W5: =U5*10% -> 0 | X5: =I5+K5+M5+O5+Q5+S5+U5+W5 -> 0 | Y5: =IF($H5="",G5,0) -> 0 | Z5: =IF($H5="Atelier",0,IF($H5="Tech",0,IF($H5="DAO",0,IF($H5="Suivi",0,G5*AA5*$Z$3)))) -> 0 | AA5: 1 | AB5: =IF($H5="ATELIER",G5*AC5*$AB$3,0) -> 0 | AC5: 1 | AD5: =IF($H5="TECH",G5*AG5*$AD$3,0) -> 0 | AE5: 1 | AF5: =IF($H5="BE",G5*AG5*$AF$3,0) -> 0 | AG5: 1 | AH5: =IF($H5="DAO",G5*AI5*$AH$3,0) -> 0 | AI5: 1 | AJ5: =IF($H5="SUIVI",G5*AK5*$AJ$3,0) -> 0 | AK5: 1 | AL5: =IF(H5="ATELIER",0,IF(H5="TECH",0,IF(H5="BE",0,IF(H5="DAO",0,IF(H5="SUIVI",0,$D$148/$Y$134*Y5)))))*AP5 -> #DIV/0! | AM5: 1 | AN5: 1 | AO5: =IF(H5="ATELIER",0,IF(H5="TECH",AN5*$E$148,IF(H5="BE",AN5*$F$148,IF(H5="DAO",AN5*$G$148,IF(H5="SUIVI",AN5*$H$148,0)))))*AP5 -> 0 | AP5: 1 | AQ5: =IF($H5="ELECTRICITE",0,(X5+Z5)*5%*AR5) -> 0 | AR5: 1 | AS5: =Z5+AB5+AD5+AH5+AJ5+AO5+AQ5+AF5 -> 0 | AT5: =X5+AS5 -> 0 | AU5: =AT5/(1-$AU$3/100) -> 0
A6: =IF(C6=0,0,1) -> 0 | B6: 3 | C6: =IFERROR(VLOOKUP(B6,'SAISIE MP'!R:X,2,FALSE),0) -> 0 | E6: =IFERROR((VLOOKUP(B6,'SAISIE MP'!R:X,3,FALSE))+(VLOOKUP(B6,'SAISIE MP'!R:X,4,FALSE)),0) -> 0 | F6: =IFERROR(VLOOKUP(B6,'SAISIE MP'!R:X,5,FALSE),0) -> 0 | G6: =IFERROR(VLOOKUP(B6,'SAISIE MP'!R:X,7,FALSE),0) -> 0 | I6: =IF($H6="ELECTRICITE",E6*J6,0) -> 0 | J6: 1 | K6: =IF($H6="ISOLATION",E6*L6,0) -> 0 | L6: 1 | M6: =IF($H6="LOCATION",E6*N6,0) -> 0 | N6: 1 | O6: =IF($H6="MANUTENTION",E6*P6,0) -> 0 | P6: 1 | Q6: =IF($H6="SOUS-TRAITANT",E6*R6,0) -> 0 | R6: 1 | S6: =IF($H6=0,E6*T6,(IF($H6="ATELIER",E6*T6,(IF($H6="TECH",E6 *T6,(IF($H6="BE",E6*T6,(IF($H6="DAO",E6*T6,(IF($H6="SUIVI",E6*T6,0))))))))))) -> 0 | T6: 1 | U6: =F6*V6 -> 0 | V6: 1 | W6: =U6*10% -> 0 | X6: =I6+K6+M6+O6+Q6+S6+U6+W6 -> 0 | Y6: =IF($H6="",G6,0) -> 0 | Z6: =IF($H6="Atelier",0,IF($H6="Tech",0,IF($H6="DAO",0,IF($H6="Suivi",0,G6*AA6*$Z$3)))) -> 0 | AA6: 1 | AB6: =IF($H6="ATELIER",G6*AC6*$AB$3,0) -> 0 | AC6: 1 | AD6: =IF($H6="TECH",G6*AG6*$AD$3,0) -> 0 | AE6: 1 | AF6: =IF($H6="BE",G6*AG6*$AF$3,0) -> 0 | AG6: 1 | AH6: =IF($H6="DAO",G6*AI6*$AH$3,0) -> 0 | AI6: 1 | AJ6: =IF($H6="SUIVI",G6*AK6*$AJ$3,0) -> 0 | AK6: 1 | AL6: =IF(H6="ATELIER",0,IF(H6="TECH",0,IF(H6="BE",0,IF(H6="DAO",0,IF(H6="SUIVI",0,$D$148/$Y$134*Y6)))))*AP6 -> #DIV/0! | AM6: 1 | AN6: 1 | AO6: =IF(H6="ATELIER",0,IF(H6="TECH",AN6*$E$148,IF(H6="BE",AN6*$F$148,IF(H6="DAO",AN6*$G$148,IF(H6="SUIVI",AN6*$H$148,0)))))*AP6 -> 0 | AP6: 1 | AQ6: =IF($H6="ELECTRICITE",0,(X6+Z6)*5%*AR6) -> 0 | AR6: 1 | AS6: =Z6+AB6+AD6+AH6+AJ6+AO6+AQ6+AF6 -> 0 | AT6: =X6+AS6 -> 0 | AU6: =AT6/(1-$AU$3/100) -> 0
A7: =IF(C7=0,0,1) -> 0 | B7: 4 | C7: =IFERROR(VLOOKUP(B7,'SAISIE MP'!R:X,2,FALSE),0) -> 0 | E7: =IFERROR((VLOOKUP(B7,'SAISIE MP'!R:X,3,FALSE))+(VLOOKUP(B7,'SAISIE MP'!R:X,4,FALSE)),0) -> 0 | F7: =IFERROR(VLOOKUP(B7,'SAISIE MP'!R:X,5,FALSE),0) -> 0 | G7: =IFERROR(VLOOKUP(B7,'SAISIE MP'!R:X,7,FALSE),0) -> 0 | I7: =IF($H7="ELECTRICITE",E7*J7,0) -> 0 | J7: 1 | K7: =IF($H7="ISOLATION",E7*L7,0) -> 0 | L7: 1 | M7: =IF($H7="LOCATION",E7*N7,0) -> 0 | N7: 1 | O7: =IF($H7="MANUTENTION",E7*P7,0) -> 0 | P7: 1 | Q7: =IF($H7="SOUS-TRAITANT",E7*R7,0) -> 0 | R7: 1 | S7: =IF($H7=0,E7*T7,(IF($H7="ATELIER",E7*T7,(IF($H7="TECH",E7 *T7,(IF($H7="BE",E7*T7,(IF($H7="DAO",E7*T7,(IF($H7="SUIVI",E7*T7,0))))))))))) -> 0 | T7: 1 | U7: =F7*V7 -> 0 | V7: 1 | W7: =U7*10% -> 0 | X7: =I7+K7+M7+O7+Q7+S7+U7+W7 -> 0 | Y7: =IF($H7="",G7,0) -> 0 | Z7: =IF($H7="Atelier",0,IF($H7="Tech",0,IF($H7="DAO",0,IF($H7="Suivi",0,G7*AA7*$Z$3)))) -> 0 | AA7: 1 | AB7: =IF($H7="ATELIER",G7*AC7*$AB$3,0) -> 0 | AC7: 1 | AD7: =IF($H7="TECH",G7*AG7*$AD$3,0) -> 0 | AE7: 1 | AF7: =IF($H7="BE",G7*AG7*$AF$3,0) -> 0 | AG7: 1 | AH7: =IF($H7="DAO",G7*AI7*$AH$3,0) -> 0 | AI7: 1 | AJ7: =IF($H7="SUIVI",G7*AK7*$AJ$3,0) -> 0 | AK7: 1 | AL7: =IF(H7="ATELIER",0,IF(H7="TECH",0,IF(H7="BE",0,IF(H7="DAO",0,IF(H7="SUIVI",0,$D$148/$Y$134*Y7)))))*AP7 -> #DIV/0! | AM7: 1 | AN7: 1 | AO7: =IF(H7="ATELIER",0,IF(H7="TECH",AN7*$E$148,IF(H7="BE",AN7*$F$148,IF(H7="DAO",AN7*$G$148,IF(H7="SUIVI",AN7*$H$148,0)))))*AP7 -> 0 | AP7: 1 | AQ7: =IF($H7="ELECTRICITE",0,(X7+Z7)*5%*AR7) -> 0 | AR7: 1 | AS7: =Z7+AB7+AD7+AH7+AJ7+AO7+AQ7+AF7 -> 0 | AT7: =X7+AS7 -> 0 | AU7: =AT7/(1-$AU$3/100) -> 0
A8: =IF(C8=0,0,1) -> 0 | B8: 5 | C8: =IFERROR(VLOOKUP(B8,'SAISIE MP'!R:X,2,FALSE),0) -> 0 | E8: =IFERROR((VLOOKUP(B8,'SAISIE MP'!R:X,3,FALSE))+(VLOOKUP(B8,'SAISIE MP'!R:X,4,FALSE)),0) -> 0 | F8: =IFERROR(VLOOKUP(B8,'SAISIE MP'!R:X,5,FALSE),0) -> 0 | G8: =IFERROR(VLOOKUP(B8,'SAISIE MP'!R:X,7,FALSE),0) -> 0 | I8: =IF($H8="ELECTRICITE",E8*J8,0) -> 0 | J8: 1 | K8: =IF($H8="ISOLATION",E8*L8,0) -> 0 | L8: 1 | M8: =IF($H8="LOCATION",E8*N8,0) -> 0 | N8: 1 | O8: =IF($H8="MANUTENTION",E8*P8,0) -> 0 | P8: 1 | Q8: =IF($H8="SOUS-TRAITANT",E8*R8,0) -> 0 | R8: 1 | S8: =IF($H8=0,E8*T8,(IF($H8="ATELIER",E8*T8,(IF($H8="TECH",E8 *T8,(IF($H8="BE",E8*T8,(IF($H8="DAO",E8*T8,(IF($H8="SUIVI",E8*T8,0))))))))))) -> 0 | T8: 1 | U8: =F8*V8 -> 0 | V8: 1 | W8: =U8*10% -> 0 | X8: =I8+K8+M8+O8+Q8+S8+U8+W8 -> 0 | Y8: =IF($H8="",G8,0) -> 0 | Z8: =IF($H8="Atelier",0,IF($H8="Tech",0,IF($H8="DAO",0,IF($H8="Suivi",0,G8*AA8*$Z$3)))) -> 0 | AA8: 1 | AB8: =IF($H8="ATELIER",G8*AC8*$AB$3,0) -> 0 | AC8: 1 | AD8: =IF($H8="TECH",G8*AG8*$AD$3,0) -> 0 | AE8: 1 | AF8: =IF($H8="BE",G8*AG8*$AF$3,0) -> 0 | AG8: 1 | AH8: =IF($H8="DAO",G8*AI8*$AH$3,0) -> 0 | AI8: 1 | AJ8: =IF($H8="SUIVI",G8*AK8*$AJ$3,0) -> 0 | AK8: 1 | AL8: =IF(H8="ATELIER",0,IF(H8="TECH",0,IF(H8="BE",0,IF(H8="DAO",0,IF(H8="SUIVI",0,$D$148/$Y$134*Y8)))))*AP8 -> #DIV/0! | AM8: 1 | AN8: 1 | AO8: =IF(H8="ATELIER",0,IF(H8="TECH",AN8*$E$148,IF(H8="BE",AN8*$F$148,IF(H8="DAO",AN8*$G$148,IF(H8="SUIVI",AN8*$H$148,0)))))*AP8 -> 0 | AP8: 1 | AQ8: =IF($H8="ELECTRICITE",0,(X8+Z8)*5%*AR8) -> 0 | AR8: 1 | AS8: =Z8+AB8+AD8+AH8+AJ8+AO8+AQ8+AF8 -> 0 | AT8: =X8+AS8 -> 0 | AU8: =AT8/(1-$AU$3/100) -> 0
A9: =IF(C9=0,0,1) -> 0 | B9: 6 | C9: =IFERROR(VLOOKUP(B9,'SAISIE MP'!R:X,2,FALSE),0) -> 0 | E9: =IFERROR((VLOOKUP(B9,'SAISIE MP'!R:X,3,FALSE))+(VLOOKUP(B9,'SAISIE MP'!R:X,4,FALSE)),0) -> 0 | F9: =IFERROR(VLOOKUP(B9,'SAISIE MP'!R:X,5,FALSE),0) -> 0 | G9: =IFERROR(VLOOKUP(B9,'SAISIE MP'!R:X,7,FALSE),0) -> 0 | I9: =IF($H9="ELECTRICITE",E9*J9,0) -> 0 | J9: 1 | K9: =IF($H9="ISOLATION",E9*L9,0) -> 0 | L9: 1 | M9: =IF($H9="LOCATION",E9*N9,0) -> 0 | N9: 1 | O9: =IF($H9="MANUTENTION",E9*P9,0) -> 0 | P9: 1 | Q9: =IF($H9="SOUS-TRAITANT",E9*R9,0) -> 0 | R9: 1 | S9: =IF($H9=0,E9*T9,(IF($H9="ATELIER",E9*T9,(IF($H9="TECH",E9 *T9,(IF($H9="BE",E9*T9,(IF($H9="DAO",E9*T9,(IF($H9="SUIVI",E9*T9,0))))))))))) -> 0 | T9: 1 | U9: =F9*V9 -> 0 | V9: 1 | W9: =U9*10% -> 0 | X9: =I9+K9+M9+O9+Q9+S9+U9+W9 -> 0 | Y9: =IF($H9="",G9,0) -> 0 | Z9: =IF($H9="Atelier",0,IF($H9="Tech",0,IF($H9="DAO",0,IF($H9="Suivi",0,G9*AA9*$Z$3)))) -> 0 | AA9: 1 | AB9: =IF($H9="ATELIER",G9*AC9*$AB$3,0) -> 0 | AC9: 1 | AD9: =IF($H9="TECH",G9*AG9*$AD$3,0) -> 0 | AE9: 1 | AF9: =IF($H9="BE",G9*AG9*$AF$3,0) -> 0 | AG9: 1 | AH9: =IF($H9="DAO",G9*AI9*$AH$3,0) -> 0 | AI9: 1 | AJ9: =IF($H9="SUIVI",G9*AK9*$AJ$3,0) -> 0 | AK9: 1 | AL9: =IF(H9="ATELIER",0,IF(H9="TECH",0,IF(H9="BE",0,IF(H9="DAO",0,IF(H9="SUIVI",0,$D$148/$Y$134*Y9)))))*AP9 -> #DIV/0! | AM9: 1 | AN9: 1 | AO9: =IF(H9="ATELIER",0,IF(H9="TECH",AN9*$E$148,IF(H9="BE",AN9*$F$148,IF(H9="DAO",AN9*$G$148,IF(H9="SUIVI",AN9*$H$148,0)))))*AP9 -> 0 | AP9: 1 | AQ9: =IF($H9="ELECTRICITE",0,(X9+Z9)*5%*AR9) -> 0 | AR9: 1 | AS9: =Z9+AB9+AD9+AH9+AJ9+AO9+AQ9+AF9 -> 0 | AT9: =X9+AS9 -> 0 | AU9: =AT9/(1-$AU$3/100) -> 0
A10: =IF(C10=0,0,1) -> 0 | B10: 7 | C10: =IFERROR(VLOOKUP(B10,'SAISIE MP'!R:X,2,FALSE),0) -> 0 | E10: =IFERROR((VLOOKUP(B10,'SAISIE MP'!R:X,3,FALSE))+(VLOOKUP(B10,'SAISIE MP'!R:X,4,FALSE)),0) -> 0 | F10: =IFERROR(VLOOKUP(B10,'SAISIE MP'!R:X,5,FALSE),0) -> 0 | G10: =IFERROR(VLOOKUP(B10,'SAISIE MP'!R:X,7,FALSE),0) -> 0 | I10: =IF($H10="ELECTRICITE",E10*J10,0) -> 0 | J10: 1 | K10: =IF($H10="ISOLATION",E10*L10,0) -> 0 | L10: 1 | M10: =IF($H10="LOCATION",E10*N10,0) -> 0 | N10: 1 | O10: =IF($H10="MANUTENTION",E10*P10,0) -> 0 | P10: 1 | Q10: =IF($H10="SOUS-TRAITANT",E10*R10,0) -> 0 | R10: 1 | S10: =IF($H10=0,E10*T10,(IF($H10="ATELIER",E10*T10,(IF($H10="TECH",E10 *T10,(IF($H10="BE",E10*T10,(IF($H10="DAO",E10*T10,(IF($H10="SUIVI",E10*T10,0))))))))))) -> 0 | T10: 1 | U10: =F10*V10 -> 0 | V10: 1 | W10: =U10*10% -> 0 | X10: =I10+K10+M10+O10+Q10+S10+U10+W10 -> 0 | Y10: =IF($H10="",G10,0) -> 0 | Z10: =IF($H10="Atelier",0,IF($H10="Tech",0,IF($H10="DAO",0,IF($H10="Suivi",0,G10*AA10*$Z$3)))) -> 0 | AA10: 1 | AB10: =IF($H10="ATELIER",G10*AC10*$AB$3,0) -> 0 | AC10: 1 | AD10: =IF($H10="TECH",G10*AG10*$AD$3,0) -> 0 | AE10: 1 | AF10: =IF($H10="BE",G10*AG10*$AF$3,0) -> 0 | AG10: 1 | AH10: =IF($H10="DAO",G10*AI10*$AH$3,0) -> 0 | AI10: 1 | AJ10: =IF($H10="SUIVI",G10*AK10*$AJ$3,0) -> 0 | AK10: 1 | AL10: =IF(H10="ATELIER",0,IF(H10="TECH",0,IF(H10="BE",0,IF(H10="DAO",0,IF(H10="SUIVI",0,$D$148/$Y$134*Y10)))))*AP10 -> #DIV/0! | AM10: 1 | AN10: 1 | AO10: =IF(H10="ATELIER",0,IF(H10="TECH",AN10*$E$148,IF(H10="BE",AN10*$F$148,IF(H10="DAO",AN10*$G$148,IF(H10="SUIVI",AN10*$H$148,0)))))*AP10 -> 0 | AP10: 1 | AQ10: =IF($H10="ELECTRICITE",0,(X10+Z10)*5%*AR10) -> 0 | AR10: 1 | AS10: =Z10+AB10+AD10+AH10+AJ10+AO10+AQ10+AF10 -> 0 | AT10: =X10+AS10 -> 0 | AU10: =AT10/(1-$AU$3/100) -> 0
A11: =IF(C11=0,0,1) -> 0 | B11: 8 | C11: =IFERROR(VLOOKUP(B11,'SAISIE MP'!R:X,2,FALSE),0) -> 0 | E11: =IFERROR((VLOOKUP(B11,'SAISIE MP'!R:X,3,FALSE))+(VLOOKUP(B11,'SAISIE MP'!R:X,4,FALSE)),0) -> 0 | F11: =IFERROR(VLOOKUP(B11,'SAISIE MP'!R:X,5,FALSE),0) -> 0 | G11: =IFERROR(VLOOKUP(B11,'SAISIE MP'!R:X,7,FALSE),0) -> 0 | I11: =IF($H11="ELECTRICITE",E11*J11,0) -> 0 | J11: 1 | K11: =IF($H11="ISOLATION",E11*L11,0) -> 0 | L11: 1 | M11: =IF($H11="LOCATION",E11*N11,0) -> 0 | N11: 1 | O11: =IF($H11="MANUTENTION",E11*P11,0) -> 0 | P11: 1 | Q11: =IF($H11="SOUS-TRAITANT",E11*R11,0) -> 0 | R11: 1 | S11: =IF($H11=0,E11*T11,(IF($H11="ATELIER",E11*T11,(IF($H11="TECH",E11 *T11,(IF($H11="BE",E11*T11,(IF($H11="DAO",E11*T11,(IF($H11="SUIVI",E11*T11,0))))))))))) -> 0 | T11: 1 | U11: =F11*V11 -> 0 | V11: 1 | W11: =U11*10% -> 0 | X11: =I11+K11+M11+O11+Q11+S11+U11+W11 -> 0 | Y11: =IF($H11="",G11,0) -> 0 | Z11: =IF($H11="Atelier",0,IF($H11="Tech",0,IF($H11="DAO",0,IF($H11="Suivi",0,G11*AA11*$Z$3)))) -> 0 | AA11: 1 | AB11: =IF($H11="ATELIER",G11*AC11*$AB$3,0) -> 0 | AC11: 1 | AD11: =IF($H11="TECH",G11*AG11*$AD$3,0) -> 0 | AE11: 1 | AF11: =IF($H11="BE",G11*AG11*$AF$3,0) -> 0 | AG11: 1 | AH11: =IF($H11="DAO",G11*AI11*$AH$3,0) -> 0 | AI11: 1 | AJ11: =IF($H11="SUIVI",G11*AK11*$AJ$3,0) -> 0 | AK11: 1 | AL11: =IF(H11="ATELIER",0,IF(H11="TECH",0,IF(H11="BE",0,IF(H11="DAO",0,IF(H11="SUIVI",0,$D$148/$Y$134*Y11)))))*AP11 -> #DIV/0! | AM11: 1 | AN11: 1 | AO11: =IF(H11="ATELIER",0,IF(H11="TECH",AN11*$E$148,IF(H11="BE",AN11*$F$148,IF(H11="DAO",AN11*$G$148,IF(H11="SUIVI",AN11*$H$148,0)))))*AP11 -> 0 | AP11: 1 | AQ11: =IF($H11="ELECTRICITE",0,(X11+Z11)*5%*AR11) -> 0 | AR11: 1 | AS11: =Z11+AB11+AD11+AH11+AJ11+AO11+AQ11+AF11 -> 0 | AT11: =X11+AS11 -> 0 | AU11: =AT11/(1-$AU$3/100) -> 0
A12: =IF(C12=0,0,1) -> 0 | B12: 9 | C12: =IFERROR(VLOOKUP(B12,'SAISIE MP'!R:X,2,FALSE),0) -> 0 | E12: =IFERROR((VLOOKUP(B12,'SAISIE MP'!R:X,3,FALSE))+(VLOOKUP(B12,'SAISIE MP'!R:X,4,FALSE)),0) -> 0 | F12: =IFERROR(VLOOKUP(B12,'SAISIE MP'!R:X,5,FALSE),0) -> 0 | G12: =IFERROR(VLOOKUP(B12,'SAISIE MP'!R:X,7,FALSE),0) -> 0 | I12: =IF($H12="ELECTRICITE",E12*J12,0) -> 0 | J12: 1 | K12: =IF($H12="ISOLATION",E12*L12,0) -> 0 | L12: 1 | M12: =IF($H12="LOCATION",E12*N12,0) -> 0 | N12: 1 | O12: =IF($H12="MANUTENTION",E12*P12,0) -> 0 | P12: 1 | Q12: =IF($H12="SOUS-TRAITANT",E12*R12,0) -> 0 | R12: 1 | S12: =IF($H12=0,E12*T12,(IF($H12="ATELIER",E12*T12,(IF($H12="TECH",E12 *T12,(IF($H12="BE",E12*T12,(IF($H12="DAO",E12*T12,(IF($H12="SUIVI",E12*T12,0))))))))))) -> 0 | T12: 1 | U12: =F12*V12 -> 0 | V12: 1 | W12: =U12*10% -> 0 | X12: =I12+K12+M12+O12+Q12+S12+U12+W12 -> 0 | Y12: =IF($H12="",G12,0) -> 0 | Z12: =IF($H12="Atelier",0,IF($H12="Tech",0,IF($H12="DAO",0,IF($H12="Suivi",0,G12*AA12*$Z$3)))) -> 0 | AA12: 1 | AB12: =IF($H12="ATELIER",G12*AC12*$AB$3,0) -> 0 | AC12: 1 | AD12: =IF($H12="TECH",G12*AG12*$AD$3,0) -> 0 | AE12: 1 | AF12: =IF($H12="BE",G12*AG12*$AF$3,0) -> 0 | AG12: 1 | AH12: =IF($H12="DAO",G12*AI12*$AH$3,0) -> 0 | AI12: 1 | AJ12: =IF($H12="SUIVI",G12*AK12*$AJ$3,0) -> 0 | AK12: 1 | AL12: =IF(H12="ATELIER",0,IF(H12="TECH",0,IF(H12="BE",0,IF(H12="DAO",0,IF(H12="SUIVI",0,$D$148/$Y$134*Y12)))))*AP12 -> #DIV/0! | AM12: 1 | AN12: 1 | AO12: =IF(H12="ATELIER",0,IF(H12="TECH",AN12*$E$148,IF(H12="BE",AN12*$F$148,IF(H12="DAO",AN12*$G$148,IF(H12="SUIVI",AN12*$H$148,0)))))*AP12 -> 0 | AP12: 1 | AQ12: =IF($H12="ELECTRICITE",0,(X12+Z12)*5%*AR12) -> 0 | AR12: 1 | AS12: =Z12+AB12+AD12+AH12+AJ12+AO12+AQ12+AF12 -> 0 | AT12: =X12+AS12 -> 0 | AU12: =AT12/(1-$AU$3/100) -> 0
A13: =IF(C13=0,0,1) -> 0 | B13: 10 | C13: =IFERROR(VLOOKUP(B13,'SAISIE MP'!R:X,2,FALSE),0) -> 0 | E13: =IFERROR((VLOOKUP(B13,'SAISIE MP'!R:X,3,FALSE))+(VLOOKUP(B13,'SAISIE MP'!R:X,4,FALSE)),0) -> 0 | F13: =IFERROR(VLOOKUP(B13,'SAISIE MP'!R:X,5,FALSE),0) -> 0 | G13: =IFERROR(VLOOKUP(B13,'SAISIE MP'!R:X,7,FALSE),0) -> 0 | I13: =IF($H13="ELECTRICITE",E13*J13,0) -> 0 | J13: 1 | K13: =IF($H13="ISOLATION",E13*L13,0) -> 0 | L13: 1 | M13: =IF($H13="LOCATION",E13*N13,0) -> 0 | N13: 1 | O13: =IF($H13="MANUTENTION",E13*P13,0) -> 0 | P13: 1 | Q13: =IF($H13="SOUS-TRAITANT",E13*R13,0) -> 0 | R13: 1 | S13: =IF($H13=0,E13*T13,(IF($H13="ATELIER",E13*T13,(IF($H13="TECH",E13 *T13,(IF($H13="BE",E13*T13,(IF($H13="DAO",E13*T13,(IF($H13="SUIVI",E13*T13,0))))))))))) -> 0 | T13: 1 | U13: =F13*V13 -> 0 | V13: 1 | W13: =U13*10% -> 0 | X13: =I13+K13+M13+O13+Q13+S13+U13+W13 -> 0 | Y13: =IF($H13="",G13,0) -> 0 | Z13: =IF($H13="Atelier",0,IF($H13="Tech",0,IF($H13="DAO",0,IF($H13="Suivi",0,G13*AA13*$Z$3)))) -> 0 | AA13: 1 | AB13: =IF($H13="ATELIER",G13*AC13*$AB$3,0) -> 0 | AC13: 1 | AD13: =IF($H13="TECH",G13*AG13*$AD$3,0) -> 0 | AE13: 1 | AF13: =IF($H13="BE",G13*AG13*$AF$3,0) -> 0 | AG13: 1 | AH13: =IF($H13="DAO",G13*AI13*$AH$3,0) -> 0 | AI13: 1 | AJ13: =IF($H13="SUIVI",G13*AK13*$AJ$3,0) -> 0 | AK13: 1 | AL13: =IF(H13="ATELIER",0,IF(H13="TECH",0,IF(H13="BE",0,IF(H13="DAO",0,IF(H13="SUIVI",0,$D$148/$Y$134*Y13)))))*AP13 -> #DIV/0! | AM13: 1 | AN13: 1 | AO13: =IF(H13="ATELIER",0,IF(H13="TECH",AN13*$E$148,IF(H13="BE",AN13*$F$148,IF(H13="DAO",AN13*$G$148,IF(H13="SUIVI",AN13*$H$148,0)))))*AP13 -> 0 | AP13: 1 | AQ13: =IF($H13="ELECTRICITE",0,(X13+Z13)*5%*AR13) -> 0 | AR13: 1 | AS13: =Z13+AB13+AD13+AH13+AJ13+AO13+AQ13+AF13 -> 0 | AT13: =X13+AS13 -> 0 | AU13: =AT13/(1-$AU$3/100) -> 0
A14: =IF(C14=0,0,1) -> 0 | B14: 11 | C14: =IFERROR(VLOOKUP(B14,'SAISIE MP'!R:X,2,FALSE),0) -> 0 | E14: =IFERROR((VLOOKUP(B14,'SAISIE MP'!R:X,3,FALSE))+(VLOOKUP(B14,'SAISIE MP'!R:X,4,FALSE)),0) -> 0 | F14: =IFERROR(VLOOKUP(B14,'SAISIE MP'!R:X,5,FALSE),0) -> 0 | G14: =IFERROR(VLOOKUP(B14,'SAISIE MP'!R:X,7,FALSE),0) -> 0 | I14: =IF($H14="ELECTRICITE",E14*J14,0) -> 0 | J14: 1 | K14: =IF($H14="ISOLATION",E14*L14,0) -> 0 | L14: 1 | M14: =IF($H14="LOCATION",E14*N14,0) -> 0 | N14: 1 | O14: =IF($H14="MANUTENTION",E14*P14,0) -> 0 | P14: 1 | Q14: =IF($H14="SOUS-TRAITANT",E14*R14,0) -> 0 | R14: 1 | S14: =IF($H14=0,E14*T14,(IF($H14="ATELIER",E14*T14,(IF($H14="TECH",E14 *T14,(IF($H14="BE",E14*T14,(IF($H14="DAO",E14*T14,(IF($H14="SUIVI",E14*T14,0))))))))))) -> 0 | T14: 1 | U14: =F14*V14 -> 0 | V14: 1 | W14: =U14*10% -> 0 | X14: =I14+K14+M14+O14+Q14+S14+U14+W14 -> 0 | Y14: =IF($H14="",G14,0) -> 0 | Z14: =IF($H14="Atelier",0,IF($H14="Tech",0,IF($H14="DAO",0,IF($H14="Suivi",0,G14*AA14*$Z$3)))) -> 0 | AA14: 1 | AB14: =IF($H14="ATELIER",G14*AC14*$AB$3,0) -> 0 | AC14: 1 | AD14: =IF($H14="TECH",G14*AG14*$AD$3,0) -> 0 | AE14: 1 | AF14: =IF($H14="BE",G14*AG14*$AF$3,0) -> 0 | AG14: 1 | AH14: =IF($H14="DAO",G14*AI14*$AH$3,0) -> 0 | AI14: 1 | AJ14: =IF($H14="SUIVI",G14*AK14*$AJ$3,0) -> 0 | AK14: 1 | AL14: =IF(H14="ATELIER",0,IF(H14="TECH",0,IF(H14="BE",0,IF(H14="DAO",0,IF(H14="SUIVI",0,$D$148/$Y$134*Y14)))))*AP14 -> #DIV/0! | AM14: 1 | AN14: 1 | AO14: =IF(H14="ATELIER",0,IF(H14="TECH",AN14*$E$148,IF(H14="BE",AN14*$F$148,IF(H14="DAO",AN14*$G$148,IF(H14="SUIVI",AN14*$H$148,0)))))*AP14 -> 0 | AP14: 1 | AQ14: =IF($H14="ELECTRICITE",0,(X14+Z14)*5%*AR14) -> 0 | AR14: 1 | AS14: =Z14+AB14+AD14+AH14+AJ14+AO14+AQ14+AF14 -> 0 | AT14: =X14+AS14 -> 0 | AU14: =AT14/(1-$AU$3/100) -> 0
A15: =IF(C15=0,0,1) -> 0 | B15: 12 | C15: =IFERROR(VLOOKUP(B15,'SAISIE MP'!R:X,2,FALSE),0) -> 0 | E15: =IFERROR((VLOOKUP(B15,'SAISIE MP'!R:X,3,FALSE))+(VLOOKUP(B15,'SAISIE MP'!R:X,4,FALSE)),0) -> 0 | F15: =IFERROR(VLOOKUP(B15,'SAISIE MP'!R:X,5,FALSE),0) -> 0 | G15: =IFERROR(VLOOKUP(B15,'SAISIE MP'!R:X,7,FALSE),0) -> 0 | I15: =IF($H15="ELECTRICITE",E15*J15,0) -> 0 | J15: 1 | K15: =IF($H15="ISOLATION",E15*L15,0) -> 0 | L15: 1 | M15: =IF($H15="LOCATION",E15*N15,0) -> 0 | N15: 1 | O15: =IF($H15="MANUTENTION",E15*P15,0) -> 0 | P15: 1 | Q15: =IF($H15="SOUS-TRAITANT",E15*R15,0) -> 0 | R15: 1 | S15: =IF($H15=0,E15*T15,(IF($H15="ATELIER",E15*T15,(IF($H15="TECH",E15 *T15,(IF($H15="BE",E15*T15,(IF($H15="DAO",E15*T15,(IF($H15="SUIVI",E15*T15,0))))))))))) -> 0 | T15: 1 | U15: =F15*V15 -> 0 | V15: 1 | W15: =U15*10% -> 0 | X15: =I15+K15+M15+O15+Q15+S15+U15+W15 -> 0 | Y15: =IF($H15="",G15,0) -> 0 | Z15: =IF($H15="Atelier",0,IF($H15="Tech",0,IF($H15="DAO",0,IF($H15="Suivi",0,G15*AA15*$Z$3)))) -> 0 | AA15: 1 | AB15: =IF($H15="ATELIER",G15*AC15*$AB$3,0) -> 0 | AC15: 1 | AD15: =IF($H15="TECH",G15*AG15*$AD$3,0) -> 0 | AE15: 1 | AF15: =IF($H15="BE",G15*AG15*$AF$3,0) -> 0 | AG15: 1 | AH15: =IF($H15="DAO",G15*AI15*$AH$3,0) -> 0 | AI15: 1 | AJ15: =IF($H15="SUIVI",G15*AK15*$AJ$3,0) -> 0 | AK15: 1 | AL15: =IF(H15="ATELIER",0,IF(H15="TECH",0,IF(H15="BE",0,IF(H15="DAO",0,IF(H15="SUIVI",0,$D$148/$Y$134*Y15)))))*AP15 -> #DIV/0! | AM15: 1 | AN15: 1 | AO15: =IF(H15="ATELIER",0,IF(H15="TECH",AN15*$E$148,IF(H15="BE",AN15*$F$148,IF(H15="DAO",AN15*$G$148,IF(H15="SUIVI",AN15*$H$148,0)))))*AP15 -> 0 | AP15: 1 | AQ15: =IF($H15="ELECTRICITE",0,(X15+Z15)*5%*AR15) -> 0 | AR15: 1 | AS15: =Z15+AB15+AD15+AH15+AJ15+AO15+AQ15+AF15 -> 0 | AT15: =X15+AS15 -> 0 | AU15: =AT15/(1-$AU$3/100) -> 0
A16: =IF(C16=0,0,1) -> 0 | B16: 13 | C16: =IFERROR(VLOOKUP(B16,'SAISIE MP'!R:X,2,FALSE),0) -> 0 | E16: =IFERROR((VLOOKUP(B16,'SAISIE MP'!R:X,3,FALSE))+(VLOOKUP(B16,'SAISIE MP'!R:X,4,FALSE)),0) -> 0 | F16: =IFERROR(VLOOKUP(B16,'SAISIE MP'!R:X,5,FALSE),0) -> 0 | G16: =IFERROR(VLOOKUP(B16,'SAISIE MP'!R:X,7,FALSE),0) -> 0 | I16: =IF($H16="ELECTRICITE",E16*J16,0) -> 0 | J16: 1 | K16: =IF($H16="ISOLATION",E16*L16,0) -> 0 | L16: 1 | M16: =IF($H16="LOCATION",E16*N16,0) -> 0 | N16: 1 | O16: =IF($H16="MANUTENTION",E16*P16,0) -> 0 | P16: 1 | Q16: =IF($H16="SOUS-TRAITANT",E16*R16,0) -> 0 | R16: 1 | S16: =IF($H16=0,E16*T16,(IF($H16="ATELIER",E16*T16,(IF($H16="TECH",E16 *T16,(IF($H16="BE",E16*T16,(IF($H16="DAO",E16*T16,(IF($H16="SUIVI",E16*T16,0))))))))))) -> 0 | T16: 1 | U16: =F16*V16 -> 0 | V16: 1 | W16: =U16*10% -> 0 | X16: =I16+K16+M16+O16+Q16+S16+U16+W16 -> 0 | Y16: =IF($H16="",G16,0) -> 0 | Z16: =IF($H16="Atelier",0,IF($H16="Tech",0,IF($H16="DAO",0,IF($H16="Suivi",0,G16*AA16*$Z$3)))) -> 0 | AA16: 1 | AB16: =IF($H16="ATELIER",G16*AC16*$AB$3,0) -> 0 | AC16: 1 | AD16: =IF($H16="TECH",G16*AG16*$AD$3,0) -> 0 | AE16: 1 | AF16: =IF($H16="BE",G16*AG16*$AF$3,0) -> 0 | AG16: 1 | AH16: =IF($H16="DAO",G16*AI16*$AH$3,0) -> 0 | AI16: 1 | AJ16: =IF($H16="SUIVI",G16*AK16*$AJ$3,0) -> 0 | AK16: 1 | AL16: =IF(H16="ATELIER",0,IF(H16="TECH",0,IF(H16="BE",0,IF(H16="DAO",0,IF(H16="SUIVI",0,$D$148/$Y$134*Y16)))))*AP16 -> #DIV/0! | AM16: 1 | AN16: 1 | AO16: =IF(H16="ATELIER",0,IF(H16="TECH",AN16*$E$148,IF(H16="BE",AN16*$F$148,IF(H16="DAO",AN16*$G$148,IF(H16="SUIVI",AN16*$H$148,0)))))*AP16 -> 0 | AP16: 1 | AQ16: =IF($H16="ELECTRICITE",0,(X16+Z16)*5%*AR16) -> 0 | AR16: 1 | AS16: =Z16+AB16+AD16+AH16+AJ16+AO16+AQ16+AF16 -> 0 | AT16: =X16+AS16 -> 0 | AU16: =AT16/(1-$AU$3/100) -> 0
... A133: =IF(C133=0,0,1) -> 0 | B133: 130 | C133: =IFERROR(VLOOKUP(B133,'SAISIE MP'!R:X,2,FALSE),0) -> 0 | E133: =IFERROR((VLOOKUP(B133,'SAISIE MP'!R:X,3,FALSE))+(VLOOKUP(B133,'SAISIE MP'!R:X,4,FALSE)),0) -> 0 | F133: =IFERROR(VLOOKUP(B133,'SAISIE MP'!R:X,5,FALSE),0) -> 0 | G133: =IFERROR(VLOOKUP(B133,'SAISIE MP'!R:X,7,FALSE),0) -> 0 | I133: =IF($H133="ELECTRICITE",E133*J133,0) -> 0 | J133: 1 | K133: =IF($H133="ISOLATION",E133*L133,0) -> 0 | L133: 1 | M133: =IF($H133="LOCATION",E133*N133,0) -> 0 | N133: 1 | O133: =IF($H133="MANUTENTION",E133*P133,0) -> 0 | P133: 1 | Q133: =IF($H133="SOUS-TRAITANT",E133*R133,0) -> 0 | R133: 1 | S133: =IF($H133=0,E133*T133,(IF($H133="ATELIER",E133*T133,(IF($H133="TECH",E133 *T133,(IF($H133="BE",E133*T133,(IF($H133="DAO",E133*T133,(IF($H133="SUIVI",E133*T133,0))))))))))) -> 0 | T133: 1 | U133: =F133*V133 -> 0 | V133: 1 | W133: =U133*10% -> 0 | X133: =I133+K133+M133+O133+Q133+S133+U133+W133 -> 0 | Y133: =IF($H133="",G133,0) -> 0 | Z133: =IF($H133="Atelier",0,IF($H133="Tech",0,IF($H133="DAO",0,IF($H133="Suivi",0,G133*AA133*$Z$3)))) -> 0 | AA133: 1 | AB133: =IF($H133="ATELIER",G133*AC133*$AB$3,0) -> 0 | AC133: 1 | AD133: =IF($H133="TECH",G133*AG133*$AD$3,0) -> 0 | AE133: 1 | AF133: =IF($H133="BE",G133*AG133*$AF$3,0) -> 0 | AG133: 1 | AH133: =IF($H133="DAO",G133*AI133*$AH$3,0) -> 0 | AI133: 1 | AJ133: =IF($H133="SUIVI",G133*AK133*$AJ$3,0) -> 0 | AK133: 1 | AL133: =IF(H133="ATELIER",0,IF(H133="TECH",0,IF(H133="BE",0,IF(H133="DAO",0,IF(H133="SUIVI",0,$D$148/$Y$134*Y133)))))*AP133 -> #DIV/0! | AM133: 1 | AN133: 1 | AO133: =IF(H133="ATELIER",0,IF(H133="TECH",AN133*$E$148,IF(H133="BE",AN133*$F$148,IF(H133="DAO",AN133*$G$148,IF(H133="SUIVI",AN133*$H$148,0)))))*AP133 -> 0 | AP133: 1 | AQ133: =IF($H133="ELECTRICITE",0,(X133+Z133)*5%*AR133) -> 0 | AR133: 1 | AS133: =Z133+AB133+AD133+AH133+AJ133+AO133+AQ133+AF133 -> 0 | AT133: =X133+AS133 -> 0 | AU133: =AT133/(1-$AU$3/100) -> 0
A134: 1 | C134: TOTAL | E134: =SUM(E4:E133) -> 0 | F134: =SUM(F4:F133) -> 0 | G134: =SUM(G4:G133) -> 0 | I134: =SUM(I4:I133) -> 0 | K134: =SUM(K4:K133) -> 0 | M134: =SUM(M4:M133) -> 0 | O134: =SUM(O4:O133) -> 0 | Q134: =SUM(Q4:Q133) -> 0 | S134: =SUM(S4:S133) -> 0 | U134: =SUM(U4:U133) -> 0 | W134: =SUM(W4:W133) -> 0 | X134: =SUM(X4:X133) -> 0 | Y134: =SUM(Y4:Y133) -> 0 | Z134: =SUM(Z4:Z133) -> 0 | AB134: =SUM(AB4:AB133) -> 0 | AD134: =SUM(AD4:AD133) -> 0 | AF134: =SUM(AF4:AF133) -> 0 | AH134: =SUM(AH4:AH133) -> 0 | AJ134: =SUM(AJ4:AJ133) -> 0 | AL134: =SUM(AL4:AL133) -> #DIV/0! | AO134: =SUM(AO4:AO133) -> 0 | AQ134: =SUM(AQ4:AQ133) -> 0 | AS134: =SUM(AS4:AS133) -> 0 | AT134: =SUM(AT4:AT133) -> 0 | AU134: =SUM(AU4:AU133) -> 0
A135: 1
A136: 1
A137: 1
A138: 1 | C138: Nombre de personnes sur le chantier | D138: 1
A139: 1 | C139: Nombre de semaines | D139: =Y134/35/D138 -> 0
A140: 1 | D140: Tuyauteur | E140: Technicien | F140: BE | G140: DAO | H140: Suivi
A141: 1 | D141: 1.05 | E141: 1.05 | F141: 1.05 | G141: 1.05 | H141: 1.05
A142: 1 | D142: 61 | E142: 69.6 | F142: 69.6 | G142: 69.6 | H142: 69.6
A143: 1 | C143: Nombre de personne SB
A144: 1 | C144: Nombre de kilomètres Aller/Retour
A145: 1 | C145: Temps du trajet Aller/Retour
A146: 1 | C146: Péages Aller/Retour
A147: 1 | C147: Nombre de véhicules | E147: 1 | F147: 1 | G147: 1 | H147: 1
A148: 1 | C148: Total | D148: =((D147*D143*D145*D142)+(D144*D141)+D146)*(ROUNDUP(D139,0)) -> 0 | E148: =(E147*E143*E145*E142)+(E144*E141) -> 0 | F148: =(F147*F143*F145*F142)+(F144*F141) -> 0 | G148: =(G147*G143*G145*G142)+(G144*G141) -> 0 | H148: =(H147*H143*H145*H142)+(H144*H141) -> 0

Sheet INOX
A1: Code | B1: REF | C1: Désignation | D1: Prix Vente
A2: bobdn10 | B2: R1412 | C2: bobine inox à souder DN10 - 12/17 (R1412) | D2: 2.27
A3: bobdn15 | B3: R1415 | C3: bobine inox à souder DN15 - 15/21 (R1415) | D3: 3.46
A4: bobdn20 | B4: R1420 | C4: bobine inox à souder DN20 - 20/27 (R1420) | D4: 4.76
A5: bobdn25 | B5: R1426 | C5: bobine inox à souder DN25 - 26/34 (R1426) | D5: 4.66
A6: bobdn32 | B6: R1433 | C6: bobine inox à souder DN32 - 33/42 (R1433) | D6: 5.78
A7: bobdn40 | B7: R1440 | C7: bobine inox à souder DN40 - 40/49 (R1440) | D7: 4.04
A8: bobdn50 | B8: R1450 | C8: bobine inox à souder DN50 - 50/60 (R1450) | D8: 8.34
A9: bobdn65 | B9: R1466 | C9: bobine inox à souder DN65 - 66/76 (R1466) | D9: 13.7
A10: bobdn8 | B10: R1408 | C10: bobine inox à souder DN8 - 8/13 (R1408) | D10: 2.1
A11: bobdn80 | B11: R1480 | C11: bobine inox à souder DN80 - 80/90 (R1480) | D11: 20.1
A12: bou104 | B12: I734850103 | C12: bouchon plat sms diam 104 (I734850103) | D12: 24.7
A13: bou25 | B13: I902800 | C13: bouchon plat sms diam 25 (I902800) | D13: 4.45
... A278: tudn25 | B278: I19 | C278: tube inox DN25 - 26/34 (I19) | D278: 11.16
A279: tudn25316 | B279: I19316 | C279: tube inox DN25 - 26/34 - 316L (I19316) | D279: 17.48 | F279: 45491
A280: tudn32 | B280: I20 | C280: tube inox DN32 - 33/42 (I20) | D280: 11.56
A281: tudn40 | B281: I123 | C281: tube inox DN40 - 40/49 (I123) | D281: 13.2
A282: tudn50 | B282: I124 | C282: tube inox DN50 - 50/60 (I124) | D282: 20.1
A283: tudn65 | B283: I367 | C283: tube inox DN65 - 66/76 (I367) | D283: 24.8
A284: tudn8 | B284: I15 | C284: tube inox DN8 - 8/13 (I15) | D284: 39.2
A285: tudn80 | B285: I125 | C285: tube inox DN80 - 80/90 (I125) | D285: 29.8
A286: uniondn10ll | B286: R412 | C286: raccord union lisse/lisse DN10 - 12/17 (R412) | D286: 10.38
A287: uniondn15ll | B287: R415 | C287: raccord union lisse/lisse DN15 - 15/21 (R415) | D287: 11.48
A288: uniondn25ll | B288: R425 | C288: raccord union lisse/lisse DN25 - 26/34 (R425) | D288: 23.72
A289: uniondn32ll | B289: R430 | C289: raccord union lisse/lisse DN32 - 33/42 (R430) | D289: 32.46
A290: uniondn40ll | B290: R440 | C290: raccord union lisse/lisse DN40 - 40/49 (R440) | D290: 31.5
A291: uniondn50ll | B291: R450 | C291: raccord union lisse/lisse DN50 - 50/60 (R450) | D291: 42.75
... A323: uniondn32lf | B323: R230 | C323: raccord union lisse/F DN32 - 33/42 (R230) | D323: 32.94
A324: uniondn40lf | B324: R240 | C324: raccord union lisse/F DN40 - 40/49 (R240)
A325: uniondn50lf | B325: R250 | C325: raccord union lisse/f DN50 - 50/60 (R250) | D325: 49.4
A326: uniondn8ff | B326: R509 | C326: raccord union F/F DN8 - 8/13 (R509) | D326: 11.9
A327: uniondn12ff | B327: R512 | C327: raccord union F/F DN12 - 12/17 (R512) | D327: 11.6
A328: uniondn15ff | B328: R515 | C328: raccrod union F/F DN15 - 15/21 (R515) | D328: 21.16
A329: uniondn20ff | B329: R520 | C329: raccord union F/F DN20 - 20/27 (R520) | D329: 25.16
A330: uniondn25ff | B330: R525 | C330: raccord union F/F DN25 - 26/34 (R525) | D330: 34.24
A331: uniondn32ff | B331: R530 | C331: raccord union F/F DN32 - 33/42 (R530) | D331: 61.88
A332: uniondn40ff | B332: R540 | C332: raccord union F/F DN40 - 40/49 (R540) | D332: 75.44
A333: uniondn50ff | B333: R550 | C333: raccord union F/F DN50 - 50/60 (R550) | D333: 96.48
A334: uniondn8mf | B334: R709 | C334: raccord union M/F DN8 - 8/13 (R709) | D334: 8.42
A335: uniondn12mf | B335: R712 | C335: raccord union M/F DN12 - 12/17 (R712) | D335: 11.39
...

Sheet GP
A1: Code | B1: REF | C1: Désignation | D1: REF Fournisseur | E1: Prix ACHAT | F1: Marge | G1: Prix Vente | H1: Fournisseur
A2: E30000 | B2: E30000 | C2: IFM - Detecteurs de Pression (acc.) | D2: E30000 | E2: 10.9 | F2: 0.7 | G2: =E2/F2 -> 15.571429 | H2: IFM
A3: E30002 | B3: E30002 | C3: IFM - Detecteurs de Pression (acc.) | D3: E30002 | E3: 16.84 | F3: 0.7 | G3: =E3/F3 -> 24.057143 | H3: IFM
A4: E30003 | B4: E30003 | C4: IFM - Detecteurs de Pression (acc.) | D4: E30003 | E4: 25.03 | F4: 0.7 | G4: =E4/F4 -> 35.757143 | H4: IFM
A5: E30006 | B5: E30006 | C5: IFM - Detecteurs de Pression (acc.) | D5: E30006 | E5: 3.38 | F5: 0.7 | G5: =E5/F5 -> 4.8285714 | H5: IFM
A6: E30010 | B6: E30010 | C6: IFM - Detecteurs de Pression (acc.) | D6: E30010 | E6: 12.48 | F6: 0.7 | G6: =E6/F6 -> 17.828571 | H6: IFM
A7: E30013 | B7: E30013 | C7: IFM - Raccord à souder pour capteurs process; Tenue en pression 150 bar; Raccord à souder Ø 50 mm; Homologation EC1935/2004; EHEDG Tested; FDA; FCM; CRN | D7: E30013 | E7: 17.61 | F7: 0.7 | G7: =E7/F7 -> 25.157143 | H7: IFM
A8: E30016 | B8: E30016 | C8: IFM - Detecteurs de temperature (acc.) | D8: E30016 | E8: 17.49 | F8: 0.7 | G8: =E8/F8 -> 24.985714 | H8: IFM
A9: E30018 | B9: E30018 | C9: IFM - Detecteurs de temperature (acc.) | D9: E30018 | E9: 13.77 | F9: 0.7 | G9: =E9/F9 -> 19.671429 | H9: IFM
A10: E30019 | B10: E30019 | C10: IFM - Connecteurs | D10: E30019 | E10: 8.88 | F10: 0.7 | G10: =E10/F10 -> 12.685714 | H10: IFM
A11: E30024 | B11: E30024 | C11: IFM - Detecteurs de temperature (acc.) | D11: E30024 | E11: 18.14 | F11: 0.7 | G11: =E11/F11 -> 25.914286 | H11: IFM
A12: E30025 | B12: E30025 | C12: IFM - Detecteurs de temperature (acc.) | D12: E30025 | E12: 17.03 | F12: 0.7 | G12: =E12/F12 -> 24.328571 | H12: IFM
A13: E30038 | B13: E30038 | C13: IFM - Detecteurs de Pression (acc.) | D13: E30038 | E13: 31.01 | F13: 0.7 | G13: =E13/F13 -> 44.3 | H13: IFM
... A538: KT6301 | B538: KT6301 | C538: IFM - Bouton lumineux capacitif; Ø 32 / L = 39 mm; normalement ouvert / fermé; DC; PNP/NPN; 0,3 m PUR-Câble; M12 Connecteur; IP 65; IP 67; IP 69K; (face frontale); 3 fils; Température ambiante -20...80 °C | D538: KT6301 | E538: 73.47 | F538: 0.7 | G538: =E538/F538 -> 104.95714 | H538: IFM
A539: DP4200 | B539: DP4200 | C539: IFM - Afficheur valeurs mesurées et valeurs limites / convertisseur 4...20 mA - IO-Link; 63 x 30 x 24,5 mm; IP 67; IP 69K; Connecteur | D539: DP4200 | F539: 0.7 | G539: =E539/F539 -> 0 | H539: IFM
A540: E40513 | B540: E40513 | C540: IFM - Adaptateur process clamp SMS 1145; Raccordement capteurs bride d’appareil spécifique d’ifm; inox (1.4404 / 316L); Tenue en pression 16 bar; Homologation FDA; FCM; 3-A; EC1935/2004 | D540: E40513 | F540: 0.7 | G540: =E540/F540 -> 0 | H540: IFM
A541: E40512 | B541: E40512 | C541: IFM - Adaptateur process clamp SMS 1145; Raccordement capteurs bride d’appareil spécifique d’ifm; inox (1.4404 / 316L); Tenue en pression 16 bar; Homologation FDA; FCM; 3-A; EC1935/2004 | D541: E40512 | F541: 0.7 | G541: =E541/F541 -> 0 | H541: IFM
A542: SMF420 | B542: SMF420 | C542: IFM - Débitmètre électromagnétique; PNP/NPN; signal d'impulsion; signal de commutation du totalisateur; signal de diagnostic; IO-Link; signal analogique; Etendue de mesure 10...1200 l/min; Température du fluide -20...150 °C; Tenue en pression 25 bar; bride d’appareil spécifique d’ifm; Connecteur | D542: SMF420 | E542: 926.66 | F542: 0.7 | G542: =E542/F542 -> 1323.8 | H542: IFM
A543: E40473 | B543: E40473 | C543: IFM - Raccord à souder EN10357 série A; Raccordement capteurs bride d’appareil spécifique d’ifm; inox (1.4404 / 316L); Tenue en pression 25 bar; Raccord à souder; Homologation FDA; FCM; 3-A; EC1935/2004 | D543: E40473 | F543: 0.7 | G543: =E543/F543 -> 0 | H543: IFM
A544: SMF520 | B544: SMF520 | C544: IFM - Débitmètre électromagnétique; PNP/NPN; signal d'impulsion; signal de commutation du totalisateur; signal de diagnostic; IO-Link; signal analogique; Etendue de mesure 20...2000 l/min; Température du fluide -20...150 °C; Tenue en pression 25 bar; bride d’appareil spécifique d’ifm; Connecteur | D544: SMF520 | E544: 1018.97 | F544: 0.7 | G544: =E544/F544 -> 1455.6714 | H544: IFM
A545: E40543 | B545: E40543 | C545: IFM - Joint; Homologation 3-A; FDA; EC1935/2004 | D545: E40543 | F545: 0.7 | G545: =E545/F545 -> 0 | H545: IFM
A546: E40565 | B546: E40565 | C546: IFM - Joint; Homologation FDA; FCM; 3-A; EC1935/2004 | D546: E40565 | F546: 0.7 | G546: =E546/F546 -> 0 | H546: IFM
A547: E40563 | B547: E40563 | C547: IFM - Joint; Homologation FDA; FCM; 3-A; EC1935/2004 | D547: E40563 | F547: 0.7 | G547: =E547/F547 -> 0 | H547: IFM
A548: E40562 | B548: E40562 | C548: IFM - Joint; Homologation FDA; FCM; 3-A; EC1935/2004 | D548: E40562 | F548: 0.7 | G548: =E548/F548 -> 0 | H548: IFM
A549: E40514 | B549: E40514 | C549: IFM - Adaptateur process clamp SMS 1145; Raccordement capteurs bride d’appareil spécifique d’ifm; inox (1.4404 / 316L); Tenue en pression 16 bar; Homologation FDA; FCM; 3-A; EC1935/2004 | D549: E40514 | F549: 0.7 | G549: =E549/F549 -> 0 | H549: IFM
A550: SMF320 | B550: SMF320 | C550: IFM - Débitmètre électromagnétique; PNP/NPN; signal d'impulsion; signal de commutation du totalisateur; signal de diagnostic; IO-Link; signal analogique; Etendue de mesure 5...750 l/min; Température du fluide -20...150 °C; Tenue en pression 40 bar; bride d’appareil spécifique d’ifm; Connecteur | D550: SMF320 | E550: 906.27 | F550: 0.7 | G550: =E550/F550 -> 1294.6714 | H550: IFM
A551: E40515 | B551: E40515 | C551: IFM - Adaptateur process clamp SMS 1145; Raccordement capteurs bride d’appareil spécifique d’ifm; inox (1.4404 / 316L); Tenue en pression 16 bar; Homologation FDA; FCM; 3-A; EC1935/2004 | D551: E40515 | F551: 0.7 | G551: =E551/F551 -> 0 | H551: IFM
A552: E40180 | B552: E40180 | C552: IFM - Adaptateurs de montage pour capteurs de débit; Raccordement capteurs G 1; Raccord process R 3/4; Adaptateur: inox (1.4404 / 316L); joint: Centellen 23,5 x 30 x 3 mm; Homologation ACS; Reg31 | D552: E40180 | E552: 43.68 | F552: 0.7 | G552: =E552/F552 -> 62.4 | H552: IFM
A553: SMF620 | B553: SMF620 | C553: IFM - Débitmètre électromagnétique; PNP/NPN; signal d'impulsion; signal de commutation du totalisateur; signal de diagnostic; IO-Link; signal analogique; Etendue de mesure 30...3000 l/min; Température du fluide -20...150 °C; Tenue en pression 25 bar; bride d’appareil spécifique d’ifm; Connecteur | D553: SMF620 | E553: 1082.4 | F553: 0.7 | G553: =E553/F553 -> 1546.2857 | H553: IFM
A554: LDL200 | B554: LDL200 | C554: IFM - Capteur de conductivité inductif; sortie analogique; possibilité de mise à l'échelle; à sélectionner conductivité / température; analogique; DC; M12 Connecteur; IP 68; IP 69K; (7 jours / profondeur d'eau 3 m / 0,3 bar: IP 68); Température ambiante -40...60 °C; Tenue en pression 16 bar; G 1 filetage extérieur Aseptoflex Vario; M12 Connecteur | D554: LDL200 | E554: 663.28 | F554: 0.7 | G554: =E554/F554 -> 947.54286 | H554: IFM
A555: E40564 | B555: E40564 | C555: IFM - Joint; Homologation FDA; FCM; 3-A; EC1935/2004 | D555: E40564 | F555: 0.7 | G555: =E555/F555 -> 0 | H555: IFM
A556: E40254 | B556: E40254 | C556: IFM - Adaptateurs de montage pour capteurs de débit; Raccordement capteurs G 2; Raccord process Clamp DN50 (2"); Adaptateur: inox (1.4404 / 316L); Joint torique: FKM 47,22 x 3,53 mm; Tenue en pression 16 bar | D556: E40254 | E556: 83.14 | F556: 0.7 | G556: =E556/F556 -> 118.77143 | H556: IFM
A557: E40216 | B557: E40216 | C557: IFM - Adaptateurs de montage pour capteurs de débit; Raccordement capteurs G 3/4; Raccord process G 3/4; Adaptateur: inox (1.4404 / 316L); joint: Centellen 17 x 24 x 3 mm | D557: E40216 | E557: 46.02 | F557: 0.7 | G557: =E557/F557 -> 65.742857 | H557: IFM
A558: LDL201 | B558: LDL201 | C558: IFM - Capteur de conductivité inductif; sortie analogique; possibilité de mise à l'échelle; à sélectionner conductivité / température; analogique; DC; M12 Connecteur; IP 68; IP 69K; (7 jours / profondeur d'eau 3 m / 0,3 bar: IP 68); Température ambiante -40...60 °C; Tenue en pression 16 bar; G 1 filetage extérieur Aseptoflex Vario; M12 Connecteur | D558: LDL201 | E558: 573 | F558: 0.7 | G558: =E558/F558 -> 818.57143 | H558: IFM
A559: LI2131 | B559: LI2131 | C559: IFM - Detecteurs de Niveau | D559: LI2131 | E559: 129.29 | F559: 0.7 | G559: =E559/F559 -> 184.7 | H559: IFM
A560: LI2132 | B560: LI2132 | C560: IFM - Detecteurs de Niveau | D560: LI2132 | E560: 134.19 | F560: 0.7 | G560: =E560/F560 -> 191.7 | H560: IFM
A561: LI2133 | B561: LI2133 | C561: IFM - Detecteurs de Niveau | D561: LI2133 | E561: 138.88 | F561: 0.7 | G561: =E561/F561 -> 198.4 | H561: IFM
A562: LI2141 | B562: LI2141 | C562: IFM - Detecteurs de Niveau | D562: LI2141 | E562: 148.75 | F562: 0.7 | G562: =E562/F562 -> 212.5 | H562: IFM
A563: LI2142 | B563: LI2142 | C563: IFM - Detecteurs de Niveau | D563: LI2142 | E563: 154.42 | F563: 0.7 | G563: =E563/F563 -> 220.6 | H563: IFM
A564: LI2143 | B564: LI2143 | C564: IFM - Detecteurs de Niveau | D564: LI2143 | E564: 159.81 | F564: 0.7 | G564: =E564/F564 -> 228.3 | H564: IFM
...

Sheet BASE
B1: Date : | D1: CLIENT | F1: MINUTE DE PRIX : | I1: I25XXX_MP | L1: LISTES
B2: 45627 | D2: PROJET : | T2: VERIFICATION
D3: A l'attention de :
L4: Type | M4: NB | N4: Désignation | O4: Réf SB | R4: N° | S4: CHAPITRE | T4: Prix GP 1 | U4: Prix GP 2 | V4: Prix INOX | W4: MO | X4: MO Saisie
Q6: {=IF(ROW()>1,INDIRECT(ADDRESS(ROW()-1,COLUMN())),"")} -> 0 | S6: =B6 -> 0 | T6: 0 | U6: 0 | V6: 0 | W6: 0
B7: Descriptif : | Q7: {=IF(ROW()>1,INDIRECT(ADDRESS(ROW()-1,COLUMN())),"")} -> 0 | S7: {=IF(ROW()>1,INDIRECT(ADDRESS(ROW()-1,COLUMN())),"")} -> 0 | T7: {=IF(ROW()>1,INDIRECT(ADDRESS(ROW()-1,COLUMN())),"")} -> 0 | U7: {=IF(ROW()>1,INDIRECT(ADDRESS(ROW()-1,COLUMN())),"")} -> 0 | V7: {=IF(ROW()>1,INDIRECT(ADDRESS(ROW()-1,COLUMN())),"")} -> 0 | W7: {=IF(ROW()>1,INDIRECT(ADDRESS(ROW()-1,COLUMN())),"")} -> 0
Q8: {=IF(ROW()>1,INDIRECT(ADDRESS(ROW()-1,COLUMN())),"")} -> 0 | S8: {=IF(ROW()>1,INDIRECT(ADDRESS(ROW()-1,COLUMN())),"")} -> 0 | T8: {=IF(ROW()>1,INDIRECT(ADDRESS(ROW()-1,COLUMN())),"")} -> 0 | U8: {=IF(ROW()>1,INDIRECT(ADDRESS(ROW()-1,COLUMN())),"")} -> 0 | V8: {=IF(ROW()>1,INDIRECT(ADDRESS(ROW()-1,COLUMN())),"")} -> 0 | W8: {=IF(ROW()>1,INDIRECT(ADDRESS(ROW()-1,COLUMN())),"")} -> 0
Q9: {=IF(ROW()>1,INDIRECT(ADDRESS(ROW()-1,COLUMN())),"")} -> 0 | S9: {=IF(ROW()>1,INDIRECT(ADDRESS(ROW()-1,COLUMN())),"")} -> 0 | T9: {=IF(ROW()>1,INDIRECT(ADDRESS(ROW()-1,COLUMN())),"")} -> 0 | U9: {=IF(ROW()>1,INDIRECT(ADDRESS(ROW()-1,COLUMN())),"")} -> 0 | V9: {=IF(ROW()>1,INDIRECT(ADDRESS(ROW()-1,COLUMN())),"")} -> 0 | W9: {=IF(ROW()>1,INDIRECT(ADDRESS(ROW()-1,COLUMN())),"")} -> 0
B10: NB de pieces | C10: Repères | D10: GROS POSTE | Q10: {=IF(ROW()>1,INDIRECT(ADDRESS(ROW()-1,COLUMN())),"")} -> 0 | S10: {=IF(ROW()>1,INDIRECT(ADDRESS(ROW()-1,COLUMN())),"")} -> 0 | T10: {=IF(ROW()>1,INDIRECT(ADDRESS(ROW()-1,COLUMN())),"")} -> 0 | U10: {=IF(ROW()>1,INDIRECT(ADDRESS(ROW()-1,COLUMN())),"")} -> 0 | V10: {=IF(ROW()>1,INDIRECT(ADDRESS(ROW()-1,COLUMN())),"")} -> 0 | W10: {=IF(ROW()>1,INDIRECT(ADDRESS(ROW()-1,COLUMN())),"")} -> 0
D11: Désignation | F11: P.A. HT | G11: Marge | H11: P.U. HT | I11: Prix Total | J11: MO | Q11: {=IF(ROW()>1,INDIRECT(ADDRESS(ROW()-1,COLUMN())),"")} -> 0 | S11: {=IF(ROW()>1,INDIRECT(ADDRESS(ROW()-1,COLUMN())),"")} -> 0 | T11: {=IF(ROW()>1,INDIRECT(ADDRESS(ROW()-1,COLUMN())),"")} -> 0 | U11: {=IF(ROW()>1,INDIRECT(ADDRESS(ROW()-1,COLUMN())),"")} -> 0 | V11: {=IF(ROW()>1,INDIRECT(ADDRESS(ROW()-1,COLUMN())),"")} -> 0 | W11: {=IF(ROW()>1,INDIRECT(ADDRESS(ROW()-1,COLUMN())),"")} -> 0
G12: 1 | H12: =IF(B12=0,0,(F12/G12)) -> 0 | I12: =IF(B12=0,0,(H12*B12)) -> 0 | L12: GP | M12: =B12 -> 0 | N12: =D12 -> 0 | O12: - | Q12: {=IF(ROW()>1,INDIRECT(ADDRESS(ROW()-1,COLUMN())),"")} -> 0 | S12: {=IF(ROW()>1,INDIRECT(ADDRESS(ROW()-1,COLUMN())),"")} -> 0 | T12: {=IF(ROW()>1,INDIRECT(ADDRESS(ROW()-1,COLUMN())),"")+I12} -> 0 | U12: {=IF(ROW()>1,INDIRECT(ADDRESS(ROW()-1,COLUMN())),"")} -> 0 | V12: {=IF(ROW()>1,INDIRECT(ADDRESS(ROW()-1,COLUMN())),"")} -> 0 | W12: {=IF(ROW()>1,INDIRECT(ADDRESS(ROW()-1,COLUMN())),"")+J12} -> 0
G13: 1 | H13: =IF(B13=0,0,(F13/G13)) -> 0 | I13: =IF(B13=0,0,(H13*B13)) -> 0 | L13: GP | M13: =B13 -> 0 | N13: =D13 -> 0 | O13: - | Q13: {=IF(ROW()>1,INDIRECT(ADDRESS(ROW()-1,COLUMN())),"")} -> 0 | S13: {=IF(ROW()>1,INDIRECT(ADDRESS(ROW()-1,COLUMN())),"")} -> 0 | T13: {=IF(ROW()>1,INDIRECT(ADDRESS(ROW()-1,COLUMN())),"")+I13} -> 0 | U13: {=IF(ROW()>1,INDIRECT(ADDRESS(ROW()-1,COLUMN())),"")} -> 0 | V13: {=IF(ROW()>1,INDIRECT(ADDRESS(ROW()-1,COLUMN())),"")} -> 0 | W13: {=IF(ROW()>1,INDIRECT(ADDRESS(ROW()-1,COLUMN())),"")+J13} -> 0
G14: 1 | H14: =IF(B14=0,0,(F14/G14)) -> 0 | I14: =IF(B14=0,0,(H14*B14)) -> 0 | L14: GP | M14: =B14 -> 0 | N14: =D14 -> 0 | O14: - | Q14: {=IF(ROW()>1,INDIRECT(ADDRESS(ROW()-1,COLUMN())),"")} -> 0 | S14: {=IF(ROW()>1,INDIRECT(ADDRESS(ROW()-1,COLUMN())),"")} -> 0 | T14: {=IF(ROW()>1,INDIRECT(ADDRESS(ROW()-1,COLUMN())),"")+I14} -> 0 | U14: {=IF(ROW()>1,INDIRECT(ADDRESS(ROW()-1,COLUMN())),"")} -> 0 | V14: {=IF(ROW()>1,INDIRECT(ADDRESS(ROW()-1,COLUMN())),"")} -> 0 | W14: {=IF(ROW()>1,INDIRECT(ADDRESS(ROW()-1,COLUMN())),"")+J14} -> 0
B15: NB de pieces | C15: Repères | D15: GROS POSTE avec REF | Q15: {=IF(ROW()>1,INDIRECT(ADDRESS(ROW()-1,COLUMN())),"")} -> 0 | S15: {=IF(ROW()>1,INDIRECT(ADDRESS(ROW()-1,COLUMN())),"")} -> 0 | T15: {=IF(ROW()>1,INDIRECT(ADDRESS(ROW()-1,COLUMN())),"")} -> 0 | U15: {=IF(ROW()>1,INDIRECT(ADDRESS(ROW()-1,COLUMN())),"")} -> 0 | V15: {=IF(ROW()>1,INDIRECT(ADDRESS(ROW()-1,COLUMN())),"")} -> 0 | W15: {=IF(ROW()>1,INDIRECT(ADDRESS(ROW()-1,COLUMN())),"")} -> 0
D16: REF SB | E16: Désignation | H16: P.U. HT | I16: Prix Total | J16: MO | Q16: {=IF(ROW()>1,INDIRECT(ADDRESS(ROW()-1,COLUMN())),"")} -> 0 | S16: {=IF(ROW()>1,INDIRECT(ADDRESS(ROW()-1,COLUMN())),"")} -> 0 | T16: {=IF(ROW()>1,INDIRECT(ADDRESS(ROW()-1,COLUMN())),"")} -> 0 | U16: {=IF(ROW()>1,INDIRECT(ADDRESS(ROW()-1,COLUMN())),"")} -> 0 | V16: {=IF(ROW()>1,INDIRECT(ADDRESS(ROW()-1,COLUMN())),"")} -> 0 | W16: {=IF(ROW()>1,INDIRECT(ADDRESS(ROW()-1,COLUMN())),"")} -> 0
E17: =IF(D17=0,"",(VLOOKUP(D17,GP!A:H,3,0))) | H17: =IF(D17=0,0,(VLOOKUP(D17,GP!A:H,7,0))) -> 0 | I17: =IF(B17=0,0,(H17*B17)) -> 0 | J17: - | L17: GP | M17: =B17 -> 0 | N17: =IF(D17=0,0,(VLOOKUP(D17,GP!A:H,3,0))) -> 0 | O17: =IF(D17=0,0,(VLOOKUP(D17,GP!A:H,2,0))) -> 0 | Q17: {=IF(ROW()>1,INDIRECT(ADDRESS(ROW()-1,COLUMN())),"")} -> 0 | S17: {=IF(ROW()>1,INDIRECT(ADDRESS(ROW()-1,COLUMN())),"")} -> 0 | T17: {=IF(ROW()>1,INDIRECT(ADDRESS(ROW()-1,COLUMN())),"")} -> 0 | U17: {=IF(ROW()>1,INDIRECT(ADDRESS(ROW()-1,COLUMN())),"")+I17} -> 0 | V17: {=IF(ROW()>1,INDIRECT(ADDRESS(ROW()-1,COLUMN())),"")} -> 0 | W17: {=IF(ROW()>1,INDIRECT(ADDRESS(ROW()-1,COLUMN())),"")} -> 0
E18: =IF(D18=0,"",(VLOOKUP(D18,GP!A:H,3,0))) | H18: =IF(D18=0,0,(VLOOKUP(D18,GP!A:H,7,0))) -> 0 | I18: =IF(B18=0,0,(H18*B18)) -> 0 | J18: - | L18: GP | M18: =B18 -> 0 | N18: =IF(D18=0,0,(VLOOKUP(D18,GP!A:H,3,0))) -> 0 | O18: =IF(D18=0,0,(VLOOKUP(D18,GP!A:H,2,0))) -> 0 | Q18: {=IF(ROW()>1,INDIRECT(ADDRESS(ROW()-1,COLUMN())),"")} -> 0 | S18: {=IF(ROW()>1,INDIRECT(ADDRESS(ROW()-1,COLUMN())),"")} -> 0 | T18: {=IF(ROW()>1,INDIRECT(ADDRESS(ROW()-1,COLUMN())),"")} -> 0 | U18: {=IF(ROW()>1,INDIRECT(ADDRESS(ROW()-1,COLUMN())),"")+I18} -> 0 | V18: {=IF(ROW()>1,INDIRECT(ADDRESS(ROW()-1,COLUMN())),"")} -> 0 | W18: {=IF(ROW()>1,INDIRECT(ADDRESS(ROW()-1,COLUMN())),"")} -> 0
E19: =IF(D19=0,"",(VLOOKUP(D19,GP!A:H,3,0))) | H19: =IF(D19=0,0,(VLOOKUP(D19,GP!A:H,7,0))) -> 0 | I19: =IF(B19=0,0,(H19*B19)) -> 0 | J19: - | L19: GP | M19: =B19 -> 0 | N19: =IF(D19=0,0,(VLOOKUP(D19,GP!A:H,3,0))) -> 0 | O19: =IF(D19=0,0,(VLOOKUP(D19,GP!A:H,2,0))) -> 0 | Q19: {=IF(ROW()>1,INDIRECT(ADDRESS(ROW()-1,COLUMN())),"")} -> 0 | S19: {=IF(ROW()>1,INDIRECT(ADDRESS(ROW()-1,COLUMN())),"")} -> 0 | T19: {=IF(ROW()>1,INDIRECT(ADDRESS(ROW()-1,COLUMN())),"")} -> 0 | U19: {=IF(ROW()>1,INDIRECT(ADDRESS(ROW()-1,COLUMN())),"")+I19} -> 0 | V19: {=IF(ROW()>1,INDIRECT(ADDRESS(ROW()-1,COLUMN())),"")} -> 0 | W19: {=IF(ROW()>1,INDIRECT(ADDRESS(ROW()-1,COLUMN())),"")} -> 0
B20: NB de pieces | C20: REF SB | D20: INOX | Q20: {=IF(ROW()>1,INDIRECT(ADDRESS(ROW()-1,COLUMN())),"")} -> 0 | S20: {=IF(ROW()>1,INDIRECT(ADDRESS(ROW()-1,COLUMN())),"")} -> 0 | T20: {=IF(ROW()>1,INDIRECT(ADDRESS(ROW()-1,COLUMN())),"")} -> 0 | U20: {=IF(ROW()>1,INDIRECT(ADDRESS(ROW()-1,COLUMN())),"")} -> 0 | V20: {=IF(ROW()>1,INDIRECT(ADDRESS(ROW()-1,COLUMN())),"")} -> 0 | W20: {=IF(ROW()>1,INDIRECT(ADDRESS(ROW()-1,COLUMN())),"")} -> 0
D21: Désignation | H21: P.U. HT | I21: Prix Total | J21: MO | Q21: {=IF(ROW()>1,INDIRECT(ADDRESS(ROW()-1,COLUMN())),"")} -> 0 | S21: {=IF(ROW()>1,INDIRECT(ADDRESS(ROW()-1,COLUMN())),"")} -> 0 | T21: {=IF(ROW()>1,INDIRECT(ADDRESS(ROW()-1,COLUMN())),"")} -> 0 | U21: {=IF(ROW()>1,INDIRECT(ADDRESS(ROW()-1,COLUMN())),"")} -> 0 | V21: {=IF(ROW()>1,INDIRECT(ADDRESS(ROW()-1,COLUMN())),"")} -> 0 | W21: {=IF(ROW()>1,INDIRECT(ADDRESS(ROW()-1,COLUMN())),"")} -> 0
D22: =IF(C22=0,"",(VLOOKUP(C22,INOX!A:D,3,0))) | H22: =IF(C22=0,0,(VLOOKUP(C22,INOX!A:D,4,0))) -> 0 | I22: =IF(B22=0,0,(H22*B22)) -> 0 | J22: - | L22: INOX | M22: =B22 -> 0 | N22: =IF(C22=0,0,(VLOOKUP(C22,INOX!A:D,3,0))) -> 0 | O22: =IF(C22=0,0,(VLOOKUP(C22,INOX!A:D,2,0))) -> 0 | Q22: {=IF(ROW()>1,INDIRECT(ADDRESS(ROW()-1,COLUMN())),"")} -> 0 | S22: {=IF(ROW()>1,INDIRECT(ADDRESS(ROW()-1,COLUMN())),"")} -> 0 | T22: {=IF(ROW()>1,INDIRECT(ADDRESS(ROW()-1,COLUMN())),"")} -> 0 | U22: {=IF(ROW()>1,INDIRECT(ADDRESS(ROW()-1,COLUMN())),"")} -> 0 | V22: {=IF(ROW()>1,INDIRECT(ADDRESS(ROW()-1,COLUMN())),"")+I22} -> 0 | W22: {=IF(ROW()>1,INDIRECT(ADDRESS(ROW()-1,COLUMN())),"")} -> 0
