Workbook

Sheet STOCK ACTUEL
A1: MATERIEL | B1: QUANTITE
A2: Boite | B2: ='Détails STOCK'!E2 -> 160
A3: Télécommande | B3: ='Détails STOCK'!E3 -> 10
A4: Adaptateur | B4: ='Détails STOCK'!E4 -> 10
A5: Tour de cou | B5: ='Détails STOCK'!E5 -> 10
A6: Petites pochettes transparence à bulles | B6: ='Détails STOCK'!E6 -> 25
A7: Carton télécommande | B7: ='Détails STOCK'!E7 -> 30
A8: Enveloppes bulles boitiers | B8: ='Détails STOCK'!E8 -> 45
A9: Stickers rassemblement | B9: ='Détails STOCK'!E9 -> 15
A10: Stickers portes | B10: ='Détails STOCK'!E10 -> 20
A11: Stickers vitrophanie portes | B11: ='Détails STOCK'!E11 -> 20
A12: Notice de communication | B12: ='Détails STOCK'!E12 -> 20
A13: Notice de montage/utilisation | B13: ='Détails STOCK'!E13 -> 20
... A23: Flyer A5 caisse plastifié | B23: ='Détails STOCK'!E23 -> 15
A24: Enveloppes A5 | B24: 10

Sheet Détails STOCK
A1: MATERIEL | B1: QUANTITE initiale | C1: Quantité reçue | D1: Quantité envoyée | E1: Quantité actuelle
A2: Boite | B2: 10 | C2: 150 | D2: {=IF(COLIS!B2=1,'Détails COLIS'!$B$2:$B$24,IF(COLIS!B2=2,'Détails COLIS'!$C$2:$C$24,0))+IF(COLIS!B3=1,'Détails COLIS'!$B$2:$B$24,IF(COLIS!B3=2,'Détails COLIS'!$C$2:$C$24,0))+IF(COLIS!B4=1,'Détails COLIS'!$B$2:$B$24,IF(COLIS!B4=2,'Détails COLIS'!$C$2:$C$24,0))+IF(COLIS!B5=1,'Détails COLIS'!$B$2:$B$24,IF(COLIS!B5=2,'Détails COLIS'!$C$2:$C$24,0))+IF(COLIS!B6=1,'Détails COLIS'!$B$2:$B$24,IF(COLIS!B6=2,'Détails COLIS'!$C$2:$C$24,0))+IF(COLIS!B7=1,'Détails COLIS'!$B$2:$B$24,IF(COLIS!B7=2,'Détails COLIS'!$C$2:$C$24,0))+IF(COLIS!B8=1,'Détails COLIS'!$B$2:$B$24,IF(COLIS!B8=2,'Détails COLIS'!$C$2:$C$24,0))+IF(COLIS!B9=1,'Détails COLIS'!$B$2:$B$24,IF(COLIS!B9=2,'Détails COLIS'!$C$2:$C$24,0))+IF(COLIS!B10=1,'Détails COLIS'!$B$2:$B$24,IF(COLIS!B10=2,'Détails COLIS'!$C$2:$C$24,0))+IF(COLIS!B11=1,'Détails COLIS'!$B$2:$B$24,IF(COLIS!B11=2,'Détails COLIS'!$C$2:$C$24,0))+IF(COLIS!B12=1,'Détails COLIS'!$B$2:$B$24,IF(COLIS!B12=2,'Détails COLIS'!$C$2:$C$24,0))+IF(COLIS!B13=1,'Détails COLIS'!$B$2:$B$24,IF(COLIS!B13=2,'Détails COLIS'!$C$2:$C$24,0))+IF(COLIS!B14=1,'Détails COLIS'!$B$2:$B$24,IF(COLIS!B14=2,'Détails COLIS'!$C$2:$C$24,0))+IF(COLIS!B15=1,'Détails COLIS'!$B$2:$B$24,IF(COLIS!B15=2,'Détails COLIS'!$C$2:$C$24,0))+IF(COLIS!B16=1,'Détails COLIS'!$B$2:$B$24,IF(COLIS!B16=2,'Détails COLIS'!$C$2:$C$24,0))+IF(COLIS!B17=1,'Détails COLIS'!$B$2:$B$24,IF(COLIS!B17=2,'Détails COLIS'!$C$2:$C$24,0))+IF(COLIS!B18=1,'Détails COLIS'!$B$2:$B$24,IF(COLIS!B18=2,'Détails COLIS'!$C$2:$C$24,0))+IF(COLIS!B19=1,'Détails COLIS'!$B$2:$B$24,IF(COLIS!B19=2,'Détails COLIS'!$C$2:$C$24,0))+IF(COLIS!B20=1,'Détails COLIS'!$B$2:$B$24,IF(COLIS!B20=2,'Détails COLIS'!$C$2:$C$24,0))+IF(COLIS!B21=1,'Détails COLIS'!$B$2:$B$24,IF(COLIS!B21=2,'Détails COLIS'!$C$2:$C$24,0))+IF(COLIS!B22=1,'Détails COLIS'!$B$2:$B$24,IF(COLIS!B22=2,'Détails COLIS'!$C$2:$C$24,0))+IF(COLIS!B23=1,'Détails COLIS'!$B$2:$B$24,IF(COLIS!B23=2,'Détails COLIS'!$C$2:$C$24,0))+IF(COLIS!B24=1,'Détails COLIS'!$B$2:$B$24,IF(COLIS!B24=2,'Détails COLIS'!$C$2:$C$24,0))+IF(COLIS!B25=1,'Détails COLIS'!$B$2:$B$24,IF(COLIS!B25=2,'Détails COLIS'!$C$2:$C$24,0))+IF(COLIS!B26=1,'Détails COLIS'!$B$2:$B$24,IF(COLIS!B26=2,'Détails COLIS'!$C$2:$C$24,0))+IF(COLIS!B27=1,'Détails COLIS'!$B$2:$B$24,IF(COLIS!B27=2,'Détails COLIS'!$C$2:$C$24,0))+IF(COLIS!B28=1,'Détails COLIS'!$B$2:$B$24,IF(COLIS!B28=2,'Détails COLIS'!$C$2:$C$24,0))} -> 0 | E2: =B2+C2-D2 -> 160
A3: Télécommande | B3: 10 | E3: =B3+C3-D3 -> 10
A4: Adaptateur | B4: 10 | E4: =B4+C4-D4 -> 10
A5: Tour de cou | B5: 10 | E5: =B5+C5-D5 -> 10
A6: Petites pochettes transparence à bulles | B6: 25 | E6: =B6+C6-D6 -> 25
A7: Carton télécommande | B7: 30 | E7: =B7+C7-D7 -> 30
A8: Enveloppes bulles boitiers | B8: 45 | E8: =B8+C8-D8 -> 45
A9: Stickers rassemblement | B9: 15 | E9: =B9+C9-D9 -> 15
A10: Stickers portes | B10: 20 | E10: =B10+C10-D10 -> 20
A11: Stickers vitrophanie portes | B11: 20 | E11: =B11+C11-D11 -> 20
A12: Notice de communication | B12: 20 | E12: =B12+C12-D12 -> 20
A13: Notice de montage/utilisation | B13: 20 | E13: =B13+C13-D13 -> 20
A14: Pochettes perforés transparantes | B14: 20 | E14: =B14+C14-D14 -> 20
... A23: Flyer A5 caisse plastifié | B23: 15 | E23: =B23+C23-D23 -> 15
A24: Enveloppes A5 | E24: =B24+C24-D24 -> 0

Sheet Détails COLIS
A1: MATERIEL | B1: Pour 1 dispostif | C1: Pour 2 dispositifs
A2: Boite | B2: 1 | C2: 2
A3: Télécommande | B3: 1 | C3: 1
A4: Adaptateur
A5: Tour de cou | B5: 1 | C5: 1
A6: Petites pochettes transparence à bulles | B6: 1 | C6: 1
A7: Carton télécommande | B7: 1 | C7: 1
A8: Enveloppes bulles boitiers | B8: 1 | C8: 2
A9: Stickers rassemblement
A10: Stickers portes | B10: 2 | C10: 2
A11: Stickers vitrophanie portes | B11: 2 | C11: 2
A12: Notice de communication | B12: 1 | C12: 1
A13: Notice de montage/utilisation | B13: 1 | C13: 1
A14: Pochettes perforés transparantes
A15: Support boitier aimanté | B15: 1 | C15: 2
A16: Support sur pied
A17: Support pince rotative
A18: Etiquettes chronopost
A19: Pochettes transparente perforées | B19: 1 | C19: 1
A20: carton taille S
A21: carton taille XS
A22: Enveloppe carton
A23: Flyer A5 caisse plastifié | B23: 1 | C23: 2
A24: Enveloppes A5 | B24: 1 | C24: 1

Sheet COLIS
A1: Date d'envoi | B1: Type de colis
A2: 45643
