Workbook

Sheet domi  trini paire
A1: ² | C1: 0.020833333 | D1: 0.020833333 | E1: 0.020833333 | F1: 0.020833333 | G1: 0.020833333 | H1: 0.020833333 | I1: 0.020833333 | J1: 0.020833333 | K1: 0.020833333 | L1: 0.020833333 | M1: 0.020833333 | N1: 0.020833333 | O1: 0.020833333 | P1: 0.020833333 | Q1: 0.020833333 | R1: 0.020833333 | S1: 0.020833333 | T1: 0.020833333 | U1: 0.020833333 | V1: 0.020833333 | W1: 0.020833333 | X1: 0.020833333 | Y1: 0.020833333 | Z1: 0.020833333 | AA1: 0.020833333 | AB1: 0.020833333 | AC1: 0.020833333 | AD1: 0.020833333
B2: 7 | C2: 0.3125 | D2: =C1+C2 -> 0.33333333 | E2: =D1+D2 -> 0.35416667 | F2: =E1+E2 -> 0.375 | G2: =F1+F2 -> 0.39583333 | H2: =G1+G2 -> 0.41666667 | I2: =H1+H2 -> 0.4375 | J2: =I1+I2 -> 0.45833333 | K2: =J1+J2 -> 0.47916667 | ... AD2: =AC1+AC2 -> 0.875
C3: A | D3: A | E3: A | F3: A | G3: A | H3: A | I3: A | J3: A | K3: A | L3: A | M3: A | N3: A | O3: A | P3: A | Q3: A | R3: A | S3: A | T3: A | U3: A | V3: A | W3: A | X3: A | Y3: A | Z3: A | AA3: A | AB3: A | AC3: A | AD3: A
C4: =+C2+C1 -> 0.33333333 | D4: =+D2+D1 -> 0.35416667 | E4: =+E2+E1 -> 0.375 | F4: =+F2+F1 -> 0.39583333 | G4: =+G2+G1 -> 0.41666667 | H4: =+H2+H1 -> 0.4375 | I4: =+I2+I1 -> 0.45833333 | J4: =+J2+J1 -> 0.47916667 | ... AD4: =+AD2+AD1 -> 0.89583333
A5: Domi semaine paire | B5: Lundi | C5: Dominique semaine paire | AE5: =$B$5 -> Lundi | AF5: N° CAISSE | AG5: =AE5 -> Lundi | AH5: =AE25 -> Mardi | AI5: =AE46 -> Mercredi | AJ5: =AE67 -> jeudi | AK5: =AE87 -> Vendredi | AL5: =AE108 -> samedi | AN5: Mensuel | AO5: Temps Pause | AP5: Contrat | AQ5: Pause 5%
B6: Chef de Caisse | E6: 1 | Q6: 2 | AE6: =SUM(C6:AD6) -> 3 | AF6: RESP | AG6: =AE6 -> 3 | AH6: =AE26 -> 3 | AI6: =AE47 -> 3 | AJ6: =AE68 -> 3 | AK6: =AE88 -> 3 | AL6: =AE109 -> 3 | AM6: =SUM(AG6:AL6) -> 18 | AN6: =AM6*4.33 -> 77.94 | AO6: =AN6*5% -> 3.897
B7: Adjointe de Caisse | AE7: =SUM(C7:AD7) -> 0 | AG7: =AE7 -> 0 | AH7: =AE27 -> 0 | AI7: =AE48 -> 0 | AJ7: =AE69 -> 0 | AK7: =AE89 -> 0 | AL7: =AE110 -> 0 | AM7: =SUM(AG7:AL7) -> 0 | AN7: =AM7*4.33 -> 0 | AO7: =AN7*5% -> 0
AE8: =SUM(C8:AD8) -> 0 | AG8: =AE8 -> 0 | AH8: =AE28 -> 0 | AI8: =AE49 -> 0 | AJ8: =AE70 -> 0 | AK8: =AE90 -> 0 | AL8: =AE111 -> 0 | AM8: =SUM(AG8:AL8) -> 0 | AN8: =AM8*4.33 -> 0 | AO8: =AN8*5% -> 0
AE9: =SUM(C9:AD9)/2 -> 0 | AG9: =AE9 -> 0 | AH9: =AE29 -> 0 | AI9: =AE50 -> 0 | AJ9: =AE71 -> 0 | AK9: =AE91 -> 0 | AL9: =AE112 -> 0 | AM9: =SUM(AG9:AL9) -> 0 | AN9: =AM9*4.33 -> 0 | AO9: =AN9*5% -> 0
B10: Salezia | E10: 1 | O10: 2 | AE10: =SUM(C10:AD10) -> 3 | AF10: =B10 -> Salezia | AG10: =AE10 -> 3 | AH10: =AE30 -> 3 | AI10: =AE51 -> 3 | AJ10: =AE72 -> 3 | AK10: =AE92 -> 3 | AL10: =AE113 -> 3 | AM10: =SUM(AG10:AL10) -> 18 | AN10: =AM10*4.33 -> 77.94 | AO10: =AN10*5% -> 3.897
B11: Audrey | F11: 1 | Q11: 2 | AE11: =SUM(C11:AD11) -> 3 | AF11: =B11 -> Audrey | AG11: =AE11 -> 3 | AH11: =AE31 -> 3 | AI11: =AE52 -> 3 | AJ11: =AE73 -> 3 | AK11: =AE93 -> 3 | AL11: =AE114 -> 3 | AM11: =SUM(AG11:AL11) -> 18 | AN11: =AM11*4.33 -> 77.94 | AO11: =AN11*5% -> 3.897 | AP11: =AN11-AO11 -> 74.043
B12: Sandrine Boiteau | H12: 1 | S12: 2 | AE12: =SUM(C12:AD12) -> 3 | AF12: =B12 -> Sandrine Boiteau | AG12: =AE12 -> 3 | AH12: =AE32 -> 3 | AI12: =AE53 -> 3 | AJ12: =AE74 -> 3 | AK12: =AE94 -> 3 | AL12: =AE115 -> 3 | AM12: =SUM(AG12:AL12) -> 18 | AN12: =AM12*4.33 -> 77.94 | AO12: =AN12*5% -> 3.897
B13: Christelle Oeur | G13: 1 | R13: 2 | AE13: =SUM(C13:AD13) -> 3 | AF13: =B13 -> Christelle Oeur | AG13: =AE13 -> 3 | AH13: =AE33 -> 3 | AI13: =AE54 -> 3 | AJ13: =AE75 -> 3 | AK13: =AE95 -> 3 | AL13: =AE116 -> 3 | AM13: =SUM(AG13:AL13) -> 18 | AN13: =AM13*4.33 -> 77.94 | AO13: =AN13*5% -> 3.897
B14: Liliana | S14: 1 | AC14: 2 | AE14: =SUM(C14:AD14) -> 3 | AF14: =B14 -> Liliana | AG14: =AE14 -> 3 | AH14: =AE34 -> 3 | AI14: =AE55 -> 3 | AJ14: =AE76 -> 3 | AK14: =AE96 -> 3 | AL14: =AE117 -> 3 | AM14: =SUM(AG14:AL14) -> 18 | AN14: =AM14*4.33 -> 77.94 | AO14: =AN14*5% -> 3.897
B15: Guida | S15: 1 | AC15: 2 | AE15: =SUM(C15:AD15) -> 3 | AF15: =B15 -> Guida | AG15: =AE15 -> 3 | AH15: =AE35 -> 3 | AI15: =AE56 -> 3 | AJ15: =AE77 -> 3 | AK15: =AE97 -> 3 | AL15: =AE118 -> 3 | AM15: =SUM(AG15:AL15) -> 18 | AN15: =AM15*4.33 -> 77.94 | AO15: =AN15*5% -> 3.897
B16: Nathalie | R16: 1 | AC16: 2 | AE16: =SUM(C16:AD16) -> 3 | AF16: =B16 -> Nathalie | AG16: =AE16 -> 3 | AH16: =AE36 -> 3 | AI16: =AE57 -> 3 | AJ16: =AE78 -> 3 | AK16: =AE98 -> 3 | AL16: =AE119 -> 3 | AM16: =SUM(AG16:AL16) -> 18 | AN16: =AM16*4.33 -> 77.94 | AO16: =AN16*5% -> 3.897
B17: Sabrina | R17: 1 | AC17: 2 | AE17: =SUM(C17:AD17) -> 3 | AF17: =B17 -> Sabrina | AG17: =AE17 -> 3 | AH17: =AE37 -> 3 | AI17: =AE58 -> 3 | AJ17: =AE79 -> 3 | AK17: =AE99 -> 3 | AL17: =AE120 -> 3 | AM17: =SUM(AG17:AL17) -> 18 | AN17: =AM17*4.33 -> 77.94 | AO17: =AN17*5% -> 3.897
B18: Julien | T18: 1 | AC18: 2 | AE18: =SUM(C18:AD18) -> 3 | AF18: =B18 -> Julien | AG18: =AE18 -> 3 | AH18: =AE38 -> 3 | AI18: =AE59 -> 3 | AJ18: =AE80 -> 0 | AK18: =AE100 -> 3 | AL18: =AE121 -> 3 | AM18: =SUM(AG18:AL18) -> 15 | AN18: =AM18*4.33 -> 64.95 | AO18: =AN18*5% -> 3.2475
B19: Caisse 10 | AE19: =SUM(C19:AD19) -> 0 | AF19: =B19 -> Caisse 10 | AG19: =AE19 -> 0 | AH19: =AE39 -> 0 | AI19: =AE60 -> 0 | AJ19: =AE81 -> 0 | AK19: =AE101 -> 0 | AL19: =AE122 -> 0 | AM19: =SUM(AG19:AL19) -> 0 | AN19: =AM19*4.33 -> 0
C20: =SUM(C6:C19)*2 -> 0 | D20: =SUM(D6:D19)*2 -> 0 | E20: =SUM(E6:E19)*2 -> 4 | F20: =SUM(F6:F19)*2 -> 2 | G20: =SUM(G6:G19)*2 -> 2 | H20: =SUM(H6:H19)*2 -> 2 | I20: =SUM(I6:I19)*2 -> 0 | J20: =SUM(J6:J19)*2 -> 0 | ... AD20: =SUM(AD6:AD19)*2 -> 0 | AE20: =AE6+AE7+AE8+AE10+AE11+AE12+AE13+AE14+AE15+AE16+AE17+AE18+AE19 -> 30 | AG20: =AE20 -> 30
C21: 0.020833333 | D21: 0.020833333 | E21: 0.020833333 | F21: 0.020833333 | G21: 0.020833333 | H21: 0.020833333 | I21: 0.020833333 | J21: 0.020833333 | K21: 0.020833333 | L21: 0.020833333 | M21: 0.020833333 | N21: 0.020833333 | O21: 0.020833333 | P21: 0.020833333 | Q21: 0.020833333 | R21: 0.020833333 | S21: 0.020833333 | T21: 0.020833333 | U21: 0.020833333 | V21: 0.020833333 | W21: 0.020833333 | X21: 0.020833333 | Y21: 0.020833333 | Z21: 0.020833333 | AA21: 0.020833333 | AB21: 0.020833333 | AC21: 0.020833333 | AD21: 0.020833333
B22: 7 | C22: 0.3125 | D22: =C21+C22 -> 0.33333333 | E22: =D21+D22 -> 0.35416667 | F22: =E21+E22 -> 0.375 | G22: =F21+F22 -> 0.39583333 | H22: =G21+G22 -> 0.41666667 | I22: =H21+H22 -> 0.4375 | J22: =I21+I22 -> 0.45833333 | K22: =J21+J22 -> 0.47916667 | ... AD22: =AC21+AC22 -> 0.875
C23: A | D23: A | E23: A | F23: A | G23: A | H23: A | I23: A | J23: A | K23: A | L23: A | M23: A | N23: A | O23: A | P23: A | Q23: A | R23: A | S23: A | T23: A | U23: A | V23: A | W23: A | X23: A | Y23: A | Z23: A | AA23: A | AB23: A | AC23: A | AD23: A
C24: =+C22+C21 -> 0.33333333 | D24: =+D22+D21 -> 0.35416667 | E24: =+E22+E21 -> 0.375 | F24: =+F22+F21 -> 0.39583333 | G24: =+G22+G21 -> 0.41666667 | H24: =+H22+H21 -> 0.4375 | I24: =+I22+I21 -> 0.45833333 | J24: =+J22+J21 -> 0.47916667 | ... AD24: =+AD22+AD21 -> 0.89583333
A25: =$A$5 -> Domi semaine paire | B25: Mardi | C25: =$C$5 -> Dominique semaine paire | AE25: =$B$25 -> Mardi
B26: Chef de Caisse | D26: 1 | P26: 2 | AE26: =SUM(C26:AD26) -> 3
B27: Adjointe de Caisse | AE27: =SUM(C27:AD27) -> 0
AE28: =SUM(C28:AD28) -> 0
AE29: =SUM(C29:AD29)/2 -> 0
B30: =B10 -> Salezia | F30: 1 | O30: 2 | AE30: =SUM(C30:AD30) -> 3 | AF30: 1
B31: =B11 -> Audrey | E31: 1 | N31: 2 | AE31: =SUM(C31:AD31) -> 3 | AF31: 2
B32: =B12 -> Sandrine Boiteau | F32: 1 | R32: 2 | AE32: =SUM(C32:AD32) -> 3 | AF32: 3
B33: =B13 -> Christelle Oeur | H33: 1 | S33: 2 | AE33: =SUM(C33:AD33) -> 3 | AF33: 4
B34: =B14 -> Liliana | S34: 1 | AC34: 2 | AE34: =SUM(C34:AD34) -> 3 | AF34: 5
B35: =B15 -> Guida | Q35: 1 | AC35: 2 | AE35: =SUM(C35:AD35) -> 3 | AF35: 6
B36: =B16 -> Nathalie | S36: 1 | AC36: 2 | AE36: =SUM(C36:AD36) -> 3 | AF36: 7
B37: =B17 -> Sabrina | R37: 1 | AC37: 2 | AE37: =SUM(C37:AD37) -> 3 | AF37: 8
B38: =B18 -> Julien | P38: 1 | AC38: 2 | AE38: =SUM(C38:AD38) -> 3 | AF38: 9
B39: =B19 -> Caisse 10 | AE39: =SUM(C39:AD39) -> 0
C40: =SUM(C26:C39)*2 -> 0 | E40: =SUM(E26:E39)*2 -> 2 | F40: =SUM(F26:F39)*2 -> 4 | G40: =SUM(G26:G39)*2 -> 0 | H40: =SUM(H26:H39)*2 -> 2 | I40: =SUM(I26:I39)*2 -> 0 | J40: =SUM(J26:J39)*2 -> 0 | K40: =SUM(K26:K39)*2 -> 0 | L40: =SUM(L26:L39)*2 -> 0 | ... AD40: =SUM(AD26:AD39)*2 -> 0 | AE40: =AE26+AE27+AE28+AE30+AE31+AE32+AE33+AE34+AE35+AE36+AE37+AE38+AE39 -> 30
...

Sheet Heure début et fin
B3: Dominique semaine paire
B4: début service | E4: fin de service | H4: heures de travail
A5: Lundi | H5: =A5 -> Lundi | K5: Pause
A6: Chef de Caisse | B6: =LOOKUP(1,'domi trini paire'!C6:AD6,'domi trini paire'!C2:AD2) -> 0.35416667 | E6: =LOOKUP(2,'domi trini paire'!C6:AD6,'domi trini paire'!C4:AD4) -> 0.625 | H6: =E6-B6 -> 0.27083333 | K6: =(5/100)*H6 -> 0.013541667
A7: Adjointe de Caisse | H7: =E7-B7 -> 0 | P7: Nom | Q7: Lundi | R7: Mardi | S7: Mercredi | T7: Jeudi | U7: Vendredi | V7: Samedi | W7: Hebdomadaire | X7: Mensuel
P8: Chef de caisse | Q8: =H6 -> 0.27083333 | R8: =H21 -> 0.27083333 | S8: =H36 -> 0.27083333 | T8: =H51 -> 0.27083333 | U8: =H66 -> 0.27083333 | V8: =H81 -> 0.27083333 | W8: =SUM(Q8:V8) -> 1.625 | X8: =W8*4.33 -> 7.03625
A10: Salezia | B10: =LOOKUP(1,'domi trini paire'!C10:AD10,'domi trini paire'!$C$2:$AD$2) -> 0.35416667 | E10: =LOOKUP(2,'domi trini paire'!C10:AD10,'domi trini paire'!$C$4:$AD$4) -> 0.58333333 | H10: =E10-B10 -> 0.22916667 | K10: =(5/100)*H10 -> 0.011458333 | P10: =A10 -> Salezia | Q10: =H10 -> 0.22916667 | R10: =H25 -> 0.20833333 | S10: =H40 -> 0.25 | T10: =H55 -> 0.27083333 | U10: =H70 -> 0.25 | V10: =H85 -> 0.25 | W10: =SUM(Q10:V10) -> 1.4583333 | X10: =W10*4.33 -> 6.3145833
A11: Audrey | B11: =LOOKUP(1,'domi trini paire'!C11:AD11,'domi trini paire'!$C$2:$AD$2) -> 0.375 | E11: =LOOKUP(2,'domi trini paire'!C11:AD11,'domi trini paire'!$C$4:$AD$4) -> 0.625 | H11: =E11-B11 -> 0.25 | K11: =(5/100)*H11 -> 0.0125 | P11: =A11 -> Audrey | Q11: =H11 -> 0.25 | R11: =H26 -> 0.20833333 | S11: =H41 -> 0.25 | T11: =H56 -> 0.22916667 | U11: =H71 -> 0.27083333 | V11: =H86 -> 0.25 | W11: =SUM(Q11:V11) -> 1.4583333 | X11: =W11*4.33 -> 6.3145833
A12: Sandrine Boiteau | B12: =LOOKUP(1,'domi trini paire'!C12:AD12,'domi trini paire'!$C$2:$AD$2) -> 0.41666667 | E12: =LOOKUP(2,'domi trini paire'!C12:AD12,'domi trini paire'!$C$4:$AD$4) -> 0.66666667 | H12: =E12-B12 -> 0.25 | K12: =(5/100)*H12 -> 0.0125 | P12: =A12 -> Sandrine Boiteau | Q12: =H12 -> 0.25 | R12: =H27 -> 0.27083333 | S12: =H42 -> 0.20833333 | T12: =H57 -> 0.25 | U12: =H72 -> 0.25 | V12: =H87 -> 0.22916667 | W12: =SUM(Q12:V12) -> 1.4583333 | X12: =W12*4.33 -> 6.3145833
A13: Christelle Oeur | B13: =LOOKUP(1,'domi trini paire'!C13:AD13,'domi trini paire'!$C$2:$AD$2) -> 0.39583333 | E13: =LOOKUP(2,'domi trini paire'!C13:AD13,'domi trini paire'!C4:AD4) -> 0.64583333 | H13: =E13-B13 -> 0.25 | K13: =(5/100)*H13 -> 0.0125 | P13: =A13 -> Christelle Oeur | Q13: =H13 -> 0.25 | R13: =H28 -> 0.25 | S13: =H43 -> 0.25 | T13: =H58 -> 0.20833333 | U13: =H73 -> 0.25 | V13: =H88 -> 0.25 | W13: =SUM(Q13:V13) -> 1.4583333 | X13: =W13*4.33 -> 6.3145833
A14: Liliana | B14: =LOOKUP(1,'domi trini paire'!C14:AD14,'domi trini paire'!$C$2:$AD$2) -> 0.64583333 | E14: =LOOKUP(2,'domi trini paire'!C14:AD14,'domi trini paire'!$C$4:$AD$4) -> 0.875 | H14: =E14-B14 -> 0.22916667 | K14: =(5/100)*H14 -> 0.011458333 | P14: =A14 -> Liliana | Q14: =H14 -> 0.22916667 | R14: =H29 -> 0.22916667 | S14: =H44 -> 0.22916667 | T14: =H59 -> 0.25 | U14: =H74 -> 0.25 | V14: =H89 -> 0.27083333 | W14: =SUM(Q14:V14) -> 1.4583333 | X14: =W14*4.33 -> 6.3145833
A15: Guida | B15: =LOOKUP(1,'domi trini paire'!C15:AD15,'domi trini paire'!$C$2:$AD$2) -> 0.64583333 | E15: =LOOKUP(2,'domi trini paire'!C15:AD15,'domi trini paire'!$C$4:$AD$4) -> 0.875 | H15: =E15-B15 -> 0.22916667 | K15: =(5/100)*H15 -> 0.011458333 | P15: =A15 -> Guida | Q15: =H15 -> 0.22916667 | R15: =H30 -> 0.27083333 | S15: =H45 -> 0.22916667 | T15: =H60 -> 0.25 | U15: =H75 -> 0.22916667 | V15: =H90 -> 0.25 | W15: =SUM(Q15:V15) -> 1.4583333 | X15: =W15*4.33 -> 6.3145833
A16: Nathalie | B16: =LOOKUP(1,'domi trini paire'!C16:AD16,'domi trini paire'!$C$2:$AD$2) -> 0.625 | E16: =LOOKUP(2,'domi trini paire'!C16:AD16,'domi trini paire'!$C$4:$AD$4) -> 0.875 | H16: =E16-B16 -> 0.25 | K16: =(5/100)*H16 -> 0.0125 | P16: =A16 -> Nathalie | Q16: =H16 -> 0.25 | R16: =H31 -> 0.22916667 | S16: =H46 -> 0.27083333 | T16: =H61 -> 0.25 | U16: =H76 -> 0.22916667 | V16: =H91 -> 0.22916667 | W16: =SUM(Q16:V16) -> 1.4583333 | X16: =W16*4.33 -> 6.3145833
A17: Sabrina | B17: =LOOKUP(1,'domi trini paire'!C17:AD17,'domi trini paire'!$C$2:$AD$2) -> 0.625 | E17: =LOOKUP(2,'domi trini paire'!C17:AD17,'domi trini paire'!$C$4:$AD$4) -> 0.875 | H17: =E17-B17 -> 0.25 | K17: =(5/100)*H17 -> 0.0125 | P17: =A17 -> Sabrina | Q17: =H17 -> 0.25 | R17: =H32 -> 0.25 | S17: =H47 -> 0.22916667 | T17: =H62 -> 0.22916667 | U17: =H77 -> 0.25 | V17: =H92 -> 0.25 | W17: =SUM(Q17:V17) -> 1.4583333 | X17: =W17*4.33 -> 6.3145833
A18: Julien | B18: =LOOKUP(1,'domi trini paire'!C18:AD18,'domi trini paire'!$C$2:$AD$2) -> 0.66666667 | E18: =LOOKUP(2,'domi trini paire'!C18:AD18,'domi trini paire'!$C$4:$AD$4) -> 0.875 | H18: =E18-B18 -> 0.20833333 | K18: =(5/100)*H18 -> 0.010416667 | P18: =A18 -> Julien | Q18: =H18 -> 0.20833333 | R18: =H33 -> 0.29166667 | S18: =H48 -> 0.29166667 | T18: =H63 -> repos | U18: =H78 -> 0.20833333 | V18: =H93 -> 0.29166667 | W18: =SUM(Q18:V18) -> 1.2916667 | X18: =W18*4.33 -> 5.5929167
A19: Caisse 10 | B19: =LOOKUP(1,'domi trini paire'!C19:AD19,'domi trini paire'!$C$2:$AD$2) -> #N/A | E19: =LOOKUP(2,'domi trini paire'!C19:AD19,'domi trini paire'!$C$4:$AD$4) -> #N/A | H19: =E19-B19 -> #N/A | P19: =A19 -> Caisse 10 | Q19: =H19 -> #N/A | R19: =H34 -> #N/A | S19: =H49 -> #N/A | T19: =H64 -> #N/A | U19: =H79 -> #N/A | V19: =H94 -> #N/A | W19: =SUM(W8:W18) -> 14.583333 | X19: =SUM(X8:X18) -> 63.145833
A20: Mardi | H20: =A20 -> Mardi
A21: Chef de Caisse | B21: =LOOKUP(1,'domi trini paire'!C26:AD26,'domi trini paire'!C2:AD2) -> 0.33333333 | E21: =LOOKUP(2,'domi trini paire'!C26:AD26,'domi trini paire'!C4:AD4) -> 0.60416667 | H21: =E21-B21 -> 0.27083333 | K21: =(5/100)*H21 -> 0.013541667
A22: Adjointe de Caisse
A25: =A10 -> Salezia | B25: =LOOKUP(1,'domi trini paire'!C30:AD30,'domi trini paire'!$C$2:$AD$2) -> 0.375 | E25: =LOOKUP(2,'domi trini paire'!C30:AD30,'domi trini paire'!$C$24:$AD$24) -> 0.58333333 | H25: =E25-B25 -> 0.20833333 | K25: =(5/100)*H25 -> 0.010416667
A26: =A11 -> Audrey | B26: =LOOKUP(1,'domi trini paire'!C31:AD31,'domi trini paire'!$C$2:$AD$2) -> 0.35416667 | E26: =LOOKUP(2,'domi trini paire'!C31:AD31,'domi trini paire'!$C$24:$AD$24) -> 0.5625 | H26: =E26-B26 -> 0.20833333 | K26: =(5/100)*H26 -> 0.010416667
A27: =A12 -> Sandrine Boiteau | B27: =LOOKUP(1,'domi trini paire'!C32:AD32,'domi trini paire'!$C$2:$AD$2) -> 0.375 | E27: =LOOKUP(2,'domi trini paire'!C32:AD32,'domi trini paire'!$C$24:$AD$24) -> 0.64583333 | H27: =E27-B27 -> 0.27083333 | K27: =(5/100)*H27 -> 0.013541667
A28: =A13 -> Christelle Oeur | B28: =LOOKUP(1,'domi trini paire'!C33:AD33,'domi trini paire'!$C$2:$AD$2) -> 0.41666667 | E28: =LOOKUP(2,'domi trini paire'!C33:AD33,'domi trini paire'!$C$24:$AD$24) -> 0.66666667 | H28: =E28-B28 -> 0.25 | K28: =(5/100)*H28 -> 0.0125
A29: =A14 -> Liliana | B29: =LOOKUP(1,'domi trini paire'!C34:AD34,'domi trini paire'!$C$2:$AD$2) -> 0.64583333 | E29: =LOOKUP(2,'domi trini paire'!C34:AD34,'domi trini paire'!$C$24:$AD$24) -> 0.875 | H29: =E29-B29 -> 0.22916667 | K29: =(5/100)*H29 -> 0.011458333
A30: =A15 -> Guida | B30: =LOOKUP(1,'domi trini paire'!C35:AD35,'domi trini paire'!$C$2:$AD$2) -> 0.60416667 | E30: =LOOKUP(2,'domi trini paire'!C35:AD35,'domi trini paire'!$C$24:$AD$24) -> 0.875 | H30: =E30-B30 -> 0.27083333 | K30: =(5/100)*H30 -> 0.013541667
A31: =A16 -> Nathalie | B31: =LOOKUP(1,'domi trini paire'!C36:AD36,'domi trini paire'!$C$2:$AD$2) -> 0.64583333 | E31: =LOOKUP(2,'domi trini paire'!C36:AD36,'domi trini paire'!$C$24:$AD$24) -> 0.875 | H31: =E31-B31 -> 0.22916667 | K31: =(5/100)*H31 -> 0.011458333
A32: =A17 -> Sabrina | B32: =LOOKUP(1,'domi trini paire'!C37:AD37,'domi trini paire'!$C$2:$AD$2) -> 0.625 | E32: =LOOKUP(2,'domi trini paire'!C37:AD37,'domi trini paire'!$C$24:$AD$24) -> 0.875 | H32: =E32-B32 -> 0.25 | K32: =(5/100)*H32 -> 0.0125
A33: =A18 -> Julien | B33: =LOOKUP(1,'domi trini paire'!C38:AD38,'domi trini paire'!$C$2:$AD$2) -> 0.58333333 | E33: =LOOKUP(2,'domi trini paire'!C38:AD38,'domi trini paire'!$C$24:$AD$24) -> 0.875 | H33: =E33-B33 -> 0.29166667 | K33: =(5/100)*H33 -> 0.014583333
A34: =A19 -> Caisse 10 | B34: =LOOKUP(1,'domi trini paire'!C39:AD39,'domi trini paire'!$C$2:$AD$2) -> #N/A | E34: =LOOKUP(2,'domi trini paire'!C39:AD39,'domi trini paire'!$C$24:$AD$24) -> #N/A | H34: =E34-B34 -> #N/A
A35: Mercredi | H35: =A35 -> Mercredi
A36: Chef de Caisse | B36: =LOOKUP(1,'domi trini paire'!C47:AD47,'domi trini paire'!C2:AD2) -> 0.33333333 | E36: =LOOKUP(2,'domi trini paire'!C47:AD47,'domi trini paire'!C4:AD4) -> 0.60416667 | H36: =E36-B36 -> 0.27083333 | K36: =(5/100)*H36 -> 0.013541667
A37: Adjointe de Caisse
A40: =A10 -> Salezia | B40: =LOOKUP(1,'domi trini paire'!C51:AD51,'domi trini paire'!$C$2:$AD$2) -> 0.39583333 | E40: =LOOKUP(2,'domi trini paire'!C51:AD51,'domi trini paire'!$C$4:$AD$4) -> 0.64583333 | H40: =E40-B40 -> 0.25 | K40: =(5/100)*H40 -> 0.0125
A41: =A11 -> Audrey | B41: =LOOKUP(1,'domi trini paire'!C52:AD52,'domi trini paire'!$C$2:$AD$2) -> 0.41666667 | E41: =LOOKUP(2,'domi trini paire'!C52:AD52,'domi trini paire'!$C$4:$AD$4) -> 0.66666667 | H41: =E41-B41 -> 0.25 | K41: =(5/100)*H41 -> 0.0125
A42: =A12 -> Sandrine Boiteau | B42: =LOOKUP(1,'domi trini paire'!C53:AD53,'domi trini paire'!$C$2:$AD$2) -> 0.35416667 | E42: =LOOKUP(2,'domi trini paire'!C53:AD53,'domi trini paire'!$C$4:$AD$4) -> 0.5625 | H42: =E42-B42 -> 0.20833333 | K42: =(5/100)*H42 -> 0.010416667
A43: =A13 -> Christelle Oeur | B43: =LOOKUP(1,'domi trini paire'!C54:AD54,'domi trini paire'!$C$2:$AD$2) -> 0.375 | E43: =LOOKUP(2,'domi trini paire'!C54:AD54,'domi trini paire'!$C$4:$AD$4) -> 0.625 | H43: =E43-B43 -> 0.25 | K43: =(5/100)*H43 -> 0.0125
A44: =A14 -> Liliana | B44: =LOOKUP(1,'domi trini paire'!C55:AD55,'domi trini paire'!$C$2:$AD$2) -> 0.64583333 | E44: =LOOKUP(2,'domi trini paire'!C55:AD55,'domi trini paire'!$C$4:$AD$4) -> 0.875 | H44: =E44-B44 -> 0.22916667 | K44: =(5/100)*H44 -> 0.011458333
A45: =A15 -> Guida | B45: =LOOKUP(1,'domi trini paire'!C56:AD56,'domi trini paire'!$C$2:$AD$2) -> 0.64583333 | E45: =LOOKUP(2,'domi trini paire'!C56:AD56,'domi trini paire'!$C$4:$AD$4) -> 0.875 | H45: =E45-B45 -> 0.22916667 | K45: =(5/100)*H45 -> 0.011458333
A46: =A16 -> Nathalie | B46: =LOOKUP(1,'domi trini paire'!C57:AD57,'domi trini paire'!$C$2:$AD$2) -> 0.60416667 | E46: =LOOKUP(2,'domi trini paire'!C57:AD57,'domi trini paire'!$C$4:$AD$4) -> 0.875 | H46: =E46-B46 -> 0.27083333 | K46: =(5/100)*H46 -> 0.013541667
A47: =A17 -> Sabrina | B47: =LOOKUP(1,'domi trini paire'!C58:AD58,'domi trini paire'!$C$2:$AD$2) -> 0.64583333 | E47: =LOOKUP(2,'domi trini paire'!C58:AD58,'domi trini paire'!$C$4:$AD$4) -> 0.875 | H47: =E47-B47 -> 0.22916667 | K47: =(5/100)*H47 -> 0.011458333
...

Sheet Caisse Paire Saint dominique
A1: Planning horaire caisse du | H1: au | N1: Semaine | T1: Décomptes Horaires | W1: Décomptes Horaires
A2: Nom | B2: Lundi | E2: Mardi | H2: Mercredi | K2: Jeudi | N2: Vendredi | Q2: Samedi | T2: Dimanche | AA2: Signature
C3: T- pause | F3: T- pause | I3: T- pause | L3: T- pause | O3: T- pause | R3: T- pause | U3: T- pause | W3: T Heures | X3: contrat | Y3: H supp | Z3: Pauses
A4: ='domi trini paire'!B6 -> Chef de Caisse | B4: ='Heure début et fin'!B6:D6 -> 0.35416667 | C4: =D4*5% -> #VALUE! | D4: =B5-B4 -> #VALUE! | E4: ='Heure début et fin'!B21:D21 -> #VALUE! | F4: =G4*5% -> #VALUE! | G4: =E5-E4 -> #VALUE! | H4: ='Heure début et fin'!B36:D36 -> #VALUE! | I4: =J4*5% -> #VALUE! | J4: =H5-H4 -> #VALUE! | L4: =M4*5% -> 0 | M4: =K5-K4 -> 0 | O4: =P4*5% -> 0 | P4: =N5-N4 -> 0 | R4: =S4*5% -> 0 | S4: =Q5-Q4 -> 0 | U4: =V4*5% -> 0 | V4: =T5-T4 -> 0 | W4: =SUM(D4+D6+G4+G6+J4+J6+M4+M6+P4+P6+S4+S6+V4+D8+G8+J8+M8+P8+V8) -> #VALUE! | X4: 2.3958333 | Y4: =W4-X4 -> #VALUE! | Z4: =C4+C6+F4+F6+I4+I6+L4+L6+O4+O6+R4+R6+U4 -> #VALUE!
B5: ='Heure début et fin'!E6:G6 -> #VALUE! | E5: ='Heure début et fin'!E21:G21 -> 0.60416667 | H5: ='Heure début et fin'!E36:G36 -> #VALUE!
C6: =D6*5% -> 0 | D6: =B7-B6 -> 0 | F6: =G6*5% -> 0 | G6: =E7-E6 -> 0 | I6: =J6*5% -> 0 | J6: =H7-H6 -> 0 | L6: =M6*5% -> 0 | M6: =K7-K6 -> 0 | O6: =P6*5% -> 0 | P6: =N7-N6 -> 0 | R6: =S6*5% -> 0 | S6: =Q7-Q6 -> 0 | W6: Total H sup | Y6: =Y4 -> #VALUE!
W7: Pauses H sup | Z7: =Y4*5% -> #VALUE!
A8: Heures Sup | C8: =D8*5% -> 0 | D8: =+G8+J8+M8+P8+S8+V8 -> 0 | F8: =G8*5% -> 0 | G8: =E9-E8 -> 0 | I8: =J8*5% -> 0 | J8: =H9-H8 -> 0 | L8: =M8*5% -> 0 | M8: =K9-K8 -> 0 | O8: =P8*5% -> 0 | P8: =N9-N8 -> 0 | R8: =S8*5% -> 0 | S8: =Q9-Q8 -> 0 | U8: =V8*5% -> 0 | V8: =T9-T8 -> 0 | W8: Absences | Y8: =D10+G10+J10+M10+P10+S10+V10 -> 0
W9: Retenue pause sur absence | Z9: =+Y8*5% -> 0
A10: Absences | D10: =B10 -> 0 | G10: =E10 -> 0 | J10: =H10 -> 0 | M10: =K10 -> 0 | P10: =N10 -> 0 | S10: =Q10 -> 0 | V10: =T10 -> 0 | W10: Dimanche 20% | Y10: =V4 -> 0
A11: ='domi trini paire'!B10 -> Salezia | B11: 0.29166667 | C11: =D11*5% -> 0.017708333 | D11: =B12-B11 -> 0.35416667 | E11: 0.29166667 | F11: =G11*5% -> 0.017708333 | G11: =E12-E11 -> 0.35416667 | I11: =J11*5% -> 0 | J11: =H12-H11 -> 0 | K11: 0.54166667 | L11: =M11*5% -> 0.017708333 | M11: =K12-K11 -> 0.35416667 | O11: =P11*5% -> 0 | P11: =N12-N11 -> 0 | Q11: 0.29166667 | R11: =S11*5% -> 0.017708333 | S11: =Q12-Q11 -> 0.35416667 | U11: =V11*5% -> 0 | V11: =T12-T11 -> 0 | W11: =SUM(D11+D13+G11+G13+J11+J13+M11+M13+P11+P13+S11+S13+V11+D15+G15+J15+M15+P15+V15) -> 1.75 | X11: 1.75 | Y11: =W11-X11 -> 0 | Z11: =C11+C13+F11+F13+I11+I13+L11+L13+O11+O13+R11+R13+U11 -> 0.0875
B12: 0.64583333 | E12: 0.64583333 | K12: 0.89583333 | Q12: 0.64583333
C13: =D13*5% -> 0 | D13: =B14-B13 -> 0 | F13: =G13*5% -> 0 | G13: =E14-E13 -> 0 | H13: 0.5625 | I13: =J13*5% -> 0.016666667 | J13: =H14-H13 -> 0.33333333 | L13: =M13*5% -> 0 | M13: =K14-K13 -> 0 | O13: =P13*5% -> 0 | P13: =N14-N13 -> 0 | R13: =S13*5% -> 0 | S13: =Q14-Q13 -> 0 | W13: Total H sup | Y13: =Y11 -> 0
H14: 0.89583333 | W14: Pauses H sup | Z14: =Y11*5% -> 0
A15: Heures Sup | C15: =D15*5% -> 0 | D15: =B16-B15 -> 0 | F15: =G15*5% -> 0 | G15: =E16-E15 -> 0 | I15: =J15*5% -> 0 | J15: =H16-H15 -> 0 | L15: =M15*5% -> 0 | M15: =K16-K15 -> 0 | O15: =P15*5% -> 0 | P15: =N16-N15 -> 0 | R15: =S15*5% -> 0 | S15: =Q16-Q15 -> 0 | U15: =V15*5% -> 0 | V15: =T16-T15 -> 0 | W15: Absences | Y15: =D17+G17+J17+M17+P17+S17+V17 -> 0
W16: Retenue pause sur absence | Z16: =+Y15*5% -> 0
A17: Absences | B17: 0 | D17: =B17 -> 0 | E17: 0 | G17: =E17 -> 0 | H17: 0 | J17: =H17 -> 0 | K17: 0 | M17: =K17 -> 0 | N17: 0 | P17: =N17 -> 0 | Q17: 0 | S17: =Q17 -> 0 | T17: 0 | V17: =T17 -> 0 | W17: Dimanche 20% | Y17: =V11 -> 0
A18: ='domi trini paire'!B11 -> Audrey | C18: =D18*5% -> 0 | D18: =B19-B18 -> 0 | E18: 0.29166667 | F18: =G18*5% -> 0.017708333 | G18: =E19-E18 -> 0.35416667 | H18: 0.29166667 | I18: =J18*5% -> 0.016666667 | J18: =H19-H18 -> 0.33333333 | K18: 0.29166667 | L18: =M18*5% -> 0.017708333 | M18: =K19-K18 -> 0.35416667 | N18: 0.54166667 | O18: =P18*5% -> 0.017708333 | P18: =N19-N18 -> 0.35416667 | Q18: 0.29166667 | R18: =S18*5% -> 0.017708333 | S18: =Q19-Q18 -> 0.35416667 | U18: =V18*5% -> 0 | V18: =T19-T18 -> 0 | W18: =SUM(D18+D20+G18+G20+J18+J20+M18+M20+P18+P20+S18+S20+V18+D22+G22+J22+M22+P22+V22) -> 1.75 | X18: 1.75 | Y18: =W18-X18 -> 0 | Z18: =C18+C20+F18+F20+I18+I20+L18+L20+O18+O20+R18+R20+U18 -> 0.0875
E19: 0.64583333 | H19: 0.625 | K19: 0.64583333 | N19: 0.89583333 | Q19: 0.64583333
C20: =D20*5% -> 0 | D20: =B21-B20 -> 0 | F20: =G20*5% -> 0 | G20: =E21-E20 -> 0 | I20: =J20*5% -> 0 | J20: =H21-H20 -> 0 | L20: =M20*5% -> 0 | M20: =K21-K20 -> 0 | O20: =P20*5% -> 0 | P20: =N21-N20 -> 0 | R20: =S20*5% -> 0 | S20: =Q21-Q20 -> 0 | W20: Total H sup | Y20: =Y18 -> 0
W21: Pauses H sup | Z21: =Y18*5% -> 0
A22: Heures Sup | C22: =D22*5% -> 0 | D22: =B23-B22 -> 0 | F22: =G22*5% -> 0 | G22: =E23-E22 -> 0 | I22: =J22*5% -> 0 | J22: =H23-H22 -> 0 | L22: =M22*5% -> 0 | M22: =K23-K22 -> 0 | O22: =P22*5% -> 0 | P22: =N23-N22 -> 0 | R22: =S22*5% -> 0 | S22: =Q23-Q22 -> 0 | U22: =V22*5% -> 0 | V22: =T23-T22 -> 0 | W22: Absences | Y22: =D24+G24+J24+M24+P24+S24+V24 -> 0
W23: Retenue pause sur absence | Z23: =+Y22*5% -> 0
A24: Absences | B24: 0 | D24: =B24 -> 0 | E24: 0 | G24: =E24 -> 0 | H24: 0 | J24: =H24 -> 0 | K24: 0 | M24: =K24 -> 0 | N24: 0 | P24: =N24 -> 0 | Q24: 0 | S24: =Q24 -> 0 | T24: 0 | V24: =T24 -> 0 | W24: Dimanche 20% | Y24: =V18 -> 0
A25: ='domi trini paire'!B12 -> Sandrine Boiteau | B25: 0.375 | C25: =D25*5% -> 0.0125 | D25: =B26-B25 -> 0.25 | F25: =G25*5% -> 0 | G25: =E26-E25 -> 0 | H25: 0.35416667 | I25: =J25*5% -> 0.014583333 | J25: =H26-H25 -> 0.29166667 | K25: 0.58333333 | L25: =M25*5% -> 0.014583333 | M25: =K26-K25 -> 0.29166667 | O25: =P25*5% -> 0 | P25: =N26-N25 -> 0 | R25: =S25*5% -> 0 | S25: =Q26-Q25 -> 0 | U25: =V25*5% -> 0 | V25: =T26-T25 -> 0 | W25: =SUM(D25+D27+G25+G27+J25+J27+M25+M27+P25+P27+S25+S27+V25+D29+G29+J29+M29+P29+V29) -> 1.4583333 | X25: 1.4583333 | Y25: =W25-X25 -> 0 | Z25: =C25+C27+F25+F27+I25+I27+L25+L27+O25+O27+R25+R27+U25 -> 0.072916667
B26: 0.625 | H26: 0.64583333 | K26: 0.875
C27: =D27*5% -> 0 | D27: =B28-B27 -> 0 | E27: 0.5625 | F27: =G27*5% -> 0.016666667 | G27: =E28-E27 -> 0.33333333 | I27: =J27*5% -> 0 | J27: =H28-H27 -> 0 | L27: =M27*5% -> 0 | M27: =K28-K27 -> 0 | O27: =P27*5% -> 0 | P27: =N28-N27 -> 0 | Q27: 0.60416667 | R27: =S27*5% -> 0.014583333 | S27: =Q28-Q27 -> 0.29166667 | W27: Total H sup | Y27: =Y25 -> 0
E28: 0.89583333 | Q28: 0.89583333 | W28: Pauses H sup | Z28: =Y25*5% -> 0
A29: Heures Sup | C29: =D29*5% -> 0 | D29: =B30-B29 -> 0 | F29: =G29*5% -> 0 | G29: =E30-E29 -> 0 | I29: =J29*5% -> 0 | J29: =H30-H29 -> 0 | L29: =M29*5% -> 0 | M29: =K30-K29 -> 0 | O29: =P29*5% -> 0 | P29: =N30-N29 -> 0 | R29: =S29*5% -> 0 | S29: =Q30-Q29 -> 0 | U29: =V29*5% -> 0 | V29: =T30-T29 -> 0 | W29: Absences | Y29: =D31+G31+J31+M31+P31+S31+V31 -> 0
W30: Retenue pause sur absence | Z30: =+Y29*5% -> 0
A31: Absences | D31: =B31 -> 0 | G31: =E31 -> 0 | J31: =H31 -> 0 | M31: =K31 -> 0 | P31: =N31 -> 0 | S31: =Q31 -> 0 | V31: =T31 -> 0 | W31: Dimanche 20% | Y31: =V25 -> 0
A32: ='domi trini paire'!B13 -> Christelle Oeur | B32: 0.3125 | C32: =D32*5% -> 0.0125 | D32: =B33-B32 -> 0.25 | E32: 0.3125 | F32: =G32*5% -> 0.0125 | G32: =E33-E32 -> 0.25 | H32: 0.3125 | I32: =J32*5% -> 0.0125 | J32: =H33-H32 -> 0.25 | K32: 0.3125 | L32: =M32*5% -> 0.0125 | M32: =K33-K32 -> 0.25 | N32: 0.3125 | O32: =P32*5% -> 0.0125 | P32: =N33-N32 -> 0.25 | Q32: 0.3125 | R32: =S32*5% -> 0.0125 | S32: =Q33-Q32 -> 0.25 | U32: =V32*5% -> 0 | V32: =T33-T32 -> 0 | W32: =SUM(D32+D34+G32+G34+J32+J34+M32+M34+P32+P34+S32+S34+V32+D36+G36+J36+M36+P36+V36) -> 1.5 | X32: 1.5 | Y32: =W32-X32 -> 0 | Z32: =C32+C34+F32+F34+I32+I34+L32+L34+O32+O34+R32+R34+U32 -> 0.075
B33: 0.5625 | E33: 0.5625 | H33: 0.5625 | K33: 0.5625 | N33: 0.5625 | Q33: 0.5625
C34: =D34*5% -> 0 | D34: =B35-B34 -> 0 | F34: =G34*5% -> 0 | G34: =E35-E34 -> 0 | I34: =J34*5% -> 0 | J34: =H35-H34 -> 0 | L34: =M34*5% -> 0 | M34: =K35-K34 -> 0 | O34: =P34*5% -> 0 | P34: =N35-N34 -> 0 | R34: =S34*5% -> 0 | S34: =Q35-Q34 -> 0 | W34: Total H sup | Y34: =Y32 -> 0
W35: Pauses H sup | Z35: =Y32*5% -> 0
A36: Heures Sup | C36: =D36*5% -> 0 | D36: =B37-B36 -> 0 | F36: =G36*5% -> 0 | G36: =E37-E36 -> 0 | I36: =J36*5% -> 0 | J36: =H37-H36 -> 0 | L36: =M36*5% -> 0 | M36: =K37-K36 -> 0 | O36: =P36*5% -> 0 | P36: =N37-N36 -> 0 | R36: =S36*5% -> 0 | S36: =Q37-Q36 -> 0 | U36: =V36*5% -> 0 | V36: =T37-T36 -> 0 | W36: Absences | Y36: =D38+G38+J38+M38+P38+S38+V38 -> 0
W37: Retenue pause sur absence | Z37: =+Y36*5% -> 0
A38: Absences | B38: 0 | D38: =B38 -> 0 | E38: 0 | G38: =E38 -> 0 | H38: 0 | J38: =H38 -> 0 | K38: 0 | M38: =K38 -> 0 | N38: 0 | P38: =N38 -> 0 | Q38: 0 | S38: =Q38 -> 0 | T38: 0 | V38: =T38 -> 0 | W38: Dimanche 20% | Y38: =V32 -> 0
A39: ='domi trini paire'!B14 -> Liliana | C39: =D39*5% -> 0 | D39: =B40-B39 -> 0 | E39: 0.33333333 | F39: =G39*5% -> 0.010416667 | G39: =E40-E39 -> 0.20833333 | H39: 0.58333333 | I39: =J39*5% -> 0.014583333 | J39: =H40-H39 -> 0.29166667 | K39: 0.33333333 | L39: =M39*5% -> 0.0083333333 | M39: =K40-K39 -> 0.16666667 | O39: =P39*5% -> 0 | P39: =N40-N39 -> 0 | Q39: 0.33333333 | R39: =S39*5% -> 0.0083333333 | S39: =Q40-Q39 -> 0.16666667 | U39: =V39*5% -> 0 | V39: =T40-T39 -> 0 | W39: =SUM(D39+D41+G39+G41+J39+J41+M39+M41+P39+P41+S39+S41+V39+D43+G43+J43+M43+P43+V43) -> 2.125 | X39: 1.75 | Y39: =W39-X39 -> 0.375 | Z39: =C39+C41+F39+F41+I39+I41+L39+L41+O39+O41+R39+R41+U39 -> 0.10625
E40: 0.54166667 | H40: 0.875 | K40: 0.5 | Q40: 0.5
...
