Workbook

Sheet Liste
A1: OUI
A2: NON
A3: TRACE

Sheet ALLERGENES
A1: Ingrédients | B1: Céréales contenant du gluten | C1: Crustacés | D1: Œufs | E1: Poissons | F1: Lupin | G1: Lait | H1: Mollusques | I1: Moutarde | J1: Fruit à coques | K1: Arachide | L1: Sésame | M1: Soja | N1: Anhydride sulfureux et sulfites | O1: Céleri
A2: Bun's REF1 | B2: OUI | C2: NON | D2: OUI | E2: OUI | F2: NON | G2: TRACE | H2: NON | I2: NON | J2: NON | K2: NON | L2: NON | M2: NON | N2: NON | O2: OUI
A3: Bun's REF 2 | B3: NON | C3: NON | D3: OUI | E3: OUI | F3: NON | G3: TRACE | H3: NON | I3: NON | J3: NON | K3: NON | L3: NON | M3: NON | N3: NON | O3: OUI
A4: Steak haché | B4: NON | C4: NON | D4: OUI | E4: OUI | F4: NON | G4: TRACE | H4: NON | I4: OUI | J4: NON | K4: NON | L4: NON | M4: NON | N4: NON | O4: OUI
A5: Poulet pané surgelé | B5: NON | C5: NON | D5: OUI | E5: OUI | F5: NON | G5: TRACE | H5: NON | I5: NON | J5: NON | K5: NON | L5: NON | M5: NON | N5: NON | O5: OUI
A6: Tomate fraiche | B6: NON | C6: NON | D6: OUI | E6: OUI | F6: NON | G6: TRACE | H6: NON | I6: NON | J6: NON | K6: NON | L6: NON | M6: NON | N6: NON | O6: OUI
A7: Salade verte | B7: NON | C7: NON | D7: OUI | E7: OUI | F7: NON | G7: TRACE | H7: NON | I7: NON | J7: NON | K7: NON | L7: NON | M7: NON | N7: NON | O7: OUI
A8: Vache qui rit | B8: NON | C8: NON | D8: NON | E8: NON | F8: NON | G8: OUI | H8: NON | I8: NON | J8: NON | K8: NON | L8: NON | M8: NON | N8: NON | O8: OUI
A9: Cheddar en tranche REF1 | B9: NON | C9: NON | D9: OUI | E9: OUI | F9: NON | G9: TRACE | H9: NON | I9: NON | J9: NON | K9: NON | L9: NON | M9: NON | N9: NON | O9: OUI
A10: Agneau épicé surgelé | B10: NON | C10: NON | D10: OUI | E10: OUI | F10: NON | G10: TRACE | H10: NON | I10: NON | J10: NON | K10: NON | L10: NON | M10: NON | N10: NON | O10: OUI
A11: Viande Kebab surgelée | B11: NON | C11: NON | D11: OUI | E11: OUI | F11: NON | G11: TRACE | H11: NON | I11: NON | J11: NON | K11: NON | L11: NON | M11: NON | N11: NON | O11: OUI
A12: Ingrédient 11 | B12: NON
A13: Ingrédient 12
A14: Ingrédient 13
A15: Ingrédient 14
A16: Ingrédient 15
A17: Ingrédient 16
A18: Ingrédient 17
A19: Ingrédient 18
A20: Ingrédient 19
A21: Ingrédient 20
A22: Ingrédient 21
A23: Ingrédient 22
A24: Ingrédient 23
... A37: Ingrédient 36

Sheet INGREDIENTS
A1: Ingrédients | B1: Burger poulet | C1: Burger bœuf | D1: Burger agneau | E1: Plat 4 | F1: Plat 5 | G1: Plat 6 | H1: Plat 7 | I1: Plat 8 | J1: Plat 9 | K1: Plat 10 | L1: Plat 11 | M1: Plat 12 | N1: Plat 13 | O1: Plat 14
A2: =ALLERGENES!A2 -> Bun's REF1 | B2: OUI | C2: NON
A3: =ALLERGENES!A3 -> Bun's REF 2 | B3: NON | C3: OUI | D3: OUI
A4: =ALLERGENES!A4 -> Steak haché | B4: NON | C4: OUI
A5: =ALLERGENES!A5 -> Poulet pané surgelé | B5: OUI | C5: NON
A6: =ALLERGENES!A6 -> Tomate fraiche | B6: OUI | C6: OUI
A7: =ALLERGENES!A7 -> Salade verte | B7: OUI | C7: OUI
A8: =ALLERGENES!A8 -> Vache qui rit | B8: OUI | C8: NON | D8: OUI
A9: =ALLERGENES!A9 -> Cheddar en tranche REF1 | B9: NON | C9: OUI | D9: OUI
A10: =ALLERGENES!A10 -> Agneau épicé surgelé | B10: NON | C10: NON | D10: OUI
A11: =ALLERGENES!A11 -> Viande Kebab surgelée | B11: NON | C11: NON
A12: =ALLERGENES!A12 -> Ingrédient 11
A13: =ALLERGENES!A13 -> Ingrédient 12
A14: =ALLERGENES!A14 -> Ingrédient 13
A15: =ALLERGENES!A15 -> Ingrédient 14
A16: =ALLERGENES!A16 -> Ingrédient 15
A17: =ALLERGENES!A17 -> Ingrédient 16
A18: =ALLERGENES!A18 -> Ingrédient 17
A19: =ALLERGENES!A19 -> Ingrédient 18
A20: =ALLERGENES!A20 -> Ingrédient 19
A21: =ALLERGENES!A21 -> Ingrédient 20
A22: =ALLERGENES!A22 -> Ingrédient 21
A23: =ALLERGENES!A23 -> Ingrédient 22
... A37: =ALLERGENES!A37 -> Ingrédient 36

Sheet PLATS
B1: =ALLERGENES!B1 -> Céréales contenant du gluten | C1: =ALLERGENES!C1 -> Crustacés | D1: =ALLERGENES!D1 -> Œufs | E1: =ALLERGENES!E1 -> Poissons | F1: =ALLERGENES!F1 -> Lupin | G1: =ALLERGENES!G1 -> Lait | H1: =ALLERGENES!H1 -> Mollusques | I1: =ALLERGENES!I1 -> Moutarde | ... O1: =ALLERGENES!O1 -> Céleri
A2: =INGREDIENTS!B1 -> Burger poulet | B2: {=IF(SUMPRODUCT((INGREDIENTS!$B$2:$Z$2="OUI")*((ALLERGENES!$B$2:$B$50="OUI")+(ALLERGENES!$B$2:$B$50="TRACE")))>0,"OUI","NON")} -> OUI | C2: {=IF(SUMPRODUCT((INGREDIENTS!$B$2:$Z$2="OUI")*((ALLERGENES!$C$2:$C$50="OUI")+(ALLERGENES!$C$2:$C$50="TRACE")))>0,"OUI","NON")} -> NON | D2: {=IF(SUMPRODUCT((INGREDIENTS!$B$2:$Z$2="OUI")*((ALLERGENES!$C$2:$C$50="OUI")+(ALLERGENES!$C$2:$C$50="TRACE")))>0,"OUI","NON")} -> NON | E2: {=IF(SUMPRODUCT((INGREDIENTS!$B$2:$Z$2="OUI")*((ALLERGENES!$C$2:$C$50="OUI")+(ALLERGENES!$C$2:$C$50="TRACE")))>0,"OUI","NON")} -> NON | F2: {=IF(SUMPRODUCT((INGREDIENTS!$B$2:$Z$2="OUI")*((ALLERGENES!$C$2:$C$50="OUI")+(ALLERGENES!$C$2:$C$50="TRACE")))>0,"OUI","NON")} -> NON | G2: {=IF(SUMPRODUCT((INGREDIENTS!$B$2:$Z$2="OUI")*((ALLERGENES!$C$2:$C$50="OUI")+(ALLERGENES!$C$2:$C$50="TRACE")))>0,"OUI","NON")} -> NON | H2: {=IF(SUMPRODUCT((INGREDIENTS!$B$2:$Z$2="OUI")*((ALLERGENES!$C$2:$C$50="OUI")+(ALLERGENES!$C$2:$C$50="TRACE")))>0,"OUI","NON")} -> NON | I2: {=IF(SUMPRODUCT((INGREDIENTS!$B$2:$Z$2="OUI")*((ALLERGENES!$C$2:$C$50="OUI")+(ALLERGENES!$C$2:$C$50="TRACE")))>0,"OUI","NON")} -> NON | J2: {=IF(SUMPRODUCT((INGREDIENTS!$B$2:$Z$2="OUI")*((ALLERGENES!$C$2:$C$50="OUI")+(ALLERGENES!$C$2:$C$50="TRACE")))>0,"OUI","NON")} -> NON | ... O2: {=IF(SUMPRODUCT((INGREDIENTS!$B$2:$Z$2="OUI")*((ALLERGENES!$C$2:$C$50="OUI")+(ALLERGENES!$C$2:$C$50="TRACE")))>0,"OUI","NON")} -> NON
A3: =INGREDIENTS!C1 -> Burger bœuf
A4: =INGREDIENTS!D1 -> Burger agneau
A5: =INGREDIENTS!E1 -> Plat 4
A6: =INGREDIENTS!F1 -> Plat 5
A7: =INGREDIENTS!G1 -> Plat 6
A8: =INGREDIENTS!H1 -> Plat 7
A9: =INGREDIENTS!I1 -> Plat 8
A10: =INGREDIENTS!J1 -> Plat 9
A11: =INGREDIENTS!K1 -> Plat 10
A12: =INGREDIENTS!L1 -> Plat 11
A13: =INGREDIENTS!M1 -> Plat 12
A14: =INGREDIENTS!N1 -> Plat 13
