Workbook
Name L_CP_Canal_com: PP_Canal22[Canal de communication]
Name L_CP_Canal_com: PP_Canal22[Canal de communication]
Name L_CP_Fréquence: CP_Fréquence[Fréquence]
Name L_CP_Fréquence: CP_Fréquence[Fréquence]
Name L_CP_Fréquence_com: PP_Fréquence21[Fréquence de communication]
Name L_CP_Fréquence_com: PP_Fréquence21[Fréquence de communication]
Name L_CP_Responsabilités: PP_Contributions20[Rôle]
Name L_CP_Responsabilités: PP_Contributions20[Rôle]
Name L_CP_Rôle: PP_Rôles19[Catégorie]
Name L_CP_Rôle: PP_Rôles19[Catégorie]
Name L_PA_RACI: Tableau7[Intervenants]
Name L_PA_RACI: Tableau7[Intervenants]
Name PA_RACI: Tableau7[[#All],[Intervenants]]
Name PA_RACI: Tableau7[[#All],[Intervenants]]
Name Plan_actions_Phases_Macro_planning: Tableau24[Phases]

Sheet RefData
A1: Charte de projet | H1: Plan d'actions
A2: Catégorie | B2: Rôle | C2: Fréquence de communication | D2: Canal de communication | E2: Fréquence | F2: Canal | H2: Intervenants | I2: Avancement | K2: 0.5
A3: Sponsor du projet | B3: Réaliser | C3: Journalière | D3: Réunions Teams | E3: Hebdomadaire | F3: Réunions Teams | H3: JPB | I3: 0
A4: Chef de projet | B4: Approuver | C4: Hebdomadaire | D4: Email | E4: Bi-mensuelle | H4: CJU | I4: 0.25
A5: Équipe projet | B5: Être consultés | C5: Bi-mensuelle | D5: Appels Teams | E5: Mensuelle | H5: AFO | I5: 0.5
A6: Contacts IT | B6: Être informés | C6: Mensuelle | D6: Messages Teams | E6: Bimestrielle | H6: SDE | I6: 0.75
A7: BRMs | B7: Réaliser et Approuver | C7: Bimestrielle | D7: N/A | E7: Trimestrielle | H7: Sponsor du projet | I7: 1
A8: Contacts métier | B8: Réaliser et Être consultés | C8: Trimestrielle | E8: Semestrielle | H8: Chef de projet
A9: Référents RGPD | B9: Réaliser et Être informés | C9: Semestrielle | E9: Annuelle | H9: Équipe projet
A10: Sponsors RGPD | B10: Approuver et Être consultés | C10: Annuelle | H10: Contacts IT
A11: Privacy Liaisons | B11: Approuver et Être informés | C11: En fonction des besoins | H11: BRMs
A12: Consultants externes | B12: Être consultés et Être informés | C12: À la livraison | H12: Contacts métier
A13: Référents IA | B13: Réaliser, Approuver et Être consultés | C13: N/A | H13: Référents RGPD
A14: Sponsors IA | B14: Réaliser, Approuver et Être informés | H14: Sponsors RGPD
A15: RMPs | B15: Réaliser, Être consultés et Être informés | H15: Privacy Liaisons
A16: Répondants OneTrust | B16: Approuver, Être consultés et Être informés | H16: Consultants externes
A17: Approbateurs OneTrust | B17: Réaliser, Approuver, Être consultés et Être informés | H17: Référents IA
A18: Gestionnaires des cookies | H18: Sponsors IA
A19: Contacts fournisseurs | H19: RMPs
H20: Répondants OneTrust
H21: Approbateurs OneTrust
H22: Gestionnaires des cookies
H23: Contacts fournisseurs

Sheet Sommaire
B2: GUIDE PRATIQUE - GESTION DE PROJETS
B3: Phase | C3: Ordre | D3: Livrable | E3: Format | F3: Obligatoire | G3: Évolution | H3: Objectif du document | I3: Lien
B4: Initialisation | C4: 1 | D4: Macro planning | E4: Excel | F4: Oui | G4: Non | H4: • Fournir une vue d'ensemble des grandes étapes, jalons et délais du projet • Orienter les décisions avant de passer à une planification plus détaillée | I4: Détails
B5: Initialisation | C5: 2 | D5: Charte de projet | E5: Excel | F5: Oui | G5: Oui | H5: • Formaliser le projet, définir clairement son objectif, sa portée et les parties prenantes • S’assurer que le projet est bien aligné avec les priorités stratégiques de l’organisation | I5: Détails
B6: Planification / Exécution | C6: 3 | D6: Plan d'actions | E6: Excel | F6: Oui | G6: Oui | H6: • Planifier chaque action à réaliser (inclus une matrice RACI) • Suivre l'avancement du projet (suivi opérationnel) | I6: Détails
B7: Planification / Exécution | C7: 4 | D7: Diagramme de GANTT | E7: Excel | F7: Non | G7: Oui | H7: • Suivre le projet (suivi graphique) • Représenter graphiquement les différentes actions à mener, leur durée et leur échéance | I7: Détails

Sheet Macro Planning
B1: Revenir au Sommaire
B3: Nom du projet | C3: Amé
B4: Chef de projet | C4: Nom du Chef de projet
B5: Date | C5: XX/XX/XX
B7: MACRO PLANNING - [NOM DU PROJET]
B8: Phases | C8: Date de début estimée | D8: Date de fin estimée | E8: Jours ouvrés | F8: Jalons clés
B9: INITIALISATION | C9: 45658 | D9: 45672 | E9: =IF(Tableau24[[#This Row],[Date de début estimée]]=0,"",Tableau24[[#This Row],[Date de fin estimée]]-Tableau24[[#This Row],[Date de début estimée]]+1) -> 15 | F9: Kick off
B10: PLANIFICATION | C10: 45690 | D10: 45703 | E10: =IF(Tableau24[[#This Row],[Date de début estimée]]=0,"",Tableau24[[#This Row],[Date de fin estimée]]-Tableau24[[#This Row],[Date de début estimée]]+1) -> 14 | F10: Validation du Plan projet
B11: EXÉCUTION - [Action macro 1] | C11: 45707 | D11: 45838 | E11: =IF(Tableau24[[#This Row],[Date de début estimée]]=0,"",Tableau24[[#This Row],[Date de fin estimée]]-Tableau24[[#This Row],[Date de début estimée]]+1) -> 132 | F11: Transmission des livrables
B12: EXÉCUTION - [Action macro 2] | C12: 45707 | D12: 45838 | E12: =IF(Tableau24[[#This Row],[Date de début estimée]]=0,"",Tableau24[[#This Row],[Date de fin estimée]]-Tableau24[[#This Row],[Date de début estimée]]+1) -> 132 | F12: Transmission des livrables
B13: EXÉCUTION - [Action macro 3] | C13: 45707 | D13: 45838 | E13: =IF(Tableau24[[#This Row],[Date de début estimée]]=0,"",Tableau24[[#This Row],[Date de fin estimée]]-Tableau24[[#This Row],[Date de début estimée]]+1) -> 132 | F13: Transmission des livrables
B14: EXÉCUTION - [Action macro 4] | C14: 45707 | D14: 45838 | E14: =IF(Tableau24[[#This Row],[Date de début estimée]]=0,"",Tableau24[[#This Row],[Date de fin estimée]]-Tableau24[[#This Row],[Date de début estimée]]+1) -> 132 | F14: Transmission des livrables
B15: CLÔTURE | C15: 45707 | D15: 45838 | E15: =IF(Tableau24[[#This Row],[Date de début estimée]]=0,"",Tableau24[[#This Row],[Date de fin estimée]]-Tableau24[[#This Row],[Date de début estimée]]+1) -> 132 | F15: Bilan de projet
B18: Estimations globales
B19: Début du projet | C19: =MIN(Tableau24[Date de début estimée]) -> 45658
B20: Clôture du projet | C20: =MAX(Tableau24[Date de fin estimée]) -> 45838
B21: Durée total estimée (en jours) | C21: =SUM(Tableau24[Jours ouvrés]) -> 689

Sheet Charte de projet
B1: Revenir au Sommaire
B2: Faites évoluer les listes ici
B3: CHARTE DE PROJET
B4: VERSION | D4: DATE D'APPROBATION
B5: VX | D5: XX/XX/XX
B6: INFORMATIONS GÉNÉRALES SUR LE PROJET
B7: NOM DU PROJET
B8: ='Macro Planning'!C3 -> Amé
B9: DATE DE DÉBUT PRÉVUE | D9: DATE DE CLÔTURE PRÉVUE
B10: ='Macro Planning'!C19 -> 45658 | D10: ='Macro Planning'!C20 -> 45838
B11: CHEF DE PROJET | D11: SPONSOR DU PROJET
B12: ='Macro Planning'!C4 -> Nom du Chef de projet | C12: XX@kpmg.fr | D12: XXXX | E12: XX@kpmg.fr
B13: APERÇU DU PROJET
B14: CONTEXTE | C14: Présentation de la situation actuelle, de l'opportunité et/ou du problème à résoudre, incluant les raisons pour lesquelles ce projet est lancé.
B15: ALIGNEMENT STRATÉGIQUE | C15: Démontrer comment le projet est aligné sur les objectifs stratégiques de KPMG.
B16: PÉRIMÈTRE | C16: Inclus : Description des fonctionnalités, des livrables et des résultats attendus qui seront inclus dans le projet.
C17: Exclus : Mention des éléments spécifiques qui ne seront pas couverts par le projet.
B18: OBJECTIFS | C18: Objectif 1 : Définition d'un objectif spécifique, mesurable, atteignable, réaliste et temporel (SMART).
C19: Objectif 2 : Définition d'un objectif spécifique, mesurable, atteignable, réaliste et temporel (SMART).
C20: Objectif 3 : Définition d'un objectif spécifique, mesurable, atteignable, réaliste et temporel (SMART).
B21: INDICATEURS DE PERFORMANCE (KPI) | C21: KPI 1 : Les critères quantitatifs et qualitatifs qui permettront de mesurer le succès du projet.
C22: KPI 2 : Les critères quantitatifs et qualitatifs qui permettront de mesurer le succès du projet.
B23: LIVRABLES | C23: Livrable 1 : Liste des principaux livrables qui seront produits dans le cadre du projet.
C24: Livrable 2 : Liste des principaux livrables qui seront produits dans le cadre du projet.
C25: Livrable 3 : Liste des principaux livrables qui seront produits dans le cadre du projet.
B26: PLANNING PRÉVISIONNEL
C27: Date de début | D27: Date de fin | E27: Durée en jours ouvrés
B28: ='Macro Planning'!B9 -> INITIALISATION | C28: ='Macro Planning'!C9 -> 45658 | D28: ='Macro Planning'!D9 -> 45672 | E28: ='Macro Planning'!E9 -> 15
B29: ='Macro Planning'!B10 -> PLANIFICATION | C29: ='Macro Planning'!C10 -> 45690 | D29: ='Macro Planning'!D10 -> 45703 | E29: ='Macro Planning'!E10 -> 14
B30: ='Macro Planning'!B11 -> EXÉCUTION - [Action macro 1] | C30: ='Macro Planning'!C11 -> 45707 | D30: ='Macro Planning'!D11 -> 45838 | E30: ='Macro Planning'!E11 -> 132
B31: ='Macro Planning'!B12 -> EXÉCUTION - [Action macro 2] | C31: ='Macro Planning'!C12 -> 45707 | D31: ='Macro Planning'!D12 -> 45838 | E31: ='Macro Planning'!E12 -> 132
B32: ='Macro Planning'!B13 -> EXÉCUTION - [Action macro 3] | C32: ='Macro Planning'!C13 -> 45707 | D32: ='Macro Planning'!D13 -> 45838 | E32: ='Macro Planning'!E13 -> 132
B33: ='Macro Planning'!B14 -> EXÉCUTION - [Action macro 4] | C33: ='Macro Planning'!C14 -> 45707 | D33: ='Macro Planning'!D14 -> 45838 | E33: ='Macro Planning'!E14 -> 132
B34: ='Macro Planning'!B15 -> CLÔTURE | C34: ='Macro Planning'!C15 -> 45707 | D34: ='Macro Planning'!D15 -> 45838 | E34: ='Macro Planning'!E15 -> 132
B35: PARTIES PRENANTES
B36: Catégorie | C36: Rôle | D36: Fréquence de communication | E36: Canal de communication
B37: Chef de projet | C37: Réaliser | D37: N/A | E37: N/A
B38: Équipe projet | C38: Être informés | D38: Mensuelle | E38: Email
B47: GOUVERNANCE
C48: Participants | D48: Fréquence | E48: Canal de communication
B49: Comité de pilotage
B50: Comité de projet

Sheet Plan d'actions
B1: Revenir au Sommaire
B2: Faites évoluer les listes ici
B4: Nom du projet | C4: Nom du Projet
B5: Chef de projet | C5: Nom du Chef de projet
B6: Version | C6: VX
B7: Date | C7: XX/XX/XX
B9: PLAN D'ACTIONS - [NOM DU PROJET]
B10: ACTION | D10: PLANIFICATION | G10: SUIVI | K10: AVANCEMENT | O10: INTERVENANTS
B11: #Action* | C11: Détail* | D11: Date de début estimée* | E11: Deadline* | F11: Jours ouvrés estimés | G11: Date de début effective* | H11: Date de fin effective* | I11: Jours ouvrés restants | J11: Jours ouvrés effectifs | K11: Statut | L11: Avancement (%) | M11: Info | N11: Commentaires* | O11: Réalisateur* | P11: Contributeur*
B12: 1 | F12: =IF(OR(Tableau2482473[[#This Row],[Date de début estimée*]]="",Tableau2482473[[#This Row],[Deadline*]]=""),"N/A",IF(Tableau2482473[[#This Row],[Deadline*]]<Tableau2482473[[#This Row],[Date de début estimée*]],"Erreur dates",IF(Tableau2482473[[#This Row],[Deadline*]]="","",NETWORKDAYS(Tableau2482473[[#This Row],[Date de début estimée*]],Tableau2482473[[#This Row],[Deadline*]])))) -> N/A | I12: =IF(Tableau2482473[[#This Row],[Deadline*]]="","",NETWORKDAYS(TODAY(),Tableau2482473[[#This Row],[Deadline*]])) | J12: =IF(OR(Tableau2482473[[#This Row],[Date de début effective*]]="",Tableau2482473[[#This Row],[Date de fin effective*]]=""),"N/A",IF(Tableau2482473[[#This Row],[Date de fin effective*]]<Tableau2482473[[#This Row],[Date de début effective*]],"Erreur dates",IF(Tableau2482473[[#This Row],[Date de fin effective*]]="","",NETWORKDAYS(Tableau2482473[[#This Row],[Date de début effective*]],Tableau2482473[[#This Row],[Date de fin effective*]])))) -> N/A | K12: {=_xlfn.IFS(OR(Tableau2482473[[#This Row],[Deadline*]]="",Tableau2482473[[#This Row],[Date de début effective*]]=""),"Pas commencé",Tableau2482473[[#This Row],[Date de fin effective*]]="","En cours",Tableau2482473[[#This Row],[Date de fin effective*]]<>"","Terminé")} -> Pas commencé | L12: {=_xlfn.IFS(OR(Tableau2482473[[#This Row],[Deadline*]]="",Tableau2482473[[#This Row],[Date de début effective*]]=""),0%,Tableau2482473[[#This Row],[Date de fin effective*]]="","Saisir %",Tableau2482473[[#This Row],[Date de fin effective*]]<>"",100%)} -> 0 | M12: {=_xlfn.IFS(Tableau2482473[[#This Row],[Deadline*]]="","Saisir deadline",AND(Tableau2482473[[#This Row],[Deadline*]]<TODAY(),Tableau2482473[[#This Row],[Date de fin effective*]]=""),"En retard",AND(Tableau2482473[[#This Row],[Date de début effective*]]="",Tableau2482473[[#This Row],[Date de fin effective*]]=""),"RAS",Tableau2482473[[#This Row],[Date de fin effective*]]="","RAS",Tableau2482473[[#This Row],[Deadline*]]=Tableau2482473[[#This Row],[Date de fin effective*]],"Délai respecté",Tableau2482473[[#This Row],[Deadline*]]<Tableau2482473[[#This Row],[Date de fin effective*]],"En retard",Tableau2482473[[#This Row],[Deadline*]]>Tableau2482473[[#This Row],[Date de fin effective*]],"En avance")} -> Saisir deadline
B13: 2 | F13: =IF(OR(Tableau2482473[[#This Row],[Date de début estimée*]]="",Tableau2482473[[#This Row],[Deadline*]]=""),"N/A",IF(Tableau2482473[[#This Row],[Deadline*]]<Tableau2482473[[#This Row],[Date de début estimée*]],"Erreur dates",IF(Tableau2482473[[#This Row],[Deadline*]]="","",NETWORKDAYS(Tableau2482473[[#This Row],[Date de début estimée*]],Tableau2482473[[#This Row],[Deadline*]])))) -> N/A | I13: =IF(Tableau2482473[[#This Row],[Deadline*]]="","",NETWORKDAYS(TODAY(),Tableau2482473[[#This Row],[Deadline*]])) | J13: =IF(OR(Tableau2482473[[#This Row],[Date de début effective*]]="",Tableau2482473[[#This Row],[Date de fin effective*]]=""),"N/A",IF(Tableau2482473[[#This Row],[Date de fin effective*]]<Tableau2482473[[#This Row],[Date de début effective*]],"Erreur dates",IF(Tableau2482473[[#This Row],[Date de fin effective*]]="","",NETWORKDAYS(Tableau2482473[[#This Row],[Date de début effective*]],Tableau2482473[[#This Row],[Date de fin effective*]])))) -> N/A | K13: {=_xlfn.IFS(OR(Tableau2482473[[#This Row],[Deadline*]]="",Tableau2482473[[#This Row],[Date de début effective*]]=""),"Pas commencé",Tableau2482473[[#This Row],[Date de fin effective*]]="","En cours",Tableau2482473[[#This Row],[Date de fin effective*]]<>"","Terminé")} -> Pas commencé | L13: {=_xlfn.IFS(OR(Tableau2482473[[#This Row],[Deadline*]]="",Tableau2482473[[#This Row],[Date de début effective*]]=""),0%,Tableau2482473[[#This Row],[Date de fin effective*]]="","Saisir %",Tableau2482473[[#This Row],[Date de fin effective*]]<>"",100%)} -> 0 | M13: {=_xlfn.IFS(Tableau2482473[[#This Row],[Deadline*]]="","Saisir deadline",AND(Tableau2482473[[#This Row],[Deadline*]]<TODAY(),Tableau2482473[[#This Row],[Date de fin effective*]]=""),"En retard",AND(Tableau2482473[[#This Row],[Date de début effective*]]="",Tableau2482473[[#This Row],[Date de fin effective*]]=""),"RAS",Tableau2482473[[#This Row],[Date de fin effective*]]="","RAS",Tableau2482473[[#This Row],[Deadline*]]=Tableau2482473[[#This Row],[Date de fin effective*]],"Délai respecté",Tableau2482473[[#This Row],[Deadline*]]<Tableau2482473[[#This Row],[Date de fin effective*]],"En retard",Tableau2482473[[#This Row],[Deadline*]]>Tableau2482473[[#This Row],[Date de fin effective*]],"En avance")} -> Saisir deadline
B14: 3 | F14: =IF(OR(Tableau2482473[[#This Row],[Date de début estimée*]]="",Tableau2482473[[#This Row],[Deadline*]]=""),"N/A",IF(Tableau2482473[[#This Row],[Deadline*]]<Tableau2482473[[#This Row],[Date de début estimée*]],"Erreur dates",IF(Tableau2482473[[#This Row],[Deadline*]]="","",NETWORKDAYS(Tableau2482473[[#This Row],[Date de début estimée*]],Tableau2482473[[#This Row],[Deadline*]])))) -> N/A | I14: =IF(Tableau2482473[[#This Row],[Deadline*]]="","",NETWORKDAYS(TODAY(),Tableau2482473[[#This Row],[Deadline*]])) | J14: =IF(OR(Tableau2482473[[#This Row],[Date de début effective*]]="",Tableau2482473[[#This Row],[Date de fin effective*]]=""),"N/A",IF(Tableau2482473[[#This Row],[Date de fin effective*]]<Tableau2482473[[#This Row],[Date de début effective*]],"Erreur dates",IF(Tableau2482473[[#This Row],[Date de fin effective*]]="","",NETWORKDAYS(Tableau2482473[[#This Row],[Date de début effective*]],Tableau2482473[[#This Row],[Date de fin effective*]])))) -> N/A | K14: Abandonné | L14: {=_xlfn.IFS(OR(Tableau2482473[[#This Row],[Deadline*]]="",Tableau2482473[[#This Row],[Date de début effective*]]=""),0%,Tableau2482473[[#This Row],[Date de fin effective*]]="","Saisir %",Tableau2482473[[#This Row],[Date de fin effective*]]<>"",100%)} -> 0 | M14: {=_xlfn.IFS(Tableau2482473[[#This Row],[Deadline*]]="","Saisir deadline",AND(Tableau2482473[[#This Row],[Deadline*]]<TODAY(),Tableau2482473[[#This Row],[Date de fin effective*]]=""),"En retard",AND(Tableau2482473[[#This Row],[Date de début effective*]]="",Tableau2482473[[#This Row],[Date de fin effective*]]=""),"RAS",Tableau2482473[[#This Row],[Date de fin effective*]]="","RAS",Tableau2482473[[#This Row],[Deadline*]]=Tableau2482473[[#This Row],[Date de fin effective*]],"Délai respecté",Tableau2482473[[#This Row],[Deadline*]]<Tableau2482473[[#This Row],[Date de fin effective*]],"En retard",Tableau2482473[[#This Row],[Deadline*]]>Tableau2482473[[#This Row],[Date de fin effective*]],"En avance")} -> Saisir deadline
B15: 4 | F15: =IF(OR(Tableau2482473[[#This Row],[Date de début estimée*]]="",Tableau2482473[[#This Row],[Deadline*]]=""),"N/A",IF(Tableau2482473[[#This Row],[Deadline*]]<Tableau2482473[[#This Row],[Date de début estimée*]],"Erreur dates",IF(Tableau2482473[[#This Row],[Deadline*]]="","",NETWORKDAYS(Tableau2482473[[#This Row],[Date de début estimée*]],Tableau2482473[[#This Row],[Deadline*]])))) -> N/A | I15: =IF(Tableau2482473[[#This Row],[Deadline*]]="","",NETWORKDAYS(TODAY(),Tableau2482473[[#This Row],[Deadline*]])) | J15: =IF(OR(Tableau2482473[[#This Row],[Date de début effective*]]="",Tableau2482473[[#This Row],[Date de fin effective*]]=""),"N/A",IF(Tableau2482473[[#This Row],[Date de fin effective*]]<Tableau2482473[[#This Row],[Date de début effective*]],"Erreur dates",IF(Tableau2482473[[#This Row],[Date de fin effective*]]="","",NETWORKDAYS(Tableau2482473[[#This Row],[Date de début effective*]],Tableau2482473[[#This Row],[Date de fin effective*]])))) -> N/A | K15: En attente | L15: {=_xlfn.IFS(OR(Tableau2482473[[#This Row],[Deadline*]]="",Tableau2482473[[#This Row],[Date de début effective*]]=""),0%,Tableau2482473[[#This Row],[Date de fin effective*]]="","Saisir %",Tableau2482473[[#This Row],[Date de fin effective*]]<>"",100%)} -> 0 | M15: {=_xlfn.IFS(Tableau2482473[[#This Row],[Deadline*]]="","Saisir deadline",AND(Tableau2482473[[#This Row],[Deadline*]]<TODAY(),Tableau2482473[[#This Row],[Date de fin effective*]]=""),"En retard",AND(Tableau2482473[[#This Row],[Date de début effective*]]="",Tableau2482473[[#This Row],[Date de fin effective*]]=""),"RAS",Tableau2482473[[#This Row],[Date de fin effective*]]="","RAS",Tableau2482473[[#This Row],[Deadline*]]=Tableau2482473[[#This Row],[Date de fin effective*]],"Délai respecté",Tableau2482473[[#This Row],[Deadline*]]<Tableau2482473[[#This Row],[Date de fin effective*]],"En retard",Tableau2482473[[#This Row],[Deadline*]]>Tableau2482473[[#This Row],[Date de fin effective*]],"En avance")} -> Saisir deadline
B16: 5 | E16: 45631 | F16: =IF(OR(Tableau2482473[[#This Row],[Date de début estimée*]]="",Tableau2482473[[#This Row],[Deadline*]]=""),"N/A",IF(Tableau2482473[[#This Row],[Deadline*]]<Tableau2482473[[#This Row],[Date de début estimée*]],"Erreur dates",IF(Tableau2482473[[#This Row],[Deadline*]]="","",NETWORKDAYS(Tableau2482473[[#This Row],[Date de début estimée*]],Tableau2482473[[#This Row],[Deadline*]])))) -> N/A | G16: 45638 | I16: =IF(Tableau2482473[[#This Row],[Deadline*]]="","",NETWORKDAYS(TODAY(),Tableau2482473[[#This Row],[Deadline*]])) -> -2 | J16: =IF(OR(Tableau2482473[[#This Row],[Date de début effective*]]="",Tableau2482473[[#This Row],[Date de fin effective*]]=""),"N/A",IF(Tableau2482473[[#This Row],[Date de fin effective*]]<Tableau2482473[[#This Row],[Date de début effective*]],"Erreur dates",IF(Tableau2482473[[#This Row],[Date de fin effective*]]="","",NETWORKDAYS(Tableau2482473[[#This Row],[Date de début effective*]],Tableau2482473[[#This Row],[Date de fin effective*]])))) -> N/A | K16: {=_xlfn.IFS(OR(Tableau2482473[[#This Row],[Deadline*]]="",Tableau2482473[[#This Row],[Date de début effective*]]=""),"Pas commencé",Tableau2482473[[#This Row],[Date de fin effective*]]="","En cours",Tableau2482473[[#This Row],[Date de fin effective*]]<>"","Terminé")} -> En cours | L16: {=_xlfn.IFS(OR(Tableau2482473[[#This Row],[Deadline*]]="",Tableau2482473[[#This Row],[Date de début effective*]]=""),0%,Tableau2482473[[#This Row],[Date de fin effective*]]="","Saisir %",Tableau2482473[[#This Row],[Date de fin effective*]]<>"",100%)} -> Saisir % | M16: {=_xlfn.IFS(Tableau2482473[[#This Row],[Deadline*]]="","Saisir deadline",AND(Tableau2482473[[#This Row],[Deadline*]]<TODAY(),Tableau2482473[[#This Row],[Date de fin effective*]]=""),"En retard",AND(Tableau2482473[[#This Row],[Date de début effective*]]="",Tableau2482473[[#This Row],[Date de fin effective*]]=""),"RAS",Tableau2482473[[#This Row],[Date de fin effective*]]="","RAS",Tableau2482473[[#This Row],[Deadline*]]=Tableau2482473[[#This Row],[Date de fin effective*]],"Délai respecté",Tableau2482473[[#This Row],[Deadline*]]<Tableau2482473[[#This Row],[Date de fin effective*]],"En retard",Tableau2482473[[#This Row],[Deadline*]]>Tableau2482473[[#This Row],[Date de fin effective*]],"En avance")} -> En retard
B17: 6 | F17: =IF(OR(Tableau2482473[[#This Row],[Date de début estimée*]]="",Tableau2482473[[#This Row],[Deadline*]]=""),"N/A",IF(Tableau2482473[[#This Row],[Deadline*]]<Tableau2482473[[#This Row],[Date de début estimée*]],"Erreur dates",IF(Tableau2482473[[#This Row],[Deadline*]]="","",NETWORKDAYS(Tableau2482473[[#This Row],[Date de début estimée*]],Tableau2482473[[#This Row],[Deadline*]])))) -> N/A | I17: =IF(Tableau2482473[[#This Row],[Deadline*]]="","",NETWORKDAYS(TODAY(),Tableau2482473[[#This Row],[Deadline*]])) | J17: =IF(OR(Tableau2482473[[#This Row],[Date de début effective*]]="",Tableau2482473[[#This Row],[Date de fin effective*]]=""),"N/A",IF(Tableau2482473[[#This Row],[Date de fin effective*]]<Tableau2482473[[#This Row],[Date de début effective*]],"Erreur dates",IF(Tableau2482473[[#This Row],[Date de fin effective*]]="","",NETWORKDAYS(Tableau2482473[[#This Row],[Date de début effective*]],Tableau2482473[[#This Row],[Date de fin effective*]])))) -> N/A | K17: {=_xlfn.IFS(OR(Tableau2482473[[#This Row],[Deadline*]]="",Tableau2482473[[#This Row],[Date de début effective*]]=""),"Pas commencé",Tableau2482473[[#This Row],[Date de fin effective*]]="","En cours",Tableau2482473[[#This Row],[Date de fin effective*]]<>"","Terminé")} -> Pas commencé | L17: {=_xlfn.IFS(OR(Tableau2482473[[#This Row],[Deadline*]]="",Tableau2482473[[#This Row],[Date de début effective*]]=""),0%,Tableau2482473[[#This Row],[Date de fin effective*]]="","Saisir %",Tableau2482473[[#This Row],[Date de fin effective*]]<>"",100%)} -> 0 | M17: {=_xlfn.IFS(Tableau2482473[[#This Row],[Deadline*]]="","Saisir deadline",AND(Tableau2482473[[#This Row],[Deadline*]]<TODAY(),Tableau2482473[[#This Row],[Date de fin effective*]]=""),"En retard",AND(Tableau2482473[[#This Row],[Date de début effective*]]="",Tableau2482473[[#This Row],[Date de fin effective*]]=""),"RAS",Tableau2482473[[#This Row],[Date de fin effective*]]="","RAS",Tableau2482473[[#This Row],[Deadline*]]=Tableau2482473[[#This Row],[Date de fin effective*]],"Délai respecté",Tableau2482473[[#This Row],[Deadline*]]<Tableau2482473[[#This Row],[Date de fin effective*]],"En retard",Tableau2482473[[#This Row],[Deadline*]]>Tableau2482473[[#This Row],[Date de fin effective*]],"En avance")} -> Saisir deadline
B18: 7 | F18: =IF(OR(Tableau2482473[[#This Row],[Date de début estimée*]]="",Tableau2482473[[#This Row],[Deadline*]]=""),"N/A",IF(Tableau2482473[[#This Row],[Deadline*]]<Tableau2482473[[#This Row],[Date de début estimée*]],"Erreur dates",IF(Tableau2482473[[#This Row],[Deadline*]]="","",NETWORKDAYS(Tableau2482473[[#This Row],[Date de début estimée*]],Tableau2482473[[#This Row],[Deadline*]])))) -> N/A | I18: =IF(Tableau2482473[[#This Row],[Deadline*]]="","",NETWORKDAYS(TODAY(),Tableau2482473[[#This Row],[Deadline*]])) | J18: =IF(OR(Tableau2482473[[#This Row],[Date de début effective*]]="",Tableau2482473[[#This Row],[Date de fin effective*]]=""),"N/A",IF(Tableau2482473[[#This Row],[Date de fin effective*]]<Tableau2482473[[#This Row],[Date de début effective*]],"Erreur dates",IF(Tableau2482473[[#This Row],[Date de fin effective*]]="","",NETWORKDAYS(Tableau2482473[[#This Row],[Date de début effective*]],Tableau2482473[[#This Row],[Date de fin effective*]])))) -> N/A | K18: {=_xlfn.IFS(OR(Tableau2482473[[#This Row],[Deadline*]]="",Tableau2482473[[#This Row],[Date de début effective*]]=""),"Pas commencé",Tableau2482473[[#This Row],[Date de fin effective*]]="","En cours",Tableau2482473[[#This Row],[Date de fin effective*]]<>"","Terminé")} -> Pas commencé | L18: {=_xlfn.IFS(OR(Tableau2482473[[#This Row],[Deadline*]]="",Tableau2482473[[#This Row],[Date de début effective*]]=""),0%,Tableau2482473[[#This Row],[Date de fin effective*]]="","Saisir %",Tableau2482473[[#This Row],[Date de fin effective*]]<>"",100%)} -> 0 | M18: {=_xlfn.IFS(Tableau2482473[[#This Row],[Deadline*]]="","Saisir deadline",AND(Tableau2482473[[#This Row],[Deadline*]]<TODAY(),Tableau2482473[[#This Row],[Date de fin effective*]]=""),"En retard",AND(Tableau2482473[[#This Row],[Date de début effective*]]="",Tableau2482473[[#This Row],[Date de fin effective*]]=""),"RAS",Tableau2482473[[#This Row],[Date de fin effective*]]="","RAS",Tableau2482473[[#This Row],[Deadline*]]=Tableau2482473[[#This Row],[Date de fin effective*]],"Délai respecté",Tableau2482473[[#This Row],[Deadline*]]<Tableau2482473[[#This Row],[Date de fin effective*]],"En retard",Tableau2482473[[#This Row],[Deadline*]]>Tableau2482473[[#This Row],[Date de fin effective*]],"En avance")} -> Saisir deadline
B19: 8 | F19: =IF(OR(Tableau2482473[[#This Row],[Date de début estimée*]]="",Tableau2482473[[#This Row],[Deadline*]]=""),"N/A",IF(Tableau2482473[[#This Row],[Deadline*]]<Tableau2482473[[#This Row],[Date de début estimée*]],"Erreur dates",IF(Tableau2482473[[#This Row],[Deadline*]]="","",NETWORKDAYS(Tableau2482473[[#This Row],[Date de début estimée*]],Tableau2482473[[#This Row],[Deadline*]])))) -> N/A | I19: =IF(Tableau2482473[[#This Row],[Deadline*]]="","",NETWORKDAYS(TODAY(),Tableau2482473[[#This Row],[Deadline*]])) | J19: =IF(OR(Tableau2482473[[#This Row],[Date de début effective*]]="",Tableau2482473[[#This Row],[Date de fin effective*]]=""),"N/A",IF(Tableau2482473[[#This Row],[Date de fin effective*]]<Tableau2482473[[#This Row],[Date de début effective*]],"Erreur dates",IF(Tableau2482473[[#This Row],[Date de fin effective*]]="","",NETWORKDAYS(Tableau2482473[[#This Row],[Date de début effective*]],Tableau2482473[[#This Row],[Date de fin effective*]])))) -> N/A | K19: {=_xlfn.IFS(OR(Tableau2482473[[#This Row],[Deadline*]]="",Tableau2482473[[#This Row],[Date de début effective*]]=""),"Pas commencé",Tableau2482473[[#This Row],[Date de fin effective*]]="","En cours",Tableau2482473[[#This Row],[Date de fin effective*]]<>"","Terminé")} -> Pas commencé | L19: {=_xlfn.IFS(OR(Tableau2482473[[#This Row],[Deadline*]]="",Tableau2482473[[#This Row],[Date de début effective*]]=""),0%,Tableau2482473[[#This Row],[Date de fin effective*]]="","Saisir %",Tableau2482473[[#This Row],[Date de fin effective*]]<>"",100%)} -> 0 | M19: {=_xlfn.IFS(Tableau2482473[[#This Row],[Deadline*]]="","Saisir deadline",AND(Tableau2482473[[#This Row],[Deadline*]]<TODAY(),Tableau2482473[[#This Row],[Date de fin effective*]]=""),"En retard",AND(Tableau2482473[[#This Row],[Date de début effective*]]="",Tableau2482473[[#This Row],[Date de fin effective*]]=""),"RAS",Tableau2482473[[#This Row],[Date de fin effective*]]="","RAS",Tableau2482473[[#This Row],[Deadline*]]=Tableau2482473[[#This Row],[Date de fin effective*]],"Délai respecté",Tableau2482473[[#This Row],[Deadline*]]<Tableau2482473[[#This Row],[Date de fin effective*]],"En retard",Tableau2482473[[#This Row],[Deadline*]]>Tableau2482473[[#This Row],[Date de fin effective*]],"En avance")} -> Saisir deadline
B20: 9 | F20: =IF(OR(Tableau2482473[[#This Row],[Date de début estimée*]]="",Tableau2482473[[#This Row],[Deadline*]]=""),"N/A",IF(Tableau2482473[[#This Row],[Deadline*]]<Tableau2482473[[#This Row],[Date de début estimée*]],"Erreur dates",IF(Tableau2482473[[#This Row],[Deadline*]]="","",NETWORKDAYS(Tableau2482473[[#This Row],[Date de début estimée*]],Tableau2482473[[#This Row],[Deadline*]])))) -> N/A | I20: =IF(Tableau2482473[[#This Row],[Deadline*]]="","",NETWORKDAYS(TODAY(),Tableau2482473[[#This Row],[Deadline*]])) | J20: =IF(OR(Tableau2482473[[#This Row],[Date de début effective*]]="",Tableau2482473[[#This Row],[Date de fin effective*]]=""),"N/A",IF(Tableau2482473[[#This Row],[Date de fin effective*]]<Tableau2482473[[#This Row],[Date de début effective*]],"Erreur dates",IF(Tableau2482473[[#This Row],[Date de fin effective*]]="","",NETWORKDAYS(Tableau2482473[[#This Row],[Date de début effective*]],Tableau2482473[[#This Row],[Date de fin effective*]])))) -> N/A | K20: {=_xlfn.IFS(OR(Tableau2482473[[#This Row],[Deadline*]]="",Tableau2482473[[#This Row],[Date de début effective*]]=""),"Pas commencé",Tableau2482473[[#This Row],[Date de fin effective*]]="","En cours",Tableau2482473[[#This Row],[Date de fin effective*]]<>"","Terminé")} -> Pas commencé | L20: {=_xlfn.IFS(OR(Tableau2482473[[#This Row],[Deadline*]]="",Tableau2482473[[#This Row],[Date de début effective*]]=""),0%,Tableau2482473[[#This Row],[Date de fin effective*]]="","Saisir %",Tableau2482473[[#This Row],[Date de fin effective*]]<>"",100%)} -> 0 | M20: {=_xlfn.IFS(Tableau2482473[[#This Row],[Deadline*]]="","Saisir deadline",AND(Tableau2482473[[#This Row],[Deadline*]]<TODAY(),Tableau2482473[[#This Row],[Date de fin effective*]]=""),"En retard",AND(Tableau2482473[[#This Row],[Date de début effective*]]="",Tableau2482473[[#This Row],[Date de fin effective*]]=""),"RAS",Tableau2482473[[#This Row],[Date de fin effective*]]="","RAS",Tableau2482473[[#This Row],[Deadline*]]=Tableau2482473[[#This Row],[Date de fin effective*]],"Délai respecté",Tableau2482473[[#This Row],[Deadline*]]<Tableau2482473[[#This Row],[Date de fin effective*]],"En retard",Tableau2482473[[#This Row],[Deadline*]]>Tableau2482473[[#This Row],[Date de fin effective*]],"En avance")} -> Saisir deadline
B21: 10 | F21: =IF(OR(Tableau2482473[[#This Row],[Date de début estimée*]]="",Tableau2482473[[#This Row],[Deadline*]]=""),"N/A",IF(Tableau2482473[[#This Row],[Deadline*]]<Tableau2482473[[#This Row],[Date de début estimée*]],"Erreur dates",IF(Tableau2482473[[#This Row],[Deadline*]]="","",NETWORKDAYS(Tableau2482473[[#This Row],[Date de début estimée*]],Tableau2482473[[#This Row],[Deadline*]])))) -> N/A | I21: =IF(Tableau2482473[[#This Row],[Deadline*]]="","",NETWORKDAYS(TODAY(),Tableau2482473[[#This Row],[Deadline*]])) | J21: =IF(OR(Tableau2482473[[#This Row],[Date de début effective*]]="",Tableau2482473[[#This Row],[Date de fin effective*]]=""),"N/A",IF(Tableau2482473[[#This Row],[Date de fin effective*]]<Tableau2482473[[#This Row],[Date de début effective*]],"Erreur dates",IF(Tableau2482473[[#This Row],[Date de fin effective*]]="","",NETWORKDAYS(Tableau2482473[[#This Row],[Date de début effective*]],Tableau2482473[[#This Row],[Date de fin effective*]])))) -> N/A | K21: {=_xlfn.IFS(OR(Tableau2482473[[#This Row],[Deadline*]]="",Tableau2482473[[#This Row],[Date de début effective*]]=""),"Pas commencé",Tableau2482473[[#This Row],[Date de fin effective*]]="","En cours",Tableau2482473[[#This Row],[Date de fin effective*]]<>"","Terminé")} -> Pas commencé | L21: {=_xlfn.IFS(OR(Tableau2482473[[#This Row],[Deadline*]]="",Tableau2482473[[#This Row],[Date de début effective*]]=""),0%,Tableau2482473[[#This Row],[Date de fin effective*]]="","Saisir %",Tableau2482473[[#This Row],[Date de fin effective*]]<>"",100%)} -> 0 | M21: {=_xlfn.IFS(Tableau2482473[[#This Row],[Deadline*]]="","Saisir deadline",AND(Tableau2482473[[#This Row],[Deadline*]]<TODAY(),Tableau2482473[[#This Row],[Date de fin effective*]]=""),"En retard",AND(Tableau2482473[[#This Row],[Date de début effective*]]="",Tableau2482473[[#This Row],[Date de fin effective*]]=""),"RAS",Tableau2482473[[#This Row],[Date de fin effective*]]="","RAS",Tableau2482473[[#This Row],[Deadline*]]=Tableau2482473[[#This Row],[Date de fin effective*]],"Délai respecté",Tableau2482473[[#This Row],[Deadline*]]<Tableau2482473[[#This Row],[Date de fin effective*]],"En retard",Tableau2482473[[#This Row],[Deadline*]]>Tableau2482473[[#This Row],[Date de fin effective*]],"En avance")} -> Saisir deadline
B22: 11 | F22: =IF(OR(Tableau2482473[[#This Row],[Date de début estimée*]]="",Tableau2482473[[#This Row],[Deadline*]]=""),"N/A",IF(Tableau2482473[[#This Row],[Deadline*]]<Tableau2482473[[#This Row],[Date de début estimée*]],"Erreur dates",IF(Tableau2482473[[#This Row],[Deadline*]]="","",NETWORKDAYS(Tableau2482473[[#This Row],[Date de début estimée*]],Tableau2482473[[#This Row],[Deadline*]])))) -> N/A | I22: =IF(Tableau2482473[[#This Row],[Deadline*]]="","",NETWORKDAYS(TODAY(),Tableau2482473[[#This Row],[Deadline*]])) | J22: =IF(OR(Tableau2482473[[#This Row],[Date de début effective*]]="",Tableau2482473[[#This Row],[Date de fin effective*]]=""),"N/A",IF(Tableau2482473[[#This Row],[Date de fin effective*]]<Tableau2482473[[#This Row],[Date de début effective*]],"Erreur dates",IF(Tableau2482473[[#This Row],[Date de fin effective*]]="","",NETWORKDAYS(Tableau2482473[[#This Row],[Date de début effective*]],Tableau2482473[[#This Row],[Date de fin effective*]])))) -> N/A | K22: {=_xlfn.IFS(OR(Tableau2482473[[#This Row],[Deadline*]]="",Tableau2482473[[#This Row],[Date de début effective*]]=""),"Pas commencé",Tableau2482473[[#This Row],[Date de fin effective*]]="","En cours",Tableau2482473[[#This Row],[Date de fin effective*]]<>"","Terminé")} -> Pas commencé | L22: {=_xlfn.IFS(OR(Tableau2482473[[#This Row],[Deadline*]]="",Tableau2482473[[#This Row],[Date de début effective*]]=""),0%,Tableau2482473[[#This Row],[Date de fin effective*]]="","Saisir %",Tableau2482473[[#This Row],[Date de fin effective*]]<>"",100%)} -> 0 | M22: {=_xlfn.IFS(Tableau2482473[[#This Row],[Deadline*]]="","Saisir deadline",AND(Tableau2482473[[#This Row],[Deadline*]]<TODAY(),Tableau2482473[[#This Row],[Date de fin effective*]]=""),"En retard",AND(Tableau2482473[[#This Row],[Date de début effective*]]="",Tableau2482473[[#This Row],[Date de fin effective*]]=""),"RAS",Tableau2482473[[#This Row],[Date de fin effective*]]="","RAS",Tableau2482473[[#This Row],[Deadline*]]=Tableau2482473[[#This Row],[Date de fin effective*]],"Délai respecté",Tableau2482473[[#This Row],[Deadline*]]<Tableau2482473[[#This Row],[Date de fin effective*]],"En retard",Tableau2482473[[#This Row],[Deadline*]]>Tableau2482473[[#This Row],[Date de fin effective*]],"En avance")} -> Saisir deadline
B23: 12 | F23: =IF(OR(Tableau2482473[[#This Row],[Date de début estimée*]]="",Tableau2482473[[#This Row],[Deadline*]]=""),"N/A",IF(Tableau2482473[[#This Row],[Deadline*]]<Tableau2482473[[#This Row],[Date de début estimée*]],"Erreur dates",IF(Tableau2482473[[#This Row],[Deadline*]]="","",NETWORKDAYS(Tableau2482473[[#This Row],[Date de début estimée*]],Tableau2482473[[#This Row],[Deadline*]])))) -> N/A | I23: =IF(Tableau2482473[[#This Row],[Deadline*]]="","",NETWORKDAYS(TODAY(),Tableau2482473[[#This Row],[Deadline*]])) | J23: =IF(OR(Tableau2482473[[#This Row],[Date de début effective*]]="",Tableau2482473[[#This Row],[Date de fin effective*]]=""),"N/A",IF(Tableau2482473[[#This Row],[Date de fin effective*]]<Tableau2482473[[#This Row],[Date de début effective*]],"Erreur dates",IF(Tableau2482473[[#This Row],[Date de fin effective*]]="","",NETWORKDAYS(Tableau2482473[[#This Row],[Date de début effective*]],Tableau2482473[[#This Row],[Date de fin effective*]])))) -> N/A | K23: {=_xlfn.IFS(OR(Tableau2482473[[#This Row],[Deadline*]]="",Tableau2482473[[#This Row],[Date de début effective*]]=""),"Pas commencé",Tableau2482473[[#This Row],[Date de fin effective*]]="","En cours",Tableau2482473[[#This Row],[Date de fin effective*]]<>"","Terminé")} -> Pas commencé | L23: {=_xlfn.IFS(OR(Tableau2482473[[#This Row],[Deadline*]]="",Tableau2482473[[#This Row],[Date de début effective*]]=""),0%,Tableau2482473[[#This Row],[Date de fin effective*]]="","Saisir %",Tableau2482473[[#This Row],[Date de fin effective*]]<>"",100%)} -> 0 | M23: {=_xlfn.IFS(Tableau2482473[[#This Row],[Deadline*]]="","Saisir deadline",AND(Tableau2482473[[#This Row],[Deadline*]]<TODAY(),Tableau2482473[[#This Row],[Date de fin effective*]]=""),"En retard",AND(Tableau2482473[[#This Row],[Date de début effective*]]="",Tableau2482473[[#This Row],[Date de fin effective*]]=""),"RAS",Tableau2482473[[#This Row],[Date de fin effective*]]="","RAS",Tableau2482473[[#This Row],[Deadline*]]=Tableau2482473[[#This Row],[Date de fin effective*]],"Délai respecté",Tableau2482473[[#This Row],[Deadline*]]<Tableau2482473[[#This Row],[Date de fin effective*]],"En retard",Tableau2482473[[#This Row],[Deadline*]]>Tableau2482473[[#This Row],[Date de fin effective*]],"En avance")} -> Saisir deadline
B24: 13 | F24: =IF(OR(Tableau2482473[[#This Row],[Date de début estimée*]]="",Tableau2482473[[#This Row],[Deadline*]]=""),"N/A",IF(Tableau2482473[[#This Row],[Deadline*]]<Tableau2482473[[#This Row],[Date de début estimée*]],"Erreur dates",IF(Tableau2482473[[#This Row],[Deadline*]]="","",NETWORKDAYS(Tableau2482473[[#This Row],[Date de début estimée*]],Tableau2482473[[#This Row],[Deadline*]])))) -> N/A | I24: =IF(Tableau2482473[[#This Row],[Deadline*]]="","",NETWORKDAYS(TODAY(),Tableau2482473[[#This Row],[Deadline*]])) | J24: =IF(OR(Tableau2482473[[#This Row],[Date de début effective*]]="",Tableau2482473[[#This Row],[Date de fin effective*]]=""),"N/A",IF(Tableau2482473[[#This Row],[Date de fin effective*]]<Tableau2482473[[#This Row],[Date de début effective*]],"Erreur dates",IF(Tableau2482473[[#This Row],[Date de fin effective*]]="","",NETWORKDAYS(Tableau2482473[[#This Row],[Date de début effective*]],Tableau2482473[[#This Row],[Date de fin effective*]])))) -> N/A | K24: {=_xlfn.IFS(OR(Tableau2482473[[#This Row],[Deadline*]]="",Tableau2482473[[#This Row],[Date de début effective*]]=""),"Pas commencé",Tableau2482473[[#This Row],[Date de fin effective*]]="","En cours",Tableau2482473[[#This Row],[Date de fin effective*]]<>"","Terminé")} -> Pas commencé | L24: {=_xlfn.IFS(OR(Tableau2482473[[#This Row],[Deadline*]]="",Tableau2482473[[#This Row],[Date de début effective*]]=""),0%,Tableau2482473[[#This Row],[Date de fin effective*]]="","Saisir %",Tableau2482473[[#This Row],[Date de fin effective*]]<>"",100%)} -> 0 | M24: {=_xlfn.IFS(Tableau2482473[[#This Row],[Deadline*]]="","Saisir deadline",AND(Tableau2482473[[#This Row],[Deadline*]]<TODAY(),Tableau2482473[[#This Row],[Date de fin effective*]]=""),"En retard",AND(Tableau2482473[[#This Row],[Date de début effective*]]="",Tableau2482473[[#This Row],[Date de fin effective*]]=""),"RAS",Tableau2482473[[#This Row],[Date de fin effective*]]="","RAS",Tableau2482473[[#This Row],[Deadline*]]=Tableau2482473[[#This Row],[Date de fin effective*]],"Délai respecté",Tableau2482473[[#This Row],[Deadline*]]<Tableau2482473[[#This Row],[Date de fin effective*]],"En retard",Tableau2482473[[#This Row],[Deadline*]]>Tableau2482473[[#This Row],[Date de fin effective*]],"En avance")} -> Saisir deadline
B25: 14 | F25: =IF(OR(Tableau2482473[[#This Row],[Date de début estimée*]]="",Tableau2482473[[#This Row],[Deadline*]]=""),"N/A",IF(Tableau2482473[[#This Row],[Deadline*]]<Tableau2482473[[#This Row],[Date de début estimée*]],"Erreur dates",IF(Tableau2482473[[#This Row],[Deadline*]]="","",NETWORKDAYS(Tableau2482473[[#This Row],[Date de début estimée*]],Tableau2482473[[#This Row],[Deadline*]])))) -> N/A | I25: =IF(Tableau2482473[[#This Row],[Deadline*]]="","",NETWORKDAYS(TODAY(),Tableau2482473[[#This Row],[Deadline*]])) | J25: =IF(OR(Tableau2482473[[#This Row],[Date de début effective*]]="",Tableau2482473[[#This Row],[Date de fin effective*]]=""),"N/A",IF(Tableau2482473[[#This Row],[Date de fin effective*]]<Tableau2482473[[#This Row],[Date de début effective*]],"Erreur dates",IF(Tableau2482473[[#This Row],[Date de fin effective*]]="","",NETWORKDAYS(Tableau2482473[[#This Row],[Date de début effective*]],Tableau2482473[[#This Row],[Date de fin effective*]])))) -> N/A | K25: {=_xlfn.IFS(OR(Tableau2482473[[#This Row],[Deadline*]]="",Tableau2482473[[#This Row],[Date de début effective*]]=""),"Pas commencé",Tableau2482473[[#This Row],[Date de fin effective*]]="","En cours",Tableau2482473[[#This Row],[Date de fin effective*]]<>"","Terminé")} -> Pas commencé | L25: {=_xlfn.IFS(OR(Tableau2482473[[#This Row],[Deadline*]]="",Tableau2482473[[#This Row],[Date de début effective*]]=""),0%,Tableau2482473[[#This Row],[Date de fin effective*]]="","Saisir %",Tableau2482473[[#This Row],[Date de fin effective*]]<>"",100%)} -> 0 | M25: {=_xlfn.IFS(Tableau2482473[[#This Row],[Deadline*]]="","Saisir deadline",AND(Tableau2482473[[#This Row],[Deadline*]]<TODAY(),Tableau2482473[[#This Row],[Date de fin effective*]]=""),"En retard",AND(Tableau2482473[[#This Row],[Date de début effective*]]="",Tableau2482473[[#This Row],[Date de fin effective*]]=""),"RAS",Tableau2482473[[#This Row],[Date de fin effective*]]="","RAS",Tableau2482473[[#This Row],[Deadline*]]=Tableau2482473[[#This Row],[Date de fin effective*]],"Délai respecté",Tableau2482473[[#This Row],[Deadline*]]<Tableau2482473[[#This Row],[Date de fin effective*]],"En retard",Tableau2482473[[#This Row],[Deadline*]]>Tableau2482473[[#This Row],[Date de fin effective*]],"En avance")} -> Saisir deadline
B26: 15 | F26: =IF(OR(Tableau2482473[[#This Row],[Date de début estimée*]]="",Tableau2482473[[#This Row],[Deadline*]]=""),"N/A",IF(Tableau2482473[[#This Row],[Deadline*]]<Tableau2482473[[#This Row],[Date de début estimée*]],"Erreur dates",IF(Tableau2482473[[#This Row],[Deadline*]]="","",NETWORKDAYS(Tableau2482473[[#This Row],[Date de début estimée*]],Tableau2482473[[#This Row],[Deadline*]])))) -> N/A | I26: =IF(Tableau2482473[[#This Row],[Deadline*]]="","",NETWORKDAYS(TODAY(),Tableau2482473[[#This Row],[Deadline*]])) | J26: =IF(OR(Tableau2482473[[#This Row],[Date de début effective*]]="",Tableau2482473[[#This Row],[Date de fin effective*]]=""),"N/A",IF(Tableau2482473[[#This Row],[Date de fin effective*]]<Tableau2482473[[#This Row],[Date de début effective*]],"Erreur dates",IF(Tableau2482473[[#This Row],[Date de fin effective*]]="","",NETWORKDAYS(Tableau2482473[[#This Row],[Date de début effective*]],Tableau2482473[[#This Row],[Date de fin effective*]])))) -> N/A | K26: {=_xlfn.IFS(OR(Tableau2482473[[#This Row],[Deadline*]]="",Tableau2482473[[#This Row],[Date de début effective*]]=""),"Pas commencé",Tableau2482473[[#This Row],[Date de fin effective*]]="","En cours",Tableau2482473[[#This Row],[Date de fin effective*]]<>"","Terminé")} -> Pas commencé | L26: {=_xlfn.IFS(OR(Tableau2482473[[#This Row],[Deadline*]]="",Tableau2482473[[#This Row],[Date de début effective*]]=""),0%,Tableau2482473[[#This Row],[Date de fin effective*]]="","Saisir %",Tableau2482473[[#This Row],[Date de fin effective*]]<>"",100%)} -> 0 | M26: {=_xlfn.IFS(Tableau2482473[[#This Row],[Deadline*]]="","Saisir deadline",AND(Tableau2482473[[#This Row],[Deadline*]]<TODAY(),Tableau2482473[[#This Row],[Date de fin effective*]]=""),"En retard",AND(Tableau2482473[[#This Row],[Date de début effective*]]="",Tableau2482473[[#This Row],[Date de fin effective*]]=""),"RAS",Tableau2482473[[#This Row],[Date de fin effective*]]="","RAS",Tableau2482473[[#This Row],[Deadline*]]=Tableau2482473[[#This Row],[Date de fin effective*]],"Délai respecté",Tableau2482473[[#This Row],[Deadline*]]<Tableau2482473[[#This Row],[Date de fin effective*]],"En retard",Tableau2482473[[#This Row],[Deadline*]]>Tableau2482473[[#This Row],[Date de fin effective*]],"En avance")} -> Saisir deadline
B27: 16 | F27: =IF(OR(Tableau2482473[[#This Row],[Date de début estimée*]]="",Tableau2482473[[#This Row],[Deadline*]]=""),"N/A",IF(Tableau2482473[[#This Row],[Deadline*]]<Tableau2482473[[#This Row],[Date de début estimée*]],"Erreur dates",IF(Tableau2482473[[#This Row],[Deadline*]]="","",NETWORKDAYS(Tableau2482473[[#This Row],[Date de début estimée*]],Tableau2482473[[#This Row],[Deadline*]])))) -> N/A | I27: =IF(Tableau2482473[[#This Row],[Deadline*]]="","",NETWORKDAYS(TODAY(),Tableau2482473[[#This Row],[Deadline*]])) | J27: =IF(OR(Tableau2482473[[#This Row],[Date de début effective*]]="",Tableau2482473[[#This Row],[Date de fin effective*]]=""),"N/A",IF(Tableau2482473[[#This Row],[Date de fin effective*]]<Tableau2482473[[#This Row],[Date de début effective*]],"Erreur dates",IF(Tableau2482473[[#This Row],[Date de fin effective*]]="","",NETWORKDAYS(Tableau2482473[[#This Row],[Date de début effective*]],Tableau2482473[[#This Row],[Date de fin effective*]])))) -> N/A | K27: {=_xlfn.IFS(OR(Tableau2482473[[#This Row],[Deadline*]]="",Tableau2482473[[#This Row],[Date de début effective*]]=""),"Pas commencé",Tableau2482473[[#This Row],[Date de fin effective*]]="","En cours",Tableau2482473[[#This Row],[Date de fin effective*]]<>"","Terminé")} -> Pas commencé | L27: {=_xlfn.IFS(OR(Tableau2482473[[#This Row],[Deadline*]]="",Tableau2482473[[#This Row],[Date de début effective*]]=""),0%,Tableau2482473[[#This Row],[Date de fin effective*]]="","Saisir %",Tableau2482473[[#This Row],[Date de fin effective*]]<>"",100%)} -> 0 | M27: {=_xlfn.IFS(Tableau2482473[[#This Row],[Deadline*]]="","Saisir deadline",AND(Tableau2482473[[#This Row],[Deadline*]]<TODAY(),Tableau2482473[[#This Row],[Date de fin effective*]]=""),"En retard",AND(Tableau2482473[[#This Row],[Date de début effective*]]="",Tableau2482473[[#This Row],[Date de fin effective*]]=""),"RAS",Tableau2482473[[#This Row],[Date de fin effective*]]="","RAS",Tableau2482473[[#This Row],[Deadline*]]=Tableau2482473[[#This Row],[Date de fin effective*]],"Délai respecté",Tableau2482473[[#This Row],[Deadline*]]<Tableau2482473[[#This Row],[Date de fin effective*]],"En retard",Tableau2482473[[#This Row],[Deadline*]]>Tableau2482473[[#This Row],[Date de fin effective*]],"En avance")} -> Saisir deadline
B28: 17 | F28: =IF(OR(Tableau2482473[[#This Row],[Date de début estimée*]]="",Tableau2482473[[#This Row],[Deadline*]]=""),"N/A",IF(Tableau2482473[[#This Row],[Deadline*]]<Tableau2482473[[#This Row],[Date de début estimée*]],"Erreur dates",IF(Tableau2482473[[#This Row],[Deadline*]]="","",NETWORKDAYS(Tableau2482473[[#This Row],[Date de début estimée*]],Tableau2482473[[#This Row],[Deadline*]])))) -> N/A | I28: =IF(Tableau2482473[[#This Row],[Deadline*]]="","",NETWORKDAYS(TODAY(),Tableau2482473[[#This Row],[Deadline*]])) | J28: =IF(OR(Tableau2482473[[#This Row],[Date de début effective*]]="",Tableau2482473[[#This Row],[Date de fin effective*]]=""),"N/A",IF(Tableau2482473[[#This Row],[Date de fin effective*]]<Tableau2482473[[#This Row],[Date de début effective*]],"Erreur dates",IF(Tableau2482473[[#This Row],[Date de fin effective*]]="","",NETWORKDAYS(Tableau2482473[[#This Row],[Date de début effective*]],Tableau2482473[[#This Row],[Date de fin effective*]])))) -> N/A | K28: {=_xlfn.IFS(OR(Tableau2482473[[#This Row],[Deadline*]]="",Tableau2482473[[#This Row],[Date de début effective*]]=""),"Pas commencé",Tableau2482473[[#This Row],[Date de fin effective*]]="","En cours",Tableau2482473[[#This Row],[Date de fin effective*]]<>"","Terminé")} -> Pas commencé | L28: {=_xlfn.IFS(OR(Tableau2482473[[#This Row],[Deadline*]]="",Tableau2482473[[#This Row],[Date de début effective*]]=""),0%,Tableau2482473[[#This Row],[Date de fin effective*]]="","Saisir %",Tableau2482473[[#This Row],[Date de fin effective*]]<>"",100%)} -> 0 | M28: {=_xlfn.IFS(Tableau2482473[[#This Row],[Deadline*]]="","Saisir deadline",AND(Tableau2482473[[#This Row],[Deadline*]]<TODAY(),Tableau2482473[[#This Row],[Date de fin effective*]]=""),"En retard",AND(Tableau2482473[[#This Row],[Date de début effective*]]="",Tableau2482473[[#This Row],[Date de fin effective*]]=""),"RAS",Tableau2482473[[#This Row],[Date de fin effective*]]="","RAS",Tableau2482473[[#This Row],[Deadline*]]=Tableau2482473[[#This Row],[Date de fin effective*]],"Délai respecté",Tableau2482473[[#This Row],[Deadline*]]<Tableau2482473[[#This Row],[Date de fin effective*]],"En retard",Tableau2482473[[#This Row],[Deadline*]]>Tableau2482473[[#This Row],[Date de fin effective*]],"En avance")} -> Saisir deadline
... B34: 23 | F34: =IF(OR(Tableau2482473[[#This Row],[Date de début estimée*]]="",Tableau2482473[[#This Row],[Deadline*]]=""),"N/A",IF(Tableau2482473[[#This Row],[Deadline*]]<Tableau2482473[[#This Row],[Date de début estimée*]],"Erreur dates",IF(Tableau2482473[[#This Row],[Deadline*]]="","",NETWORKDAYS(Tableau2482473[[#This Row],[Date de début estimée*]],Tableau2482473[[#This Row],[Deadline*]])))) -> N/A | I34: =IF(Tableau2482473[[#This Row],[Deadline*]]="","",NETWORKDAYS(TODAY(),Tableau2482473[[#This Row],[Deadline*]])) | J34: =IF(OR(Tableau2482473[[#This Row],[Date de début effective*]]="",Tableau2482473[[#This Row],[Date de fin effective*]]=""),"N/A",IF(Tableau2482473[[#This Row],[Date de fin effective*]]<Tableau2482473[[#This Row],[Date de début effective*]],"Erreur dates",IF(Tableau2482473[[#This Row],[Date de fin effective*]]="","",NETWORKDAYS(Tableau2482473[[#This Row],[Date de début effective*]],Tableau2482473[[#This Row],[Date de fin effective*]])))) -> N/A | K34: {=_xlfn.IFS(OR(Tableau2482473[[#This Row],[Deadline*]]="",Tableau2482473[[#This Row],[Date de début effective*]]=""),"Pas commencé",Tableau2482473[[#This Row],[Date de fin effective*]]="","En cours",Tableau2482473[[#This Row],[Date de fin effective*]]<>"","Terminé")} -> Pas commencé | L34: {=_xlfn.IFS(OR(Tableau2482473[[#This Row],[Deadline*]]="",Tableau2482473[[#This Row],[Date de début effective*]]=""),0%,Tableau2482473[[#This Row],[Date de fin effective*]]="","Saisir %",Tableau2482473[[#This Row],[Date de fin effective*]]<>"",100%)} -> 0 | M34: {=_xlfn.IFS(Tableau2482473[[#This Row],[Deadline*]]="","Saisir deadline",AND(Tableau2482473[[#This Row],[Deadline*]]<TODAY(),Tableau2482473[[#This Row],[Date de fin effective*]]=""),"En retard",AND(Tableau2482473[[#This Row],[Date de début effective*]]="",Tableau2482473[[#This Row],[Date de fin effective*]]=""),"RAS",Tableau2482473[[#This Row],[Date de fin effective*]]="","RAS",Tableau2482473[[#This Row],[Deadline*]]=Tableau2482473[[#This Row],[Date de fin effective*]],"Délai respecté",Tableau2482473[[#This Row],[Deadline*]]<Tableau2482473[[#This Row],[Date de fin effective*]],"En retard",Tableau2482473[[#This Row],[Deadline*]]>Tableau2482473[[#This Row],[Date de fin effective*]],"En avance")} -> Saisir deadline

Sheet GANTT
C1: Revenir au Sommaire
C3: Nom du projet | D3: Nom du Projet
C4: Chef de projet | D4: Nom du Chef de projet | E4: =AND($H12="En attente",$I12>0,J$10<=($E12+($F12-$E12)*$I12)-WEEKDAY(($E12+($F12-$E12)*$I12),2)+2,J$10>=$E12-WEEKDAY($E12,2)+2) -> FALSE | F4: =AND($H12="Terminé",J$10=$F12-WEEKDAY($F12,2)+2) -> FALSE | G4: =AND($I12>0,J$10<=($E12+($F12-$E12)*$I12)-WEEKDAY(($E12+($F12-$E12)*$I12),2)+2,J$10>=$E12-WEEKDAY($E12,2)+2) -> FALSE | H4: =AND(J$10>=$E12-(WEEKDAY($E12,2)+2),J$10<=$F12) -> FALSE | I4: =J$10=(TODAY()-WEEKDAY(TODAY(),2)+2) -> FALSE
C5: Date de début projet | D5: 45566
C6: Version | D6: VX
C7: Date | D7: XX/XX/XX
J8: =K10 -> 45573 | X8: =Y10 -> 45671 | AJ8: =AK10 -> 45755 | AW8: =AX10 -> 45846
J9: =K10 -> 45573 | O9: =P10 -> 45608 | S9: =T10 -> 45636 | X9: =Y10 -> 45671 | AB9: =AC10 -> 45699 | AF9: =AG10 -> 45727 | AJ9: =AK10 -> 45755 | AO9: =AP10 -> 45790 | AS9: =AT10 -> 45818 | AW9: =AX10 -> 45846 | BB9: =BC10 -> 45881 | BF9: =BG10 -> 45909
J10: =D5 -> 45566 | K10: =J10+7 -> 45573 | L10: =K10+7 -> 45580 | M10: =L10+7 -> 45587 | N10: =M10+7 -> 45594 | O10: =N10+7 -> 45601 | P10: =O10+7 -> 45608 | Q10: =P10+7 -> 45615 | R10: =Q10+7 -> 45622 | ... BJ10: =BI10+7 -> 45930
B11: # | C11: Action | D11: Assignée à | E11: Début | F11: Deadline | G11: Jours | H11: Statut | I11: Avancement
B12: ='Plan d''actions'!B12 -> 1 | C12: ='Plan d''actions'!C12 -> 0 | D12: ='Plan d''actions'!O12 -> 0 | E12: ='Plan d''actions'!D12 -> 0 | F12: ='Plan d''actions'!E12 -> 0 | G12: ='Plan d''actions'!F12 -> N/A | H12: ='Plan d''actions'!K12 -> Pas commencé | I12: =Tableau2482473[[#This Row],[Avancement (%)]] -> 0 | J12: =IF(J$10=($F12-WEEKDAY($F12,2)+2),"u","") | K12: =IF(K$10=($F12-WEEKDAY($F12,2)+2),"u","") | L12: =IF(L$10=($F12-WEEKDAY($F12,2)+2),"u","") | M12: =IF(M$10=($F12-WEEKDAY($F12,2)+2),"u","") | N12: =IF(N$10=($F12-WEEKDAY($F12,2)+2),"u","") | O12: =IF(O$10=($F12-WEEKDAY($F12,2)+2),"u","") | P12: =IF(P$10=($F12-WEEKDAY($F12,2)+2),"u","") | Q12: =IF(Q$10=($F12-WEEKDAY($F12,2)+2),"u","") | ... BJ12: =IF(BJ$10=($F12-WEEKDAY($F12,2)+2),"u","")
B13: ='Plan d''actions'!B13 -> 2 | C13: ='Plan d''actions'!C13 -> 0 | D13: ='Plan d''actions'!O13 -> 0 | E13: ='Plan d''actions'!D13 -> 0 | F13: ='Plan d''actions'!E13 -> 0 | G13: ='Plan d''actions'!F13 -> N/A | H13: ='Plan d''actions'!K13 -> Pas commencé | I13: =Tableau2482473[[#This Row],[Avancement (%)]] -> 0 | J13: =IF(J$10=($F13-WEEKDAY($F13,2)+2),"u","") | K13: =IF(K$10=($F13-WEEKDAY($F13,2)+2),"u","") | L13: =IF(L$10=($F13-WEEKDAY($F13,2)+2),"u","") | M13: =IF(M$10=($F13-WEEKDAY($F13,2)+2),"u","") | N13: =IF(N$10=($F13-WEEKDAY($F13,2)+2),"u","") | O13: =IF(O$10=($F13-WEEKDAY($F13,2)+2),"u","") | P13: =IF(P$10=($F13-WEEKDAY($F13,2)+2),"u","") | Q13: =IF(Q$10=($F13-WEEKDAY($F13,2)+2),"u","") | ... BJ13: =IF(BJ$10=($F13-WEEKDAY($F13,2)+2),"u","")
B14: ='Plan d''actions'!B14 -> 3 | C14: ='Plan d''actions'!C14 -> 0 | D14: ='Plan d''actions'!O14 -> 0 | E14: ='Plan d''actions'!D14 -> 0 | F14: ='Plan d''actions'!E14 -> 0 | G14: ='Plan d''actions'!F14 -> N/A | H14: ='Plan d''actions'!K14 -> Abandonné | I14: =Tableau2482473[[#This Row],[Avancement (%)]] -> 0 | J14: =IF(J$10=($F14-WEEKDAY($F14,2)+2),"u","") | K14: =IF(K$10=($F14-WEEKDAY($F14,2)+2),"u","") | L14: =IF(L$10=($F14-WEEKDAY($F14,2)+2),"u","") | M14: =IF(M$10=($F14-WEEKDAY($F14,2)+2),"u","") | N14: =IF(N$10=($F14-WEEKDAY($F14,2)+2),"u","") | O14: =IF(O$10=($F14-WEEKDAY($F14,2)+2),"u","") | P14: =IF(P$10=($F14-WEEKDAY($F14,2)+2),"u","") | Q14: =IF(Q$10=($F14-WEEKDAY($F14,2)+2),"u","") | ... BJ14: =IF(BJ$10=($F14-WEEKDAY($F14,2)+2),"u","")
B15: ='Plan d''actions'!B15 -> 4 | C15: ='Plan d''actions'!C15 -> 0 | D15: ='Plan d''actions'!O15 -> 0 | E15: ='Plan d''actions'!D15 -> 0 | F15: ='Plan d''actions'!E15 -> 0 | G15: ='Plan d''actions'!F15 -> N/A | H15: ='Plan d''actions'!K15 -> En attente | I15: =Tableau2482473[[#This Row],[Avancement (%)]] -> 0 | J15: =IF(J$10=($F15-WEEKDAY($F15,2)+2),"u","") | K15: =IF(K$10=($F15-WEEKDAY($F15,2)+2),"u","") | L15: =IF(L$10=($F15-WEEKDAY($F15,2)+2),"u","") | M15: =IF(M$10=($F15-WEEKDAY($F15,2)+2),"u","") | N15: =IF(N$10=($F15-WEEKDAY($F15,2)+2),"u","") | O15: =IF(O$10=($F15-WEEKDAY($F15,2)+2),"u","") | P15: =IF(P$10=($F15-WEEKDAY($F15,2)+2),"u","") | Q15: =IF(Q$10=($F15-WEEKDAY($F15,2)+2),"u","") | ... BJ15: =IF(BJ$10=($F15-WEEKDAY($F15,2)+2),"u","")
B16: ='Plan d''actions'!B16 -> 5 | C16: ='Plan d''actions'!C16 -> 0 | D16: ='Plan d''actions'!O16 -> 0 | E16: ='Plan d''actions'!D16 -> 0 | F16: ='Plan d''actions'!E16 -> 45631 | G16: ='Plan d''actions'!F16 -> N/A | H16: ='Plan d''actions'!K16 -> En cours | I16: =Tableau2482473[[#This Row],[Avancement (%)]] -> Saisir % | J16: =IF(J$10=($F16-WEEKDAY($F16,2)+2),"u","") | K16: =IF(K$10=($F16-WEEKDAY($F16,2)+2),"u","") | L16: =IF(L$10=($F16-WEEKDAY($F16,2)+2),"u","") | M16: =IF(M$10=($F16-WEEKDAY($F16,2)+2),"u","") | N16: =IF(N$10=($F16-WEEKDAY($F16,2)+2),"u","") | O16: =IF(O$10=($F16-WEEKDAY($F16,2)+2),"u","") | P16: =IF(P$10=($F16-WEEKDAY($F16,2)+2),"u","") | Q16: =IF(Q$10=($F16-WEEKDAY($F16,2)+2),"u","") | ... BJ16: =IF(BJ$10=($F16-WEEKDAY($F16,2)+2),"u","")
B17: ='Plan d''actions'!B17 -> 6 | C17: ='Plan d''actions'!C17 -> 0 | D17: ='Plan d''actions'!O17 -> 0 | E17: ='Plan d''actions'!D17 -> 0 | F17: ='Plan d''actions'!E17 -> 0 | G17: ='Plan d''actions'!F17 -> N/A | H17: ='Plan d''actions'!K17 -> Pas commencé | I17: =Tableau2482473[[#This Row],[Avancement (%)]] -> 0 | J17: =IF(J$10=($F17-WEEKDAY($F17,2)+2),"u","") | K17: =IF(K$10=($F17-WEEKDAY($F17,2)+2),"u","") | L17: =IF(L$10=($F17-WEEKDAY($F17,2)+2),"u","") | M17: =IF(M$10=($F17-WEEKDAY($F17,2)+2),"u","") | N17: =IF(N$10=($F17-WEEKDAY($F17,2)+2),"u","") | O17: =IF(O$10=($F17-WEEKDAY($F17,2)+2),"u","") | P17: =IF(P$10=($F17-WEEKDAY($F17,2)+2),"u","") | Q17: =IF(Q$10=($F17-WEEKDAY($F17,2)+2),"u","") | ... BJ17: =IF(BJ$10=($F17-WEEKDAY($F17,2)+2),"u","")
B18: ='Plan d''actions'!B18 -> 7 | C18: ='Plan d''actions'!C18 -> 0 | D18: ='Plan d''actions'!O18 -> 0 | E18: ='Plan d''actions'!D18 -> 0 | F18: ='Plan d''actions'!E18 -> 0 | G18: ='Plan d''actions'!F18 -> N/A | H18: ='Plan d''actions'!K18 -> Pas commencé | I18: =Tableau2482473[[#This Row],[Avancement (%)]] -> 0 | J18: =IF(J$10=($F18-WEEKDAY($F18,2)+2),"u","") | K18: =IF(K$10=($F18-WEEKDAY($F18,2)+2),"u","") | L18: =IF(L$10=($F18-WEEKDAY($F18,2)+2),"u","") | M18: =IF(M$10=($F18-WEEKDAY($F18,2)+2),"u","") | N18: =IF(N$10=($F18-WEEKDAY($F18,2)+2),"u","") | O18: =IF(O$10=($F18-WEEKDAY($F18,2)+2),"u","") | P18: =IF(P$10=($F18-WEEKDAY($F18,2)+2),"u","") | Q18: =IF(Q$10=($F18-WEEKDAY($F18,2)+2),"u","") | ... BJ18: =IF(BJ$10=($F18-WEEKDAY($F18,2)+2),"u","")
B19: ='Plan d''actions'!B19 -> 8 | C19: ='Plan d''actions'!C19 -> 0 | D19: ='Plan d''actions'!O19 -> 0 | E19: ='Plan d''actions'!D19 -> 0 | F19: ='Plan d''actions'!E19 -> 0 | G19: ='Plan d''actions'!F19 -> N/A | H19: ='Plan d''actions'!K19 -> Pas commencé | I19: =Tableau2482473[[#This Row],[Avancement (%)]] -> 0 | J19: =IF(J$10=($F19-WEEKDAY($F19,2)+2),"u","") | K19: =IF(K$10=($F19-WEEKDAY($F19,2)+2),"u","") | L19: =IF(L$10=($F19-WEEKDAY($F19,2)+2),"u","") | M19: =IF(M$10=($F19-WEEKDAY($F19,2)+2),"u","") | N19: =IF(N$10=($F19-WEEKDAY($F19,2)+2),"u","") | O19: =IF(O$10=($F19-WEEKDAY($F19,2)+2),"u","") | P19: =IF(P$10=($F19-WEEKDAY($F19,2)+2),"u","") | Q19: =IF(Q$10=($F19-WEEKDAY($F19,2)+2),"u","") | ... BJ19: =IF(BJ$10=($F19-WEEKDAY($F19,2)+2),"u","")
B20: ='Plan d''actions'!B20 -> 9 | C20: ='Plan d''actions'!C20 -> 0 | D20: ='Plan d''actions'!O20 -> 0 | E20: ='Plan d''actions'!D20 -> 0 | F20: ='Plan d''actions'!E20 -> 0 | G20: ='Plan d''actions'!F20 -> N/A | H20: ='Plan d''actions'!K20 -> Pas commencé | I20: =Tableau2482473[[#This Row],[Avancement (%)]] -> 0 | J20: =IF(J$10=($F20-WEEKDAY($F20,2)+2),"u","") | K20: =IF(K$10=($F20-WEEKDAY($F20,2)+2),"u","") | L20: =IF(L$10=($F20-WEEKDAY($F20,2)+2),"u","") | M20: =IF(M$10=($F20-WEEKDAY($F20,2)+2),"u","") | N20: =IF(N$10=($F20-WEEKDAY($F20,2)+2),"u","") | O20: =IF(O$10=($F20-WEEKDAY($F20,2)+2),"u","") | P20: =IF(P$10=($F20-WEEKDAY($F20,2)+2),"u","") | Q20: =IF(Q$10=($F20-WEEKDAY($F20,2)+2),"u","") | ... BJ20: =IF(BJ$10=($F20-WEEKDAY($F20,2)+2),"u","")
B21: ='Plan d''actions'!B21 -> 10 | C21: ='Plan d''actions'!C21 -> 0 | D21: ='Plan d''actions'!O21 -> 0 | E21: ='Plan d''actions'!D21 -> 0 | F21: ='Plan d''actions'!E21 -> 0 | G21: ='Plan d''actions'!F21 -> N/A | H21: ='Plan d''actions'!K21 -> Pas commencé | I21: =Tableau2482473[[#This Row],[Avancement (%)]] -> 0 | J21: =IF(J$10=($F21-WEEKDAY($F21,2)+2),"u","") | K21: =IF(K$10=($F21-WEEKDAY($F21,2)+2),"u","") | L21: =IF(L$10=($F21-WEEKDAY($F21,2)+2),"u","") | M21: =IF(M$10=($F21-WEEKDAY($F21,2)+2),"u","") | N21: =IF(N$10=($F21-WEEKDAY($F21,2)+2),"u","") | O21: =IF(O$10=($F21-WEEKDAY($F21,2)+2),"u","") | P21: =IF(P$10=($F21-WEEKDAY($F21,2)+2),"u","") | Q21: =IF(Q$10=($F21-WEEKDAY($F21,2)+2),"u","") | ... BJ21: =IF(BJ$10=($F21-WEEKDAY($F21,2)+2),"u","")
B22: ='Plan d''actions'!B22 -> 11 | C22: ='Plan d''actions'!C22 -> 0 | D22: ='Plan d''actions'!O22 -> 0 | E22: ='Plan d''actions'!D22 -> 0 | F22: ='Plan d''actions'!E22 -> 0 | G22: ='Plan d''actions'!F22 -> N/A | H22: ='Plan d''actions'!K22 -> Pas commencé | I22: =Tableau2482473[[#This Row],[Avancement (%)]] -> 0 | J22: =IF(J$10=($F22-WEEKDAY($F22,2)+2),"u","") | K22: =IF(K$10=($F22-WEEKDAY($F22,2)+2),"u","") | L22: =IF(L$10=($F22-WEEKDAY($F22,2)+2),"u","") | M22: =IF(M$10=($F22-WEEKDAY($F22,2)+2),"u","") | N22: =IF(N$10=($F22-WEEKDAY($F22,2)+2),"u","") | O22: =IF(O$10=($F22-WEEKDAY($F22,2)+2),"u","") | P22: =IF(P$10=($F22-WEEKDAY($F22,2)+2),"u","") | Q22: =IF(Q$10=($F22-WEEKDAY($F22,2)+2),"u","") | ... BJ22: =IF(BJ$10=($F22-WEEKDAY($F22,2)+2),"u","")
B23: ='Plan d''actions'!B23 -> 12 | C23: ='Plan d''actions'!C23 -> 0 | D23: ='Plan d''actions'!O23 -> 0 | E23: ='Plan d''actions'!D23 -> 0 | F23: ='Plan d''actions'!E23 -> 0 | G23: ='Plan d''actions'!F23 -> N/A | H23: ='Plan d''actions'!K23 -> Pas commencé | I23: =Tableau2482473[[#This Row],[Avancement (%)]] -> 0 | J23: =IF(J$10=($F23-WEEKDAY($F23,2)+2),"u","") | K23: =IF(K$10=($F23-WEEKDAY($F23,2)+2),"u","") | L23: =IF(L$10=($F23-WEEKDAY($F23,2)+2),"u","") | M23: =IF(M$10=($F23-WEEKDAY($F23,2)+2),"u","") | N23: =IF(N$10=($F23-WEEKDAY($F23,2)+2),"u","") | O23: =IF(O$10=($F23-WEEKDAY($F23,2)+2),"u","") | P23: =IF(P$10=($F23-WEEKDAY($F23,2)+2),"u","") | Q23: =IF(Q$10=($F23-WEEKDAY($F23,2)+2),"u","") | ... BJ23: =IF(BJ$10=($F23-WEEKDAY($F23,2)+2),"u","")
... B31: ='Plan d''actions'!B31 -> 20 | C31: ='Plan d''actions'!C31 -> 0 | D31: ='Plan d''actions'!O31 -> 0 | E31: ='Plan d''actions'!D31 -> 0 | F31: ='Plan d''actions'!E31 -> 0 | G31: ='Plan d''actions'!F31 -> N/A | H31: ='Plan d''actions'!K31 -> Pas commencé | I31: =Tableau2482473[[#This Row],[Avancement (%)]] -> 0 | J31: =IF(J$10=($F31-WEEKDAY($F31,2)+2),"u","") | K31: =IF(K$10=($F31-WEEKDAY($F31,2)+2),"u","") | L31: =IF(L$10=($F31-WEEKDAY($F31,2)+2),"u","") | M31: =IF(M$10=($F31-WEEKDAY($F31,2)+2),"u","") | N31: =IF(N$10=($F31-WEEKDAY($F31,2)+2),"u","") | O31: =IF(O$10=($F31-WEEKDAY($F31,2)+2),"u","") | P31: =IF(P$10=($F31-WEEKDAY($F31,2)+2),"u","") | Q31: =IF(Q$10=($F31-WEEKDAY($F31,2)+2),"u","") | ... BJ31: =IF(BJ$10=($F31-WEEKDAY($F31,2)+2),"u","")
