Workbook
Name A: 'Liste réunion'!$1:$1048576

Sheet Liste réunion
A1: Nom | B1: NOM | C1: Prénom | D1: Personne | E1: PERSONNE | F1: Service | G1: Fonction invités
A2: =IFERROR('Questionnaire A COLLER'!AL2,"") -> BRUNO | B2: =UPPER(A2) -> BRUNO | C2: =IFERROR('Questionnaire A COLLER'!AN2," ") -> Mathilde | D2: =SUBSTITUTE(SUBSTITUTE(SUBSTITUTE(SUBSTITUTE(SUBSTITUTE(SUBSTITUTE(SUBSTITUTE(A2,"é","e"),"è","e"),"ê","e"),"ë","e"),"É","E"),"ï","i"),"î","i") -> BRUNO | E2: =UPPER(D2) -> BRUNO | F2: =_xlfn.XLOOKUP(A2,'Questionnaire A COLLER'!G:G,'Questionnaire A COLLER'!I:I,"",0) -> Commercial | G2: =IFERROR(VLOOKUP(A2,'Questionnaire A COLLER'!K:M,3,FALSE),IFERROR(VLOOKUP(A2,'Questionnaire A COLLER'!O:Q,3,FALSE),IFERROR(VLOOKUP(A2,'Questionnaire A COLLER'!S:U,3,FALSE),IFERROR(VLOOKUP(A2,'Questionnaire A COLLER'!W:Y,3,FALSE),IFERROR(VLOOKUP(A2,'Questionnaire A COLLER'!AA:AC,3,FALSE),IFERROR(VLOOKUP(A2,'Questionnaire A COLLER'!AF:AH,3,FALSE),""))))))
A3: =IFERROR('Questionnaire A COLLER'!AL3,"") -> France | B3: =UPPER(A3) -> FRANCE | C3: =IFERROR('Questionnaire A COLLER'!AN3," ") -> Pierre | D3: =SUBSTITUTE(SUBSTITUTE(SUBSTITUTE(SUBSTITUTE(SUBSTITUTE(SUBSTITUTE(SUBSTITUTE(C3,"é","e"),"è","e"),"ê","e"),"ë","e"),"É","E"),"ï","i"),"î","i") -> Pierre | E3: =UPPER(D3) -> PIERRE | F3: =_xlfn.XLOOKUP(A3,'Questionnaire A COLLER'!G:G,'Questionnaire A COLLER'!I:I,"",0) -> Suisse | G3: =IFERROR(VLOOKUP(A3,'Questionnaire A COLLER'!K:M,3,FALSE),IFERROR(VLOOKUP(A3,'Questionnaire A COLLER'!O:Q,3,FALSE),IFERROR(VLOOKUP(A3,'Questionnaire A COLLER'!S:U,3,FALSE),IFERROR(VLOOKUP(A3,'Questionnaire A COLLER'!W:Y,3,FALSE),IFERROR(VLOOKUP(A3,'Questionnaire A COLLER'!AA:AC,3,FALSE),IFERROR(VLOOKUP(A3,'Questionnaire A COLLER'!AF:AH,3,FALSE),""))))))
A4: =IFERROR('Questionnaire A COLLER'!AL4,"") -> HARRY | B4: =UPPER(A4) -> HARRY | C4: =IFERROR('Questionnaire A COLLER'!AN4," ") -> Charlotte | D4: =SUBSTITUTE(SUBSTITUTE(SUBSTITUTE(SUBSTITUTE(SUBSTITUTE(SUBSTITUTE(SUBSTITUTE(C4,"é","e"),"è","e"),"ê","e"),"ë","e"),"É","E"),"ï","i"),"î","i") -> Charlotte | E4: =UPPER(D4) -> CHARLOTTE | F4: =_xlfn.XLOOKUP(A4,'Questionnaire A COLLER'!G:G,'Questionnaire A COLLER'!I:I,"",0) -> Marketing | G4: =IFERROR(VLOOKUP(A4,'Questionnaire A COLLER'!K:M,3,FALSE),IFERROR(VLOOKUP(A4,'Questionnaire A COLLER'!O:Q,3,FALSE),IFERROR(VLOOKUP(A4,'Questionnaire A COLLER'!S:U,3,FALSE),IFERROR(VLOOKUP(A4,'Questionnaire A COLLER'!W:Y,3,FALSE),IFERROR(VLOOKUP(A4,'Questionnaire A COLLER'!AA:AC,3,FALSE),IFERROR(VLOOKUP(A4,'Questionnaire A COLLER'!AF:AH,3,FALSE),""))))))
A5: =IFERROR('Questionnaire A COLLER'!AL5,"") -> EDMONS | B5: =UPPER(A5) -> EDMONS | C5: =IFERROR('Questionnaire A COLLER'!AN5," ") -> Sophie | D5: =SUBSTITUTE(SUBSTITUTE(SUBSTITUTE(SUBSTITUTE(SUBSTITUTE(SUBSTITUTE(SUBSTITUTE(C5,"é","e"),"è","e"),"ê","e"),"ë","e"),"É","E"),"ï","i"),"î","i") -> Sophie | E5: =UPPER(D5) -> SOPHIE | F5: =_xlfn.XLOOKUP(A5,'Questionnaire A COLLER'!G:G,'Questionnaire A COLLER'!I:I,"",0) -> Marketing | G5: =IFERROR(VLOOKUP(A5,'Questionnaire A COLLER'!K:M,3,FALSE),IFERROR(VLOOKUP(A5,'Questionnaire A COLLER'!O:Q,3,FALSE),IFERROR(VLOOKUP(A5,'Questionnaire A COLLER'!S:U,3,FALSE),IFERROR(VLOOKUP(A5,'Questionnaire A COLLER'!W:Y,3,FALSE),IFERROR(VLOOKUP(A5,'Questionnaire A COLLER'!AA:AC,3,FALSE),IFERROR(VLOOKUP(A5,'Questionnaire A COLLER'!AF:AH,3,FALSE),""))))))
A6: =IFERROR('Questionnaire A COLLER'!AL6,"") -> FINANLE | B6: =UPPER(A6) -> FINANLE | C6: =IFERROR('Questionnaire A COLLER'!AN6," ") -> Chris | D6: =SUBSTITUTE(SUBSTITUTE(SUBSTITUTE(SUBSTITUTE(SUBSTITUTE(SUBSTITUTE(SUBSTITUTE(C6,"é","e"),"è","e"),"ê","e"),"ë","e"),"É","E"),"ï","i"),"î","i") -> Chris | E6: =UPPER(D6) -> CHRIS | F6: =_xlfn.XLOOKUP(A6,'Questionnaire A COLLER'!G:G,'Questionnaire A COLLER'!I:I,"",0) -> Commercial | G6: =IFERROR(VLOOKUP(A6,'Questionnaire A COLLER'!K:M,3,FALSE),IFERROR(VLOOKUP(A6,'Questionnaire A COLLER'!O:Q,3,FALSE),IFERROR(VLOOKUP(A6,'Questionnaire A COLLER'!S:U,3,FALSE),IFERROR(VLOOKUP(A6,'Questionnaire A COLLER'!W:Y,3,FALSE),IFERROR(VLOOKUP(A6,'Questionnaire A COLLER'!AA:AC,3,FALSE),IFERROR(VLOOKUP(A6,'Questionnaire A COLLER'!AF:AH,3,FALSE),""))))))
A7: =IFERROR('Questionnaire A COLLER'!AL7,"") -> GNO | B7: =UPPER(A7) -> GNO | C7: =IFERROR('Questionnaire A COLLER'!AN7," ") -> Djibril | D7: =SUBSTITUTE(SUBSTITUTE(SUBSTITUTE(SUBSTITUTE(SUBSTITUTE(SUBSTITUTE(SUBSTITUTE(C7,"é","e"),"è","e"),"ê","e"),"ë","e"),"É","E"),"ï","i"),"î","i") -> Djibril | E7: =UPPER(D7) -> DJIBRIL | F7: =_xlfn.XLOOKUP(A7,'Questionnaire A COLLER'!G:G,'Questionnaire A COLLER'!I:I,"",0) -> Commercial | G7: =IFERROR(VLOOKUP(A7,'Questionnaire A COLLER'!K:M,3,FALSE),IFERROR(VLOOKUP(A7,'Questionnaire A COLLER'!O:Q,3,FALSE),IFERROR(VLOOKUP(A7,'Questionnaire A COLLER'!S:U,3,FALSE),IFERROR(VLOOKUP(A7,'Questionnaire A COLLER'!W:Y,3,FALSE),IFERROR(VLOOKUP(A7,'Questionnaire A COLLER'!AA:AC,3,FALSE),IFERROR(VLOOKUP(A7,'Questionnaire A COLLER'!AF:AH,3,FALSE),""))))))
A8: =IFERROR('Questionnaire A COLLER'!AL8,"") -> DJIDI | B8: =UPPER(A8) -> DJIDI | C8: =IFERROR('Questionnaire A COLLER'!AN8," ") -> Roger | D8: =SUBSTITUTE(SUBSTITUTE(SUBSTITUTE(SUBSTITUTE(SUBSTITUTE(SUBSTITUTE(SUBSTITUTE(C8,"é","e"),"è","e"),"ê","e"),"ë","e"),"É","E"),"ï","i"),"î","i") -> Roger | E8: =UPPER(D8) -> ROGER | F8: =_xlfn.XLOOKUP(A8,'Questionnaire A COLLER'!G:G,'Questionnaire A COLLER'!I:I,"",0) -> Commercial | G8: =IFERROR(VLOOKUP(A8,'Questionnaire A COLLER'!K:M,3,FALSE),IFERROR(VLOOKUP(A8,'Questionnaire A COLLER'!O:Q,3,FALSE),IFERROR(VLOOKUP(A8,'Questionnaire A COLLER'!S:U,3,FALSE),IFERROR(VLOOKUP(A8,'Questionnaire A COLLER'!W:Y,3,FALSE),IFERROR(VLOOKUP(A8,'Questionnaire A COLLER'!AA:AC,3,FALSE),IFERROR(VLOOKUP(A8,'Questionnaire A COLLER'!AF:AH,3,FALSE),""))))))
A9: =IFERROR('Questionnaire A COLLER'!AL9,"") -> CLIFF | B9: =UPPER(A9) -> CLIFF | C9: =IFERROR('Questionnaire A COLLER'!AN9," ") -> Joseph | D9: =SUBSTITUTE(SUBSTITUTE(SUBSTITUTE(SUBSTITUTE(SUBSTITUTE(SUBSTITUTE(SUBSTITUTE(C9,"é","e"),"è","e"),"ê","e"),"ë","e"),"É","E"),"ï","i"),"î","i") -> Joseph | E9: =UPPER(D9) -> JOSEPH | F9: =_xlfn.XLOOKUP(A9,'Questionnaire A COLLER'!G:G,'Questionnaire A COLLER'!I:I,"",0) -> Commercial | G9: =IFERROR(VLOOKUP(A9,'Questionnaire A COLLER'!K:M,3,FALSE),IFERROR(VLOOKUP(A9,'Questionnaire A COLLER'!O:Q,3,FALSE),IFERROR(VLOOKUP(A9,'Questionnaire A COLLER'!S:U,3,FALSE),IFERROR(VLOOKUP(A9,'Questionnaire A COLLER'!W:Y,3,FALSE),IFERROR(VLOOKUP(A9,'Questionnaire A COLLER'!AA:AC,3,FALSE),IFERROR(VLOOKUP(A9,'Questionnaire A COLLER'!AF:AH,3,FALSE),""))))))
A10: =IFERROR('Questionnaire A COLLER'!AL10,"") -> GERNEY | B10: =UPPER(A10) -> GERNEY | C10: =IFERROR('Questionnaire A COLLER'!AN10," ") -> Gérard | D10: =SUBSTITUTE(SUBSTITUTE(SUBSTITUTE(SUBSTITUTE(SUBSTITUTE(SUBSTITUTE(SUBSTITUTE(C10,"é","e"),"è","e"),"ê","e"),"ë","e"),"É","E"),"ï","i"),"î","i") -> Gerard | E10: =UPPER(D10) -> GERARD | F10: =_xlfn.XLOOKUP(A10,'Questionnaire A COLLER'!G:G,'Questionnaire A COLLER'!I:I,"",0) -> Commercial | G10: =IFERROR(VLOOKUP(A10,'Questionnaire A COLLER'!K:M,3,FALSE),IFERROR(VLOOKUP(A10,'Questionnaire A COLLER'!O:Q,3,FALSE),IFERROR(VLOOKUP(A10,'Questionnaire A COLLER'!S:U,3,FALSE),IFERROR(VLOOKUP(A10,'Questionnaire A COLLER'!W:Y,3,FALSE),IFERROR(VLOOKUP(A10,'Questionnaire A COLLER'!AA:AC,3,FALSE),IFERROR(VLOOKUP(A10,'Questionnaire A COLLER'!AF:AH,3,FALSE),""))))))
A11: =IFERROR('Questionnaire A COLLER'!AL11,"") -> DRILL | B11: =UPPER(A11) -> DRILL | C11: =IFERROR('Questionnaire A COLLER'!AN11," ") -> Nadia | D11: =SUBSTITUTE(SUBSTITUTE(SUBSTITUTE(SUBSTITUTE(SUBSTITUTE(SUBSTITUTE(SUBSTITUTE(C11,"é","e"),"è","e"),"ê","e"),"ë","e"),"É","E"),"ï","i"),"î","i") -> Nadia | E11: =UPPER(D11) -> NADIA | F11: =_xlfn.XLOOKUP(A11,'Questionnaire A COLLER'!G:G,'Questionnaire A COLLER'!I:I,"",0) -> Commercial | G11: =IFERROR(VLOOKUP(A11,'Questionnaire A COLLER'!K:M,3,FALSE),IFERROR(VLOOKUP(A11,'Questionnaire A COLLER'!O:Q,3,FALSE),IFERROR(VLOOKUP(A11,'Questionnaire A COLLER'!S:U,3,FALSE),IFERROR(VLOOKUP(A11,'Questionnaire A COLLER'!W:Y,3,FALSE),IFERROR(VLOOKUP(A11,'Questionnaire A COLLER'!AA:AC,3,FALSE),IFERROR(VLOOKUP(A11,'Questionnaire A COLLER'!AF:AH,3,FALSE),""))))))
A12: =IFERROR('Questionnaire A COLLER'!AL12,"") -> GHUTENBER | B12: =UPPER(A12) -> GHUTENBER | C12: =IFERROR('Questionnaire A COLLER'!AN12," ") -> Nina | D12: =SUBSTITUTE(SUBSTITUTE(SUBSTITUTE(SUBSTITUTE(SUBSTITUTE(SUBSTITUTE(SUBSTITUTE(C12,"é","e"),"è","e"),"ê","e"),"ë","e"),"É","E"),"ï","i"),"î","i") -> Nina | E12: =UPPER(D12) -> NINA | F12: =_xlfn.XLOOKUP(A12,'Questionnaire A COLLER'!G:G,'Questionnaire A COLLER'!I:I,"",0) -> Commercial | G12: =IFERROR(VLOOKUP(A12,'Questionnaire A COLLER'!K:M,3,FALSE),IFERROR(VLOOKUP(A12,'Questionnaire A COLLER'!O:Q,3,FALSE),IFERROR(VLOOKUP(A12,'Questionnaire A COLLER'!S:U,3,FALSE),IFERROR(VLOOKUP(A12,'Questionnaire A COLLER'!W:Y,3,FALSE),IFERROR(VLOOKUP(A12,'Questionnaire A COLLER'!AA:AC,3,FALSE),IFERROR(VLOOKUP(A12,'Questionnaire A COLLER'!AF:AH,3,FALSE),""))))))
A13: =IFERROR('Questionnaire A COLLER'!#REF!,"") | B13: =UPPER(A13) | C13: =IFERROR('Questionnaire A COLLER'!#REF!," ") | D13: =SUBSTITUTE(SUBSTITUTE(SUBSTITUTE(SUBSTITUTE(SUBSTITUTE(SUBSTITUTE(SUBSTITUTE(C13,"é","e"),"è","e"),"ê","e"),"ë","e"),"É","E"),"ï","i"),"î","i") | E13: =UPPER(D13) | F13: =_xlfn.XLOOKUP(A13,'Questionnaire A COLLER'!G:G,'Questionnaire A COLLER'!I:I,"",0) | G13: =IFERROR(VLOOKUP(A13,'Questionnaire A COLLER'!K:M,3,FALSE),IFERROR(VLOOKUP(A13,'Questionnaire A COLLER'!O:Q,3,FALSE),IFERROR(VLOOKUP(A13,'Questionnaire A COLLER'!S:U,3,FALSE),IFERROR(VLOOKUP(A13,'Questionnaire A COLLER'!W:Y,3,FALSE),IFERROR(VLOOKUP(A13,'Questionnaire A COLLER'!AA:AC,3,FALSE),IFERROR(VLOOKUP(A13,'Questionnaire A COLLER'!AF:AH,3,FALSE),""))))))
A14: =IFERROR('Questionnaire A COLLER'!#REF!,"") | B14: =UPPER(A14) | C14: =IFERROR('Questionnaire A COLLER'!#REF!," ") | D14: =SUBSTITUTE(SUBSTITUTE(SUBSTITUTE(SUBSTITUTE(SUBSTITUTE(SUBSTITUTE(SUBSTITUTE(C14,"é","e"),"è","e"),"ê","e"),"ë","e"),"É","E"),"ï","i"),"î","i") | E14: =UPPER(D14) | F14: =_xlfn.XLOOKUP(A14,'Questionnaire A COLLER'!G:G,'Questionnaire A COLLER'!I:I,"",0) | G14: =IFERROR(VLOOKUP(A14,'Questionnaire A COLLER'!K:M,3,FALSE),IFERROR(VLOOKUP(A14,'Questionnaire A COLLER'!O:Q,3,FALSE),IFERROR(VLOOKUP(A14,'Questionnaire A COLLER'!S:U,3,FALSE),IFERROR(VLOOKUP(A14,'Questionnaire A COLLER'!W:Y,3,FALSE),IFERROR(VLOOKUP(A14,'Questionnaire A COLLER'!AA:AC,3,FALSE),IFERROR(VLOOKUP(A14,'Questionnaire A COLLER'!AF:AH,3,FALSE),""))))))
A15: =IFERROR('Questionnaire A COLLER'!AL13,"") -> Souhaitez-vous intégrer une personne supplémentaire ? | B15: =UPPER(A15) -> SOUHAITEZ-VOUS INTÉGRER UNE PERSONNE SUPPLÉMENTAIRE ? | C15: =IFERROR('Questionnaire A COLLER'!AN13," ") -> BA | D15: =SUBSTITUTE(SUBSTITUTE(SUBSTITUTE(SUBSTITUTE(SUBSTITUTE(SUBSTITUTE(SUBSTITUTE(C15,"é","e"),"è","e"),"ê","e"),"ë","e"),"É","E"),"ï","i"),"î","i") -> BA | E15: =UPPER(D15) -> BA | F15: =_xlfn.XLOOKUP(A15,'Questionnaire A COLLER'!G:G,'Questionnaire A COLLER'!I:I,"",0) | G15: =IFERROR(VLOOKUP(A15,'Questionnaire A COLLER'!K:M,3,FALSE),IFERROR(VLOOKUP(A15,'Questionnaire A COLLER'!O:Q,3,FALSE),IFERROR(VLOOKUP(A15,'Questionnaire A COLLER'!S:U,3,FALSE),IFERROR(VLOOKUP(A15,'Questionnaire A COLLER'!W:Y,3,FALSE),IFERROR(VLOOKUP(A15,'Questionnaire A COLLER'!AA:AC,3,FALSE),IFERROR(VLOOKUP(A15,'Questionnaire A COLLER'!AF:AH,3,FALSE),""))))))
A16: =IFERROR('Questionnaire A COLLER'!AL14,"") -> Non | B16: =UPPER(A16) -> NON | C16: =IFERROR('Questionnaire A COLLER'!AN14," ") -> BB | D16: =SUBSTITUTE(SUBSTITUTE(SUBSTITUTE(SUBSTITUTE(SUBSTITUTE(SUBSTITUTE(SUBSTITUTE(C16,"é","e"),"è","e"),"ê","e"),"ë","e"),"É","E"),"ï","i"),"î","i") -> BB | E16: =UPPER(D16) -> BB | F16: =_xlfn.XLOOKUP(A16,'Questionnaire A COLLER'!G:G,'Questionnaire A COLLER'!I:I,"",0) | G16: =IFERROR(VLOOKUP(A16,'Questionnaire A COLLER'!K:M,3,FALSE),IFERROR(VLOOKUP(A16,'Questionnaire A COLLER'!O:Q,3,FALSE),IFERROR(VLOOKUP(A16,'Questionnaire A COLLER'!S:U,3,FALSE),IFERROR(VLOOKUP(A16,'Questionnaire A COLLER'!W:Y,3,FALSE),IFERROR(VLOOKUP(A16,'Questionnaire A COLLER'!AA:AC,3,FALSE),IFERROR(VLOOKUP(A16,'Questionnaire A COLLER'!AF:AH,3,FALSE),""))))))
A17: =IFERROR('Questionnaire A COLLER'!AL15,"") -> Oui | B17: =UPPER(A17) -> OUI | C17: =IFERROR('Questionnaire A COLLER'!AN15," ") -> BC | D17: =SUBSTITUTE(SUBSTITUTE(SUBSTITUTE(SUBSTITUTE(SUBSTITUTE(SUBSTITUTE(SUBSTITUTE(C17,"é","e"),"è","e"),"ê","e"),"ë","e"),"É","E"),"ï","i"),"î","i") -> BC | E17: =UPPER(D17) -> BC | F17: =_xlfn.XLOOKUP(A17,'Questionnaire A COLLER'!G:G,'Questionnaire A COLLER'!I:I,"",0) | G17: =IFERROR(VLOOKUP(A17,'Questionnaire A COLLER'!K:M,3,FALSE),IFERROR(VLOOKUP(A17,'Questionnaire A COLLER'!O:Q,3,FALSE),IFERROR(VLOOKUP(A17,'Questionnaire A COLLER'!S:U,3,FALSE),IFERROR(VLOOKUP(A17,'Questionnaire A COLLER'!W:Y,3,FALSE),IFERROR(VLOOKUP(A17,'Questionnaire A COLLER'!AA:AC,3,FALSE),IFERROR(VLOOKUP(A17,'Questionnaire A COLLER'!AF:AH,3,FALSE),""))))))
A18: =IFERROR('Questionnaire A COLLER'!AL16,"") -> Oui | B18: =UPPER(A18) -> OUI | C18: =IFERROR('Questionnaire A COLLER'!AN16," ") | D18: =SUBSTITUTE(SUBSTITUTE(SUBSTITUTE(SUBSTITUTE(SUBSTITUTE(SUBSTITUTE(SUBSTITUTE(C18,"é","e"),"è","e"),"ê","e"),"ë","e"),"É","E"),"ï","i"),"î","i") | E18: =UPPER(D18) | F18: =_xlfn.XLOOKUP(A18,'Questionnaire A COLLER'!G:G,'Questionnaire A COLLER'!I:I,"",0) | G18: =IFERROR(VLOOKUP(A18,'Questionnaire A COLLER'!K:M,3,FALSE),IFERROR(VLOOKUP(A18,'Questionnaire A COLLER'!O:Q,3,FALSE),IFERROR(VLOOKUP(A18,'Questionnaire A COLLER'!S:U,3,FALSE),IFERROR(VLOOKUP(A18,'Questionnaire A COLLER'!W:Y,3,FALSE),IFERROR(VLOOKUP(A18,'Questionnaire A COLLER'!AA:AC,3,FALSE),IFERROR(VLOOKUP(A18,'Questionnaire A COLLER'!AF:AH,3,FALSE),""))))))
A19: =IFERROR('Questionnaire A COLLER'!AL17,"") -> Nom de la personne3 | B19: =UPPER(A19) -> NOM DE LA PERSONNE3 | C19: =IFERROR('Questionnaire A COLLER'!AN17," ") | D19: =SUBSTITUTE(SUBSTITUTE(SUBSTITUTE(SUBSTITUTE(SUBSTITUTE(SUBSTITUTE(SUBSTITUTE(C19,"é","e"),"è","e"),"ê","e"),"ë","e"),"É","E"),"ï","i"),"î","i") | E19: =UPPER(D19) | F19: =_xlfn.XLOOKUP(A19,'Questionnaire A COLLER'!G:G,'Questionnaire A COLLER'!I:I,"",0) | G19: =IFERROR(VLOOKUP(A19,'Questionnaire A COLLER'!K:M,3,FALSE),IFERROR(VLOOKUP(A19,'Questionnaire A COLLER'!O:Q,3,FALSE),IFERROR(VLOOKUP(A19,'Questionnaire A COLLER'!S:U,3,FALSE),IFERROR(VLOOKUP(A19,'Questionnaire A COLLER'!W:Y,3,FALSE),IFERROR(VLOOKUP(A19,'Questionnaire A COLLER'!AA:AC,3,FALSE),IFERROR(VLOOKUP(A19,'Questionnaire A COLLER'!AF:AH,3,FALSE),"")))))) -> Quelle est sa fonction ou à quel service appartient-elle ? 3
A20: =IFERROR('Questionnaire A COLLER'!AL18,"") -> CA | B20: =UPPER(A20) -> CA | C20: =IFERROR('Questionnaire A COLLER'!AN18," ") | D20: =SUBSTITUTE(SUBSTITUTE(SUBSTITUTE(SUBSTITUTE(SUBSTITUTE(SUBSTITUTE(SUBSTITUTE(C20,"é","e"),"è","e"),"ê","e"),"ë","e"),"É","E"),"ï","i"),"î","i") | E20: =UPPER(D20) | F20: =_xlfn.XLOOKUP(A20,'Questionnaire A COLLER'!G:G,'Questionnaire A COLLER'!I:I,"",0) | G20: =IFERROR(VLOOKUP(A20,'Questionnaire A COLLER'!K:M,3,FALSE),IFERROR(VLOOKUP(A20,'Questionnaire A COLLER'!O:Q,3,FALSE),IFERROR(VLOOKUP(A20,'Questionnaire A COLLER'!S:U,3,FALSE),IFERROR(VLOOKUP(A20,'Questionnaire A COLLER'!W:Y,3,FALSE),IFERROR(VLOOKUP(A20,'Questionnaire A COLLER'!AA:AC,3,FALSE),IFERROR(VLOOKUP(A20,'Questionnaire A COLLER'!AF:AH,3,FALSE),"")))))) -> Chef de projets
A21: =IFERROR('Questionnaire A COLLER'!AL19,"") -> Prénom de la personne4 | B21: =UPPER(A21) -> PRÉNOM DE LA PERSONNE4 | C21: =IFERROR('Questionnaire A COLLER'!AN19," ") | D21: =SUBSTITUTE(SUBSTITUTE(SUBSTITUTE(SUBSTITUTE(SUBSTITUTE(SUBSTITUTE(SUBSTITUTE(C21,"é","e"),"è","e"),"ê","e"),"ë","e"),"É","E"),"ï","i"),"î","i") | E21: =UPPER(D21) | F21: =_xlfn.XLOOKUP(A21,'Questionnaire A COLLER'!G:G,'Questionnaire A COLLER'!I:I,"",0) | G21: =IFERROR(VLOOKUP(A21,'Questionnaire A COLLER'!K:M,3,FALSE),IFERROR(VLOOKUP(A21,'Questionnaire A COLLER'!O:Q,3,FALSE),IFERROR(VLOOKUP(A21,'Questionnaire A COLLER'!S:U,3,FALSE),IFERROR(VLOOKUP(A21,'Questionnaire A COLLER'!W:Y,3,FALSE),IFERROR(VLOOKUP(A21,'Questionnaire A COLLER'!AA:AC,3,FALSE),IFERROR(VLOOKUP(A21,'Questionnaire A COLLER'!AF:AH,3,FALSE),""))))))
A22: =IFERROR('Questionnaire A COLLER'!AL20,"") -> EA | B22: =UPPER(A22) -> EA | C22: =IFERROR('Questionnaire A COLLER'!AN20," ") | D22: =SUBSTITUTE(SUBSTITUTE(SUBSTITUTE(SUBSTITUTE(SUBSTITUTE(SUBSTITUTE(SUBSTITUTE(C22,"é","e"),"è","e"),"ê","e"),"ë","e"),"É","E"),"ï","i"),"î","i") | E22: =UPPER(D22) | F22: =_xlfn.XLOOKUP(A22,'Questionnaire A COLLER'!G:G,'Questionnaire A COLLER'!I:I,"",0) | G22: =IFERROR(VLOOKUP(A22,'Questionnaire A COLLER'!K:M,3,FALSE),IFERROR(VLOOKUP(A22,'Questionnaire A COLLER'!O:Q,3,FALSE),IFERROR(VLOOKUP(A22,'Questionnaire A COLLER'!S:U,3,FALSE),IFERROR(VLOOKUP(A22,'Questionnaire A COLLER'!W:Y,3,FALSE),IFERROR(VLOOKUP(A22,'Questionnaire A COLLER'!AA:AC,3,FALSE),IFERROR(VLOOKUP(A22,'Questionnaire A COLLER'!AF:AH,3,FALSE),""))))))
A23: =IFERROR('Questionnaire A COLLER'!AL21,"") -> Quelle est sa fonction ou à quel service appartient-elle ? 5 | B23: =UPPER(A23) -> QUELLE EST SA FONCTION OU À QUEL SERVICE APPARTIENT-ELLE ? 5 | C23: =IFERROR('Questionnaire A COLLER'!AN21," ") | D23: =SUBSTITUTE(SUBSTITUTE(SUBSTITUTE(SUBSTITUTE(SUBSTITUTE(SUBSTITUTE(SUBSTITUTE(C23,"é","e"),"è","e"),"ê","e"),"ë","e"),"É","E"),"ï","i"),"î","i") | E23: =UPPER(D23) | F23: =_xlfn.XLOOKUP(A23,'Questionnaire A COLLER'!G:G,'Questionnaire A COLLER'!I:I,"",0) | G23: =IFERROR(VLOOKUP(A23,'Questionnaire A COLLER'!K:M,3,FALSE),IFERROR(VLOOKUP(A23,'Questionnaire A COLLER'!O:Q,3,FALSE),IFERROR(VLOOKUP(A23,'Questionnaire A COLLER'!S:U,3,FALSE),IFERROR(VLOOKUP(A23,'Questionnaire A COLLER'!W:Y,3,FALSE),IFERROR(VLOOKUP(A23,'Questionnaire A COLLER'!AA:AC,3,FALSE),IFERROR(VLOOKUP(A23,'Questionnaire A COLLER'!AF:AH,3,FALSE),""))))))
A24: =IFERROR('Questionnaire A COLLER'!AL22,"") -> Alternant | B24: =UPPER(A24) -> ALTERNANT | C24: =IFERROR('Questionnaire A COLLER'!AN22," ") | D24: =SUBSTITUTE(SUBSTITUTE(SUBSTITUTE(SUBSTITUTE(SUBSTITUTE(SUBSTITUTE(SUBSTITUTE(C24,"é","e"),"è","e"),"ê","e"),"ë","e"),"É","E"),"ï","i"),"î","i") | E24: =UPPER(D24) | F24: =_xlfn.XLOOKUP(A24,'Questionnaire A COLLER'!G:G,'Questionnaire A COLLER'!I:I,"",0) | G24: =IFERROR(VLOOKUP(A24,'Questionnaire A COLLER'!K:M,3,FALSE),IFERROR(VLOOKUP(A24,'Questionnaire A COLLER'!O:Q,3,FALSE),IFERROR(VLOOKUP(A24,'Questionnaire A COLLER'!S:U,3,FALSE),IFERROR(VLOOKUP(A24,'Questionnaire A COLLER'!W:Y,3,FALSE),IFERROR(VLOOKUP(A24,'Questionnaire A COLLER'!AA:AC,3,FALSE),IFERROR(VLOOKUP(A24,'Questionnaire A COLLER'!AF:AH,3,FALSE),""))))))
A25: =IFERROR('Questionnaire A COLLER'!AL23,"") -> Quelle est sa fonction ou à quel service appartient-elle ? 6 | B25: =UPPER(A25) -> QUELLE EST SA FONCTION OU À QUEL SERVICE APPARTIENT-ELLE ? 6 | C25: =IFERROR('Questionnaire A COLLER'!AN23," ") | D25: =SUBSTITUTE(SUBSTITUTE(SUBSTITUTE(SUBSTITUTE(SUBSTITUTE(SUBSTITUTE(SUBSTITUTE(C25,"é","e"),"è","e"),"ê","e"),"ë","e"),"É","E"),"ï","i"),"î","i") | E25: =UPPER(D25) | F25: =_xlfn.XLOOKUP(A25,'Questionnaire A COLLER'!G:G,'Questionnaire A COLLER'!I:I,"",0) | G25: =IFERROR(VLOOKUP(A25,'Questionnaire A COLLER'!K:M,3,FALSE),IFERROR(VLOOKUP(A25,'Questionnaire A COLLER'!O:Q,3,FALSE),IFERROR(VLOOKUP(A25,'Questionnaire A COLLER'!S:U,3,FALSE),IFERROR(VLOOKUP(A25,'Questionnaire A COLLER'!W:Y,3,FALSE),IFERROR(VLOOKUP(A25,'Questionnaire A COLLER'!AA:AC,3,FALSE),IFERROR(VLOOKUP(A25,'Questionnaire A COLLER'!AF:AH,3,FALSE),""))))))
A26: =IFERROR('Questionnaire A COLLER'!AL24,"") -> AUTEUR | B26: =UPPER(A26) -> AUTEUR | C26: =IFERROR('Questionnaire A COLLER'!AN24," ") | D26: =SUBSTITUTE(SUBSTITUTE(SUBSTITUTE(SUBSTITUTE(SUBSTITUTE(SUBSTITUTE(SUBSTITUTE(C26,"é","e"),"è","e"),"ê","e"),"ë","e"),"É","E"),"ï","i"),"î","i") | E26: =UPPER(D26) | F26: =_xlfn.XLOOKUP(A26,'Questionnaire A COLLER'!G:G,'Questionnaire A COLLER'!I:I,"",0) | G26: =IFERROR(VLOOKUP(A26,'Questionnaire A COLLER'!K:M,3,FALSE),IFERROR(VLOOKUP(A26,'Questionnaire A COLLER'!O:Q,3,FALSE),IFERROR(VLOOKUP(A26,'Questionnaire A COLLER'!S:U,3,FALSE),IFERROR(VLOOKUP(A26,'Questionnaire A COLLER'!W:Y,3,FALSE),IFERROR(VLOOKUP(A26,'Questionnaire A COLLER'!AA:AC,3,FALSE),IFERROR(VLOOKUP(A26,'Questionnaire A COLLER'!AF:AH,3,FALSE),""))))))
... A199: =IFERROR('Questionnaire A COLLER'!AL197,"") -> 0 | B199: =UPPER(A199) -> 0 | C199: =IFERROR('Questionnaire A COLLER'!AN197," ") -> 0 | D199: =SUBSTITUTE(SUBSTITUTE(SUBSTITUTE(SUBSTITUTE(SUBSTITUTE(SUBSTITUTE(SUBSTITUTE(C199,"é","e"),"è","e"),"ê","e"),"ë","e"),"É","E"),"ï","i"),"î","i") -> 0 | E199: =UPPER(D199) -> 0 | F199: =_xlfn.XLOOKUP(A199,'Questionnaire A COLLER'!G:G,'Questionnaire A COLLER'!I:I,"",0) | G199: =IFERROR(VLOOKUP(A199,'Questionnaire A COLLER'!K:M,3,FALSE),IFERROR(VLOOKUP(A199,'Questionnaire A COLLER'!O:Q,3,FALSE),IFERROR(VLOOKUP(A199,'Questionnaire A COLLER'!S:U,3,FALSE),IFERROR(VLOOKUP(A199,'Questionnaire A COLLER'!W:Y,3,FALSE),IFERROR(VLOOKUP(A199,'Questionnaire A COLLER'!AA:AC,3,FALSE),IFERROR(VLOOKUP(A199,'Questionnaire A COLLER'!AF:AH,3,FALSE),""))))))
A200: SOMMES

Sheet Questionnaire A COLLER
A1: ID | B1: Heure de début | C1: Heure de fin | D1: Adresse de messagerie | E1: Nom | F1: Heure de la dernière modification | G1: Nom2 | H1: Prénom | I1: A quel service appartenez-vous ? | J1: Souhaitez-vous intégrer d'autre(s) personne(s) à ces journées ? (auteur, photographe...) | K1: Nom de la personne | L1: Prénom de la personne | M1: Quelle est sa fonction ou à quel service appartient-elle ? | N1: Souhaitez-vous intégrer une personne supplémentaire ? | O1: Nom de la personne2 | P1: Prénom de la personne2 | Q1: Quelle est sa fonction ou à quel service appartient-elle ? 2 | R1: Souhaitez-vous intégrer une personne supplémentaire ? 2 | S1: Nom de la personne3 | T1: Prénom de la personne3 | U1: Quelle est sa fonction ou à quel service appartient-elle ? 3 | V1: Souhaitez-vous intégrer une personne supplémentaire ? 3 | W1: Nom de la personne4 | X1: Prénom de la personne4 | Y1: Quelle est sa fonction ou à quel service appartient-elle ? 4 | Z1: Souhaitez-vous intégrer une personne supplémentaire ? 4 | AA1: Nom de la personne5 | AB1: Prénom de la personne5 | AC1: Quelle est sa fonction ou à quel service appartient-elle ? 5 | AD1: A quel(s) repas sera-elle présente ? (Choix multiples)5 | AE1: Souhaitez-vous intégrer une personne supplémentaire ? 5 | AF1: Nom de la personne6 | AG1: Prénom de la personne6 | AH1: Quelle est sa fonction ou à quel service appartient-elle ? 6 | AI1: Quelle est sa fonction ou à quel service appartient-elle ? 52 | AK1: NOM | AL1: NOM sans 0 | AM1: PRENOM | AN1: PRENOM sans 0
A2: 1 | B2: 45608.541 | C2: 45608.542 | D2: anonymous | G2: BRUNO | H2: Mathilde | I2: Commercial | J2: Oui | K2: AA | L2: AAA | M2: Auteur | N2: Non | AK2: {=INDIRECT(IF(ROW()<=COUNTA($G:$G),"G"&ROW(),(IF(ROW()<=COUNTA($G:$G)+COUNTA($K:$K),"N"&ROW()-COUNTA($G:$G),(IF(ROW()<=COUNTA($G:$G)+COUNTA($K:$K)+COUNTA($O:$O),"S"&ROW()-COUNTA($G:$G)-COUNTA($K:$K),(IF(ROW()<=COUNTA($G:$G)+COUNTA($K:$K)+COUNTA($O:$O)+COUNTA($S:$S),"X"&ROW()-COUNTA($G:$G)-COUNTA($K:$K)-COUNTA($O:$O),(IF(ROW()<=COUNTA($G:$G)+COUNTA($K:$K)+COUNTA($O:$O)+COUNTA($S:$S)+COUNTA($W:$W),"AC"&ROW()-COUNTA($G:$G)-COUNTA($K:$K)-COUNTA($O:$O)-COUNTA($S:$S),(IF(ROW()<=COUNTA($G:$G)+COUNTA($K:$K)+COUNTA($O:$O)+COUNTA($S:$S)+COUNTA($W:$W)+COUNTA($AA:$AA),"AH"&ROW()-COUNTA($G:$G)-COUNTA($K:$K)-COUNTA($O:$O)-COUNTA($S:$S)-COUNTA($W:$W),"AM"&ROW()-COUNTA($G:$G)-COUNTA($K:$K)-COUNTA($O:$O)-COUNTA($S:$S)-COUNTA($W:$W)-COUNTA($AA:$AA)))))))))))))} -> BRUNO | AL2: {=IFERROR(INDEX($AK$2:$AK$98, SMALL(IF($AK$2:$AK$98<>0, ROW($AK$2:$AK$98)-ROW($AK$2)+1), ROW()-1)), "")} -> BRUNO | AM2: {=INDIRECT(IF(ROW()<=COUNTA($H:$H),"H"&ROW(),"M"&ROW()-COUNTA($H:$H)+1))} -> Mathilde | AN2: {=IFERROR(INDEX($AM$2:$AM$98, SMALL(IF($AM$2:$AM$98<>0, ROW($AM$2:$AM$98)-ROW($AM$2)+1), ROW()-1)), "")} -> Mathilde
A3: 2 | B3: 45609.541 | C3: 45609.542 | D3: anonymous | G3: France | H3: Pierre | I3: Suisse | J3: Oui | K3: AB | L3: ABB | M3: Suisse | N3: Oui | O3: BA | P3: BAA | Q3: Auteur | R3: Oui | S3: CA | T3: CAA | U3: Chef de projets | V3: Oui | W3: DA | X3: EA | Y3: Attaché presse | Z3: Oui | AA3: FA | AB3: FAA | AC3: Alternant | AD3: Mardi 17 décembre midi; | AE3: Oui | AF3: GA | AG3: gaa | AH3: AUTEUR | AK3: {=INDIRECT(IF(ROW()<=COUNTA($G:$G),"G"&ROW(),(IF(ROW()<=COUNTA($G:$G)+COUNTA($K:$K),"N"&ROW()-COUNTA($G:$G),(IF(ROW()<=COUNTA($G:$G)+COUNTA($K:$K)+COUNTA($O:$O),"S"&ROW()-COUNTA($G:$G)-COUNTA($K:$K),(IF(ROW()<=COUNTA($G:$G)+COUNTA($K:$K)+COUNTA($O:$O)+COUNTA($S:$S),"X"&ROW()-COUNTA($G:$G)-COUNTA($K:$K)-COUNTA($O:$O),(IF(ROW()<=COUNTA($G:$G)+COUNTA($K:$K)+COUNTA($O:$O)+COUNTA($S:$S)+COUNTA($W:$W),"AC"&ROW()-COUNTA($G:$G)-COUNTA($K:$K)-COUNTA($O:$O)-COUNTA($S:$S),(IF(ROW()<=COUNTA($G:$G)+COUNTA($K:$K)+COUNTA($O:$O)+COUNTA($S:$S)+COUNTA($W:$W)+COUNTA($AA:$AA),"AH"&ROW()-COUNTA($G:$G)-COUNTA($K:$K)-COUNTA($O:$O)-COUNTA($S:$S)-COUNTA($W:$W),"AM"&ROW()-COUNTA($G:$G)-COUNTA($K:$K)-COUNTA($O:$O)-COUNTA($S:$S)-COUNTA($W:$W)-COUNTA($AA:$AA)))))))))))))} -> France | AL3: {=IFERROR(INDEX($AK$2:$AK$98, SMALL(IF($AK$2:$AK$98<>0, ROW($AK$2:$AK$98)-ROW($AK$2)+1), ROW()-1)), "")} -> France | AM3: {=INDIRECT(IF(ROW()<=COUNTA($H:$H),"H"&ROW(),"M"&ROW()-COUNTA($H:$H)+1))} -> Pierre | AN3: {=IFERROR(INDEX($AM$2:$AM$98, SMALL(IF($AM$2:$AM$98<>0, ROW($AM$2:$AM$98)-ROW($AM$2)+1), ROW()-1)), "")} -> Pierre | AO3: {=IFERROR(INDEX(#REF!, SMALL(IF(#REF!<>0, ROW(#REF!)-ROW(#REF!)+1), ROW()-1)), "")}
A4: 3 | B4: 45610.541 | C4: 45610.542 | D4: anonymous | G4: HARRY | H4: Charlotte | I4: Marketing | AK4: {=INDIRECT(IF(ROW()<=COUNTA($G:$G),"G"&ROW(),(IF(ROW()<=COUNTA($G:$G)+COUNTA($K:$K),"N"&ROW()-COUNTA($G:$G),(IF(ROW()<=COUNTA($G:$G)+COUNTA($K:$K)+COUNTA($O:$O),"S"&ROW()-COUNTA($G:$G)-COUNTA($K:$K),(IF(ROW()<=COUNTA($G:$G)+COUNTA($K:$K)+COUNTA($O:$O)+COUNTA($S:$S),"X"&ROW()-COUNTA($G:$G)-COUNTA($K:$K)-COUNTA($O:$O),(IF(ROW()<=COUNTA($G:$G)+COUNTA($K:$K)+COUNTA($O:$O)+COUNTA($S:$S)+COUNTA($W:$W),"AC"&ROW()-COUNTA($G:$G)-COUNTA($K:$K)-COUNTA($O:$O)-COUNTA($S:$S),(IF(ROW()<=COUNTA($G:$G)+COUNTA($K:$K)+COUNTA($O:$O)+COUNTA($S:$S)+COUNTA($W:$W)+COUNTA($AA:$AA),"AH"&ROW()-COUNTA($G:$G)-COUNTA($K:$K)-COUNTA($O:$O)-COUNTA($S:$S)-COUNTA($W:$W),"AM"&ROW()-COUNTA($G:$G)-COUNTA($K:$K)-COUNTA($O:$O)-COUNTA($S:$S)-COUNTA($W:$W)-COUNTA($AA:$AA)))))))))))))} -> HARRY | AL4: {=IFERROR(INDEX($AK$2:$AK$98, SMALL(IF($AK$2:$AK$98<>0, ROW($AK$2:$AK$98)-ROW($AK$2)+1), ROW()-1)), "")} -> HARRY | AM4: {=INDIRECT(IF(ROW()<=COUNTA($H:$H),"H"&ROW(),"M"&ROW()-COUNTA($H:$H)+1))} -> Charlotte | AN4: {=IFERROR(INDEX($AM$2:$AM$98, SMALL(IF($AM$2:$AM$98<>0, ROW($AM$2:$AM$98)-ROW($AM$2)+1), ROW()-1)), "")} -> Charlotte | AO4: {=IFERROR(INDEX(#REF!, SMALL(IF(#REF!<>0, ROW(#REF!)-ROW(#REF!)+1), ROW()-1)), "")}
A5: 4 | B5: 45611.541 | C5: 45611.542 | D5: anonymous | G5: EDMONS | H5: Sophie | I5: Marketing | J5: Oui | K5: AC | L5: ACC | M5: Photographe | N5: Oui | O5: BB | P5: BBB | Q5: Auteur | R5: Oui | S5: CB | T5: CBB | U5: Product owner | V5: Oui | W5: DB | X5: EB | Y5: Chef de projets | Z5: Oui | AA5: FB | AB5: FBB | AC5: Auteur | AD5: Lundi 16 décembre midi; | AE5: Oui | AF5: Gb | AG5: gbb | AH5: STAGIAIRE | AK5: {=INDIRECT(IF(ROW()<=COUNTA($G:$G),"G"&ROW(),(IF(ROW()<=COUNTA($G:$G)+COUNTA($K:$K),"N"&ROW()-COUNTA($G:$G),(IF(ROW()<=COUNTA($G:$G)+COUNTA($K:$K)+COUNTA($O:$O),"S"&ROW()-COUNTA($G:$G)-COUNTA($K:$K),(IF(ROW()<=COUNTA($G:$G)+COUNTA($K:$K)+COUNTA($O:$O)+COUNTA($S:$S),"X"&ROW()-COUNTA($G:$G)-COUNTA($K:$K)-COUNTA($O:$O),(IF(ROW()<=COUNTA($G:$G)+COUNTA($K:$K)+COUNTA($O:$O)+COUNTA($S:$S)+COUNTA($W:$W),"AC"&ROW()-COUNTA($G:$G)-COUNTA($K:$K)-COUNTA($O:$O)-COUNTA($S:$S),(IF(ROW()<=COUNTA($G:$G)+COUNTA($K:$K)+COUNTA($O:$O)+COUNTA($S:$S)+COUNTA($W:$W)+COUNTA($AA:$AA),"AH"&ROW()-COUNTA($G:$G)-COUNTA($K:$K)-COUNTA($O:$O)-COUNTA($S:$S)-COUNTA($W:$W),"AM"&ROW()-COUNTA($G:$G)-COUNTA($K:$K)-COUNTA($O:$O)-COUNTA($S:$S)-COUNTA($W:$W)-COUNTA($AA:$AA)))))))))))))} -> EDMONS | AL5: {=IFERROR(INDEX($AK$2:$AK$98, SMALL(IF($AK$2:$AK$98<>0, ROW($AK$2:$AK$98)-ROW($AK$2)+1), ROW()-1)), "")} -> EDMONS | AM5: {=INDIRECT(IF(ROW()<=COUNTA($H:$H),"H"&ROW(),"M"&ROW()-COUNTA($H:$H)+1))} -> Sophie | AN5: {=IFERROR(INDEX($AM$2:$AM$98, SMALL(IF($AM$2:$AM$98<>0, ROW($AM$2:$AM$98)-ROW($AM$2)+1), ROW()-1)), "")} -> Sophie | AO5: {=IFERROR(INDEX(#REF!, SMALL(IF(#REF!<>0, ROW(#REF!)-ROW(#REF!)+1), ROW()-1)), "")}
A6: 5 | B6: 45612.541 | C6: 45612.542 | D6: anonymous | G6: FINANLE | H6: Chris | I6: Commercial | AK6: {=INDIRECT(IF(ROW()<=COUNTA($G:$G),"G"&ROW(),(IF(ROW()<=COUNTA($G:$G)+COUNTA($K:$K),"N"&ROW()-COUNTA($G:$G),(IF(ROW()<=COUNTA($G:$G)+COUNTA($K:$K)+COUNTA($O:$O),"S"&ROW()-COUNTA($G:$G)-COUNTA($K:$K),(IF(ROW()<=COUNTA($G:$G)+COUNTA($K:$K)+COUNTA($O:$O)+COUNTA($S:$S),"X"&ROW()-COUNTA($G:$G)-COUNTA($K:$K)-COUNTA($O:$O),(IF(ROW()<=COUNTA($G:$G)+COUNTA($K:$K)+COUNTA($O:$O)+COUNTA($S:$S)+COUNTA($W:$W),"AC"&ROW()-COUNTA($G:$G)-COUNTA($K:$K)-COUNTA($O:$O)-COUNTA($S:$S),(IF(ROW()<=COUNTA($G:$G)+COUNTA($K:$K)+COUNTA($O:$O)+COUNTA($S:$S)+COUNTA($W:$W)+COUNTA($AA:$AA),"AH"&ROW()-COUNTA($G:$G)-COUNTA($K:$K)-COUNTA($O:$O)-COUNTA($S:$S)-COUNTA($W:$W),"AM"&ROW()-COUNTA($G:$G)-COUNTA($K:$K)-COUNTA($O:$O)-COUNTA($S:$S)-COUNTA($W:$W)-COUNTA($AA:$AA)))))))))))))} -> FINANLE | AL6: {=IFERROR(INDEX($AK$2:$AK$98, SMALL(IF($AK$2:$AK$98<>0, ROW($AK$2:$AK$98)-ROW($AK$2)+1), ROW()-1)), "")} -> FINANLE | AM6: {=INDIRECT(IF(ROW()<=COUNTA($H:$H),"H"&ROW(),"M"&ROW()-COUNTA($H:$H)+1))} -> Chris | AN6: {=IFERROR(INDEX($AM$2:$AM$98, SMALL(IF($AM$2:$AM$98<>0, ROW($AM$2:$AM$98)-ROW($AM$2)+1), ROW()-1)), "")} -> Chris | AO6: {=IFERROR(INDEX(#REF!, SMALL(IF(#REF!<>0, ROW(#REF!)-ROW(#REF!)+1), ROW()-1)), "")}
A7: 6 | B7: 45613.541 | C7: 45613.542 | D7: anonymous | G7: GNO | H7: Djibril | I7: Commercial | AK7: {=INDIRECT(IF(ROW()<=COUNTA($G:$G),"G"&ROW(),(IF(ROW()<=COUNTA($G:$G)+COUNTA($K:$K),"N"&ROW()-COUNTA($G:$G),(IF(ROW()<=COUNTA($G:$G)+COUNTA($K:$K)+COUNTA($O:$O),"S"&ROW()-COUNTA($G:$G)-COUNTA($K:$K),(IF(ROW()<=COUNTA($G:$G)+COUNTA($K:$K)+COUNTA($O:$O)+COUNTA($S:$S),"X"&ROW()-COUNTA($G:$G)-COUNTA($K:$K)-COUNTA($O:$O),(IF(ROW()<=COUNTA($G:$G)+COUNTA($K:$K)+COUNTA($O:$O)+COUNTA($S:$S)+COUNTA($W:$W),"AC"&ROW()-COUNTA($G:$G)-COUNTA($K:$K)-COUNTA($O:$O)-COUNTA($S:$S),(IF(ROW()<=COUNTA($G:$G)+COUNTA($K:$K)+COUNTA($O:$O)+COUNTA($S:$S)+COUNTA($W:$W)+COUNTA($AA:$AA),"AH"&ROW()-COUNTA($G:$G)-COUNTA($K:$K)-COUNTA($O:$O)-COUNTA($S:$S)-COUNTA($W:$W),"AM"&ROW()-COUNTA($G:$G)-COUNTA($K:$K)-COUNTA($O:$O)-COUNTA($S:$S)-COUNTA($W:$W)-COUNTA($AA:$AA)))))))))))))} -> GNO | AL7: {=IFERROR(INDEX($AK$2:$AK$98, SMALL(IF($AK$2:$AK$98<>0, ROW($AK$2:$AK$98)-ROW($AK$2)+1), ROW()-1)), "")} -> GNO | AM7: {=INDIRECT(IF(ROW()<=COUNTA($H:$H),"H"&ROW(),"M"&ROW()-COUNTA($H:$H)+1))} -> Djibril | AN7: {=IFERROR(INDEX($AM$2:$AM$98, SMALL(IF($AM$2:$AM$98<>0, ROW($AM$2:$AM$98)-ROW($AM$2)+1), ROW()-1)), "")} -> Djibril | AO7: {=IFERROR(INDEX(#REF!, SMALL(IF(#REF!<>0, ROW(#REF!)-ROW(#REF!)+1), ROW()-1)), "")}
A8: 7 | B8: 45614.541 | C8: 45614.542 | D8: anonymous | G8: DJIDI | H8: Roger | I8: Commercial | AK8: {=INDIRECT(IF(ROW()<=COUNTA($G:$G),"G"&ROW(),(IF(ROW()<=COUNTA($G:$G)+COUNTA($K:$K),"N"&ROW()-COUNTA($G:$G),(IF(ROW()<=COUNTA($G:$G)+COUNTA($K:$K)+COUNTA($O:$O),"S"&ROW()-COUNTA($G:$G)-COUNTA($K:$K),(IF(ROW()<=COUNTA($G:$G)+COUNTA($K:$K)+COUNTA($O:$O)+COUNTA($S:$S),"X"&ROW()-COUNTA($G:$G)-COUNTA($K:$K)-COUNTA($O:$O),(IF(ROW()<=COUNTA($G:$G)+COUNTA($K:$K)+COUNTA($O:$O)+COUNTA($S:$S)+COUNTA($W:$W),"AC"&ROW()-COUNTA($G:$G)-COUNTA($K:$K)-COUNTA($O:$O)-COUNTA($S:$S),(IF(ROW()<=COUNTA($G:$G)+COUNTA($K:$K)+COUNTA($O:$O)+COUNTA($S:$S)+COUNTA($W:$W)+COUNTA($AA:$AA),"AH"&ROW()-COUNTA($G:$G)-COUNTA($K:$K)-COUNTA($O:$O)-COUNTA($S:$S)-COUNTA($W:$W),"AM"&ROW()-COUNTA($G:$G)-COUNTA($K:$K)-COUNTA($O:$O)-COUNTA($S:$S)-COUNTA($W:$W)-COUNTA($AA:$AA)))))))))))))} -> DJIDI | AL8: {=IFERROR(INDEX($AK$2:$AK$98, SMALL(IF($AK$2:$AK$98<>0, ROW($AK$2:$AK$98)-ROW($AK$2)+1), ROW()-1)), "")} -> DJIDI | AM8: {=INDIRECT(IF(ROW()<=COUNTA($H:$H),"H"&ROW(),"M"&ROW()-COUNTA($H:$H)+1))} -> Roger | AN8: {=IFERROR(INDEX($AM$2:$AM$98, SMALL(IF($AM$2:$AM$98<>0, ROW($AM$2:$AM$98)-ROW($AM$2)+1), ROW()-1)), "")} -> Roger | AO8: {=IFERROR(INDEX(#REF!, SMALL(IF(#REF!<>0, ROW(#REF!)-ROW(#REF!)+1), ROW()-1)), "")}
A9: 8 | B9: 45615.541 | C9: 45615.542 | D9: anonymous | G9: CLIFF | H9: Joseph | I9: Commercial | AK9: {=INDIRECT(IF(ROW()<=COUNTA($G:$G),"G"&ROW(),(IF(ROW()<=COUNTA($G:$G)+COUNTA($K:$K),"N"&ROW()-COUNTA($G:$G),(IF(ROW()<=COUNTA($G:$G)+COUNTA($K:$K)+COUNTA($O:$O),"S"&ROW()-COUNTA($G:$G)-COUNTA($K:$K),(IF(ROW()<=COUNTA($G:$G)+COUNTA($K:$K)+COUNTA($O:$O)+COUNTA($S:$S),"X"&ROW()-COUNTA($G:$G)-COUNTA($K:$K)-COUNTA($O:$O),(IF(ROW()<=COUNTA($G:$G)+COUNTA($K:$K)+COUNTA($O:$O)+COUNTA($S:$S)+COUNTA($W:$W),"AC"&ROW()-COUNTA($G:$G)-COUNTA($K:$K)-COUNTA($O:$O)-COUNTA($S:$S),(IF(ROW()<=COUNTA($G:$G)+COUNTA($K:$K)+COUNTA($O:$O)+COUNTA($S:$S)+COUNTA($W:$W)+COUNTA($AA:$AA),"AH"&ROW()-COUNTA($G:$G)-COUNTA($K:$K)-COUNTA($O:$O)-COUNTA($S:$S)-COUNTA($W:$W),"AM"&ROW()-COUNTA($G:$G)-COUNTA($K:$K)-COUNTA($O:$O)-COUNTA($S:$S)-COUNTA($W:$W)-COUNTA($AA:$AA)))))))))))))} -> CLIFF | AL9: {=IFERROR(INDEX($AK$2:$AK$98, SMALL(IF($AK$2:$AK$98<>0, ROW($AK$2:$AK$98)-ROW($AK$2)+1), ROW()-1)), "")} -> CLIFF | AM9: {=INDIRECT(IF(ROW()<=COUNTA($H:$H),"H"&ROW(),"M"&ROW()-COUNTA($H:$H)+1))} -> Joseph | AN9: {=IFERROR(INDEX($AM$2:$AM$98, SMALL(IF($AM$2:$AM$98<>0, ROW($AM$2:$AM$98)-ROW($AM$2)+1), ROW()-1)), "")} -> Joseph | AO9: {=IFERROR(INDEX(#REF!, SMALL(IF(#REF!<>0, ROW(#REF!)-ROW(#REF!)+1), ROW()-1)), "")}
A10: 9 | B10: 45616.541 | C10: 45616.542 | D10: anonymous | G10: GERNEY | H10: Gérard | I10: Commercial | J10: Oui | K10: AD | L10: ADD | M10: Auteur | N10: Oui | O10: BC | P10: BCC | Q10: Auteur | R10: Oui | S10: CC | T10: CCC | U10: Alternant | V10: Oui | W10: DC | X10: EC | Y10: Stagiaire | Z10: Oui | AA10: FC | AB10: FCC | AC10: Agent de maitrise | AD10: Mercredi 18 décembre midi; | AE10: Oui | AF10: Gc | AG10: gcc | AH10: Commercial | AK10: {=INDIRECT(IF(ROW()<=COUNTA($G:$G),"G"&ROW(),(IF(ROW()<=COUNTA($G:$G)+COUNTA($K:$K),"N"&ROW()-COUNTA($G:$G),(IF(ROW()<=COUNTA($G:$G)+COUNTA($K:$K)+COUNTA($O:$O),"S"&ROW()-COUNTA($G:$G)-COUNTA($K:$K),(IF(ROW()<=COUNTA($G:$G)+COUNTA($K:$K)+COUNTA($O:$O)+COUNTA($S:$S),"X"&ROW()-COUNTA($G:$G)-COUNTA($K:$K)-COUNTA($O:$O),(IF(ROW()<=COUNTA($G:$G)+COUNTA($K:$K)+COUNTA($O:$O)+COUNTA($S:$S)+COUNTA($W:$W),"AC"&ROW()-COUNTA($G:$G)-COUNTA($K:$K)-COUNTA($O:$O)-COUNTA($S:$S),(IF(ROW()<=COUNTA($G:$G)+COUNTA($K:$K)+COUNTA($O:$O)+COUNTA($S:$S)+COUNTA($W:$W)+COUNTA($AA:$AA),"AH"&ROW()-COUNTA($G:$G)-COUNTA($K:$K)-COUNTA($O:$O)-COUNTA($S:$S)-COUNTA($W:$W),"AM"&ROW()-COUNTA($G:$G)-COUNTA($K:$K)-COUNTA($O:$O)-COUNTA($S:$S)-COUNTA($W:$W)-COUNTA($AA:$AA)))))))))))))} -> GERNEY | AL10: {=IFERROR(INDEX($AK$2:$AK$98, SMALL(IF($AK$2:$AK$98<>0, ROW($AK$2:$AK$98)-ROW($AK$2)+1), ROW()-1)), "")} -> GERNEY | AM10: {=INDIRECT(IF(ROW()<=COUNTA($H:$H),"H"&ROW(),"M"&ROW()-COUNTA($H:$H)+1))} -> Gérard | AN10: {=IFERROR(INDEX($AM$2:$AM$98, SMALL(IF($AM$2:$AM$98<>0, ROW($AM$2:$AM$98)-ROW($AM$2)+1), ROW()-1)), "")} -> Gérard | AO10: {=IFERROR(INDEX(#REF!, SMALL(IF(#REF!<>0, ROW(#REF!)-ROW(#REF!)+1), ROW()-1)), "")}
A11: 10 | B11: 45617.541 | C11: 45617.542 | D11: anonymous | G11: DRILL | H11: Nadia | I11: Commercial | AK11: {=INDIRECT(IF(ROW()<=COUNTA($G:$G),"G"&ROW(),(IF(ROW()<=COUNTA($G:$G)+COUNTA($K:$K),"N"&ROW()-COUNTA($G:$G),(IF(ROW()<=COUNTA($G:$G)+COUNTA($K:$K)+COUNTA($O:$O),"S"&ROW()-COUNTA($G:$G)-COUNTA($K:$K),(IF(ROW()<=COUNTA($G:$G)+COUNTA($K:$K)+COUNTA($O:$O)+COUNTA($S:$S),"X"&ROW()-COUNTA($G:$G)-COUNTA($K:$K)-COUNTA($O:$O),(IF(ROW()<=COUNTA($G:$G)+COUNTA($K:$K)+COUNTA($O:$O)+COUNTA($S:$S)+COUNTA($W:$W),"AC"&ROW()-COUNTA($G:$G)-COUNTA($K:$K)-COUNTA($O:$O)-COUNTA($S:$S),(IF(ROW()<=COUNTA($G:$G)+COUNTA($K:$K)+COUNTA($O:$O)+COUNTA($S:$S)+COUNTA($W:$W)+COUNTA($AA:$AA),"AH"&ROW()-COUNTA($G:$G)-COUNTA($K:$K)-COUNTA($O:$O)-COUNTA($S:$S)-COUNTA($W:$W),"AM"&ROW()-COUNTA($G:$G)-COUNTA($K:$K)-COUNTA($O:$O)-COUNTA($S:$S)-COUNTA($W:$W)-COUNTA($AA:$AA)))))))))))))} -> DRILL | AL11: {=IFERROR(INDEX($AK$2:$AK$98, SMALL(IF($AK$2:$AK$98<>0, ROW($AK$2:$AK$98)-ROW($AK$2)+1), ROW()-1)), "")} -> DRILL | AM11: {=INDIRECT(IF(ROW()<=COUNTA($H:$H),"H"&ROW(),"M"&ROW()-COUNTA($H:$H)+1))} -> Nadia | AN11: {=IFERROR(INDEX($AM$2:$AM$98, SMALL(IF($AM$2:$AM$98<>0, ROW($AM$2:$AM$98)-ROW($AM$2)+1), ROW()-1)), "")} -> Nadia | AO11: {=IFERROR(INDEX(#REF!, SMALL(IF(#REF!<>0, ROW(#REF!)-ROW(#REF!)+1), ROW()-1)), "")}
A12: 11 | B12: 45618.541 | C12: 45618.542 | D12: anonymous | G12: GHUTENBER | H12: Nina | I12: Commercial | AK12: {=INDIRECT(IF(ROW()<=COUNTA($G:$G),"G"&ROW(),(IF(ROW()<=COUNTA($G:$G)+COUNTA($K:$K),"N"&ROW()-COUNTA($G:$G),(IF(ROW()<=COUNTA($G:$G)+COUNTA($K:$K)+COUNTA($O:$O),"S"&ROW()-COUNTA($G:$G)-COUNTA($K:$K),(IF(ROW()<=COUNTA($G:$G)+COUNTA($K:$K)+COUNTA($O:$O)+COUNTA($S:$S),"X"&ROW()-COUNTA($G:$G)-COUNTA($K:$K)-COUNTA($O:$O),(IF(ROW()<=COUNTA($G:$G)+COUNTA($K:$K)+COUNTA($O:$O)+COUNTA($S:$S)+COUNTA($W:$W),"AC"&ROW()-COUNTA($G:$G)-COUNTA($K:$K)-COUNTA($O:$O)-COUNTA($S:$S),(IF(ROW()<=COUNTA($G:$G)+COUNTA($K:$K)+COUNTA($O:$O)+COUNTA($S:$S)+COUNTA($W:$W)+COUNTA($AA:$AA),"AH"&ROW()-COUNTA($G:$G)-COUNTA($K:$K)-COUNTA($O:$O)-COUNTA($S:$S)-COUNTA($W:$W),"AM"&ROW()-COUNTA($G:$G)-COUNTA($K:$K)-COUNTA($O:$O)-COUNTA($S:$S)-COUNTA($W:$W)-COUNTA($AA:$AA)))))))))))))} -> GHUTENBER | AL12: {=IFERROR(INDEX($AK$2:$AK$98, SMALL(IF($AK$2:$AK$98<>0, ROW($AK$2:$AK$98)-ROW($AK$2)+1), ROW()-1)), "")} -> GHUTENBER | AM12: {=INDIRECT(IF(ROW()<=COUNTA($H:$H),"H"&ROW(),"O"&ROW()-COUNTA($H:$H)+1))} -> Nina | AN12: {=IFERROR(INDEX($AM$2:$AM$98, SMALL(IF($AM$2:$AM$98<>0, ROW($AM$2:$AM$98)-ROW($AM$2)+1), ROW()-1)), "")} -> Nina | AO12: {=IFERROR(INDEX(#REF!, SMALL(IF(#REF!<>0, ROW(#REF!)-ROW(#REF!)+1), ROW()-1)), "")}
AK13: {=INDIRECT(IF(ROW()<=COUNTA($G:$G),"G"&ROW(),(IF(ROW()<=COUNTA($G:$G)+COUNTA($K:$K),"N"&ROW()-COUNTA($G:$G),(IF(ROW()<=COUNTA($G:$G)+COUNTA($K:$K)+COUNTA($O:$O),"S"&ROW()-COUNTA($G:$G)-COUNTA($K:$K),(IF(ROW()<=COUNTA($G:$G)+COUNTA($K:$K)+COUNTA($O:$O)+COUNTA($S:$S),"X"&ROW()-COUNTA($G:$G)-COUNTA($K:$K)-COUNTA($O:$O),(IF(ROW()<=COUNTA($G:$G)+COUNTA($K:$K)+COUNTA($O:$O)+COUNTA($S:$S)+COUNTA($W:$W),"AC"&ROW()-COUNTA($G:$G)-COUNTA($K:$K)-COUNTA($O:$O)-COUNTA($S:$S),(IF(ROW()<=COUNTA($G:$G)+COUNTA($K:$K)+COUNTA($O:$O)+COUNTA($S:$S)+COUNTA($W:$W)+COUNTA($AA:$AA),"AH"&ROW()-COUNTA($G:$G)-COUNTA($K:$K)-COUNTA($O:$O)-COUNTA($S:$S)-COUNTA($W:$W),"AM"&ROW()-COUNTA($G:$G)-COUNTA($K:$K)-COUNTA($O:$O)-COUNTA($S:$S)-COUNTA($W:$W)-COUNTA($AA:$AA)))))))))))))} -> Souhaitez-vous intégrer une personne supplémentaire ? | AL13: {=IFERROR(INDEX($AK$2:$AK$98, SMALL(IF($AK$2:$AK$98<>0, ROW($AK$2:$AK$98)-ROW($AK$2)+1), ROW()-1)), "")} -> Souhaitez-vous intégrer une personne supplémentaire ? | AM13: {=INDIRECT(IF(ROW()<=COUNTA($H:$H),"H"&ROW(),"O"&ROW()-COUNTA($H:$H)+1))} -> 0 | AN13: {=IFERROR(INDEX($AM$2:$AM$98, SMALL(IF($AM$2:$AM$98<>0, ROW($AM$2:$AM$98)-ROW($AM$2)+1), ROW()-1)), "")} -> BA | AO13: {=IFERROR(INDEX(#REF!, SMALL(IF(#REF!<>0, ROW(#REF!)-ROW(#REF!)+1), ROW()-1)), "")}
AK14: {=INDIRECT(IF(ROW()<=COUNTA($G:$G),"G"&ROW(),(IF(ROW()<=COUNTA($G:$G)+COUNTA($K:$K),"N"&ROW()-COUNTA($G:$G),(IF(ROW()<=COUNTA($G:$G)+COUNTA($K:$K)+COUNTA($O:$O),"S"&ROW()-COUNTA($G:$G)-COUNTA($K:$K),(IF(ROW()<=COUNTA($G:$G)+COUNTA($K:$K)+COUNTA($O:$O)+COUNTA($S:$S),"X"&ROW()-COUNTA($G:$G)-COUNTA($K:$K)-COUNTA($O:$O),(IF(ROW()<=COUNTA($G:$G)+COUNTA($K:$K)+COUNTA($O:$O)+COUNTA($S:$S)+COUNTA($W:$W),"AC"&ROW()-COUNTA($G:$G)-COUNTA($K:$K)-COUNTA($O:$O)-COUNTA($S:$S),(IF(ROW()<=COUNTA($G:$G)+COUNTA($K:$K)+COUNTA($O:$O)+COUNTA($S:$S)+COUNTA($W:$W)+COUNTA($AA:$AA),"AH"&ROW()-COUNTA($G:$G)-COUNTA($K:$K)-COUNTA($O:$O)-COUNTA($S:$S)-COUNTA($W:$W),"AM"&ROW()-COUNTA($G:$G)-COUNTA($K:$K)-COUNTA($O:$O)-COUNTA($S:$S)-COUNTA($W:$W)-COUNTA($AA:$AA)))))))))))))} -> Non | AL14: {=IFERROR(INDEX($AK$2:$AK$98, SMALL(IF($AK$2:$AK$98<>0, ROW($AK$2:$AK$98)-ROW($AK$2)+1), ROW()-1)), "")} -> Non | AM14: {=INDIRECT(IF(ROW()<=COUNTA($H:$H),"H"&ROW(),"O"&ROW()-COUNTA($H:$H)+1))} -> BA | AN14: {=IFERROR(INDEX($AM$2:$AM$98, SMALL(IF($AM$2:$AM$98<>0, ROW($AM$2:$AM$98)-ROW($AM$2)+1), ROW()-1)), "")} -> BB | AO14: {=IFERROR(INDEX(#REF!, SMALL(IF(#REF!<>0, ROW(#REF!)-ROW(#REF!)+1), ROW()-1)), "")}
AK15: {=INDIRECT(IF(ROW()<=COUNTA($G:$G),"G"&ROW(),(IF(ROW()<=COUNTA($G:$G)+COUNTA($K:$K),"N"&ROW()-COUNTA($G:$G),(IF(ROW()<=COUNTA($G:$G)+COUNTA($K:$K)+COUNTA($O:$O),"S"&ROW()-COUNTA($G:$G)-COUNTA($K:$K),(IF(ROW()<=COUNTA($G:$G)+COUNTA($K:$K)+COUNTA($O:$O)+COUNTA($S:$S),"X"&ROW()-COUNTA($G:$G)-COUNTA($K:$K)-COUNTA($O:$O),(IF(ROW()<=COUNTA($G:$G)+COUNTA($K:$K)+COUNTA($O:$O)+COUNTA($S:$S)+COUNTA($W:$W),"AC"&ROW()-COUNTA($G:$G)-COUNTA($K:$K)-COUNTA($O:$O)-COUNTA($S:$S),(IF(ROW()<=COUNTA($G:$G)+COUNTA($K:$K)+COUNTA($O:$O)+COUNTA($S:$S)+COUNTA($W:$W)+COUNTA($AA:$AA),"AH"&ROW()-COUNTA($G:$G)-COUNTA($K:$K)-COUNTA($O:$O)-COUNTA($S:$S)-COUNTA($W:$W),"AM"&ROW()-COUNTA($G:$G)-COUNTA($K:$K)-COUNTA($O:$O)-COUNTA($S:$S)-COUNTA($W:$W)-COUNTA($AA:$AA)))))))))))))} -> Oui | AL15: {=IFERROR(INDEX($AK$2:$AK$98, SMALL(IF($AK$2:$AK$98<>0, ROW($AK$2:$AK$98)-ROW($AK$2)+1), ROW()-1)), "")} -> Oui | AM15: {=INDIRECT(IF(ROW()<=COUNTA($H:$H),"H"&ROW(),"O"&ROW()-COUNTA($H:$H)+1))} -> 0 | AN15: {=IFERROR(INDEX($AM$2:$AM$98, SMALL(IF($AM$2:$AM$98<>0, ROW($AM$2:$AM$98)-ROW($AM$2)+1), ROW()-1)), "")} -> BC | AO15: {=IFERROR(INDEX(#REF!, SMALL(IF(#REF!<>0, ROW(#REF!)-ROW(#REF!)+1), ROW()-1)), "")}
AK16: {=INDIRECT(IF(ROW()<=COUNTA($G:$G),"G"&ROW(),(IF(ROW()<=COUNTA($G:$G)+COUNTA($K:$K),"N"&ROW()-COUNTA($G:$G),(IF(ROW()<=COUNTA($G:$G)+COUNTA($K:$K)+COUNTA($O:$O),"S"&ROW()-COUNTA($G:$G)-COUNTA($K:$K),(IF(ROW()<=COUNTA($G:$G)+COUNTA($K:$K)+COUNTA($O:$O)+COUNTA($S:$S),"X"&ROW()-COUNTA($G:$G)-COUNTA($K:$K)-COUNTA($O:$O),(IF(ROW()<=COUNTA($G:$G)+COUNTA($K:$K)+COUNTA($O:$O)+COUNTA($S:$S)+COUNTA($W:$W),"AC"&ROW()-COUNTA($G:$G)-COUNTA($K:$K)-COUNTA($O:$O)-COUNTA($S:$S),(IF(ROW()<=COUNTA($G:$G)+COUNTA($K:$K)+COUNTA($O:$O)+COUNTA($S:$S)+COUNTA($W:$W)+COUNTA($AA:$AA),"AH"&ROW()-COUNTA($G:$G)-COUNTA($K:$K)-COUNTA($O:$O)-COUNTA($S:$S)-COUNTA($W:$W),"AM"&ROW()-COUNTA($G:$G)-COUNTA($K:$K)-COUNTA($O:$O)-COUNTA($S:$S)-COUNTA($W:$W)-COUNTA($AA:$AA)))))))))))))} -> 0 | AL16: {=IFERROR(INDEX($AK$2:$AK$98, SMALL(IF($AK$2:$AK$98<>0, ROW($AK$2:$AK$98)-ROW($AK$2)+1), ROW()-1)), "")} -> Oui | AM16: {=INDIRECT(IF(ROW()<=COUNTA($H:$H),"H"&ROW(),"O"&ROW()-COUNTA($H:$H)+1))} -> BB | AN16: {=IFERROR(INDEX($AM$2:$AM$98, SMALL(IF($AM$2:$AM$98<>0, ROW($AM$2:$AM$98)-ROW($AM$2)+1), ROW()-1)), "")} | AO16: {=IFERROR(INDEX(#REF!, SMALL(IF(#REF!<>0, ROW(#REF!)-ROW(#REF!)+1), ROW()-1)), "")}
AK17: {=INDIRECT(IF(ROW()<=COUNTA($G:$G),"G"&ROW(),(IF(ROW()<=COUNTA($G:$G)+COUNTA($K:$K),"N"&ROW()-COUNTA($G:$G),(IF(ROW()<=COUNTA($G:$G)+COUNTA($K:$K)+COUNTA($O:$O),"S"&ROW()-COUNTA($G:$G)-COUNTA($K:$K),(IF(ROW()<=COUNTA($G:$G)+COUNTA($K:$K)+COUNTA($O:$O)+COUNTA($S:$S),"X"&ROW()-COUNTA($G:$G)-COUNTA($K:$K)-COUNTA($O:$O),(IF(ROW()<=COUNTA($G:$G)+COUNTA($K:$K)+COUNTA($O:$O)+COUNTA($S:$S)+COUNTA($W:$W),"AC"&ROW()-COUNTA($G:$G)-COUNTA($K:$K)-COUNTA($O:$O)-COUNTA($S:$S),(IF(ROW()<=COUNTA($G:$G)+COUNTA($K:$K)+COUNTA($O:$O)+COUNTA($S:$S)+COUNTA($W:$W)+COUNTA($AA:$AA),"AH"&ROW()-COUNTA($G:$G)-COUNTA($K:$K)-COUNTA($O:$O)-COUNTA($S:$S)-COUNTA($W:$W),"AM"&ROW()-COUNTA($G:$G)-COUNTA($K:$K)-COUNTA($O:$O)-COUNTA($S:$S)-COUNTA($W:$W)-COUNTA($AA:$AA)))))))))))))} -> Oui | AL17: {=IFERROR(INDEX($AK$2:$AK$98, SMALL(IF($AK$2:$AK$98<>0, ROW($AK$2:$AK$98)-ROW($AK$2)+1), ROW()-1)), "")} -> Nom de la personne3 | AM17: {=INDIRECT(IF(ROW()<=COUNTA($H:$H),"H"&ROW(),"O"&ROW()-COUNTA($H:$H)+1))} -> 0 | AN17: {=IFERROR(INDEX($AM$2:$AM$98, SMALL(IF($AM$2:$AM$98<>0, ROW($AM$2:$AM$98)-ROW($AM$2)+1), ROW()-1)), "")} | AO17: {=IFERROR(INDEX(#REF!, SMALL(IF(#REF!<>0, ROW(#REF!)-ROW(#REF!)+1), ROW()-1)), "")}
AK18: {=INDIRECT(IF(ROW()<=COUNTA($G:$G),"G"&ROW(),(IF(ROW()<=COUNTA($G:$G)+COUNTA($K:$K),"N"&ROW()-COUNTA($G:$G),(IF(ROW()<=COUNTA($G:$G)+COUNTA($K:$K)+COUNTA($O:$O),"S"&ROW()-COUNTA($G:$G)-COUNTA($K:$K),(IF(ROW()<=COUNTA($G:$G)+COUNTA($K:$K)+COUNTA($O:$O)+COUNTA($S:$S),"X"&ROW()-COUNTA($G:$G)-COUNTA($K:$K)-COUNTA($O:$O),(IF(ROW()<=COUNTA($G:$G)+COUNTA($K:$K)+COUNTA($O:$O)+COUNTA($S:$S)+COUNTA($W:$W),"AC"&ROW()-COUNTA($G:$G)-COUNTA($K:$K)-COUNTA($O:$O)-COUNTA($S:$S),(IF(ROW()<=COUNTA($G:$G)+COUNTA($K:$K)+COUNTA($O:$O)+COUNTA($S:$S)+COUNTA($W:$W)+COUNTA($AA:$AA),"AH"&ROW()-COUNTA($G:$G)-COUNTA($K:$K)-COUNTA($O:$O)-COUNTA($S:$S)-COUNTA($W:$W),"AM"&ROW()-COUNTA($G:$G)-COUNTA($K:$K)-COUNTA($O:$O)-COUNTA($S:$S)-COUNTA($W:$W)-COUNTA($AA:$AA)))))))))))))} -> Nom de la personne3 | AL18: {=IFERROR(INDEX($AK$2:$AK$98, SMALL(IF($AK$2:$AK$98<>0, ROW($AK$2:$AK$98)-ROW($AK$2)+1), ROW()-1)), "")} -> CA | AM18: {=INDIRECT(IF(ROW()<=COUNTA($H:$H),"H"&ROW(),"O"&ROW()-COUNTA($H:$H)+1))} -> 0 | AN18: {=IFERROR(INDEX($AM$2:$AM$98, SMALL(IF($AM$2:$AM$98<>0, ROW($AM$2:$AM$98)-ROW($AM$2)+1), ROW()-1)), "")} | AO18: {=IFERROR(INDEX(#REF!, SMALL(IF(#REF!<>0, ROW(#REF!)-ROW(#REF!)+1), ROW()-1)), "")}
AK19: {=INDIRECT(IF(ROW()<=COUNTA($G:$G),"G"&ROW(),(IF(ROW()<=COUNTA($G:$G)+COUNTA($K:$K),"N"&ROW()-COUNTA($G:$G),(IF(ROW()<=COUNTA($G:$G)+COUNTA($K:$K)+COUNTA($O:$O),"S"&ROW()-COUNTA($G:$G)-COUNTA($K:$K),(IF(ROW()<=COUNTA($G:$G)+COUNTA($K:$K)+COUNTA($O:$O)+COUNTA($S:$S),"X"&ROW()-COUNTA($G:$G)-COUNTA($K:$K)-COUNTA($O:$O),(IF(ROW()<=COUNTA($G:$G)+COUNTA($K:$K)+COUNTA($O:$O)+COUNTA($S:$S)+COUNTA($W:$W),"AC"&ROW()-COUNTA($G:$G)-COUNTA($K:$K)-COUNTA($O:$O)-COUNTA($S:$S),(IF(ROW()<=COUNTA($G:$G)+COUNTA($K:$K)+COUNTA($O:$O)+COUNTA($S:$S)+COUNTA($W:$W)+COUNTA($AA:$AA),"AH"&ROW()-COUNTA($G:$G)-COUNTA($K:$K)-COUNTA($O:$O)-COUNTA($S:$S)-COUNTA($W:$W),"AM"&ROW()-COUNTA($G:$G)-COUNTA($K:$K)-COUNTA($O:$O)-COUNTA($S:$S)-COUNTA($W:$W)-COUNTA($AA:$AA)))))))))))))} -> 0 | AL19: {=IFERROR(INDEX($AK$2:$AK$98, SMALL(IF($AK$2:$AK$98<>0, ROW($AK$2:$AK$98)-ROW($AK$2)+1), ROW()-1)), "")} -> Prénom de la personne4 | AM19: {=INDIRECT(IF(ROW()<=COUNTA($H:$H),"H"&ROW(),"O"&ROW()-COUNTA($H:$H)+1))} -> 0 | AN19: {=IFERROR(INDEX($AM$2:$AM$98, SMALL(IF($AM$2:$AM$98<>0, ROW($AM$2:$AM$98)-ROW($AM$2)+1), ROW()-1)), "")} | AO19: {=IFERROR(INDEX(#REF!, SMALL(IF(#REF!<>0, ROW(#REF!)-ROW(#REF!)+1), ROW()-1)), "")}
AK20: {=INDIRECT(IF(ROW()<=COUNTA($G:$G),"G"&ROW(),(IF(ROW()<=COUNTA($G:$G)+COUNTA($K:$K),"N"&ROW()-COUNTA($G:$G),(IF(ROW()<=COUNTA($G:$G)+COUNTA($K:$K)+COUNTA($O:$O),"S"&ROW()-COUNTA($G:$G)-COUNTA($K:$K),(IF(ROW()<=COUNTA($G:$G)+COUNTA($K:$K)+COUNTA($O:$O)+COUNTA($S:$S),"X"&ROW()-COUNTA($G:$G)-COUNTA($K:$K)-COUNTA($O:$O),(IF(ROW()<=COUNTA($G:$G)+COUNTA($K:$K)+COUNTA($O:$O)+COUNTA($S:$S)+COUNTA($W:$W),"AC"&ROW()-COUNTA($G:$G)-COUNTA($K:$K)-COUNTA($O:$O)-COUNTA($S:$S),(IF(ROW()<=COUNTA($G:$G)+COUNTA($K:$K)+COUNTA($O:$O)+COUNTA($S:$S)+COUNTA($W:$W)+COUNTA($AA:$AA),"AH"&ROW()-COUNTA($G:$G)-COUNTA($K:$K)-COUNTA($O:$O)-COUNTA($S:$S)-COUNTA($W:$W),"AM"&ROW()-COUNTA($G:$G)-COUNTA($K:$K)-COUNTA($O:$O)-COUNTA($S:$S)-COUNTA($W:$W)-COUNTA($AA:$AA)))))))))))))} -> CA | AL20: {=IFERROR(INDEX($AK$2:$AK$98, SMALL(IF($AK$2:$AK$98<>0, ROW($AK$2:$AK$98)-ROW($AK$2)+1), ROW()-1)), "")} -> EA | AM20: {=INDIRECT(IF(ROW()<=COUNTA($H:$H),"H"&ROW(),"O"&ROW()-COUNTA($H:$H)+1))} -> 0 | AN20: {=IFERROR(INDEX($AM$2:$AM$98, SMALL(IF($AM$2:$AM$98<>0, ROW($AM$2:$AM$98)-ROW($AM$2)+1), ROW()-1)), "")} | AO20: {=IFERROR(INDEX(#REF!, SMALL(IF(#REF!<>0, ROW(#REF!)-ROW(#REF!)+1), ROW()-1)), "")}
AK21: {=INDIRECT(IF(ROW()<=COUNTA($G:$G),"G"&ROW(),(IF(ROW()<=COUNTA($G:$G)+COUNTA($K:$K),"N"&ROW()-COUNTA($G:$G),(IF(ROW()<=COUNTA($G:$G)+COUNTA($K:$K)+COUNTA($O:$O),"S"&ROW()-COUNTA($G:$G)-COUNTA($K:$K),(IF(ROW()<=COUNTA($G:$G)+COUNTA($K:$K)+COUNTA($O:$O)+COUNTA($S:$S),"X"&ROW()-COUNTA($G:$G)-COUNTA($K:$K)-COUNTA($O:$O),(IF(ROW()<=COUNTA($G:$G)+COUNTA($K:$K)+COUNTA($O:$O)+COUNTA($S:$S)+COUNTA($W:$W),"AC"&ROW()-COUNTA($G:$G)-COUNTA($K:$K)-COUNTA($O:$O)-COUNTA($S:$S),(IF(ROW()<=COUNTA($G:$G)+COUNTA($K:$K)+COUNTA($O:$O)+COUNTA($S:$S)+COUNTA($W:$W)+COUNTA($AA:$AA),"AH"&ROW()-COUNTA($G:$G)-COUNTA($K:$K)-COUNTA($O:$O)-COUNTA($S:$S)-COUNTA($W:$W),"AM"&ROW()-COUNTA($G:$G)-COUNTA($K:$K)-COUNTA($O:$O)-COUNTA($S:$S)-COUNTA($W:$W)-COUNTA($AA:$AA)))))))))))))} -> 0 | AL21: {=IFERROR(INDEX($AK$2:$AK$98, SMALL(IF($AK$2:$AK$98<>0, ROW($AK$2:$AK$98)-ROW($AK$2)+1), ROW()-1)), "")} -> Quelle est sa fonction ou à quel service appartient-elle ? 5 | AM21: {=INDIRECT(IF(ROW()<=COUNTA($H:$H),"H"&ROW(),"O"&ROW()-COUNTA($H:$H)+1))} -> BC | AN21: {=IFERROR(INDEX($AM$2:$AM$98, SMALL(IF($AM$2:$AM$98<>0, ROW($AM$2:$AM$98)-ROW($AM$2)+1), ROW()-1)), "")} | AO21: {=IFERROR(INDEX(#REF!, SMALL(IF(#REF!<>0, ROW(#REF!)-ROW(#REF!)+1), ROW()-1)), "")}
AK22: {=INDIRECT(IF(ROW()<=COUNTA($G:$G),"G"&ROW(),(IF(ROW()<=COUNTA($G:$G)+COUNTA($K:$K),"N"&ROW()-COUNTA($G:$G),(IF(ROW()<=COUNTA($G:$G)+COUNTA($K:$K)+COUNTA($O:$O),"S"&ROW()-COUNTA($G:$G)-COUNTA($K:$K),(IF(ROW()<=COUNTA($G:$G)+COUNTA($K:$K)+COUNTA($O:$O)+COUNTA($S:$S),"X"&ROW()-COUNTA($G:$G)-COUNTA($K:$K)-COUNTA($O:$O),(IF(ROW()<=COUNTA($G:$G)+COUNTA($K:$K)+COUNTA($O:$O)+COUNTA($S:$S)+COUNTA($W:$W),"AC"&ROW()-COUNTA($G:$G)-COUNTA($K:$K)-COUNTA($O:$O)-COUNTA($S:$S),(IF(ROW()<=COUNTA($G:$G)+COUNTA($K:$K)+COUNTA($O:$O)+COUNTA($S:$S)+COUNTA($W:$W)+COUNTA($AA:$AA),"AH"&ROW()-COUNTA($G:$G)-COUNTA($K:$K)-COUNTA($O:$O)-COUNTA($S:$S)-COUNTA($W:$W),"AM"&ROW()-COUNTA($G:$G)-COUNTA($K:$K)-COUNTA($O:$O)-COUNTA($S:$S)-COUNTA($W:$W)-COUNTA($AA:$AA)))))))))))))} -> Prénom de la personne4 | AL22: {=IFERROR(INDEX($AK$2:$AK$98, SMALL(IF($AK$2:$AK$98<>0, ROW($AK$2:$AK$98)-ROW($AK$2)+1), ROW()-1)), "")} -> Alternant | AM22: {=INDIRECT(IF(ROW()<=COUNTA($H:$H),"H"&ROW(),"O"&ROW()-COUNTA($H:$H)+1))} -> 0 | AN22: {=IFERROR(INDEX($AM$2:$AM$98, SMALL(IF($AM$2:$AM$98<>0, ROW($AM$2:$AM$98)-ROW($AM$2)+1), ROW()-1)), "")} | AO22: {=IFERROR(INDEX(#REF!, SMALL(IF(#REF!<>0, ROW(#REF!)-ROW(#REF!)+1), ROW()-1)), "")}
AK23: {=INDIRECT(IF(ROW()<=COUNTA($G:$G),"G"&ROW(),(IF(ROW()<=COUNTA($G:$G)+COUNTA($K:$K),"N"&ROW()-COUNTA($G:$G),(IF(ROW()<=COUNTA($G:$G)+COUNTA($K:$K)+COUNTA($O:$O),"S"&ROW()-COUNTA($G:$G)-COUNTA($K:$K),(IF(ROW()<=COUNTA($G:$G)+COUNTA($K:$K)+COUNTA($O:$O)+COUNTA($S:$S),"X"&ROW()-COUNTA($G:$G)-COUNTA($K:$K)-COUNTA($O:$O),(IF(ROW()<=COUNTA($G:$G)+COUNTA($K:$K)+COUNTA($O:$O)+COUNTA($S:$S)+COUNTA($W:$W),"AC"&ROW()-COUNTA($G:$G)-COUNTA($K:$K)-COUNTA($O:$O)-COUNTA($S:$S),(IF(ROW()<=COUNTA($G:$G)+COUNTA($K:$K)+COUNTA($O:$O)+COUNTA($S:$S)+COUNTA($W:$W)+COUNTA($AA:$AA),"AH"&ROW()-COUNTA($G:$G)-COUNTA($K:$K)-COUNTA($O:$O)-COUNTA($S:$S)-COUNTA($W:$W),"AM"&ROW()-COUNTA($G:$G)-COUNTA($K:$K)-COUNTA($O:$O)-COUNTA($S:$S)-COUNTA($W:$W)-COUNTA($AA:$AA)))))))))))))} -> 0 | AL23: {=IFERROR(INDEX($AK$2:$AK$98, SMALL(IF($AK$2:$AK$98<>0, ROW($AK$2:$AK$98)-ROW($AK$2)+1), ROW()-1)), "")} -> Quelle est sa fonction ou à quel service appartient-elle ? 6 | AM23: {=INDIRECT(IF(ROW()<=COUNTA($H:$H),"H"&ROW(),"O"&ROW()-COUNTA($H:$H)+1))} -> 0 | AN23: {=IFERROR(INDEX($AM$2:$AM$98, SMALL(IF($AM$2:$AM$98<>0, ROW($AM$2:$AM$98)-ROW($AM$2)+1), ROW()-1)), "")} | AO23: {=IFERROR(INDEX(#REF!, SMALL(IF(#REF!<>0, ROW(#REF!)-ROW(#REF!)+1), ROW()-1)), "")}
AK24: {=INDIRECT(IF(ROW()<=COUNTA($G:$G),"G"&ROW(),(IF(ROW()<=COUNTA($G:$G)+COUNTA($K:$K),"N"&ROW()-COUNTA($G:$G),(IF(ROW()<=COUNTA($G:$G)+COUNTA($K:$K)+COUNTA($O:$O),"S"&ROW()-COUNTA($G:$G)-COUNTA($K:$K),(IF(ROW()<=COUNTA($G:$G)+COUNTA($K:$K)+COUNTA($O:$O)+COUNTA($S:$S),"X"&ROW()-COUNTA($G:$G)-COUNTA($K:$K)-COUNTA($O:$O),(IF(ROW()<=COUNTA($G:$G)+COUNTA($K:$K)+COUNTA($O:$O)+COUNTA($S:$S)+COUNTA($W:$W),"AC"&ROW()-COUNTA($G:$G)-COUNTA($K:$K)-COUNTA($O:$O)-COUNTA($S:$S),(IF(ROW()<=COUNTA($G:$G)+COUNTA($K:$K)+COUNTA($O:$O)+COUNTA($S:$S)+COUNTA($W:$W)+COUNTA($AA:$AA),"AH"&ROW()-COUNTA($G:$G)-COUNTA($K:$K)-COUNTA($O:$O)-COUNTA($S:$S)-COUNTA($W:$W),"AM"&ROW()-COUNTA($G:$G)-COUNTA($K:$K)-COUNTA($O:$O)-COUNTA($S:$S)-COUNTA($W:$W)-COUNTA($AA:$AA)))))))))))))} -> EA | AL24: {=IFERROR(INDEX($AK$2:$AK$98, SMALL(IF($AK$2:$AK$98<>0, ROW($AK$2:$AK$98)-ROW($AK$2)+1), ROW()-1)), "")} -> AUTEUR | AM24: {=INDIRECT(IF(ROW()<=COUNTA($H:$H),"H"&ROW(),"O"&ROW()-COUNTA($H:$H)+1))} -> 0 | AN24: {=IFERROR(INDEX($AM$2:$AM$98, SMALL(IF($AM$2:$AM$98<>0, ROW($AM$2:$AM$98)-ROW($AM$2)+1), ROW()-1)), "")} | AO24: {=IFERROR(INDEX(#REF!, SMALL(IF(#REF!<>0, ROW(#REF!)-ROW(#REF!)+1), ROW()-1)), "")}
... AK98: {=INDIRECT(IF(ROW()<=COUNTA($G:$G),"G"&ROW(),(IF(ROW()<=COUNTA($G:$G)+COUNTA($K:$K),"N"&ROW()-COUNTA($G:$G),(IF(ROW()<=COUNTA($G:$G)+COUNTA($K:$K)+COUNTA($O:$O),"S"&ROW()-COUNTA($G:$G)-COUNTA($K:$K),(IF(ROW()<=COUNTA($G:$G)+COUNTA($K:$K)+COUNTA($O:$O)+COUNTA($S:$S),"X"&ROW()-COUNTA($G:$G)-COUNTA($K:$K)-COUNTA($O:$O),(IF(ROW()<=COUNTA($G:$G)+COUNTA($K:$K)+COUNTA($O:$O)+COUNTA($S:$S)+COUNTA($W:$W),"AC"&ROW()-COUNTA($G:$G)-COUNTA($K:$K)-COUNTA($O:$O)-COUNTA($S:$S),(IF(ROW()<=COUNTA($G:$G)+COUNTA($K:$K)+COUNTA($O:$O)+COUNTA($S:$S)+COUNTA($W:$W)+COUNTA($AA:$AA),"AH"&ROW()-COUNTA($G:$G)-COUNTA($K:$K)-COUNTA($O:$O)-COUNTA($S:$S)-COUNTA($W:$W),"AM"&ROW()-COUNTA($G:$G)-COUNTA($K:$K)-COUNTA($O:$O)-COUNTA($S:$S)-COUNTA($W:$W)-COUNTA($AA:$AA)))))))))))))} -> 0 | AL98: {=IFERROR(INDEX($AK$2:$AK$98, SMALL(IF($AK$2:$AK$98<>0, ROW($AK$2:$AK$98)-ROW($AK$2)+1), ROW()-1)), "")} | AM98: {=INDIRECT(IF(ROW()<=COUNTA($H:$H),"H"&ROW(),"O"&ROW()-COUNTA($H:$H)+1))} -> 0 | AN98: {=IFERROR(INDEX($AM$2:$AM$98, SMALL(IF($AM$2:$AM$98<>0, ROW($AM$2:$AM$98)-ROW($AM$2)+1), ROW()-1)), "")} | AO98: {=IFERROR(INDEX(#REF!, SMALL(IF(#REF!<>0, ROW(#REF!)-ROW(#REF!)+1), ROW()-1)), "")}
AK99: {=INDIRECT(IF(ROW()<=COUNTA($G:$G),"G"&ROW(),(IF(ROW()<=COUNTA($G:$G)+COUNTA($K:$K),"N"&ROW()-COUNTA($G:$G),(IF(ROW()<=COUNTA($G:$G)+COUNTA($K:$K)+COUNTA($O:$O),"S"&ROW()-COUNTA($G:$G)-COUNTA($K:$K),(IF(ROW()<=COUNTA($G:$G)+COUNTA($K:$K)+COUNTA($O:$O)+COUNTA($S:$S),"X"&ROW()-COUNTA($G:$G)-COUNTA($K:$K)-COUNTA($O:$O),(IF(ROW()<=COUNTA($G:$G)+COUNTA($K:$K)+COUNTA($O:$O)+COUNTA($S:$S)+COUNTA($W:$W),"AC"&ROW()-COUNTA($G:$G)-COUNTA($K:$K)-COUNTA($O:$O)-COUNTA($S:$S),(IF(ROW()<=COUNTA($G:$G)+COUNTA($K:$K)+COUNTA($O:$O)+COUNTA($S:$S)+COUNTA($W:$W)+COUNTA($AA:$AA),"AH"&ROW()-COUNTA($G:$G)-COUNTA($K:$K)-COUNTA($O:$O)-COUNTA($S:$S)-COUNTA($W:$W),"AM"&ROW()-COUNTA($G:$G)-COUNTA($K:$K)-COUNTA($O:$O)-COUNTA($S:$S)-COUNTA($W:$W)-COUNTA($AA:$AA)))))))))))))} -> 0
AK100: {=INDIRECT(IF(ROW()<=COUNTA($G:$G),"G"&ROW(),(IF(ROW()<=COUNTA($G:$G)+COUNTA($K:$K),"N"&ROW()-COUNTA($G:$G),(IF(ROW()<=COUNTA($G:$G)+COUNTA($K:$K)+COUNTA($O:$O),"S"&ROW()-COUNTA($G:$G)-COUNTA($K:$K),(IF(ROW()<=COUNTA($G:$G)+COUNTA($K:$K)+COUNTA($O:$O)+COUNTA($S:$S),"X"&ROW()-COUNTA($G:$G)-COUNTA($K:$K)-COUNTA($O:$O),(IF(ROW()<=COUNTA($G:$G)+COUNTA($K:$K)+COUNTA($O:$O)+COUNTA($S:$S)+COUNTA($W:$W),"AC"&ROW()-COUNTA($G:$G)-COUNTA($K:$K)-COUNTA($O:$O)-COUNTA($S:$S),(IF(ROW()<=COUNTA($G:$G)+COUNTA($K:$K)+COUNTA($O:$O)+COUNTA($S:$S)+COUNTA($W:$W)+COUNTA($AA:$AA),"AH"&ROW()-COUNTA($G:$G)-COUNTA($K:$K)-COUNTA($O:$O)-COUNTA($S:$S)-COUNTA($W:$W),"AM"&ROW()-COUNTA($G:$G)-COUNTA($K:$K)-COUNTA($O:$O)-COUNTA($S:$S)-COUNTA($W:$W)-COUNTA($AA:$AA)))))))))))))} -> 0
AK101: {=INDIRECT(IF(ROW()<=COUNTA($G:$G),"G"&ROW(),(IF(ROW()<=COUNTA($G:$G)+COUNTA($K:$K),"N"&ROW()-COUNTA($G:$G),(IF(ROW()<=COUNTA($G:$G)+COUNTA($K:$K)+COUNTA($O:$O),"S"&ROW()-COUNTA($G:$G)-COUNTA($K:$K),(IF(ROW()<=COUNTA($G:$G)+COUNTA($K:$K)+COUNTA($O:$O)+COUNTA($S:$S),"X"&ROW()-COUNTA($G:$G)-COUNTA($K:$K)-COUNTA($O:$O),(IF(ROW()<=COUNTA($G:$G)+COUNTA($K:$K)+COUNTA($O:$O)+COUNTA($S:$S)+COUNTA($W:$W),"AC"&ROW()-COUNTA($G:$G)-COUNTA($K:$K)-COUNTA($O:$O)-COUNTA($S:$S),(IF(ROW()<=COUNTA($G:$G)+COUNTA($K:$K)+COUNTA($O:$O)+COUNTA($S:$S)+COUNTA($W:$W)+COUNTA($AA:$AA),"AH"&ROW()-COUNTA($G:$G)-COUNTA($K:$K)-COUNTA($O:$O)-COUNTA($S:$S)-COUNTA($W:$W),"AM"&ROW()-COUNTA($G:$G)-COUNTA($K:$K)-COUNTA($O:$O)-COUNTA($S:$S)-COUNTA($W:$W)-COUNTA($AA:$AA)))))))))))))} -> 0
AK102: {=INDIRECT(IF(ROW()<=COUNTA($G:$G),"G"&ROW(),(IF(ROW()<=COUNTA($G:$G)+COUNTA($K:$K),"N"&ROW()-COUNTA($G:$G),(IF(ROW()<=COUNTA($G:$G)+COUNTA($K:$K)+COUNTA($O:$O),"S"&ROW()-COUNTA($G:$G)-COUNTA($K:$K),(IF(ROW()<=COUNTA($G:$G)+COUNTA($K:$K)+COUNTA($O:$O)+COUNTA($S:$S),"X"&ROW()-COUNTA($G:$G)-COUNTA($K:$K)-COUNTA($O:$O),(IF(ROW()<=COUNTA($G:$G)+COUNTA($K:$K)+COUNTA($O:$O)+COUNTA($S:$S)+COUNTA($W:$W),"AC"&ROW()-COUNTA($G:$G)-COUNTA($K:$K)-COUNTA($O:$O)-COUNTA($S:$S),(IF(ROW()<=COUNTA($G:$G)+COUNTA($K:$K)+COUNTA($O:$O)+COUNTA($S:$S)+COUNTA($W:$W)+COUNTA($AA:$AA),"AH"&ROW()-COUNTA($G:$G)-COUNTA($K:$K)-COUNTA($O:$O)-COUNTA($S:$S)-COUNTA($W:$W),"AM"&ROW()-COUNTA($G:$G)-COUNTA($K:$K)-COUNTA($O:$O)-COUNTA($S:$S)-COUNTA($W:$W)-COUNTA($AA:$AA)))))))))))))} -> 0
AK103: {=INDIRECT(IF(ROW()<=COUNTA($G:$G),"G"&ROW(),(IF(ROW()<=COUNTA($G:$G)+COUNTA($K:$K),"N"&ROW()-COUNTA($G:$G),(IF(ROW()<=COUNTA($G:$G)+COUNTA($K:$K)+COUNTA($O:$O),"S"&ROW()-COUNTA($G:$G)-COUNTA($K:$K),(IF(ROW()<=COUNTA($G:$G)+COUNTA($K:$K)+COUNTA($O:$O)+COUNTA($S:$S),"X"&ROW()-COUNTA($G:$G)-COUNTA($K:$K)-COUNTA($O:$O),(IF(ROW()<=COUNTA($G:$G)+COUNTA($K:$K)+COUNTA($O:$O)+COUNTA($S:$S)+COUNTA($W:$W),"AC"&ROW()-COUNTA($G:$G)-COUNTA($K:$K)-COUNTA($O:$O)-COUNTA($S:$S),(IF(ROW()<=COUNTA($G:$G)+COUNTA($K:$K)+COUNTA($O:$O)+COUNTA($S:$S)+COUNTA($W:$W)+COUNTA($AA:$AA),"AH"&ROW()-COUNTA($G:$G)-COUNTA($K:$K)-COUNTA($O:$O)-COUNTA($S:$S)-COUNTA($W:$W),"AM"&ROW()-COUNTA($G:$G)-COUNTA($K:$K)-COUNTA($O:$O)-COUNTA($S:$S)-COUNTA($W:$W)-COUNTA($AA:$AA)))))))))))))} -> 0
AK104: {=INDIRECT(IF(ROW()<=COUNTA($G:$G),"G"&ROW(),(IF(ROW()<=COUNTA($G:$G)+COUNTA($K:$K),"N"&ROW()-COUNTA($G:$G),(IF(ROW()<=COUNTA($G:$G)+COUNTA($K:$K)+COUNTA($O:$O),"S"&ROW()-COUNTA($G:$G)-COUNTA($K:$K),(IF(ROW()<=COUNTA($G:$G)+COUNTA($K:$K)+COUNTA($O:$O)+COUNTA($S:$S),"X"&ROW()-COUNTA($G:$G)-COUNTA($K:$K)-COUNTA($O:$O),(IF(ROW()<=COUNTA($G:$G)+COUNTA($K:$K)+COUNTA($O:$O)+COUNTA($S:$S)+COUNTA($W:$W),"AC"&ROW()-COUNTA($G:$G)-COUNTA($K:$K)-COUNTA($O:$O)-COUNTA($S:$S),(IF(ROW()<=COUNTA($G:$G)+COUNTA($K:$K)+COUNTA($O:$O)+COUNTA($S:$S)+COUNTA($W:$W)+COUNTA($AA:$AA),"AH"&ROW()-COUNTA($G:$G)-COUNTA($K:$K)-COUNTA($O:$O)-COUNTA($S:$S)-COUNTA($W:$W),"AM"&ROW()-COUNTA($G:$G)-COUNTA($K:$K)-COUNTA($O:$O)-COUNTA($S:$S)-COUNTA($W:$W)-COUNTA($AA:$AA)))))))))))))} -> 0
AK105: {=INDIRECT(IF(ROW()<=COUNTA($G:$G),"G"&ROW(),(IF(ROW()<=COUNTA($G:$G)+COUNTA($K:$K),"N"&ROW()-COUNTA($G:$G),(IF(ROW()<=COUNTA($G:$G)+COUNTA($K:$K)+COUNTA($O:$O),"S"&ROW()-COUNTA($G:$G)-COUNTA($K:$K),(IF(ROW()<=COUNTA($G:$G)+COUNTA($K:$K)+COUNTA($O:$O)+COUNTA($S:$S),"X"&ROW()-COUNTA($G:$G)-COUNTA($K:$K)-COUNTA($O:$O),(IF(ROW()<=COUNTA($G:$G)+COUNTA($K:$K)+COUNTA($O:$O)+COUNTA($S:$S)+COUNTA($W:$W),"AC"&ROW()-COUNTA($G:$G)-COUNTA($K:$K)-COUNTA($O:$O)-COUNTA($S:$S),(IF(ROW()<=COUNTA($G:$G)+COUNTA($K:$K)+COUNTA($O:$O)+COUNTA($S:$S)+COUNTA($W:$W)+COUNTA($AA:$AA),"AH"&ROW()-COUNTA($G:$G)-COUNTA($K:$K)-COUNTA($O:$O)-COUNTA($S:$S)-COUNTA($W:$W),"AM"&ROW()-COUNTA($G:$G)-COUNTA($K:$K)-COUNTA($O:$O)-COUNTA($S:$S)-COUNTA($W:$W)-COUNTA($AA:$AA)))))))))))))} -> 0
AK106: {=INDIRECT(IF(ROW()<=COUNTA($G:$G),"G"&ROW(),(IF(ROW()<=COUNTA($G:$G)+COUNTA($K:$K),"N"&ROW()-COUNTA($G:$G),(IF(ROW()<=COUNTA($G:$G)+COUNTA($K:$K)+COUNTA($O:$O),"S"&ROW()-COUNTA($G:$G)-COUNTA($K:$K),(IF(ROW()<=COUNTA($G:$G)+COUNTA($K:$K)+COUNTA($O:$O)+COUNTA($S:$S),"X"&ROW()-COUNTA($G:$G)-COUNTA($K:$K)-COUNTA($O:$O),(IF(ROW()<=COUNTA($G:$G)+COUNTA($K:$K)+COUNTA($O:$O)+COUNTA($S:$S)+COUNTA($W:$W),"AC"&ROW()-COUNTA($G:$G)-COUNTA($K:$K)-COUNTA($O:$O)-COUNTA($S:$S),(IF(ROW()<=COUNTA($G:$G)+COUNTA($K:$K)+COUNTA($O:$O)+COUNTA($S:$S)+COUNTA($W:$W)+COUNTA($AA:$AA),"AH"&ROW()-COUNTA($G:$G)-COUNTA($K:$K)-COUNTA($O:$O)-COUNTA($S:$S)-COUNTA($W:$W),"AM"&ROW()-COUNTA($G:$G)-COUNTA($K:$K)-COUNTA($O:$O)-COUNTA($S:$S)-COUNTA($W:$W)-COUNTA($AA:$AA)))))))))))))} -> 0
AK107: {=INDIRECT(IF(ROW()<=COUNTA($G:$G),"G"&ROW(),(IF(ROW()<=COUNTA($G:$G)+COUNTA($K:$K),"N"&ROW()-COUNTA($G:$G),(IF(ROW()<=COUNTA($G:$G)+COUNTA($K:$K)+COUNTA($O:$O),"S"&ROW()-COUNTA($G:$G)-COUNTA($K:$K),(IF(ROW()<=COUNTA($G:$G)+COUNTA($K:$K)+COUNTA($O:$O)+COUNTA($S:$S),"X"&ROW()-COUNTA($G:$G)-COUNTA($K:$K)-COUNTA($O:$O),(IF(ROW()<=COUNTA($G:$G)+COUNTA($K:$K)+COUNTA($O:$O)+COUNTA($S:$S)+COUNTA($W:$W),"AC"&ROW()-COUNTA($G:$G)-COUNTA($K:$K)-COUNTA($O:$O)-COUNTA($S:$S),(IF(ROW()<=COUNTA($G:$G)+COUNTA($K:$K)+COUNTA($O:$O)+COUNTA($S:$S)+COUNTA($W:$W)+COUNTA($AA:$AA),"AH"&ROW()-COUNTA($G:$G)-COUNTA($K:$K)-COUNTA($O:$O)-COUNTA($S:$S)-COUNTA($W:$W),"AM"&ROW()-COUNTA($G:$G)-COUNTA($K:$K)-COUNTA($O:$O)-COUNTA($S:$S)-COUNTA($W:$W)-COUNTA($AA:$AA)))))))))))))} -> 0
AK108: {=INDIRECT(IF(ROW()<=COUNTA($G:$G),"G"&ROW(),(IF(ROW()<=COUNTA($G:$G)+COUNTA($K:$K),"N"&ROW()-COUNTA($G:$G),(IF(ROW()<=COUNTA($G:$G)+COUNTA($K:$K)+COUNTA($O:$O),"S"&ROW()-COUNTA($G:$G)-COUNTA($K:$K),(IF(ROW()<=COUNTA($G:$G)+COUNTA($K:$K)+COUNTA($O:$O)+COUNTA($S:$S),"X"&ROW()-COUNTA($G:$G)-COUNTA($K:$K)-COUNTA($O:$O),(IF(ROW()<=COUNTA($G:$G)+COUNTA($K:$K)+COUNTA($O:$O)+COUNTA($S:$S)+COUNTA($W:$W),"AC"&ROW()-COUNTA($G:$G)-COUNTA($K:$K)-COUNTA($O:$O)-COUNTA($S:$S),(IF(ROW()<=COUNTA($G:$G)+COUNTA($K:$K)+COUNTA($O:$O)+COUNTA($S:$S)+COUNTA($W:$W)+COUNTA($AA:$AA),"AH"&ROW()-COUNTA($G:$G)-COUNTA($K:$K)-COUNTA($O:$O)-COUNTA($S:$S)-COUNTA($W:$W),"AM"&ROW()-COUNTA($G:$G)-COUNTA($K:$K)-COUNTA($O:$O)-COUNTA($S:$S)-COUNTA($W:$W)-COUNTA($AA:$AA)))))))))))))} -> 0
AK109: {=INDIRECT(IF(ROW()<=COUNTA($G:$G),"G"&ROW(),(IF(ROW()<=COUNTA($G:$G)+COUNTA($K:$K),"N"&ROW()-COUNTA($G:$G),(IF(ROW()<=COUNTA($G:$G)+COUNTA($K:$K)+COUNTA($O:$O),"S"&ROW()-COUNTA($G:$G)-COUNTA($K:$K),(IF(ROW()<=COUNTA($G:$G)+COUNTA($K:$K)+COUNTA($O:$O)+COUNTA($S:$S),"X"&ROW()-COUNTA($G:$G)-COUNTA($K:$K)-COUNTA($O:$O),(IF(ROW()<=COUNTA($G:$G)+COUNTA($K:$K)+COUNTA($O:$O)+COUNTA($S:$S)+COUNTA($W:$W),"AC"&ROW()-COUNTA($G:$G)-COUNTA($K:$K)-COUNTA($O:$O)-COUNTA($S:$S),(IF(ROW()<=COUNTA($G:$G)+COUNTA($K:$K)+COUNTA($O:$O)+COUNTA($S:$S)+COUNTA($W:$W)+COUNTA($AA:$AA),"AH"&ROW()-COUNTA($G:$G)-COUNTA($K:$K)-COUNTA($O:$O)-COUNTA($S:$S)-COUNTA($W:$W),"AM"&ROW()-COUNTA($G:$G)-COUNTA($K:$K)-COUNTA($O:$O)-COUNTA($S:$S)-COUNTA($W:$W)-COUNTA($AA:$AA)))))))))))))} -> 0
AK110: {=INDIRECT(IF(ROW()<=COUNTA($G:$G),"G"&ROW(),(IF(ROW()<=COUNTA($G:$G)+COUNTA($K:$K),"N"&ROW()-COUNTA($G:$G),(IF(ROW()<=COUNTA($G:$G)+COUNTA($K:$K)+COUNTA($O:$O),"S"&ROW()-COUNTA($G:$G)-COUNTA($K:$K),(IF(ROW()<=COUNTA($G:$G)+COUNTA($K:$K)+COUNTA($O:$O)+COUNTA($S:$S),"X"&ROW()-COUNTA($G:$G)-COUNTA($K:$K)-COUNTA($O:$O),(IF(ROW()<=COUNTA($G:$G)+COUNTA($K:$K)+COUNTA($O:$O)+COUNTA($S:$S)+COUNTA($W:$W),"AC"&ROW()-COUNTA($G:$G)-COUNTA($K:$K)-COUNTA($O:$O)-COUNTA($S:$S),(IF(ROW()<=COUNTA($G:$G)+COUNTA($K:$K)+COUNTA($O:$O)+COUNTA($S:$S)+COUNTA($W:$W)+COUNTA($AA:$AA),"AH"&ROW()-COUNTA($G:$G)-COUNTA($K:$K)-COUNTA($O:$O)-COUNTA($S:$S)-COUNTA($W:$W),"AM"&ROW()-COUNTA($G:$G)-COUNTA($K:$K)-COUNTA($O:$O)-COUNTA($S:$S)-COUNTA($W:$W)-COUNTA($AA:$AA)))))))))))))} -> 0
... AK339: {=INDIRECT(IF(ROW()<=COUNTA($G:$G),"G"&ROW(),(IF(ROW()<=COUNTA($G:$G)+COUNTA($K:$K),"N"&ROW()-COUNTA($G:$G),(IF(ROW()<=COUNTA($G:$G)+COUNTA($K:$K)+COUNTA($O:$O),"S"&ROW()-COUNTA($G:$G)-COUNTA($K:$K),(IF(ROW()<=COUNTA($G:$G)+COUNTA($K:$K)+COUNTA($O:$O)+COUNTA($S:$S),"X"&ROW()-COUNTA($G:$G)-COUNTA($K:$K)-COUNTA($O:$O),(IF(ROW()<=COUNTA($G:$G)+COUNTA($K:$K)+COUNTA($O:$O)+COUNTA($S:$S)+COUNTA($W:$W),"AC"&ROW()-COUNTA($G:$G)-COUNTA($K:$K)-COUNTA($O:$O)-COUNTA($S:$S),(IF(ROW()<=COUNTA($G:$G)+COUNTA($K:$K)+COUNTA($O:$O)+COUNTA($S:$S)+COUNTA($W:$W)+COUNTA($AA:$AA),"AH"&ROW()-COUNTA($G:$G)-COUNTA($K:$K)-COUNTA($O:$O)-COUNTA($S:$S)-COUNTA($W:$W),"AM"&ROW()-COUNTA($G:$G)-COUNTA($K:$K)-COUNTA($O:$O)-COUNTA($S:$S)-COUNTA($W:$W)-COUNTA($AA:$AA)))))))))))))} -> 0
