Workbook

Sheet Banco
A1: Exemple: | B1: 1 | D1: =IF(COUNTIF(D$74:D$93,ROWS(1:$1)),ROWS(1:$1),) -> 1 | E1: =IF(COUNTIF(E$74:E$93,ROWS(1:$1)),ROWS(1:$1),) -> 0 | F1: =IF(COUNTIF(F$74:F$93,ROWS(1:$1)),ROWS(1:$1),) -> 0 | G1: =IF(COUNTIF(G$74:G$93,ROWS(1:$1)),ROWS(1:$1),) -> 0 | H1: =IF(COUNTIF(H$74:H$93,ROWS(1:$1)),ROWS(1:$1),) -> 1 | I1: =IF(COUNTIF(I$74:I$93,ROWS(1:$1)),ROWS(1:$1),) -> 0 | J1: =IF(COUNTIF(J$74:J$93,ROWS(1:$1)),ROWS(1:$1),) -> 0 | K1: =IF(COUNTIF(K$74:K$93,ROWS(1:$1)),ROWS(1:$1),) -> 0 | ... AH1: =IF(COUNTIF(AH$74:AH$93,ROWS(1:$1)),ROWS(1:$1),) -> 0 | AN1: =IF(COUNTIF(AN$74:AN$93,ROWS($1:1)),ROWS($1:1),) -> 0 | AO1: =IF(COUNTIF(AO$74:AO$93,ROWS($1:1)),ROWS($1:1),) -> 0 | AP1: =IF(COUNTIF(AP$74:AP$93,ROWS($1:1)),ROWS($1:1),) -> 1 | AQ1: =IF(COUNTIF(AQ$74:AQ$93,ROWS($1:1)),ROWS($1:1),) -> 1 | AR1: =IF(COUNTIF(AR$74:AR$93,ROWS($1:1)),ROWS($1:1),) -> 0 | AS1: =IF(COUNTIF(AS$74:AS$93,ROWS($1:1)),ROWS($1:1),) -> 1 | AT1: =IF(COUNTIF(AT$74:AT$93,ROWS($1:1)),ROWS($1:1),) -> 0 | AU1: =IF(COUNTIF(AU$74:AU$93,ROWS($1:1)),ROWS($1:1),) -> 1 | AV1: =IF(COUNTIF(AV$74:AV$93,ROWS($1:1)),ROWS($1:1),) -> 0 | AX1: =IF(COUNTIF(AX$74:AX$93,ROWS($1:1)),ROWS($1:1),) -> 0 | AY1: =IF(COUNTIF(AY$74:AY$93,ROWS($1:1)),ROWS($1:1),) -> 0 | AZ1: =IF(COUNTIF(AZ$74:AZ$93,ROWS($1:1)),ROWS($1:1),) -> 0 | BA1: =IF(COUNTIF(BA$74:BA$93,ROWS($1:1)),ROWS($1:1),) -> 0 | BB1: =IF(COUNTIF(BB$74:BB$93,ROWS($1:1)),ROWS($1:1),) -> 0 | BC1: =IF(COUNTIF(BC$74:BC$93,ROWS($1:1)),ROWS($1:1),) -> 0 | BD1: =IF(COUNTIF(BD$74:BD$93,ROWS($1:1)),ROWS($1:1),) -> 0 | BE1: =IF(COUNTIF(BE$74:BE$93,ROWS($1:1)),ROWS($1:1),) -> 0 | ... ND1: =IF(COUNTIF(ND$74:ND$93,ROWS($1:1)),ROWS($1:1),) -> 0
B2: 2 | D2: =IF(COUNTIF(D$74:D$93,ROWS(1:$2)),ROWS(1:$2),) -> 0 | E2: =IF(COUNTIF(E$74:E$93,ROWS(1:$2)),ROWS(1:$2),) -> 2 | F2: =IF(COUNTIF(F$74:F$93,ROWS(1:$2)),ROWS(1:$2),) -> 0 | G2: =IF(COUNTIF(G$74:G$93,ROWS(1:$2)),ROWS(1:$2),) -> 2 | H2: =IF(COUNTIF(H$74:H$93,ROWS(1:$2)),ROWS(1:$2),) -> 0 | I2: =IF(COUNTIF(I$74:I$93,ROWS(1:$2)),ROWS(1:$2),) -> 0 | J2: =IF(COUNTIF(J$74:J$93,ROWS(1:$2)),ROWS(1:$2),) -> 0 | K2: =IF(COUNTIF(K$74:K$93,ROWS(1:$2)),ROWS(1:$2),) -> 0 | ... AG2: =IF(COUNTIF(AG$74:AG$93,ROWS(1:$2)),ROWS(1:$2),) -> 0 | AH2: =IF(COUNTIF(AH$74:AH$93,ROWS($1:2)),ROWS($1:2),) -> 0 | AI2: =IF(COUNTIF(AI$74:AI$93,ROWS($1:2)),ROWS($1:2),) -> 0 | AJ2: =IF(COUNTIF(AJ$74:AJ$93,ROWS($1:2)),ROWS($1:2),) -> 2 | AK2: =IF(COUNTIF(AK$74:AK$93,ROWS($1:2)),ROWS($1:2),) -> 0 | AL2: =IF(COUNTIF(AL$74:AL$93,ROWS($1:2)),ROWS($1:2),) -> 0 | AM2: =IF(COUNTIF(AM$74:AM$93,ROWS($1:2)),ROWS($1:2),) -> 0 | AN2: =IF(COUNTIF(AN$74:AN$93,ROWS($1:2)),ROWS($1:2),) -> 0 | AO2: =IF(COUNTIF(AO$74:AO$93,ROWS($1:2)),ROWS($1:2),) -> 0 | ... ND2: =IF(COUNTIF(ND$74:ND$93,ROWS($1:2)),ROWS($1:2),) -> 0
B3: 3 | D3: =IF(COUNTIF(D$74:D$93,ROWS(1:$3)),ROWS(1:$3),) -> 0 | E3: =IF(COUNTIF(E$74:E$93,ROWS(1:$3)),ROWS(1:$3),) -> 3 | F3: =IF(COUNTIF(F$74:F$93,ROWS(1:$3)),ROWS(1:$3),) -> 3 | G3: =IF(COUNTIF(G$74:G$93,ROWS(1:$3)),ROWS(1:$3),) -> 0 | H3: =IF(COUNTIF(H$74:H$93,ROWS(1:$3)),ROWS(1:$3),) -> 3 | I3: =IF(COUNTIF(I$74:I$93,ROWS(1:$3)),ROWS(1:$3),) -> 0 | J3: =IF(COUNTIF(J$74:J$93,ROWS(1:$3)),ROWS(1:$3),) -> 0 | K3: =IF(COUNTIF(K$74:K$93,ROWS(1:$3)),ROWS(1:$3),) -> 3 | ... AG3: =IF(COUNTIF(AG$74:AG$93,ROWS(1:$3)),ROWS(1:$3),) -> 0 | AH3: =IF(COUNTIF(AH$74:AH$93,ROWS($1:3)),ROWS($1:3),) -> 0 | AI3: =IF(COUNTIF(AI$74:AI$93,ROWS($1:3)),ROWS($1:3),) -> 0 | AJ3: =IF(COUNTIF(AJ$74:AJ$93,ROWS($1:3)),ROWS($1:3),) -> 0 | AK3: =IF(COUNTIF(AK$74:AK$93,ROWS($1:3)),ROWS($1:3),) -> 0 | AL3: =IF(COUNTIF(AL$74:AL$93,ROWS($1:3)),ROWS($1:3),) -> 0 | AM3: =IF(COUNTIF(AM$74:AM$93,ROWS($1:3)),ROWS($1:3),) -> 3 | AN3: =IF(COUNTIF(AN$74:AN$93,ROWS($1:3)),ROWS($1:3),) -> 3 | AO3: =IF(COUNTIF(AO$74:AO$93,ROWS($1:3)),ROWS($1:3),) -> 3 | ... ND3: =IF(COUNTIF(ND$74:ND$93,ROWS($1:3)),ROWS($1:3),) -> 0
B4: 4 | D4: =IF(COUNTIF(D$74:D$93,ROWS(1:$4)),ROWS(1:$4),) -> 0 | E4: =IF(COUNTIF(E$74:E$93,ROWS(1:$4)),ROWS(1:$4),) -> 0 | F4: =IF(COUNTIF(F$74:F$93,ROWS(1:$4)),ROWS(1:$4),) -> 0 | G4: =IF(COUNTIF(G$74:G$93,ROWS(1:$4)),ROWS(1:$4),) -> 0 | H4: =IF(COUNTIF(H$74:H$93,ROWS(1:$4)),ROWS(1:$4),) -> 4 | I4: =IF(COUNTIF(I$74:I$93,ROWS(1:$4)),ROWS(1:$4),) -> 4 | J4: =IF(COUNTIF(J$74:J$93,ROWS(1:$4)),ROWS(1:$4),) -> 0 | K4: =IF(COUNTIF(K$74:K$93,ROWS(1:$4)),ROWS(1:$4),) -> 0 | ... AG4: =IF(COUNTIF(AG$74:AG$93,ROWS(1:$4)),ROWS(1:$4),) -> 4 | AH4: =IF(COUNTIF(AH$74:AH$93,ROWS($1:4)),ROWS($1:4),) -> 4 | AI4: =IF(COUNTIF(AI$74:AI$93,ROWS($1:4)),ROWS($1:4),) -> 0 | AJ4: =IF(COUNTIF(AJ$74:AJ$93,ROWS($1:4)),ROWS($1:4),) -> 0 | AK4: =IF(COUNTIF(AK$74:AK$93,ROWS($1:4)),ROWS($1:4),) -> 0 | AL4: =IF(COUNTIF(AL$74:AL$93,ROWS($1:4)),ROWS($1:4),) -> 4 | AM4: =IF(COUNTIF(AM$74:AM$93,ROWS($1:4)),ROWS($1:4),) -> 0 | AN4: =IF(COUNTIF(AN$74:AN$93,ROWS($1:4)),ROWS($1:4),) -> 0 | AO4: =IF(COUNTIF(AO$74:AO$93,ROWS($1:4)),ROWS($1:4),) -> 4 | ... ND4: =IF(COUNTIF(ND$74:ND$93,ROWS($1:4)),ROWS($1:4),) -> 0
B5: 5 | D5: =IF(COUNTIF(D$74:D$93,ROWS(1:$5)),ROWS(1:$5),) -> 0 | E5: =IF(COUNTIF(E$74:E$93,ROWS(1:$5)),ROWS(1:$5),) -> 0 | F5: =IF(COUNTIF(F$74:F$93,ROWS(1:$5)),ROWS(1:$5),) -> 0 | G5: =IF(COUNTIF(G$74:G$93,ROWS(1:$5)),ROWS(1:$5),) -> 0 | H5: =IF(COUNTIF(H$74:H$93,ROWS(1:$5)),ROWS(1:$5),) -> 5 | I5: =IF(COUNTIF(I$74:I$93,ROWS(1:$5)),ROWS(1:$5),) -> 0 | J5: =IF(COUNTIF(J$74:J$93,ROWS(1:$5)),ROWS(1:$5),) -> 0 | K5: =IF(COUNTIF(K$74:K$93,ROWS(1:$5)),ROWS(1:$5),) -> 5 | ... AG5: =IF(COUNTIF(AG$74:AG$93,ROWS(1:$5)),ROWS(1:$5),) -> 0 | AH5: =IF(COUNTIF(AH$74:AH$93,ROWS($1:5)),ROWS($1:5),) -> 0 | AI5: =IF(COUNTIF(AI$74:AI$93,ROWS($1:5)),ROWS($1:5),) -> 5 | AJ5: =IF(COUNTIF(AJ$74:AJ$93,ROWS($1:5)),ROWS($1:5),) -> 5 | AK5: =IF(COUNTIF(AK$74:AK$93,ROWS($1:5)),ROWS($1:5),) -> 5 | AL5: =IF(COUNTIF(AL$74:AL$93,ROWS($1:5)),ROWS($1:5),) -> 5 | AM5: =IF(COUNTIF(AM$74:AM$93,ROWS($1:5)),ROWS($1:5),) -> 5 | AN5: =IF(COUNTIF(AN$74:AN$93,ROWS($1:5)),ROWS($1:5),) -> 5 | AO5: =IF(COUNTIF(AO$74:AO$93,ROWS($1:5)),ROWS($1:5),) -> 5 | ... ND5: =IF(COUNTIF(ND$74:ND$93,ROWS($1:5)),ROWS($1:5),) -> 0
B6: 6 | D6: =IF(COUNTIF(D$74:D$93,ROWS(1:$6)),ROWS(1:$6),) -> 0 | E6: =IF(COUNTIF(E$74:E$93,ROWS(1:$6)),ROWS(1:$6),) -> 0 | F6: =IF(COUNTIF(F$74:F$93,ROWS(1:$6)),ROWS(1:$6),) -> 0 | G6: =IF(COUNTIF(G$74:G$93,ROWS(1:$6)),ROWS(1:$6),) -> 0 | H6: =IF(COUNTIF(H$74:H$93,ROWS(1:$6)),ROWS(1:$6),) -> 0 | I6: =IF(COUNTIF(I$74:I$93,ROWS(1:$6)),ROWS(1:$6),) -> 0 | J6: =IF(COUNTIF(J$74:J$93,ROWS(1:$6)),ROWS(1:$6),) -> 6 | K6: =IF(COUNTIF(K$74:K$93,ROWS(1:$6)),ROWS(1:$6),) -> 0 | ... AG6: =IF(COUNTIF(AG$74:AG$93,ROWS(1:$6)),ROWS(1:$6),) -> 6 | AH6: =IF(COUNTIF(AH$74:AH$93,ROWS($1:6)),ROWS($1:6),) -> 0 | AI6: =IF(COUNTIF(AI$74:AI$93,ROWS($1:6)),ROWS($1:6),) -> 0 | AJ6: =IF(COUNTIF(AJ$74:AJ$93,ROWS($1:6)),ROWS($1:6),) -> 6 | AK6: =IF(COUNTIF(AK$74:AK$93,ROWS($1:6)),ROWS($1:6),) -> 0 | AL6: =IF(COUNTIF(AL$74:AL$93,ROWS($1:6)),ROWS($1:6),) -> 0 | AM6: =IF(COUNTIF(AM$74:AM$93,ROWS($1:6)),ROWS($1:6),) -> 6 | AN6: =IF(COUNTIF(AN$74:AN$93,ROWS($1:6)),ROWS($1:6),) -> 0 | AO6: =IF(COUNTIF(AO$74:AO$93,ROWS($1:6)),ROWS($1:6),) -> 0 | ... ND6: =IF(COUNTIF(ND$74:ND$93,ROWS($1:6)),ROWS($1:6),) -> 0
B7: 7 | D7: =IF(COUNTIF(D$74:D$93,ROWS(1:$7)),ROWS(1:$7),) -> 0 | E7: =IF(COUNTIF(E$74:E$93,ROWS(1:$7)),ROWS(1:$7),) -> 0 | F7: =IF(COUNTIF(F$74:F$93,ROWS(1:$7)),ROWS(1:$7),) -> 0 | G7: =IF(COUNTIF(G$74:G$93,ROWS(1:$7)),ROWS(1:$7),) -> 0 | H7: =IF(COUNTIF(H$74:H$93,ROWS(1:$7)),ROWS(1:$7),) -> 0 | I7: =IF(COUNTIF(I$74:I$93,ROWS(1:$7)),ROWS(1:$7),) -> 0 | J7: =IF(COUNTIF(J$74:J$93,ROWS(1:$7)),ROWS(1:$7),) -> 7 | K7: =IF(COUNTIF(K$74:K$93,ROWS(1:$7)),ROWS(1:$7),) -> 7 | ... AG7: =IF(COUNTIF(AG$74:AG$93,ROWS(1:$7)),ROWS(1:$7),) -> 0 | AH7: =IF(COUNTIF(AH$74:AH$93,ROWS($1:7)),ROWS($1:7),) -> 0 | AI7: =IF(COUNTIF(AI$74:AI$93,ROWS($1:7)),ROWS($1:7),) -> 0 | AJ7: =IF(COUNTIF(AJ$74:AJ$93,ROWS($1:7)),ROWS($1:7),) -> 0 | AK7: =IF(COUNTIF(AK$74:AK$93,ROWS($1:7)),ROWS($1:7),) -> 0 | AL7: =IF(COUNTIF(AL$74:AL$93,ROWS($1:7)),ROWS($1:7),) -> 0 | AM7: =IF(COUNTIF(AM$74:AM$93,ROWS($1:7)),ROWS($1:7),) -> 0 | AN7: =IF(COUNTIF(AN$74:AN$93,ROWS($1:7)),ROWS($1:7),) -> 0 | AO7: =IF(COUNTIF(AO$74:AO$93,ROWS($1:7)),ROWS($1:7),) -> 0 | ... ND7: =IF(COUNTIF(ND$74:ND$93,ROWS($1:7)),ROWS($1:7),) -> 0
B8: 8 | D8: =IF(COUNTIF(D$74:D$93,ROWS(1:$8)),ROWS(1:$8),) -> 8 | E8: =IF(COUNTIF(E$74:E$93,ROWS(1:$8)),ROWS(1:$8),) -> 0 | F8: =IF(COUNTIF(F$74:F$93,ROWS(1:$8)),ROWS(1:$8),) -> 0 | G8: =IF(COUNTIF(G$74:G$93,ROWS(1:$8)),ROWS(1:$8),) -> 0 | H8: =IF(COUNTIF(H$74:H$93,ROWS(1:$8)),ROWS(1:$8),) -> 0 | I8: =IF(COUNTIF(I$74:I$93,ROWS(1:$8)),ROWS(1:$8),) -> 0 | J8: =IF(COUNTIF(J$74:J$93,ROWS(1:$8)),ROWS(1:$8),) -> 0 | K8: =IF(COUNTIF(K$74:K$93,ROWS(1:$8)),ROWS(1:$8),) -> 0 | ... AG8: =IF(COUNTIF(AG$74:AG$93,ROWS(1:$8)),ROWS(1:$8),) -> 0 | AH8: =IF(COUNTIF(AH$74:AH$93,ROWS($1:8)),ROWS($1:8),) -> 0 | AI8: =IF(COUNTIF(AI$74:AI$93,ROWS($1:8)),ROWS($1:8),) -> 0 | AJ8: =IF(COUNTIF(AJ$74:AJ$93,ROWS($1:8)),ROWS($1:8),) -> 0 | AK8: =IF(COUNTIF(AK$74:AK$93,ROWS($1:8)),ROWS($1:8),) -> 0 | AL8: =IF(COUNTIF(AL$74:AL$93,ROWS($1:8)),ROWS($1:8),) -> 8 | AM8: =IF(COUNTIF(AM$74:AM$93,ROWS($1:8)),ROWS($1:8),) -> 0 | AN8: =IF(COUNTIF(AN$74:AN$93,ROWS($1:8)),ROWS($1:8),) -> 0 | AO8: =IF(COUNTIF(AO$74:AO$93,ROWS($1:8)),ROWS($1:8),) -> 0 | ... ND8: =IF(COUNTIF(ND$74:ND$93,ROWS($1:8)),ROWS($1:8),) -> 0
B9: 9 | D9: =IF(COUNTIF(D$74:D$93,ROWS(1:$9)),ROWS(1:$9),) -> 9 | E9: =IF(COUNTIF(E$74:E$93,ROWS(1:$9)),ROWS(1:$9),) -> 0 | F9: =IF(COUNTIF(F$74:F$93,ROWS(1:$9)),ROWS(1:$9),) -> 9 | G9: =IF(COUNTIF(G$74:G$93,ROWS(1:$9)),ROWS(1:$9),) -> 0 | H9: =IF(COUNTIF(H$74:H$93,ROWS(1:$9)),ROWS(1:$9),) -> 0 | I9: =IF(COUNTIF(I$74:I$93,ROWS(1:$9)),ROWS(1:$9),) -> 0 | J9: =IF(COUNTIF(J$74:J$93,ROWS(1:$9)),ROWS(1:$9),) -> 0 | K9: =IF(COUNTIF(K$74:K$93,ROWS(1:$9)),ROWS(1:$9),) -> 9 | ... AG9: =IF(COUNTIF(AG$74:AG$93,ROWS(1:$9)),ROWS(1:$9),) -> 0 | AH9: =IF(COUNTIF(AH$74:AH$93,ROWS($1:9)),ROWS($1:9),) -> 0 | AI9: =IF(COUNTIF(AI$74:AI$93,ROWS($1:9)),ROWS($1:9),) -> 0 | AJ9: =IF(COUNTIF(AJ$74:AJ$93,ROWS($1:9)),ROWS($1:9),) -> 0 | AK9: =IF(COUNTIF(AK$74:AK$93,ROWS($1:9)),ROWS($1:9),) -> 9 | AL9: =IF(COUNTIF(AL$74:AL$93,ROWS($1:9)),ROWS($1:9),) -> 0 | AM9: =IF(COUNTIF(AM$74:AM$93,ROWS($1:9)),ROWS($1:9),) -> 0 | AN9: =IF(COUNTIF(AN$74:AN$93,ROWS($1:9)),ROWS($1:9),) -> 0 | AO9: =IF(COUNTIF(AO$74:AO$93,ROWS($1:9)),ROWS($1:9),) -> 0 | ... ND9: =IF(COUNTIF(ND$74:ND$93,ROWS($1:9)),ROWS($1:9),) -> 0
B10: 10 | D10: =IF(COUNTIF(D$74:D$93,ROWS(1:$10)),ROWS(1:$10),) -> 0 | E10: =IF(COUNTIF(E$74:E$93,ROWS(1:$10)),ROWS(1:$10),) -> 10 | F10: =IF(COUNTIF(F$74:F$93,ROWS(1:$10)),ROWS(1:$10),) -> 0 | G10: =IF(COUNTIF(G$74:G$93,ROWS(1:$10)),ROWS(1:$10),) -> 0 | H10: =IF(COUNTIF(H$74:H$93,ROWS(1:$10)),ROWS(1:$10),) -> 0 | I10: =IF(COUNTIF(I$74:I$93,ROWS(1:$10)),ROWS(1:$10),) -> 0 | J10: =IF(COUNTIF(J$74:J$93,ROWS(1:$10)),ROWS(1:$10),) -> 0 | K10: =IF(COUNTIF(K$74:K$93,ROWS(1:$10)),ROWS(1:$10),) -> 10 | ... AG10: =IF(COUNTIF(AG$74:AG$93,ROWS(1:$10)),ROWS(1:$10),) -> 10 | AH10: =IF(COUNTIF(AH$74:AH$93,ROWS($1:10)),ROWS($1:10),) -> 0 | AI10: =IF(COUNTIF(AI$74:AI$93,ROWS($1:10)),ROWS($1:10),) -> 0 | AJ10: =IF(COUNTIF(AJ$74:AJ$93,ROWS($1:10)),ROWS($1:10),) -> 10 | AK10: =IF(COUNTIF(AK$74:AK$93,ROWS($1:10)),ROWS($1:10),) -> 0 | AL10: =IF(COUNTIF(AL$74:AL$93,ROWS($1:10)),ROWS($1:10),) -> 10 | AM10: =IF(COUNTIF(AM$74:AM$93,ROWS($1:10)),ROWS($1:10),) -> 0 | AN10: =IF(COUNTIF(AN$74:AN$93,ROWS($1:10)),ROWS($1:10),) -> 0 | AO10: =IF(COUNTIF(AO$74:AO$93,ROWS($1:10)),ROWS($1:10),) -> 0 | ... ND10: =IF(COUNTIF(ND$74:ND$93,ROWS($1:10)),ROWS($1:10),) -> 0
B11: 11 | D11: =IF(COUNTIF(D$74:D$93,ROWS(1:$11)),ROWS(1:$11),) -> 11 | E11: =IF(COUNTIF(E$74:E$93,ROWS(1:$11)),ROWS(1:$11),) -> 11 | F11: =IF(COUNTIF(F$74:F$93,ROWS(1:$11)),ROWS(1:$11),) -> 0 | G11: =IF(COUNTIF(G$74:G$93,ROWS(1:$11)),ROWS(1:$11),) -> 0 | H11: =IF(COUNTIF(H$74:H$93,ROWS(1:$11)),ROWS(1:$11),) -> 0 | I11: =IF(COUNTIF(I$74:I$93,ROWS(1:$11)),ROWS(1:$11),) -> 11 | J11: =IF(COUNTIF(J$74:J$93,ROWS(1:$11)),ROWS(1:$11),) -> 11 | K11: =IF(COUNTIF(K$74:K$93,ROWS(1:$11)),ROWS(1:$11),) -> 0 | ... AG11: =IF(COUNTIF(AG$74:AG$93,ROWS(1:$11)),ROWS(1:$11),) -> 0 | AH11: =IF(COUNTIF(AH$74:AH$93,ROWS($1:11)),ROWS($1:11),) -> 0 | AI11: =IF(COUNTIF(AI$74:AI$93,ROWS($1:11)),ROWS($1:11),) -> 11 | AJ11: =IF(COUNTIF(AJ$74:AJ$93,ROWS($1:11)),ROWS($1:11),) -> 0 | AK11: =IF(COUNTIF(AK$74:AK$93,ROWS($1:11)),ROWS($1:11),) -> 11 | AL11: =IF(COUNTIF(AL$74:AL$93,ROWS($1:11)),ROWS($1:11),) -> 0 | AM11: =IF(COUNTIF(AM$74:AM$93,ROWS($1:11)),ROWS($1:11),) -> 0 | AN11: =IF(COUNTIF(AN$74:AN$93,ROWS($1:11)),ROWS($1:11),) -> 0 | AO11: =IF(COUNTIF(AO$74:AO$93,ROWS($1:11)),ROWS($1:11),) -> 0 | ... ND11: =IF(COUNTIF(ND$74:ND$93,ROWS($1:11)),ROWS($1:11),) -> 0
B12: 12 | D12: =IF(COUNTIF(D$74:D$93,ROWS(1:$12)),ROWS(1:$12),) -> 0 | E12: =IF(COUNTIF(E$74:E$93,ROWS(1:$12)),ROWS(1:$12),) -> 0 | F12: =IF(COUNTIF(F$74:F$93,ROWS(1:$12)),ROWS(1:$12),) -> 0 | G12: =IF(COUNTIF(G$74:G$93,ROWS(1:$12)),ROWS(1:$12),) -> 0 | H12: =IF(COUNTIF(H$74:H$93,ROWS(1:$12)),ROWS(1:$12),) -> 12 | I12: =IF(COUNTIF(I$74:I$93,ROWS(1:$12)),ROWS(1:$12),) -> 12 | J12: =IF(COUNTIF(J$74:J$93,ROWS(1:$12)),ROWS(1:$12),) -> 12 | K12: =IF(COUNTIF(K$74:K$93,ROWS(1:$12)),ROWS(1:$12),) -> 0 | ... AG12: =IF(COUNTIF(AG$74:AG$93,ROWS(1:$12)),ROWS(1:$12),) -> 0 | AH12: =IF(COUNTIF(AH$74:AH$93,ROWS($1:12)),ROWS($1:12),) -> 0 | AI12: =IF(COUNTIF(AI$74:AI$93,ROWS($1:12)),ROWS($1:12),) -> 0 | AJ12: =IF(COUNTIF(AJ$74:AJ$93,ROWS($1:12)),ROWS($1:12),) -> 0 | AK12: =IF(COUNTIF(AK$74:AK$93,ROWS($1:12)),ROWS($1:12),) -> 0 | AL12: =IF(COUNTIF(AL$74:AL$93,ROWS($1:12)),ROWS($1:12),) -> 12 | AM12: =IF(COUNTIF(AM$74:AM$93,ROWS($1:12)),ROWS($1:12),) -> 12 | AN12: =IF(COUNTIF(AN$74:AN$93,ROWS($1:12)),ROWS($1:12),) -> 0 | AO12: =IF(COUNTIF(AO$74:AO$93,ROWS($1:12)),ROWS($1:12),) -> 0 | ... ND12: =IF(COUNTIF(ND$74:ND$93,ROWS($1:12)),ROWS($1:12),) -> 0
B13: 13 | D13: =IF(COUNTIF(D$74:D$93,ROWS(1:$13)),ROWS(1:$13),) -> 0 | E13: =IF(COUNTIF(E$74:E$93,ROWS(1:$13)),ROWS(1:$13),) -> 0 | F13: =IF(COUNTIF(F$74:F$93,ROWS(1:$13)),ROWS(1:$13),) -> 0 | G13: =IF(COUNTIF(G$74:G$93,ROWS(1:$13)),ROWS(1:$13),) -> 0 | H13: =IF(COUNTIF(H$74:H$93,ROWS(1:$13)),ROWS(1:$13),) -> 13 | I13: =IF(COUNTIF(I$74:I$93,ROWS(1:$13)),ROWS(1:$13),) -> 13 | J13: =IF(COUNTIF(J$74:J$93,ROWS(1:$13)),ROWS(1:$13),) -> 0 | K13: =IF(COUNTIF(K$74:K$93,ROWS(1:$13)),ROWS(1:$13),) -> 0 | ... AG13: =IF(COUNTIF(AG$74:AG$93,ROWS(1:$13)),ROWS(1:$13),) -> 0 | AH13: =IF(COUNTIF(AH$74:AH$93,ROWS($1:13)),ROWS($1:13),) -> 0 | AI13: =IF(COUNTIF(AI$74:AI$93,ROWS($1:13)),ROWS($1:13),) -> 0 | AJ13: =IF(COUNTIF(AJ$74:AJ$93,ROWS($1:13)),ROWS($1:13),) -> 0 | AK13: =IF(COUNTIF(AK$74:AK$93,ROWS($1:13)),ROWS($1:13),) -> 0 | AL13: =IF(COUNTIF(AL$74:AL$93,ROWS($1:13)),ROWS($1:13),) -> 0 | AM13: =IF(COUNTIF(AM$74:AM$93,ROWS($1:13)),ROWS($1:13),) -> 13 | AN13: =IF(COUNTIF(AN$74:AN$93,ROWS($1:13)),ROWS($1:13),) -> 13 | AO13: =IF(COUNTIF(AO$74:AO$93,ROWS($1:13)),ROWS($1:13),) -> 0 | ... ND13: =IF(COUNTIF(ND$74:ND$93,ROWS($1:13)),ROWS($1:13),) -> 0
B14: 14 | D14: =IF(COUNTIF(D$74:D$93,ROWS(1:$14)),ROWS(1:$14),) -> 14 | E14: =IF(COUNTIF(E$74:E$93,ROWS(1:$14)),ROWS(1:$14),) -> 14 | F14: =IF(COUNTIF(F$74:F$93,ROWS(1:$14)),ROWS(1:$14),) -> 14 | G14: =IF(COUNTIF(G$74:G$93,ROWS(1:$14)),ROWS(1:$14),) -> 14 | H14: =IF(COUNTIF(H$74:H$93,ROWS(1:$14)),ROWS(1:$14),) -> 0 | I14: =IF(COUNTIF(I$74:I$93,ROWS(1:$14)),ROWS(1:$14),) -> 0 | J14: =IF(COUNTIF(J$74:J$93,ROWS(1:$14)),ROWS(1:$14),) -> 14 | K14: =IF(COUNTIF(K$74:K$93,ROWS(1:$14)),ROWS(1:$14),) -> 0 | ... AG14: =IF(COUNTIF(AG$74:AG$93,ROWS(1:$14)),ROWS(1:$14),) -> 14 | AH14: =IF(COUNTIF(AH$74:AH$93,ROWS($1:14)),ROWS($1:14),) -> 14 | AI14: =IF(COUNTIF(AI$74:AI$93,ROWS($1:14)),ROWS($1:14),) -> 0 | AJ14: =IF(COUNTIF(AJ$74:AJ$93,ROWS($1:14)),ROWS($1:14),) -> 0 | AK14: =IF(COUNTIF(AK$74:AK$93,ROWS($1:14)),ROWS($1:14),) -> 0 | AL14: =IF(COUNTIF(AL$74:AL$93,ROWS($1:14)),ROWS($1:14),) -> 0 | AM14: =IF(COUNTIF(AM$74:AM$93,ROWS($1:14)),ROWS($1:14),) -> 14 | AN14: =IF(COUNTIF(AN$74:AN$93,ROWS($1:14)),ROWS($1:14),) -> 14 | AO14: =IF(COUNTIF(AO$74:AO$93,ROWS($1:14)),ROWS($1:14),) -> 0 | ... ND14: =IF(COUNTIF(ND$74:ND$93,ROWS($1:14)),ROWS($1:14),) -> 0
B15: 15 | D15: =IF(COUNTIF(D$74:D$93,ROWS(1:$15)),ROWS(1:$15),) -> 0 | E15: =IF(COUNTIF(E$74:E$93,ROWS(1:$15)),ROWS(1:$15),) -> 0 | F15: =IF(COUNTIF(F$74:F$93,ROWS(1:$15)),ROWS(1:$15),) -> 15 | G15: =IF(COUNTIF(G$74:G$93,ROWS(1:$15)),ROWS(1:$15),) -> 0 | H15: =IF(COUNTIF(H$74:H$93,ROWS(1:$15)),ROWS(1:$15),) -> 15 | I15: =IF(COUNTIF(I$74:I$93,ROWS(1:$15)),ROWS(1:$15),) -> 15 | J15: =IF(COUNTIF(J$74:J$93,ROWS(1:$15)),ROWS(1:$15),) -> 0 | K15: =IF(COUNTIF(K$74:K$93,ROWS(1:$15)),ROWS(1:$15),) -> 15 | ... AG15: =IF(COUNTIF(AG$74:AG$93,ROWS(1:$15)),ROWS(1:$15),) -> 0 | AH15: =IF(COUNTIF(AH$74:AH$93,ROWS($1:15)),ROWS($1:15),) -> 0 | AI15: =IF(COUNTIF(AI$74:AI$93,ROWS($1:15)),ROWS($1:15),) -> 0 | AJ15: =IF(COUNTIF(AJ$74:AJ$93,ROWS($1:15)),ROWS($1:15),) -> 15 | AK15: =IF(COUNTIF(AK$74:AK$93,ROWS($1:15)),ROWS($1:15),) -> 0 | AL15: =IF(COUNTIF(AL$74:AL$93,ROWS($1:15)),ROWS($1:15),) -> 15 | AM15: =IF(COUNTIF(AM$74:AM$93,ROWS($1:15)),ROWS($1:15),) -> 0 | AN15: =IF(COUNTIF(AN$74:AN$93,ROWS($1:15)),ROWS($1:15),) -> 0 | AO15: =IF(COUNTIF(AO$74:AO$93,ROWS($1:15)),ROWS($1:15),) -> 15 | ... ND15: =IF(COUNTIF(ND$74:ND$93,ROWS($1:15)),ROWS($1:15),) -> 0
B16: 16 | D16: =IF(COUNTIF(D$74:D$93,ROWS(1:$16)),ROWS(1:$16),) -> 0 | E16: =IF(COUNTIF(E$74:E$93,ROWS(1:$16)),ROWS(1:$16),) -> 0 | F16: =IF(COUNTIF(F$74:F$93,ROWS(1:$16)),ROWS(1:$16),) -> 16 | G16: =IF(COUNTIF(G$74:G$93,ROWS(1:$16)),ROWS(1:$16),) -> 0 | H16: =IF(COUNTIF(H$74:H$93,ROWS(1:$16)),ROWS(1:$16),) -> 0 | I16: =IF(COUNTIF(I$74:I$93,ROWS(1:$16)),ROWS(1:$16),) -> 16 | J16: =IF(COUNTIF(J$74:J$93,ROWS(1:$16)),ROWS(1:$16),) -> 0 | K16: =IF(COUNTIF(K$74:K$93,ROWS(1:$16)),ROWS(1:$16),) -> 16 | ... AG16: =IF(COUNTIF(AG$74:AG$93,ROWS(1:$16)),ROWS(1:$16),) -> 16 | AH16: =IF(COUNTIF(AH$74:AH$93,ROWS($1:16)),ROWS($1:16),) -> 16 | AI16: =IF(COUNTIF(AI$74:AI$93,ROWS($1:16)),ROWS($1:16),) -> 0 | AJ16: =IF(COUNTIF(AJ$74:AJ$93,ROWS($1:16)),ROWS($1:16),) -> 0 | AK16: =IF(COUNTIF(AK$74:AK$93,ROWS($1:16)),ROWS($1:16),) -> 0 | AL16: =IF(COUNTIF(AL$74:AL$93,ROWS($1:16)),ROWS($1:16),) -> 0 | AM16: =IF(COUNTIF(AM$74:AM$93,ROWS($1:16)),ROWS($1:16),) -> 0 | AN16: =IF(COUNTIF(AN$74:AN$93,ROWS($1:16)),ROWS($1:16),) -> 0 | AO16: =IF(COUNTIF(AO$74:AO$93,ROWS($1:16)),ROWS($1:16),) -> 0 | ... ND16: =IF(COUNTIF(ND$74:ND$93,ROWS($1:16)),ROWS($1:16),) -> 0
B17: 17 | D17: =IF(COUNTIF(D$74:D$93,ROWS(1:$17)),ROWS(1:$17),) -> 0 | E17: =IF(COUNTIF(E$74:E$93,ROWS(1:$17)),ROWS(1:$17),) -> 0 | F17: =IF(COUNTIF(F$74:F$93,ROWS(1:$17)),ROWS(1:$17),) -> 0 | G17: =IF(COUNTIF(G$74:G$93,ROWS(1:$17)),ROWS(1:$17),) -> 0 | H17: =IF(COUNTIF(H$74:H$93,ROWS(1:$17)),ROWS(1:$17),) -> 0 | I17: =IF(COUNTIF(I$74:I$93,ROWS(1:$17)),ROWS(1:$17),) -> 17 | J17: =IF(COUNTIF(J$74:J$93,ROWS(1:$17)),ROWS(1:$17),) -> 17 | K17: =IF(COUNTIF(K$74:K$93,ROWS(1:$17)),ROWS(1:$17),) -> 0 | ... AG17: =IF(COUNTIF(AG$74:AG$93,ROWS(1:$17)),ROWS(1:$17),) -> 0 | AH17: =IF(COUNTIF(AH$74:AH$93,ROWS($1:17)),ROWS($1:17),) -> 17 | AI17: =IF(COUNTIF(AI$74:AI$93,ROWS($1:17)),ROWS($1:17),) -> 0 | AJ17: =IF(COUNTIF(AJ$74:AJ$93,ROWS($1:17)),ROWS($1:17),) -> 0 | AK17: =IF(COUNTIF(AK$74:AK$93,ROWS($1:17)),ROWS($1:17),) -> 0 | AL17: =IF(COUNTIF(AL$74:AL$93,ROWS($1:17)),ROWS($1:17),) -> 17 | AM17: =IF(COUNTIF(AM$74:AM$93,ROWS($1:17)),ROWS($1:17),) -> 0 | AN17: =IF(COUNTIF(AN$74:AN$93,ROWS($1:17)),ROWS($1:17),) -> 0 | AO17: =IF(COUNTIF(AO$74:AO$93,ROWS($1:17)),ROWS($1:17),) -> 0 | ... ND17: =IF(COUNTIF(ND$74:ND$93,ROWS($1:17)),ROWS($1:17),) -> 0
B18: 18 | D18: =IF(COUNTIF(D$74:D$93,ROWS(1:$18)),ROWS(1:$18),) -> 0 | E18: =IF(COUNTIF(E$74:E$93,ROWS(1:$18)),ROWS(1:$18),) -> 18 | F18: =IF(COUNTIF(F$74:F$93,ROWS(1:$18)),ROWS(1:$18),) -> 18 | G18: =IF(COUNTIF(G$74:G$93,ROWS(1:$18)),ROWS(1:$18),) -> 18 | H18: =IF(COUNTIF(H$74:H$93,ROWS(1:$18)),ROWS(1:$18),) -> 0 | I18: =IF(COUNTIF(I$74:I$93,ROWS(1:$18)),ROWS(1:$18),) -> 18 | J18: =IF(COUNTIF(J$74:J$93,ROWS(1:$18)),ROWS(1:$18),) -> 0 | K18: =IF(COUNTIF(K$74:K$93,ROWS(1:$18)),ROWS(1:$18),) -> 0 | ... AG18: =IF(COUNTIF(AG$74:AG$93,ROWS(1:$18)),ROWS(1:$18),) -> 0 | AH18: =IF(COUNTIF(AH$74:AH$93,ROWS($1:18)),ROWS($1:18),) -> 18 | AI18: =IF(COUNTIF(AI$74:AI$93,ROWS($1:18)),ROWS($1:18),) -> 0 | AJ18: =IF(COUNTIF(AJ$74:AJ$93,ROWS($1:18)),ROWS($1:18),) -> 0 | AK18: =IF(COUNTIF(AK$74:AK$93,ROWS($1:18)),ROWS($1:18),) -> 18 | AL18: =IF(COUNTIF(AL$74:AL$93,ROWS($1:18)),ROWS($1:18),) -> 0 | AM18: =IF(COUNTIF(AM$74:AM$93,ROWS($1:18)),ROWS($1:18),) -> 0 | AN18: =IF(COUNTIF(AN$74:AN$93,ROWS($1:18)),ROWS($1:18),) -> 0 | AO18: =IF(COUNTIF(AO$74:AO$93,ROWS($1:18)),ROWS($1:18),) -> 18 | ... ND18: =IF(COUNTIF(ND$74:ND$93,ROWS($1:18)),ROWS($1:18),) -> 0
B19: 19 | D19: =IF(COUNTIF(D$74:D$93,ROWS(1:$19)),ROWS(1:$19),) -> 0 | E19: =IF(COUNTIF(E$74:E$93,ROWS(1:$19)),ROWS(1:$19),) -> 19 | F19: =IF(COUNTIF(F$74:F$93,ROWS(1:$19)),ROWS(1:$19),) -> 0 | G19: =IF(COUNTIF(G$74:G$93,ROWS(1:$19)),ROWS(1:$19),) -> 0 | H19: =IF(COUNTIF(H$74:H$93,ROWS(1:$19)),ROWS(1:$19),) -> 0 | I19: =IF(COUNTIF(I$74:I$93,ROWS(1:$19)),ROWS(1:$19),) -> 19 | J19: =IF(COUNTIF(J$74:J$93,ROWS(1:$19)),ROWS(1:$19),) -> 19 | K19: =IF(COUNTIF(K$74:K$93,ROWS(1:$19)),ROWS(1:$19),) -> 0 | ... AG19: =IF(COUNTIF(AG$74:AG$93,ROWS(1:$19)),ROWS(1:$19),) -> 0 | AH19: =IF(COUNTIF(AH$74:AH$93,ROWS($1:19)),ROWS($1:19),) -> 0 | AI19: =IF(COUNTIF(AI$74:AI$93,ROWS($1:19)),ROWS($1:19),) -> 0 | AJ19: =IF(COUNTIF(AJ$74:AJ$93,ROWS($1:19)),ROWS($1:19),) -> 0 | AK19: =IF(COUNTIF(AK$74:AK$93,ROWS($1:19)),ROWS($1:19),) -> 19 | AL19: =IF(COUNTIF(AL$74:AL$93,ROWS($1:19)),ROWS($1:19),) -> 0 | AM19: =IF(COUNTIF(AM$74:AM$93,ROWS($1:19)),ROWS($1:19),) -> 19 | AN19: =IF(COUNTIF(AN$74:AN$93,ROWS($1:19)),ROWS($1:19),) -> 19 | AO19: =IF(COUNTIF(AO$74:AO$93,ROWS($1:19)),ROWS($1:19),) -> 19 | ... ND19: =IF(COUNTIF(ND$74:ND$93,ROWS($1:19)),ROWS($1:19),) -> 0
B20: 20 | D20: =IF(COUNTIF(D$74:D$93,ROWS(1:$20)),ROWS(1:$20),) -> 20 | E20: =IF(COUNTIF(E$74:E$93,ROWS(1:$20)),ROWS(1:$20),) -> 0 | F20: =IF(COUNTIF(F$74:F$93,ROWS(1:$20)),ROWS(1:$20),) -> 0 | G20: =IF(COUNTIF(G$74:G$93,ROWS(1:$20)),ROWS(1:$20),) -> 0 | H20: =IF(COUNTIF(H$74:H$93,ROWS(1:$20)),ROWS(1:$20),) -> 20 | I20: =IF(COUNTIF(I$74:I$93,ROWS(1:$20)),ROWS(1:$20),) -> 0 | J20: =IF(COUNTIF(J$74:J$93,ROWS(1:$20)),ROWS(1:$20),) -> 20 | K20: =IF(COUNTIF(K$74:K$93,ROWS(1:$20)),ROWS(1:$20),) -> 0 | ... AG20: =IF(COUNTIF(AG$74:AG$93,ROWS(1:$20)),ROWS(1:$20),) -> 0 | AH20: =IF(COUNTIF(AH$74:AH$93,ROWS($1:20)),ROWS($1:20),) -> 20 | AI20: =IF(COUNTIF(AI$74:AI$93,ROWS($1:20)),ROWS($1:20),) -> 0 | AJ20: =IF(COUNTIF(AJ$74:AJ$93,ROWS($1:20)),ROWS($1:20),) -> 0 | AK20: =IF(COUNTIF(AK$74:AK$93,ROWS($1:20)),ROWS($1:20),) -> 0 | AL20: =IF(COUNTIF(AL$74:AL$93,ROWS($1:20)),ROWS($1:20),) -> 0 | AM20: =IF(COUNTIF(AM$74:AM$93,ROWS($1:20)),ROWS($1:20),) -> 20 | AN20: =IF(COUNTIF(AN$74:AN$93,ROWS($1:20)),ROWS($1:20),) -> 0 | AO20: =IF(COUNTIF(AO$74:AO$93,ROWS($1:20)),ROWS($1:20),) -> 20 | ... ND20: =IF(COUNTIF(ND$74:ND$93,ROWS($1:20)),ROWS($1:20),) -> 0
B21: 21 | D21: =IF(COUNTIF(D$74:D$93,ROWS(1:$21)),ROWS(1:$21),) -> 0 | E21: =IF(COUNTIF(E$74:E$93,ROWS(1:$21)),ROWS(1:$21),) -> 0 | F21: =IF(COUNTIF(F$74:F$93,ROWS(1:$21)),ROWS(1:$21),) -> 0 | G21: =IF(COUNTIF(G$74:G$93,ROWS(1:$21)),ROWS(1:$21),) -> 21 | H21: =IF(COUNTIF(H$74:H$93,ROWS(1:$21)),ROWS(1:$21),) -> 0 | I21: =IF(COUNTIF(I$74:I$93,ROWS(1:$21)),ROWS(1:$21),) -> 0 | J21: =IF(COUNTIF(J$74:J$93,ROWS(1:$21)),ROWS(1:$21),) -> 21 | K21: =IF(COUNTIF(K$74:K$93,ROWS(1:$21)),ROWS(1:$21),) -> 0 | ... AG21: =IF(COUNTIF(AG$74:AG$93,ROWS(1:$21)),ROWS(1:$21),) -> 0 | AH21: =IF(COUNTIF(AH$74:AH$93,ROWS($1:21)),ROWS($1:21),) -> 21 | AI21: =IF(COUNTIF(AI$74:AI$93,ROWS($1:21)),ROWS($1:21),) -> 0 | AJ21: =IF(COUNTIF(AJ$74:AJ$93,ROWS($1:21)),ROWS($1:21),) -> 0 | AK21: =IF(COUNTIF(AK$74:AK$93,ROWS($1:21)),ROWS($1:21),) -> 0 | AL21: =IF(COUNTIF(AL$74:AL$93,ROWS($1:21)),ROWS($1:21),) -> 0 | AM21: =IF(COUNTIF(AM$74:AM$93,ROWS($1:21)),ROWS($1:21),) -> 0 | AN21: =IF(COUNTIF(AN$74:AN$93,ROWS($1:21)),ROWS($1:21),) -> 0 | AO21: =IF(COUNTIF(AO$74:AO$93,ROWS($1:21)),ROWS($1:21),) -> 21 | ... ND21: =IF(COUNTIF(ND$74:ND$93,ROWS($1:21)),ROWS($1:21),) -> 0
B22: 22 | D22: =IF(COUNTIF(D$74:D$93,ROWS(1:$22)),ROWS(1:$22),) -> 22 | E22: =IF(COUNTIF(E$74:E$93,ROWS(1:$22)),ROWS(1:$22),) -> 0 | F22: =IF(COUNTIF(F$74:F$93,ROWS(1:$22)),ROWS(1:$22),) -> 0 | G22: =IF(COUNTIF(G$74:G$93,ROWS(1:$22)),ROWS(1:$22),) -> 0 | H22: =IF(COUNTIF(H$74:H$93,ROWS(1:$22)),ROWS(1:$22),) -> 22 | I22: =IF(COUNTIF(I$74:I$93,ROWS(1:$22)),ROWS(1:$22),) -> 22 | J22: =IF(COUNTIF(J$74:J$93,ROWS(1:$22)),ROWS(1:$22),) -> 22 | K22: =IF(COUNTIF(K$74:K$93,ROWS(1:$22)),ROWS(1:$22),) -> 22 | ... AG22: =IF(COUNTIF(AG$74:AG$93,ROWS(1:$22)),ROWS(1:$22),) -> 0 | AH22: =IF(COUNTIF(AH$74:AH$93,ROWS($1:22)),ROWS($1:22),) -> 0 | AI22: =IF(COUNTIF(AI$74:AI$93,ROWS($1:22)),ROWS($1:22),) -> 0 | AJ22: =IF(COUNTIF(AJ$74:AJ$93,ROWS($1:22)),ROWS($1:22),) -> 0 | AK22: =IF(COUNTIF(AK$74:AK$93,ROWS($1:22)),ROWS($1:22),) -> 0 | AL22: =IF(COUNTIF(AL$74:AL$93,ROWS($1:22)),ROWS($1:22),) -> 22 | AM22: =IF(COUNTIF(AM$74:AM$93,ROWS($1:22)),ROWS($1:22),) -> 0 | AN22: =IF(COUNTIF(AN$74:AN$93,ROWS($1:22)),ROWS($1:22),) -> 0 | AO22: =IF(COUNTIF(AO$74:AO$93,ROWS($1:22)),ROWS($1:22),) -> 22 | ... ND22: =IF(COUNTIF(ND$74:ND$93,ROWS($1:22)),ROWS($1:22),) -> 0
B23: 23 | D23: =IF(COUNTIF(D$74:D$93,ROWS(1:$23)),ROWS(1:$23),) -> 0 | E23: =IF(COUNTIF(E$74:E$93,ROWS(1:$23)),ROWS(1:$23),) -> 0 | F23: =IF(COUNTIF(F$74:F$93,ROWS(1:$23)),ROWS(1:$23),) -> 0 | G23: =IF(COUNTIF(G$74:G$93,ROWS(1:$23)),ROWS(1:$23),) -> 0 | H23: =IF(COUNTIF(H$74:H$93,ROWS(1:$23)),ROWS(1:$23),) -> 0 | I23: =IF(COUNTIF(I$74:I$93,ROWS(1:$23)),ROWS(1:$23),) -> 0 | J23: =IF(COUNTIF(J$74:J$93,ROWS(1:$23)),ROWS(1:$23),) -> 0 | K23: =IF(COUNTIF(K$74:K$93,ROWS(1:$23)),ROWS(1:$23),) -> 0 | ... AG23: =IF(COUNTIF(AG$74:AG$93,ROWS(1:$23)),ROWS(1:$23),) -> 0 | AH23: =IF(COUNTIF(AH$74:AH$93,ROWS($1:23)),ROWS($1:23),) -> 23 | AI23: =IF(COUNTIF(AI$74:AI$93,ROWS($1:23)),ROWS($1:23),) -> 0 | AJ23: =IF(COUNTIF(AJ$74:AJ$93,ROWS($1:23)),ROWS($1:23),) -> 0 | AK23: =IF(COUNTIF(AK$74:AK$93,ROWS($1:23)),ROWS($1:23),) -> 0 | AL23: =IF(COUNTIF(AL$74:AL$93,ROWS($1:23)),ROWS($1:23),) -> 0 | AM23: =IF(COUNTIF(AM$74:AM$93,ROWS($1:23)),ROWS($1:23),) -> 0 | AN23: =IF(COUNTIF(AN$74:AN$93,ROWS($1:23)),ROWS($1:23),) -> 0 | AO23: =IF(COUNTIF(AO$74:AO$93,ROWS($1:23)),ROWS($1:23),) -> 0 | ... ND23: =IF(COUNTIF(ND$74:ND$93,ROWS($1:23)),ROWS($1:23),) -> 0
B24: 24 | D24: =IF(COUNTIF(D$74:D$93,ROWS(1:$24)),ROWS(1:$24),) -> 0 | E24: =IF(COUNTIF(E$74:E$93,ROWS(1:$24)),ROWS(1:$24),) -> 0 | F24: =IF(COUNTIF(F$74:F$93,ROWS(1:$24)),ROWS(1:$24),) -> 0 | G24: =IF(COUNTIF(G$74:G$93,ROWS(1:$24)),ROWS(1:$24),) -> 24 | H24: =IF(COUNTIF(H$74:H$93,ROWS(1:$24)),ROWS(1:$24),) -> 0 | I24: =IF(COUNTIF(I$74:I$93,ROWS(1:$24)),ROWS(1:$24),) -> 0 | J24: =IF(COUNTIF(J$74:J$93,ROWS(1:$24)),ROWS(1:$24),) -> 0 | K24: =IF(COUNTIF(K$74:K$93,ROWS(1:$24)),ROWS(1:$24),) -> 0 | ... AG24: =IF(COUNTIF(AG$74:AG$93,ROWS(1:$24)),ROWS(1:$24),) -> 0 | AH24: =IF(COUNTIF(AH$74:AH$93,ROWS($1:24)),ROWS($1:24),) -> 24 | AI24: =IF(COUNTIF(AI$74:AI$93,ROWS($1:24)),ROWS($1:24),) -> 0 | AJ24: =IF(COUNTIF(AJ$74:AJ$93,ROWS($1:24)),ROWS($1:24),) -> 24 | AK24: =IF(COUNTIF(AK$74:AK$93,ROWS($1:24)),ROWS($1:24),) -> 24 | AL24: =IF(COUNTIF(AL$74:AL$93,ROWS($1:24)),ROWS($1:24),) -> 0 | AM24: =IF(COUNTIF(AM$74:AM$93,ROWS($1:24)),ROWS($1:24),) -> 0 | AN24: =IF(COUNTIF(AN$74:AN$93,ROWS($1:24)),ROWS($1:24),) -> 0 | AO24: =IF(COUNTIF(AO$74:AO$93,ROWS($1:24)),ROWS($1:24),) -> 24 | ... ND24: =IF(COUNTIF(ND$74:ND$93,ROWS($1:24)),ROWS($1:24),) -> 0
B25: 25 | D25: =IF(COUNTIF(D$74:D$93,ROWS($1:25)),ROWS($1:25),) -> 25 | E25: =IF(COUNTIF(E$74:E$93,ROWS($1:25)),ROWS($1:25),) -> 0 | F25: =IF(COUNTIF(F$74:F$93,ROWS($1:25)),ROWS($1:25),) -> 0 | G25: =IF(COUNTIF(G$74:G$93,ROWS($1:25)),ROWS($1:25),) -> 25 | H25: =IF(COUNTIF(H$74:H$93,ROWS($1:25)),ROWS($1:25),) -> 0 | I25: =IF(COUNTIF(I$74:I$93,ROWS($1:25)),ROWS($1:25),) -> 0 | J25: =IF(COUNTIF(J$74:J$93,ROWS($1:25)),ROWS($1:25),) -> 0 | K25: =IF(COUNTIF(K$74:K$93,ROWS($1:25)),ROWS($1:25),) -> 0 | ... ND25: =IF(COUNTIF(ND$74:ND$93,ROWS($1:25)),ROWS($1:25),) -> 0
B26: 26 | D26: =IF(COUNTIF(D$74:D$93,ROWS($1:26)),ROWS($1:26),) -> 0 | E26: =IF(COUNTIF(E$74:E$93,ROWS($1:26)),ROWS($1:26),) -> 26 | F26: =IF(COUNTIF(F$74:F$93,ROWS($1:26)),ROWS($1:26),) -> 0 | G26: =IF(COUNTIF(G$74:G$93,ROWS($1:26)),ROWS($1:26),) -> 0 | H26: =IF(COUNTIF(H$74:H$93,ROWS($1:26)),ROWS($1:26),) -> 0 | I26: =IF(COUNTIF(I$74:I$93,ROWS($1:26)),ROWS($1:26),) -> 0 | J26: =IF(COUNTIF(J$74:J$93,ROWS($1:26)),ROWS($1:26),) -> 26 | K26: =IF(COUNTIF(K$74:K$93,ROWS($1:26)),ROWS($1:26),) -> 0 | ... ND26: =IF(COUNTIF(ND$74:ND$93,ROWS($1:26)),ROWS($1:26),) -> 0
B27: 27 | D27: =IF(COUNTIF(D$74:D$93,ROWS($1:27)),ROWS($1:27),) -> 0 | E27: =IF(COUNTIF(E$74:E$93,ROWS($1:27)),ROWS($1:27),) -> 0 | F27: =IF(COUNTIF(F$74:F$93,ROWS($1:27)),ROWS($1:27),) -> 0 | G27: =IF(COUNTIF(G$74:G$93,ROWS($1:27)),ROWS($1:27),) -> 27 | H27: =IF(COUNTIF(H$74:H$93,ROWS($1:27)),ROWS($1:27),) -> 0 | I27: =IF(COUNTIF(I$74:I$93,ROWS($1:27)),ROWS($1:27),) -> 0 | J27: =IF(COUNTIF(J$74:J$93,ROWS($1:27)),ROWS($1:27),) -> 0 | K27: =IF(COUNTIF(K$74:K$93,ROWS($1:27)),ROWS($1:27),) -> 0 | ... ND27: =IF(COUNTIF(ND$74:ND$93,ROWS($1:27)),ROWS($1:27),) -> 0
B28: 28 | D28: =IF(COUNTIF(D$74:D$93,ROWS($1:28)),ROWS($1:28),) -> 0 | E28: =IF(COUNTIF(E$74:E$93,ROWS($1:28)),ROWS($1:28),) -> 0 | F28: =IF(COUNTIF(F$74:F$93,ROWS($1:28)),ROWS($1:28),) -> 28 | G28: =IF(COUNTIF(G$74:G$93,ROWS($1:28)),ROWS($1:28),) -> 28 | H28: =IF(COUNTIF(H$74:H$93,ROWS($1:28)),ROWS($1:28),) -> 0 | I28: =IF(COUNTIF(I$74:I$93,ROWS($1:28)),ROWS($1:28),) -> 0 | J28: =IF(COUNTIF(J$74:J$93,ROWS($1:28)),ROWS($1:28),) -> 0 | K28: =IF(COUNTIF(K$74:K$93,ROWS($1:28)),ROWS($1:28),) -> 0 | ... ND28: =IF(COUNTIF(ND$74:ND$93,ROWS($1:28)),ROWS($1:28),) -> 0
B29: 29 | D29: =IF(COUNTIF(D$74:D$93,ROWS($1:29)),ROWS($1:29),) -> 0 | E29: =IF(COUNTIF(E$74:E$93,ROWS($1:29)),ROWS($1:29),) -> 0 | F29: =IF(COUNTIF(F$74:F$93,ROWS($1:29)),ROWS($1:29),) -> 29 | G29: =IF(COUNTIF(G$74:G$93,ROWS($1:29)),ROWS($1:29),) -> 0 | H29: =IF(COUNTIF(H$74:H$93,ROWS($1:29)),ROWS($1:29),) -> 0 | I29: =IF(COUNTIF(I$74:I$93,ROWS($1:29)),ROWS($1:29),) -> 0 | J29: =IF(COUNTIF(J$74:J$93,ROWS($1:29)),ROWS($1:29),) -> 0 | K29: =IF(COUNTIF(K$74:K$93,ROWS($1:29)),ROWS($1:29),) -> 29 | ... ND29: =IF(COUNTIF(ND$74:ND$93,ROWS($1:29)),ROWS($1:29),) -> 0
B30: 30 | D30: =IF(COUNTIF(D$74:D$93,ROWS($1:30)),ROWS($1:30),) -> 0 | E30: =IF(COUNTIF(E$74:E$93,ROWS($1:30)),ROWS($1:30),) -> 30 | F30: =IF(COUNTIF(F$74:F$93,ROWS($1:30)),ROWS($1:30),) -> 0 | G30: =IF(COUNTIF(G$74:G$93,ROWS($1:30)),ROWS($1:30),) -> 0 | H30: =IF(COUNTIF(H$74:H$93,ROWS($1:30)),ROWS($1:30),) -> 0 | I30: =IF(COUNTIF(I$74:I$93,ROWS($1:30)),ROWS($1:30),) -> 30 | J30: =IF(COUNTIF(J$74:J$93,ROWS($1:30)),ROWS($1:30),) -> 0 | K30: =IF(COUNTIF(K$74:K$93,ROWS($1:30)),ROWS($1:30),) -> 0 | ... ND30: =IF(COUNTIF(ND$74:ND$93,ROWS($1:30)),ROWS($1:30),) -> 0
B31: 31 | D31: =IF(COUNTIF(D$74:D$93,ROWS($1:31)),ROWS($1:31),) -> 0 | E31: =IF(COUNTIF(E$74:E$93,ROWS($1:31)),ROWS($1:31),) -> 0 | F31: =IF(COUNTIF(F$74:F$93,ROWS($1:31)),ROWS($1:31),) -> 0 | G31: =IF(COUNTIF(G$74:G$93,ROWS($1:31)),ROWS($1:31),) -> 31 | H31: =IF(COUNTIF(H$74:H$93,ROWS($1:31)),ROWS($1:31),) -> 0 | I31: =IF(COUNTIF(I$74:I$93,ROWS($1:31)),ROWS($1:31),) -> 0 | J31: =IF(COUNTIF(J$74:J$93,ROWS($1:31)),ROWS($1:31),) -> 0 | K31: =IF(COUNTIF(K$74:K$93,ROWS($1:31)),ROWS($1:31),) -> 0 | ... ND31: =IF(COUNTIF(ND$74:ND$93,ROWS($1:31)),ROWS($1:31),) -> 0
B32: 32 | D32: =IF(COUNTIF(D$74:D$93,ROWS($1:32)),ROWS($1:32),) -> 0 | E32: =IF(COUNTIF(E$74:E$93,ROWS($1:32)),ROWS($1:32),) -> 0 | F32: =IF(COUNTIF(F$74:F$93,ROWS($1:32)),ROWS($1:32),) -> 32 | G32: =IF(COUNTIF(G$74:G$93,ROWS($1:32)),ROWS($1:32),) -> 0 | H32: =IF(COUNTIF(H$74:H$93,ROWS($1:32)),ROWS($1:32),) -> 32 | I32: =IF(COUNTIF(I$74:I$93,ROWS($1:32)),ROWS($1:32),) -> 0 | J32: =IF(COUNTIF(J$74:J$93,ROWS($1:32)),ROWS($1:32),) -> 0 | K32: =IF(COUNTIF(K$74:K$93,ROWS($1:32)),ROWS($1:32),) -> 0 | ... ND32: =IF(COUNTIF(ND$74:ND$93,ROWS($1:32)),ROWS($1:32),) -> 0
B33: 33 | D33: =IF(COUNTIF(D$74:D$93,ROWS($1:33)),ROWS($1:33),) -> 0 | E33: =IF(COUNTIF(E$74:E$93,ROWS($1:33)),ROWS($1:33),) -> 0 | F33: =IF(COUNTIF(F$74:F$93,ROWS($1:33)),ROWS($1:33),) -> 33 | G33: =IF(COUNTIF(G$74:G$93,ROWS($1:33)),ROWS($1:33),) -> 0 | H33: =IF(COUNTIF(H$74:H$93,ROWS($1:33)),ROWS($1:33),) -> 0 | I33: =IF(COUNTIF(I$74:I$93,ROWS($1:33)),ROWS($1:33),) -> 33 | J33: =IF(COUNTIF(J$74:J$93,ROWS($1:33)),ROWS($1:33),) -> 0 | K33: =IF(COUNTIF(K$74:K$93,ROWS($1:33)),ROWS($1:33),) -> 0 | ... ND33: =IF(COUNTIF(ND$74:ND$93,ROWS($1:33)),ROWS($1:33),) -> 0
B34: 34 | D34: =IF(COUNTIF(D$74:D$93,ROWS($1:34)),ROWS($1:34),) -> 0 | E34: =IF(COUNTIF(E$74:E$93,ROWS($1:34)),ROWS($1:34),) -> 34 | F34: =IF(COUNTIF(F$74:F$93,ROWS($1:34)),ROWS($1:34),) -> 0 | G34: =IF(COUNTIF(G$74:G$93,ROWS($1:34)),ROWS($1:34),) -> 0 | H34: =IF(COUNTIF(H$74:H$93,ROWS($1:34)),ROWS($1:34),) -> 34 | I34: =IF(COUNTIF(I$74:I$93,ROWS($1:34)),ROWS($1:34),) -> 34 | J34: =IF(COUNTIF(J$74:J$93,ROWS($1:34)),ROWS($1:34),) -> 0 | K34: =IF(COUNTIF(K$74:K$93,ROWS($1:34)),ROWS($1:34),) -> 0 | ... ND34: =IF(COUNTIF(ND$74:ND$93,ROWS($1:34)),ROWS($1:34),) -> 0
B35: 35 | D35: =IF(COUNTIF(D$74:D$93,ROWS($1:35)),ROWS($1:35),) -> 0 | E35: =IF(COUNTIF(E$74:E$93,ROWS($1:35)),ROWS($1:35),) -> 0 | F35: =IF(COUNTIF(F$74:F$93,ROWS($1:35)),ROWS($1:35),) -> 35 | G35: =IF(COUNTIF(G$74:G$93,ROWS($1:35)),ROWS($1:35),) -> 35 | H35: =IF(COUNTIF(H$74:H$93,ROWS($1:35)),ROWS($1:35),) -> 0 | I35: =IF(COUNTIF(I$74:I$93,ROWS($1:35)),ROWS($1:35),) -> 0 | J35: =IF(COUNTIF(J$74:J$93,ROWS($1:35)),ROWS($1:35),) -> 0 | K35: =IF(COUNTIF(K$74:K$93,ROWS($1:35)),ROWS($1:35),) -> 0 | ... ND35: =IF(COUNTIF(ND$74:ND$93,ROWS($1:35)),ROWS($1:35),) -> 0
B36: 36 | D36: =IF(COUNTIF(D$74:D$93,ROWS($1:36)),ROWS($1:36),) -> 0 | E36: =IF(COUNTIF(E$74:E$93,ROWS($1:36)),ROWS($1:36),) -> 0 | F36: =IF(COUNTIF(F$74:F$93,ROWS($1:36)),ROWS($1:36),) -> 0 | G36: =IF(COUNTIF(G$74:G$93,ROWS($1:36)),ROWS($1:36),) -> 0 | H36: =IF(COUNTIF(H$74:H$93,ROWS($1:36)),ROWS($1:36),) -> 0 | I36: =IF(COUNTIF(I$74:I$93,ROWS($1:36)),ROWS($1:36),) -> 0 | J36: =IF(COUNTIF(J$74:J$93,ROWS($1:36)),ROWS($1:36),) -> 0 | K36: =IF(COUNTIF(K$74:K$93,ROWS($1:36)),ROWS($1:36),) -> 0 | ... ND36: =IF(COUNTIF(ND$74:ND$93,ROWS($1:36)),ROWS($1:36),) -> 0
B37: 37 | D37: =IF(COUNTIF(D$74:D$93,ROWS($1:37)),ROWS($1:37),) -> 0 | E37: =IF(COUNTIF(E$74:E$93,ROWS($1:37)),ROWS($1:37),) -> 37 | F37: =IF(COUNTIF(F$74:F$93,ROWS($1:37)),ROWS($1:37),) -> 37 | G37: =IF(COUNTIF(G$74:G$93,ROWS($1:37)),ROWS($1:37),) -> 0 | H37: =IF(COUNTIF(H$74:H$93,ROWS($1:37)),ROWS($1:37),) -> 0 | I37: =IF(COUNTIF(I$74:I$93,ROWS($1:37)),ROWS($1:37),) -> 37 | J37: =IF(COUNTIF(J$74:J$93,ROWS($1:37)),ROWS($1:37),) -> 0 | K37: =IF(COUNTIF(K$74:K$93,ROWS($1:37)),ROWS($1:37),) -> 0 | ... ND37: =IF(COUNTIF(ND$74:ND$93,ROWS($1:37)),ROWS($1:37),) -> 0
B38: 38 | D38: =IF(COUNTIF(D$74:D$93,ROWS($1:38)),ROWS($1:38),) -> 0 | E38: =IF(COUNTIF(E$74:E$93,ROWS($1:38)),ROWS($1:38),) -> 0 | F38: =IF(COUNTIF(F$74:F$93,ROWS($1:38)),ROWS($1:38),) -> 0 | G38: =IF(COUNTIF(G$74:G$93,ROWS($1:38)),ROWS($1:38),) -> 0 | H38: =IF(COUNTIF(H$74:H$93,ROWS($1:38)),ROWS($1:38),) -> 0 | I38: =IF(COUNTIF(I$74:I$93,ROWS($1:38)),ROWS($1:38),) -> 0 | J38: =IF(COUNTIF(J$74:J$93,ROWS($1:38)),ROWS($1:38),) -> 0 | K38: =IF(COUNTIF(K$74:K$93,ROWS($1:38)),ROWS($1:38),) -> 0 | ... ND38: =IF(COUNTIF(ND$74:ND$93,ROWS($1:38)),ROWS($1:38),) -> 0
B39: 39 | D39: =IF(COUNTIF(D$74:D$93,ROWS($1:39)),ROWS($1:39),) -> 39 | E39: =IF(COUNTIF(E$74:E$93,ROWS($1:39)),ROWS($1:39),) -> 0 | F39: =IF(COUNTIF(F$74:F$93,ROWS($1:39)),ROWS($1:39),) -> 39 | G39: =IF(COUNTIF(G$74:G$93,ROWS($1:39)),ROWS($1:39),) -> 39 | H39: =IF(COUNTIF(H$74:H$93,ROWS($1:39)),ROWS($1:39),) -> 0 | I39: =IF(COUNTIF(I$74:I$93,ROWS($1:39)),ROWS($1:39),) -> 0 | J39: =IF(COUNTIF(J$74:J$93,ROWS($1:39)),ROWS($1:39),) -> 39 | K39: =IF(COUNTIF(K$74:K$93,ROWS($1:39)),ROWS($1:39),) -> 39 | ... ND39: =IF(COUNTIF(ND$74:ND$93,ROWS($1:39)),ROWS($1:39),) -> 0
B40: 40 | D40: =IF(COUNTIF(D$74:D$93,ROWS($1:40)),ROWS($1:40),) -> 0 | E40: =IF(COUNTIF(E$74:E$93,ROWS($1:40)),ROWS($1:40),) -> 0 | F40: =IF(COUNTIF(F$74:F$93,ROWS($1:40)),ROWS($1:40),) -> 0 | G40: =IF(COUNTIF(G$74:G$93,ROWS($1:40)),ROWS($1:40),) -> 0 | H40: =IF(COUNTIF(H$74:H$93,ROWS($1:40)),ROWS($1:40),) -> 0 | I40: =IF(COUNTIF(I$74:I$93,ROWS($1:40)),ROWS($1:40),) -> 0 | J40: =IF(COUNTIF(J$74:J$93,ROWS($1:40)),ROWS($1:40),) -> 0 | K40: =IF(COUNTIF(K$74:K$93,ROWS($1:40)),ROWS($1:40),) -> 0 | ... ND40: =IF(COUNTIF(ND$74:ND$93,ROWS($1:40)),ROWS($1:40),) -> 0
B41: 41 | D41: =IF(COUNTIF(D$74:D$93,ROWS($1:41)),ROWS($1:41),) -> 41 | E41: =IF(COUNTIF(E$74:E$93,ROWS($1:41)),ROWS($1:41),) -> 41 | F41: =IF(COUNTIF(F$74:F$93,ROWS($1:41)),ROWS($1:41),) -> 0 | G41: =IF(COUNTIF(G$74:G$93,ROWS($1:41)),ROWS($1:41),) -> 41 | H41: =IF(COUNTIF(H$74:H$93,ROWS($1:41)),ROWS($1:41),) -> 0 | I41: =IF(COUNTIF(I$74:I$93,ROWS($1:41)),ROWS($1:41),) -> 41 | J41: =IF(COUNTIF(J$74:J$93,ROWS($1:41)),ROWS($1:41),) -> 41 | K41: =IF(COUNTIF(K$74:K$93,ROWS($1:41)),ROWS($1:41),) -> 0 | ... ND41: =IF(COUNTIF(ND$74:ND$93,ROWS($1:41)),ROWS($1:41),) -> 0
B42: 42 | D42: =IF(COUNTIF(D$74:D$93,ROWS($1:42)),ROWS($1:42),) -> 0 | E42: =IF(COUNTIF(E$74:E$93,ROWS($1:42)),ROWS($1:42),) -> 42 | F42: =IF(COUNTIF(F$74:F$93,ROWS($1:42)),ROWS($1:42),) -> 42 | G42: =IF(COUNTIF(G$74:G$93,ROWS($1:42)),ROWS($1:42),) -> 0 | H42: =IF(COUNTIF(H$74:H$93,ROWS($1:42)),ROWS($1:42),) -> 0 | I42: =IF(COUNTIF(I$74:I$93,ROWS($1:42)),ROWS($1:42),) -> 0 | J42: =IF(COUNTIF(J$74:J$93,ROWS($1:42)),ROWS($1:42),) -> 42 | K42: =IF(COUNTIF(K$74:K$93,ROWS($1:42)),ROWS($1:42),) -> 42 | ... ND42: =IF(COUNTIF(ND$74:ND$93,ROWS($1:42)),ROWS($1:42),) -> 0
B43: 43 | D43: =IF(COUNTIF(D$74:D$93,ROWS($1:43)),ROWS($1:43),) -> 0 | E43: =IF(COUNTIF(E$74:E$93,ROWS($1:43)),ROWS($1:43),) -> 0 | F43: =IF(COUNTIF(F$74:F$93,ROWS($1:43)),ROWS($1:43),) -> 0 | G43: =IF(COUNTIF(G$74:G$93,ROWS($1:43)),ROWS($1:43),) -> 0 | H43: =IF(COUNTIF(H$74:H$93,ROWS($1:43)),ROWS($1:43),) -> 43 | I43: =IF(COUNTIF(I$74:I$93,ROWS($1:43)),ROWS($1:43),) -> 0 | J43: =IF(COUNTIF(J$74:J$93,ROWS($1:43)),ROWS($1:43),) -> 43 | K43: =IF(COUNTIF(K$74:K$93,ROWS($1:43)),ROWS($1:43),) -> 43 | ... ND43: =IF(COUNTIF(ND$74:ND$93,ROWS($1:43)),ROWS($1:43),) -> 0
B44: 44 | D44: =IF(COUNTIF(D$74:D$93,ROWS($1:44)),ROWS($1:44),) -> 0 | E44: =IF(COUNTIF(E$74:E$93,ROWS($1:44)),ROWS($1:44),) -> 0 | F44: =IF(COUNTIF(F$74:F$93,ROWS($1:44)),ROWS($1:44),) -> 0 | G44: =IF(COUNTIF(G$74:G$93,ROWS($1:44)),ROWS($1:44),) -> 0 | H44: =IF(COUNTIF(H$74:H$93,ROWS($1:44)),ROWS($1:44),) -> 44 | I44: =IF(COUNTIF(I$74:I$93,ROWS($1:44)),ROWS($1:44),) -> 0 | J44: =IF(COUNTIF(J$74:J$93,ROWS($1:44)),ROWS($1:44),) -> 0 | K44: =IF(COUNTIF(K$74:K$93,ROWS($1:44)),ROWS($1:44),) -> 44 | ... ND44: =IF(COUNTIF(ND$74:ND$93,ROWS($1:44)),ROWS($1:44),) -> 0
B45: 45 | D45: =IF(COUNTIF(D$74:D$93,ROWS($1:45)),ROWS($1:45),) -> 45 | E45: =IF(COUNTIF(E$74:E$93,ROWS($1:45)),ROWS($1:45),) -> 0 | F45: =IF(COUNTIF(F$74:F$93,ROWS($1:45)),ROWS($1:45),) -> 0 | G45: =IF(COUNTIF(G$74:G$93,ROWS($1:45)),ROWS($1:45),) -> 45 | H45: =IF(COUNTIF(H$74:H$93,ROWS($1:45)),ROWS($1:45),) -> 0 | I45: =IF(COUNTIF(I$74:I$93,ROWS($1:45)),ROWS($1:45),) -> 45 | J45: =IF(COUNTIF(J$74:J$93,ROWS($1:45)),ROWS($1:45),) -> 45 | K45: =IF(COUNTIF(K$74:K$93,ROWS($1:45)),ROWS($1:45),) -> 0 | ... ND45: =IF(COUNTIF(ND$74:ND$93,ROWS($1:45)),ROWS($1:45),) -> 0
B46: 46 | D46: =IF(COUNTIF(D$74:D$93,ROWS($1:46)),ROWS($1:46),) -> 0 | E46: =IF(COUNTIF(E$74:E$93,ROWS($1:46)),ROWS($1:46),) -> 0 | F46: =IF(COUNTIF(F$74:F$93,ROWS($1:46)),ROWS($1:46),) -> 0 | G46: =IF(COUNTIF(G$74:G$93,ROWS($1:46)),ROWS($1:46),) -> 0 | H46: =IF(COUNTIF(H$74:H$93,ROWS($1:46)),ROWS($1:46),) -> 0 | I46: =IF(COUNTIF(I$74:I$93,ROWS($1:46)),ROWS($1:46),) -> 0 | J46: =IF(COUNTIF(J$74:J$93,ROWS($1:46)),ROWS($1:46),) -> 0 | K46: =IF(COUNTIF(K$74:K$93,ROWS($1:46)),ROWS($1:46),) -> 0 | ... ND46: =IF(COUNTIF(ND$74:ND$93,ROWS($1:46)),ROWS($1:46),) -> 0
B47: 47 | D47: =IF(COUNTIF(D$74:D$93,ROWS($1:47)),ROWS($1:47),) -> 0 | E47: =IF(COUNTIF(E$74:E$93,ROWS($1:47)),ROWS($1:47),) -> 0 | F47: =IF(COUNTIF(F$74:F$93,ROWS($1:47)),ROWS($1:47),) -> 0 | G47: =IF(COUNTIF(G$74:G$93,ROWS($1:47)),ROWS($1:47),) -> 47 | H47: =IF(COUNTIF(H$74:H$93,ROWS($1:47)),ROWS($1:47),) -> 0 | I47: =IF(COUNTIF(I$74:I$93,ROWS($1:47)),ROWS($1:47),) -> 0 | J47: =IF(COUNTIF(J$74:J$93,ROWS($1:47)),ROWS($1:47),) -> 0 | K47: =IF(COUNTIF(K$74:K$93,ROWS($1:47)),ROWS($1:47),) -> 0 | ... ND47: =IF(COUNTIF(ND$74:ND$93,ROWS($1:47)),ROWS($1:47),) -> 0
B48: 48 | D48: =IF(COUNTIF(D$74:D$93,ROWS($1:48)),ROWS($1:48),) -> 48 | E48: =IF(COUNTIF(E$74:E$93,ROWS($1:48)),ROWS($1:48),) -> 0 | F48: =IF(COUNTIF(F$74:F$93,ROWS($1:48)),ROWS($1:48),) -> 0 | G48: =IF(COUNTIF(G$74:G$93,ROWS($1:48)),ROWS($1:48),) -> 0 | H48: =IF(COUNTIF(H$74:H$93,ROWS($1:48)),ROWS($1:48),) -> 0 | I48: =IF(COUNTIF(I$74:I$93,ROWS($1:48)),ROWS($1:48),) -> 48 | J48: =IF(COUNTIF(J$74:J$93,ROWS($1:48)),ROWS($1:48),) -> 0 | K48: =IF(COUNTIF(K$74:K$93,ROWS($1:48)),ROWS($1:48),) -> 0 | ... ND48: =IF(COUNTIF(ND$74:ND$93,ROWS($1:48)),ROWS($1:48),) -> 0
B49: 49 | D49: =IF(COUNTIF(D$74:D$93,ROWS($1:49)),ROWS($1:49),) -> 49 | E49: =IF(COUNTIF(E$74:E$93,ROWS($1:49)),ROWS($1:49),) -> 0 | F49: =IF(COUNTIF(F$74:F$93,ROWS($1:49)),ROWS($1:49),) -> 0 | G49: =IF(COUNTIF(G$74:G$93,ROWS($1:49)),ROWS($1:49),) -> 49 | H49: =IF(COUNTIF(H$74:H$93,ROWS($1:49)),ROWS($1:49),) -> 49 | I49: =IF(COUNTIF(I$74:I$93,ROWS($1:49)),ROWS($1:49),) -> 0 | J49: =IF(COUNTIF(J$74:J$93,ROWS($1:49)),ROWS($1:49),) -> 0 | K49: =IF(COUNTIF(K$74:K$93,ROWS($1:49)),ROWS($1:49),) -> 0 | ... ND49: =IF(COUNTIF(ND$74:ND$93,ROWS($1:49)),ROWS($1:49),) -> 0
B50: 50 | D50: =IF(COUNTIF(D$74:D$93,ROWS($1:50)),ROWS($1:50),) -> 50 | E50: =IF(COUNTIF(E$74:E$93,ROWS($1:50)),ROWS($1:50),) -> 0 | F50: =IF(COUNTIF(F$74:F$93,ROWS($1:50)),ROWS($1:50),) -> 0 | G50: =IF(COUNTIF(G$74:G$93,ROWS($1:50)),ROWS($1:50),) -> 50 | H50: =IF(COUNTIF(H$74:H$93,ROWS($1:50)),ROWS($1:50),) -> 50 | I50: =IF(COUNTIF(I$74:I$93,ROWS($1:50)),ROWS($1:50),) -> 0 | J50: =IF(COUNTIF(J$74:J$93,ROWS($1:50)),ROWS($1:50),) -> 50 | K50: =IF(COUNTIF(K$74:K$93,ROWS($1:50)),ROWS($1:50),) -> 0 | ... ND50: =IF(COUNTIF(ND$74:ND$93,ROWS($1:50)),ROWS($1:50),) -> 0
B51: 51 | D51: =IF(COUNTIF(D$74:D$93,ROWS($1:51)),ROWS($1:51),) -> 0 | E51: =IF(COUNTIF(E$74:E$93,ROWS($1:51)),ROWS($1:51),) -> 0 | F51: =IF(COUNTIF(F$74:F$93,ROWS($1:51)),ROWS($1:51),) -> 0 | G51: =IF(COUNTIF(G$74:G$93,ROWS($1:51)),ROWS($1:51),) -> 51 | H51: =IF(COUNTIF(H$74:H$93,ROWS($1:51)),ROWS($1:51),) -> 0 | I51: =IF(COUNTIF(I$74:I$93,ROWS($1:51)),ROWS($1:51),) -> 0 | J51: =IF(COUNTIF(J$74:J$93,ROWS($1:51)),ROWS($1:51),) -> 0 | K51: =IF(COUNTIF(K$74:K$93,ROWS($1:51)),ROWS($1:51),) -> 0 | ... ND51: =IF(COUNTIF(ND$74:ND$93,ROWS($1:51)),ROWS($1:51),) -> 0
B52: 52 | D52: =IF(COUNTIF(D$74:D$93,ROWS($1:52)),ROWS($1:52),) -> 0 | E52: =IF(COUNTIF(E$74:E$93,ROWS($1:52)),ROWS($1:52),) -> 0 | F52: =IF(COUNTIF(F$74:F$93,ROWS($1:52)),ROWS($1:52),) -> 0 | G52: =IF(COUNTIF(G$74:G$93,ROWS($1:52)),ROWS($1:52),) -> 0 | H52: =IF(COUNTIF(H$74:H$93,ROWS($1:52)),ROWS($1:52),) -> 52 | I52: =IF(COUNTIF(I$74:I$93,ROWS($1:52)),ROWS($1:52),) -> 0 | J52: =IF(COUNTIF(J$74:J$93,ROWS($1:52)),ROWS($1:52),) -> 0 | K52: =IF(COUNTIF(K$74:K$93,ROWS($1:52)),ROWS($1:52),) -> 0 | ... ND52: =IF(COUNTIF(ND$74:ND$93,ROWS($1:52)),ROWS($1:52),) -> 0
B53: 53 | D53: =IF(COUNTIF(D$74:D$93,ROWS($1:53)),ROWS($1:53),) -> 0 | E53: =IF(COUNTIF(E$74:E$93,ROWS($1:53)),ROWS($1:53),) -> 0 | F53: =IF(COUNTIF(F$74:F$93,ROWS($1:53)),ROWS($1:53),) -> 0 | G53: =IF(COUNTIF(G$74:G$93,ROWS($1:53)),ROWS($1:53),) -> 53 | H53: =IF(COUNTIF(H$74:H$93,ROWS($1:53)),ROWS($1:53),) -> 0 | I53: =IF(COUNTIF(I$74:I$93,ROWS($1:53)),ROWS($1:53),) -> 0 | J53: =IF(COUNTIF(J$74:J$93,ROWS($1:53)),ROWS($1:53),) -> 0 | K53: =IF(COUNTIF(K$74:K$93,ROWS($1:53)),ROWS($1:53),) -> 0 | ... ND53: =IF(COUNTIF(ND$74:ND$93,ROWS($1:53)),ROWS($1:53),) -> 0
B54: 54 | D54: =IF(COUNTIF(D$74:D$93,ROWS($1:54)),ROWS($1:54),) -> 0 | E54: =IF(COUNTIF(E$74:E$93,ROWS($1:54)),ROWS($1:54),) -> 54 | F54: =IF(COUNTIF(F$74:F$93,ROWS($1:54)),ROWS($1:54),) -> 0 | G54: =IF(COUNTIF(G$74:G$93,ROWS($1:54)),ROWS($1:54),) -> 0 | H54: =IF(COUNTIF(H$74:H$93,ROWS($1:54)),ROWS($1:54),) -> 0 | I54: =IF(COUNTIF(I$74:I$93,ROWS($1:54)),ROWS($1:54),) -> 0 | J54: =IF(COUNTIF(J$74:J$93,ROWS($1:54)),ROWS($1:54),) -> 0 | K54: =IF(COUNTIF(K$74:K$93,ROWS($1:54)),ROWS($1:54),) -> 0 | ... ND54: =IF(COUNTIF(ND$74:ND$93,ROWS($1:54)),ROWS($1:54),) -> 0
B55: 55 | D55: =IF(COUNTIF(D$74:D$93,ROWS($1:55)),ROWS($1:55),) -> 0 | E55: =IF(COUNTIF(E$74:E$93,ROWS($1:55)),ROWS($1:55),) -> 0 | F55: =IF(COUNTIF(F$74:F$93,ROWS($1:55)),ROWS($1:55),) -> 55 | G55: =IF(COUNTIF(G$74:G$93,ROWS($1:55)),ROWS($1:55),) -> 0 | H55: =IF(COUNTIF(H$74:H$93,ROWS($1:55)),ROWS($1:55),) -> 0 | I55: =IF(COUNTIF(I$74:I$93,ROWS($1:55)),ROWS($1:55),) -> 0 | J55: =IF(COUNTIF(J$74:J$93,ROWS($1:55)),ROWS($1:55),) -> 0 | K55: =IF(COUNTIF(K$74:K$93,ROWS($1:55)),ROWS($1:55),) -> 55 | ... ND55: =IF(COUNTIF(ND$74:ND$93,ROWS($1:55)),ROWS($1:55),) -> 0
B56: 56 | D56: =IF(COUNTIF(D$74:D$93,ROWS($1:56)),ROWS($1:56),) -> 56 | E56: =IF(COUNTIF(E$74:E$93,ROWS($1:56)),ROWS($1:56),) -> 0 | F56: =IF(COUNTIF(F$74:F$93,ROWS($1:56)),ROWS($1:56),) -> 56 | G56: =IF(COUNTIF(G$74:G$93,ROWS($1:56)),ROWS($1:56),) -> 56 | H56: =IF(COUNTIF(H$74:H$93,ROWS($1:56)),ROWS($1:56),) -> 56 | I56: =IF(COUNTIF(I$74:I$93,ROWS($1:56)),ROWS($1:56),) -> 0 | J56: =IF(COUNTIF(J$74:J$93,ROWS($1:56)),ROWS($1:56),) -> 0 | K56: =IF(COUNTIF(K$74:K$93,ROWS($1:56)),ROWS($1:56),) -> 0 | ... ND56: =IF(COUNTIF(ND$74:ND$93,ROWS($1:56)),ROWS($1:56),) -> 0
B57: 57 | D57: =IF(COUNTIF(D$74:D$93,ROWS($1:57)),ROWS($1:57),) -> 0 | E57: =IF(COUNTIF(E$74:E$93,ROWS($1:57)),ROWS($1:57),) -> 0 | F57: =IF(COUNTIF(F$74:F$93,ROWS($1:57)),ROWS($1:57),) -> 0 | G57: =IF(COUNTIF(G$74:G$93,ROWS($1:57)),ROWS($1:57),) -> 0 | H57: =IF(COUNTIF(H$74:H$93,ROWS($1:57)),ROWS($1:57),) -> 57 | I57: =IF(COUNTIF(I$74:I$93,ROWS($1:57)),ROWS($1:57),) -> 57 | J57: =IF(COUNTIF(J$74:J$93,ROWS($1:57)),ROWS($1:57),) -> 0 | K57: =IF(COUNTIF(K$74:K$93,ROWS($1:57)),ROWS($1:57),) -> 57 | ... ND57: =IF(COUNTIF(ND$74:ND$93,ROWS($1:57)),ROWS($1:57),) -> 0
B58: 58 | D58: =IF(COUNTIF(D$74:D$93,ROWS($1:58)),ROWS($1:58),) -> 0 | E58: =IF(COUNTIF(E$74:E$93,ROWS($1:58)),ROWS($1:58),) -> 0 | F58: =IF(COUNTIF(F$74:F$93,ROWS($1:58)),ROWS($1:58),) -> 0 | G58: =IF(COUNTIF(G$74:G$93,ROWS($1:58)),ROWS($1:58),) -> 0 | H58: =IF(COUNTIF(H$74:H$93,ROWS($1:58)),ROWS($1:58),) -> 0 | I58: =IF(COUNTIF(I$74:I$93,ROWS($1:58)),ROWS($1:58),) -> 0 | J58: =IF(COUNTIF(J$74:J$93,ROWS($1:58)),ROWS($1:58),) -> 0 | K58: =IF(COUNTIF(K$74:K$93,ROWS($1:58)),ROWS($1:58),) -> 58 | ... ND58: =IF(COUNTIF(ND$74:ND$93,ROWS($1:58)),ROWS($1:58),) -> 0
B59: 59 | D59: =IF(COUNTIF(D$74:D$93,ROWS($1:59)),ROWS($1:59),) -> 59 | E59: =IF(COUNTIF(E$74:E$93,ROWS($1:59)),ROWS($1:59),) -> 0 | F59: =IF(COUNTIF(F$74:F$93,ROWS($1:59)),ROWS($1:59),) -> 59 | G59: =IF(COUNTIF(G$74:G$93,ROWS($1:59)),ROWS($1:59),) -> 0 | H59: =IF(COUNTIF(H$74:H$93,ROWS($1:59)),ROWS($1:59),) -> 0 | I59: =IF(COUNTIF(I$74:I$93,ROWS($1:59)),ROWS($1:59),) -> 59 | J59: =IF(COUNTIF(J$74:J$93,ROWS($1:59)),ROWS($1:59),) -> 0 | K59: =IF(COUNTIF(K$74:K$93,ROWS($1:59)),ROWS($1:59),) -> 0 | ... ND59: =IF(COUNTIF(ND$74:ND$93,ROWS($1:59)),ROWS($1:59),) -> 0
B60: 60 | D60: =IF(COUNTIF(D$74:D$93,ROWS($1:60)),ROWS($1:60),) -> 0 | E60: =IF(COUNTIF(E$74:E$93,ROWS($1:60)),ROWS($1:60),) -> 60 | F60: =IF(COUNTIF(F$74:F$93,ROWS($1:60)),ROWS($1:60),) -> 0 | G60: =IF(COUNTIF(G$74:G$93,ROWS($1:60)),ROWS($1:60),) -> 0 | H60: =IF(COUNTIF(H$74:H$93,ROWS($1:60)),ROWS($1:60),) -> 0 | I60: =IF(COUNTIF(I$74:I$93,ROWS($1:60)),ROWS($1:60),) -> 0 | J60: =IF(COUNTIF(J$74:J$93,ROWS($1:60)),ROWS($1:60),) -> 0 | K60: =IF(COUNTIF(K$74:K$93,ROWS($1:60)),ROWS($1:60),) -> 0 | ... ND60: =IF(COUNTIF(ND$74:ND$93,ROWS($1:60)),ROWS($1:60),) -> 0
B61: 61 | D61: =IF(COUNTIF(D$74:D$93,ROWS($1:61)),ROWS($1:61),) -> 0 | E61: =IF(COUNTIF(E$74:E$93,ROWS($1:61)),ROWS($1:61),) -> 61 | F61: =IF(COUNTIF(F$74:F$93,ROWS($1:61)),ROWS($1:61),) -> 0 | G61: =IF(COUNTIF(G$74:G$93,ROWS($1:61)),ROWS($1:61),) -> 0 | H61: =IF(COUNTIF(H$74:H$93,ROWS($1:61)),ROWS($1:61),) -> 0 | I61: =IF(COUNTIF(I$74:I$93,ROWS($1:61)),ROWS($1:61),) -> 0 | J61: =IF(COUNTIF(J$74:J$93,ROWS($1:61)),ROWS($1:61),) -> 61 | K61: =IF(COUNTIF(K$74:K$93,ROWS($1:61)),ROWS($1:61),) -> 0 | ... ND61: =IF(COUNTIF(ND$74:ND$93,ROWS($1:61)),ROWS($1:61),) -> 0
B62: 62 | D62: =IF(COUNTIF(D$74:D$93,ROWS($1:62)),ROWS($1:62),) -> 62 | E62: =IF(COUNTIF(E$74:E$93,ROWS($1:62)),ROWS($1:62),) -> 0 | F62: =IF(COUNTIF(F$74:F$93,ROWS($1:62)),ROWS($1:62),) -> 62 | G62: =IF(COUNTIF(G$74:G$93,ROWS($1:62)),ROWS($1:62),) -> 0 | H62: =IF(COUNTIF(H$74:H$93,ROWS($1:62)),ROWS($1:62),) -> 0 | I62: =IF(COUNTIF(I$74:I$93,ROWS($1:62)),ROWS($1:62),) -> 0 | J62: =IF(COUNTIF(J$74:J$93,ROWS($1:62)),ROWS($1:62),) -> 0 | K62: =IF(COUNTIF(K$74:K$93,ROWS($1:62)),ROWS($1:62),) -> 0 | ... ND62: =IF(COUNTIF(ND$74:ND$93,ROWS($1:62)),ROWS($1:62),) -> 0
B63: 63 | D63: =IF(COUNTIF(D$74:D$93,ROWS($1:63)),ROWS($1:63),) -> 63 | E63: =IF(COUNTIF(E$74:E$93,ROWS($1:63)),ROWS($1:63),) -> 0 | F63: =IF(COUNTIF(F$74:F$93,ROWS($1:63)),ROWS($1:63),) -> 0 | G63: =IF(COUNTIF(G$74:G$93,ROWS($1:63)),ROWS($1:63),) -> 0 | H63: =IF(COUNTIF(H$74:H$93,ROWS($1:63)),ROWS($1:63),) -> 0 | I63: =IF(COUNTIF(I$74:I$93,ROWS($1:63)),ROWS($1:63),) -> 0 | J63: =IF(COUNTIF(J$74:J$93,ROWS($1:63)),ROWS($1:63),) -> 0 | K63: =IF(COUNTIF(K$74:K$93,ROWS($1:63)),ROWS($1:63),) -> 0 | ... ND63: =IF(COUNTIF(ND$74:ND$93,ROWS($1:63)),ROWS($1:63),) -> 0
B64: 64 | D64: =IF(COUNTIF(D$74:D$93,ROWS($1:64)),ROWS($1:64),) -> 0 | E64: =IF(COUNTIF(E$74:E$93,ROWS($1:64)),ROWS($1:64),) -> 64 | F64: =IF(COUNTIF(F$74:F$93,ROWS($1:64)),ROWS($1:64),) -> 64 | G64: =IF(COUNTIF(G$74:G$93,ROWS($1:64)),ROWS($1:64),) -> 0 | H64: =IF(COUNTIF(H$74:H$93,ROWS($1:64)),ROWS($1:64),) -> 0 | I64: =IF(COUNTIF(I$74:I$93,ROWS($1:64)),ROWS($1:64),) -> 0 | J64: =IF(COUNTIF(J$74:J$93,ROWS($1:64)),ROWS($1:64),) -> 0 | K64: =IF(COUNTIF(K$74:K$93,ROWS($1:64)),ROWS($1:64),) -> 64 | ... ND64: =IF(COUNTIF(ND$74:ND$93,ROWS($1:64)),ROWS($1:64),) -> 0
B65: 65 | D65: =IF(COUNTIF(D$74:D$93,ROWS($1:65)),ROWS($1:65),) -> 0 | E65: =IF(COUNTIF(E$74:E$93,ROWS($1:65)),ROWS($1:65),) -> 0 | F65: =IF(COUNTIF(F$74:F$93,ROWS($1:65)),ROWS($1:65),) -> 0 | G65: =IF(COUNTIF(G$74:G$93,ROWS($1:65)),ROWS($1:65),) -> 0 | H65: =IF(COUNTIF(H$74:H$93,ROWS($1:65)),ROWS($1:65),) -> 65 | I65: =IF(COUNTIF(I$74:I$93,ROWS($1:65)),ROWS($1:65),) -> 0 | J65: =IF(COUNTIF(J$74:J$93,ROWS($1:65)),ROWS($1:65),) -> 0 | K65: =IF(COUNTIF(K$74:K$93,ROWS($1:65)),ROWS($1:65),) -> 65 | ... ND65: =IF(COUNTIF(ND$74:ND$93,ROWS($1:65)),ROWS($1:65),) -> 0
B66: 66 | D66: =IF(COUNTIF(D$74:D$93,ROWS($1:66)),ROWS($1:66),) -> 0 | E66: =IF(COUNTIF(E$74:E$93,ROWS($1:66)),ROWS($1:66),) -> 66 | F66: =IF(COUNTIF(F$74:F$93,ROWS($1:66)),ROWS($1:66),) -> 66 | G66: =IF(COUNTIF(G$74:G$93,ROWS($1:66)),ROWS($1:66),) -> 0 | H66: =IF(COUNTIF(H$74:H$93,ROWS($1:66)),ROWS($1:66),) -> 0 | I66: =IF(COUNTIF(I$74:I$93,ROWS($1:66)),ROWS($1:66),) -> 0 | J66: =IF(COUNTIF(J$74:J$93,ROWS($1:66)),ROWS($1:66),) -> 0 | K66: =IF(COUNTIF(K$74:K$93,ROWS($1:66)),ROWS($1:66),) -> 66 | ... ND66: =IF(COUNTIF(ND$74:ND$93,ROWS($1:66)),ROWS($1:66),) -> 0
B67: 67 | D67: =IF(COUNTIF(D$74:D$93,ROWS($1:67)),ROWS($1:67),) -> 0 | E67: =IF(COUNTIF(E$74:E$93,ROWS($1:67)),ROWS($1:67),) -> 0 | F67: =IF(COUNTIF(F$74:F$93,ROWS($1:67)),ROWS($1:67),) -> 0 | G67: =IF(COUNTIF(G$74:G$93,ROWS($1:67)),ROWS($1:67),) -> 0 | H67: =IF(COUNTIF(H$74:H$93,ROWS($1:67)),ROWS($1:67),) -> 0 | I67: =IF(COUNTIF(I$74:I$93,ROWS($1:67)),ROWS($1:67),) -> 0 | J67: =IF(COUNTIF(J$74:J$93,ROWS($1:67)),ROWS($1:67),) -> 67 | K67: =IF(COUNTIF(K$74:K$93,ROWS($1:67)),ROWS($1:67),) -> 67 | ... ND67: =IF(COUNTIF(ND$74:ND$93,ROWS($1:67)),ROWS($1:67),) -> 0
B68: 68 | D68: =IF(COUNTIF(D$74:D$93,ROWS($1:68)),ROWS($1:68),) -> 68 | E68: =IF(COUNTIF(E$74:E$93,ROWS($1:68)),ROWS($1:68),) -> 68 | F68: =IF(COUNTIF(F$74:F$93,ROWS($1:68)),ROWS($1:68),) -> 0 | G68: =IF(COUNTIF(G$74:G$93,ROWS($1:68)),ROWS($1:68),) -> 0 | H68: =IF(COUNTIF(H$74:H$93,ROWS($1:68)),ROWS($1:68),) -> 0 | I68: =IF(COUNTIF(I$74:I$93,ROWS($1:68)),ROWS($1:68),) -> 0 | J68: =IF(COUNTIF(J$74:J$93,ROWS($1:68)),ROWS($1:68),) -> 0 | K68: =IF(COUNTIF(K$74:K$93,ROWS($1:68)),ROWS($1:68),) -> 0 | ... ND68: =IF(COUNTIF(ND$74:ND$93,ROWS($1:68)),ROWS($1:68),) -> 0
B69: 69 | D69: =IF(COUNTIF(D$74:D$93,ROWS($1:69)),ROWS($1:69),) -> 69 | E69: =IF(COUNTIF(E$74:E$93,ROWS($1:69)),ROWS($1:69),) -> 0 | F69: =IF(COUNTIF(F$74:F$93,ROWS($1:69)),ROWS($1:69),) -> 0 | G69: =IF(COUNTIF(G$74:G$93,ROWS($1:69)),ROWS($1:69),) -> 0 | H69: =IF(COUNTIF(H$74:H$93,ROWS($1:69)),ROWS($1:69),) -> 69 | I69: =IF(COUNTIF(I$74:I$93,ROWS($1:69)),ROWS($1:69),) -> 69 | J69: =IF(COUNTIF(J$74:J$93,ROWS($1:69)),ROWS($1:69),) -> 0 | K69: =IF(COUNTIF(K$74:K$93,ROWS($1:69)),ROWS($1:69),) -> 0 | ... ND69: =IF(COUNTIF(ND$74:ND$93,ROWS($1:69)),ROWS($1:69),) -> 0
B70: 70 | D70: =IF(COUNTIF(D$74:D$93,ROWS($1:70)),ROWS($1:70),) -> 0 | E70: =IF(COUNTIF(E$74:E$93,ROWS($1:70)),ROWS($1:70),) -> 70 | F70: =IF(COUNTIF(F$74:F$93,ROWS($1:70)),ROWS($1:70),) -> 0 | G70: =IF(COUNTIF(G$74:G$93,ROWS($1:70)),ROWS($1:70),) -> 70 | H70: =IF(COUNTIF(H$74:H$93,ROWS($1:70)),ROWS($1:70),) -> 0 | I70: =IF(COUNTIF(I$74:I$93,ROWS($1:70)),ROWS($1:70),) -> 0 | J70: =IF(COUNTIF(J$74:J$93,ROWS($1:70)),ROWS($1:70),) -> 70 | K70: =IF(COUNTIF(K$74:K$93,ROWS($1:70)),ROWS($1:70),) -> 0 | ... ND70: =IF(COUNTIF(ND$74:ND$93,ROWS($1:70)),ROWS($1:70),) -> 0
B71: Jour: | D71: 1 | E71: 2 | F71: 3 | G71: 4 | H71: 5 | I71: 6 | J71: 7 | K71: 8 | L71: 9 | M71: 10 | N71: 11 | O71: 12 | P71: 13 | Q71: 14 | R71: 15 | S71: 16 | T71: 17 | U71: 18 | V71: 19 | W71: 20 | X71: 21 | Y71: 22 | Z71: 23 | AA71: 24 | AB71: 25 | AC71: 26 | AD71: 27 | AE71: 28 | AF71: 29 | AG71: 30 | AH71: 31 | AI71: 32 | AJ71: 33 | AK71: 34 | AL71: 35 | AM71: 36 | AN71: 37 | AO71: 38 | AP71: 39 | AQ71: 40 | AR71: 41 | AS71: 42 | AT71: 43 | AU71: 44 | AV71: 45 | AW71: 46 | AX71: 47 | AY71: 48 | AZ71: 49 | BA71: 50 | BB71: 51 | BC71: 52 | BD71: 53 | BE71: 54 | BF71: 55 | BG71: 56 | BH71: 57 | BI71: 58 | BJ71: 59 | BK71: 60 | BL71: 61 | BM71: 62 | BN71: 63 | BO71: 64 | BP71: 65 | BQ71: 66 | BR71: 67 | BS71: 68 | BT71: 69 | BU71: 70 | BV71: 71 | BW71: 72 | BX71: 73 | BY71: 74 | BZ71: 75 | CA71: 76 | CB71: 77 | CC71: 78 | CD71: 79 | CE71: 80 | CF71: 81 | CG71: 82 | CH71: 83 | CI71: 84 | CJ71: 85 | CK71: 86 | CL71: 87 | CM71: 88 | CN71: 89 | CO71: 90 | CP71: 91 | CQ71: 92 | CR71: 93 | CS71: 94 | CT71: 95 | CU71: 96 | CV71: 97 | CW71: 98 | CX71: 99 | CY71: 100 | CZ71: 101 | DA71: 102 | DB71: 103 | DC71: 104 | DD71: 105 | DE71: 106 | DF71: 107 | DG71: 108 | DH71: 109 | DI71: 110 | DJ71: 111 | DK71: 112 | DL71: 113 | DM71: 114 | DN71: 115 | DO71: 116 | DP71: 117 | DQ71: 118 | DR71: 119 | DS71: 120 | DT71: 121 | DU71: 122 | DV71: 123 | DW71: 124 | DX71: 125 | DY71: 126 | DZ71: 127 | EA71: 128 | EB71: 129 | EC71: 130 | ED71: 131 | EE71: 132 | EF71: 133 | EG71: 134 | EH71: 135 | EI71: 136 | EJ71: 137 | EK71: 138 | EL71: 139 | EM71: 140 | EN71: 141 | EO71: 142 | EP71: 143 | EQ71: 144 | ER71: 145 | ES71: 146 | ET71: 147 | EU71: 148 | EV71: 149 | EW71: 150 | EX71: 151 | EY71: 152 | EZ71: 153 | FA71: 154 | FB71: 155 | FC71: 156 | FD71: 157 | FE71: 158 | FF71: 159 | FG71: 160 | FH71: 161 | FI71: 162 | FJ71: 163 | FK71: 164 | FL71: 165 | FM71: 166 | FN71: 167 | FO71: 168 | FP71: 169 | FQ71: 170 | FR71: 171 | FS71: 172 | FT71: 173 | FU71: 174 | FV71: 175 | FW71: 176 | FX71: 177 | FY71: 178 | FZ71: 179 | GA71: 180 | GB71: 181 | GC71: 182 | GD71: 183 | GE71: 184 | GF71: 185 | GG71: 186 | GH71: 187 | GI71: 188 | GJ71: 189 | GK71: 190 | GL71: 191 | GM71: 192 | GN71: 193 | GO71: 194 | GP71: 195 | GQ71: 196 | GR71: 197 | GS71: 198 | GT71: 199 | GU71: 200 | GV71: 201 | GW71: 202 | GX71: 203 | GY71: 204 | GZ71: 205 | HA71: 206 | HB71: 207 | HC71: 208 | HD71: 209 | HE71: 210 | HF71: 211 | HG71: 212 | HH71: 213 | HI71: 214 | HJ71: 215 | HK71: 216 | HL71: 217 | HM71: 218 | HN71: 219 | HO71: 220 | HP71: 221 | HQ71: 222 | HR71: 223 | HS71: 224 | HT71: 225 | HU71: 226 | HV71: 227 | HW71: 228 | HX71: 229 | HY71: 230 | HZ71: 231 | IA71: 232 | IB71: 233 | IC71: 234 | ID71: 235 | IE71: 236 | IF71: 237 | IG71: 238 | IH71: 239 | II71: 240 | IJ71: 241 | IK71: 242 | IL71: 243 | IM71: 244 | IN71: 245 | IO71: 246 | IP71: 247 | IQ71: 248 | IR71: 249 | IS71: 250 | IT71: 251 | IU71: 252 | IV71: 253 | IW71: 254 | IX71: 255 | IY71: 256 | IZ71: 257 | JA71: 258 | JB71: 259 | JC71: 260 | JD71: 261 | JE71: 262 | JF71: 263 | JG71: 264 | JH71: 265 | JI71: 266 | JJ71: 267 | JK71: 268 | JL71: 269 | JM71: 270 | JN71: 271 | JO71: 272 | JP71: 273 | JQ71: 274 | JR71: 275 | JS71: 276 | JT71: 277 | JU71: 278 | JV71: 279 | JW71: 280 | JX71: 281 | JY71: 282 | JZ71: 283 | KA71: 284 | KB71: 285 | KC71: 286 | KD71: 287 | KE71: 288 | KF71: 289 | KG71: 290 | KH71: 291 | KI71: 292 | KJ71: 293 | KK71: 294 | KL71: 295 | KM71: 296 | KN71: 297 | KO71: 298 | KP71: 299 | KQ71: 300 | KR71: 301 | KS71: 302 | KT71: 303 | KU71: 304 | KV71: 305 | KW71: 306 | KX71: 307 | KY71: 308 | KZ71: 309 | LA71: 310 | LB71: 311 | LC71: 312 | LD71: 313 | LE71: 314 | LF71: 315 | LG71: 316 | LH71: 317 | LI71: 318 | LJ71: 319 | LK71: 320 | LL71: 321 | LM71: 322 | LN71: 323 | LO71: 324 | LP71: 325 | LQ71: 326 | LR71: 327 | LS71: 328 | LT71: 329 | LU71: 330 | LV71: 331 | LW71: 332 | LX71: 333 | LY71: 334 | LZ71: 335 | MA71: 336 | MB71: 337 | MC71: 338 | MD71: 339 | ME71: 340 | MF71: 341 | MG71: 342 | MH71: 343 | MI71: 344 | MJ71: 345 | MK71: 346 | ML71: 347 | MM71: 348 | MN71: 349 | MO71: 350 | MP71: 351 | MQ71: 352 | MR71: 353 | MS71: 354 | MT71: 355 | MU71: 356 | MV71: 357 | MW71: 358 | MX71: 359 | MY71: 360 | MZ71: 361 | NA71: 362 | NB71: 363 | NC71: 364 | ND71: 365
D74: 1 | E74: 2 | F74: 3 | G74: 2 | H74: 1 | I74: 4 | J74: 6 | K74: 3 | L74: 1 | M74: 1 | N74: 3 | O74: 1 | P74: 1 | Q74: 3 | R74: 3 | S74: 3 | T74: 8 | U74: 5 | V74: 6 | W74: 1 | X74: 2 | Y74: 5 | Z74: 6 | AA74: 8 | AB74: 6 | AC74: 3 | AD74: 1 | AE74: 9 | AF74: 6 | AG74: 1 | AH74: 4 | AI74: 5 | AJ74: 2 | AK74: 5 | AL74: 4 | AM74: 1 | AN74: 3 | AO74: 3 | AP74: 1 | AQ74: 1 | AR74: 6 | AS74: 1 | AT74: 6 | AU74: 1 | AV74: 8 | AW74: 1
D75: 8 | E75: 3 | F75: 9 | G75: 14 | H75: 3 | I75: 11 | J75: 7 | K75: 5 | L75: 12 | M75: 6 | N75: 4 | O75: 2 | P75: 5 | Q75: 5 | R75: 4 | S75: 5 | T75: 9 | U75: 7 | V75: 14 | W75: 6 | X75: 3 | Y75: 9 | Z75: 8 | AA75: 11 | AB75: 8 | AC75: 5 | AD75: 2 | AE75: 20 | AF75: 12 | AG75: 4 | AH75: 14 | AI75: 11 | AJ75: 5 | AK75: 9 | AL75: 5 | AM75: 3 | AN75: 5 | AO75: 4 | AP75: 2 | AQ75: 9 | AR75: 8 | AS75: 3 | AT75: 11 | AU75: 6 | AV75: 10 | AW75: 2
D76: 9 | E76: 10 | F76: 14 | G76: 18 | H76: 4 | I76: 12 | J76: 11 | K76: 7 | L76: 18 | M76: 9 | N76: 9 | O76: 8 | P76: 10 | Q76: 6 | R76: 11 | S76: 6 | T76: 14 | U76: 10 | V76: 17 | W76: 10 | X76: 10 | Y76: 12 | Z76: 9 | AA76: 14 | AB76: 12 | AC76: 7 | AD76: 5 | AE76: 22 | AF76: 21 | AG76: 6 | AH76: 16 | AI76: 27 | AJ76: 6 | AK76: 11 | AL76: 8 | AM76: 5 | AN76: 13 | AO76: 5 | AP76: 3 | AQ76: 15 | AR76: 15 | AS76: 7 | AT76: 12 | AU76: 8 | AV76: 11 | AW76: 14
D77: 11 | E77: 11 | F77: 15 | G77: 21 | H77: 5 | I77: 13 | J77: 12 | K77: 9 | L77: 21 | M77: 11 | N77: 10 | O77: 12 | P77: 15 | Q77: 7 | R77: 13 | S77: 9 | T77: 21 | U77: 12 | V77: 18 | W77: 16 | X77: 19 | Y77: 14 | Z77: 18 | AA77: 19 | AB77: 13 | AC77: 8 | AD77: 18 | AE77: 26 | AF77: 23 | AG77: 10 | AH77: 17 | AI77: 29 | AJ77: 10 | AK77: 18 | AL77: 10 | AM77: 6 | AN77: 14 | AO77: 15 | AP77: 12 | AQ77: 19 | AR77: 17 | AS77: 9 | AT77: 16 | AU77: 12 | AV77: 17 | AW77: 15
D78: 14 | E78: 14 | F78: 16 | G78: 24 | H78: 12 | I78: 15 | J78: 14 | K78: 10 | L78: 22 | M78: 12 | N78: 14 | O78: 15 | P78: 17 | Q78: 18 | R78: 14 | S78: 17 | T78: 23 | U78: 20 | V78: 19 | W78: 19 | X78: 21 | Y78: 18 | Z78: 19 | AA78: 25 | AB78: 15 | AC78: 9 | AD78: 20 | AE78: 28 | AF78: 24 | AG78: 14 | AH78: 18 | AI78: 30 | AJ78: 15 | AK78: 19 | AL78: 12 | AM78: 12 | AN78: 19 | AO78: 18 | AP78: 16 | AQ78: 20 | AR78: 20 | AS78: 10 | AT78: 18 | AU78: 13 | AV78: 19 | AW78: 18
D79: 20 | E79: 18 | F79: 18 | G79: 25 | H79: 13 | I79: 16 | J79: 17 | K79: 15 | L79: 26 | M79: 17 | N79: 18 | O79: 20 | P79: 24 | Q79: 20 | R79: 15 | S79: 24 | T79: 28 | U79: 22 | V79: 22 | W79: 20 | X79: 22 | Y79: 26 | Z79: 20 | AA79: 27 | AB79: 18 | AC79: 11 | AD79: 22 | AE79: 30 | AF79: 28 | AG79: 16 | AH79: 20 | AI79: 31 | AJ79: 24 | AK79: 24 | AL79: 15 | AM79: 13 | AN79: 26 | AO79: 19 | AP79: 26 | AQ79: 23 | AR79: 25 | AS79: 17 | AT79: 22 | AU79: 19 | AV79: 22 | AW79: 35
D80: 22 | E80: 19 | F80: 28 | G80: 27 | H80: 15 | I80: 17 | J80: 19 | K80: 16 | L80: 28 | M80: 22 | N80: 21 | O80: 25 | P80: 26 | Q80: 23 | R80: 21 | S80: 28 | T80: 34 | U80: 25 | V80: 29 | W80: 21 | X80: 25 | Y80: 27 | Z80: 23 | AA80: 28 | AB80: 21 | AC80: 19 | AD80: 26 | AE80: 34 | AF80: 36 | AG80: 26 | AH80: 21 | AI80: 34 | AJ80: 26 | AK80: 25 | AL80: 17 | AM80: 14 | AN80: 30 | AO80: 20 | AP80: 30 | AQ80: 24 | AR80: 28 | AS80: 19 | AT80: 25 | AU80: 22 | AV80: 27 | AW80: 38
D81: 25 | E81: 26 | F81: 29 | G81: 28 | H81: 20 | I81: 18 | J81: 20 | K81: 22 | L81: 40 | M81: 27 | N81: 22 | O81: 34 | P81: 27 | Q81: 31 | R81: 23 | S81: 30 | T81: 40 | U81: 27 | V81: 35 | W81: 23 | X81: 26 | Y81: 31 | Z81: 25 | AA81: 29 | AB81: 23 | AC81: 21 | AD81: 27 | AE81: 38 | AF81: 37 | AG81: 27 | AH81: 23 | AI81: 38 | AJ81: 2 | AK81: 30 | AL81: 22 | AM81: 19 | AN81: 33 | AO81: 21 | AP81: 33 | AQ81: 26 | AR81: 32 | AS81: 23 | AT81: 28 | AU81: 25 | AV81: 29 | AW81: 39
D82: 39 | E82: 30 | F82: 32 | G82: 31 | H82: 22 | I82: 19 | J82: 21 | K82: 29 | L82: 42 | M82: 33 | N82: 25 | O82: 36 | P82: 29 | Q82: 41 | R82: 30 | S82: 31 | T82: 44 | U82: 28 | V82: 39 | W82: 24 | X82: 27 | Y82: 32 | Z82: 28 | AA82: 32 | AB82: 26 | AC82: 26 | AD82: 29 | AE82: 41 | AF82: 38 | AG82: 28 | AH82: 24 | AI82: 39 | AJ82: 30 | AK82: 34 | AL82: 25 | AM82: 20 | AN82: 34 | AO82: 22 | AP82: 38 | AQ82: 29 | AR82: 35 | AS82: 25 | AT82: 30 | AU82: 26 | AV82: 38 | AW82: 40
D83: 41 | E83: 34 | F83: 33 | G83: 35 | H83: 32 | I83: 22 | J83: 22 | K83: 39 | L83: 43 | M83: 37 | N83: 32 | O83: 37 | P83: 30 | Q83: 42 | R83: 32 | S83: 33 | T83: 46 | U83: 30 | V83: 45 | W83: 29 | X83: 30 | Y83: 33 | Z83: 29 | AA83: 37 | AB83: 35 | AC83: 31 | AD83: 30 | AE83: 49 | AF83: 39 | AG83: 31 | AH83: 26 | AI83: 40 | AJ83: 36 | AK83: 38 | AL83: 28 | AM83: 35 | AN83: 35 | AO83: 24 | AP83: 39 | AQ83: 30 | AR83: 37 | AS83: 27 | AT83: 31 | AU83: 28 | AV83: 40 | AW83: 41
D84: 45 | E84: 37 | F84: 35 | G84: 39 | H84: 34 | I84: 30 | J84: 26 | K84: 42 | L84: 49 | M84: 41 | N84: 37 | O84: 39 | P84: 35 | Q84: 44 | R84: 36 | S84: 36 | T84: 47 | U84: 33 | V84: 46 | W84: 37 | X84: 35 | Y84: 35 | Z84: 30 | AA84: 38 | AB84: 38 | AC84: 34 | AD84: 38 | AE84: 51 | AF84: 42 | AG84: 35 | AH84: 29 | AI84: 43 | AJ84: 42 | AK84: 39 | AL84: 29 | AM84: 40 | AN84: 36 | AO84: 27 | AP84: 40 | AQ84: 31 | AR84: 38 | AS84: 28 | AT84: 36 | AU84: 33 | AV84: 44 | AW84: 44
D85: 48 | E85: 41 | F85: 37 | G85: 41 | H85: 43 | I85: 33 | J85: 39 | K85: 43 | L85: 56 | M85: 44 | N85: 41 | O85: 55 | P85: 36 | Q85: 55 | R85: 47 | S85: 38 | T85: 49 | U85: 38 | V85: 48 | W85: 38 | X85: 36 | Y85: 37 | Z85: 34 | AA85: 45 | AB85: 43 | AC85: 35 | AD85: 39 | AE85: 52 | AF85: 44 | AG85: 41 | AH85: 38 | AI85: 44 | AJ85: 48 | AK85: 44 | AL85: 30 | AM85: 41 | AN85: 40 | AO85: 33 | AP85: 43 | AQ85: 33 | AR85: 39 | AS85: 29 | AT85: 43 | AU85: 35 | AV85: 46 | AW85: 51
... D93: 69 | E93: 70 | F93: 66 | G93: 70 | H93: 69 | I93: 69 | J93: 70 | K93: 67 | L93: 70 | M93: 60 | N93: 64 | O93: 69 | P93: 70 | Q93: 70 | R93: 70 | S93: 70 | T93: 69 | U93: 68 | V93: 70 | W93: 69 | X93: 70 | Y93: 68 | Z93: 65 | AA93: 68 | AB93: 69 | AC93: 68 | AD93: 66 | AE93: 67 | AF93: 65 | AG93: 70 | AH93: 70 | AI93: 67 | AJ93: 68 | AK93: 70 | AL93: 70 | AM93: 69 | AN93: 70 | AO93: 68 | AP93: 67 | AQ93: 69 | AR93: 67 | AS93: 67 | AT93: 70 | AU93: 67 | AV93: 69 | AW93: 70
D94: 43100 | E94: =D94-1 -> 43099 | F94: =E94-1 -> 43098 | G94: =F94-1 -> 43097 | H94: =G94-1 -> 43096 | I94: =H94-1 -> 43095 | J94: =I94-1 -> 43094 | K94: =J94-1 -> 43093 | L94: =K94-1 -> 43092 | ... ND94: =NC94-1 -> 42736
D95: dimanche | E95: samedi | F95: vendredi | G95: jeudi | H95: mercredi | I95: mardi | J95: lundi | K95: dimanche | L95: samedi | M95: vendredi | N95: jeudi | O95: mercredi | P95: mardi | Q95: lundi | R95: dimanche | S95: samedi | T95: vendredi | U95: jeudi | V95: mercredi | W95: mardi | X95: lundi | Y95: dimanche | Z95: samedi | AA95: vendredi | AB95: jeudi | AC95: mercredi | AD95: mardi | AE95: lundi | AF95: dimanche | AG95: samedi | AH95: vendredi | AI95: jeudi | AJ95: mercredi | AK95: mardi | AL95: lundi | AM95: dimanche | AN95: samedi | AO95: vendredi | AP95: jeudi | AQ95: mercredi | AR95: mardi | AS95: lundi | AT95: dimanche | AU95: samedi | AV95: vendredi | AW95: jeudi | AX95: mercredi | AY95: mardi | AZ95: lundi | BA95: dimanche | BB95: samedi | BC95: vendredi | BD95: jeudi | BE95: mercredi | BF95: mardi | BG95: lundi | BH95: dimanche | BI95: samedi | BJ95: vendredi | BK95: jeudi | BL95: mercredi | BM95: mardi | BN95: lundi | BO95: dimanche | BP95: samedi | BQ95: vendredi | BR95: jeudi | BS95: mercredi | BT95: mardi | BU95: lundi | BV95: dimanche | BW95: samedi | BX95: vendredi | BY95: jeudi | BZ95: mercredi | CA95: mardi | CB95: lundi | CC95: dimanche | CD95: samedi | CE95: vendredi | CF95: jeudi | CG95: mercredi | CH95: mardi | CI95: lundi | CJ95: dimanche | CK95: samedi | CL95: vendredi | CM95: jeudi | CN95: mercredi | CO95: mardi | CP95: lundi | CQ95: dimanche | CR95: samedi | CS95: vendredi | CT95: jeudi | CU95: mercredi | CV95: mardi | CW95: lundi | CX95: dimanche | CY95: samedi | CZ95: vendredi | DA95: jeudi | DB95: mercredi | DC95: mardi | DD95: lundi | DE95: dimanche | DF95: samedi | DG95: vendredi | DH95: jeudi | DI95: mercredi | DJ95: mardi | DK95: lundi | DL95: dimanche | DM95: samedi | DN95: vendredi | DO95: jeudi | DP95: mercredi | DQ95: mardi | DR95: lundi | DS95: dimanche | DT95: samedi | DU95: vendredi | DV95: jeudi | DW95: mercredi | DX95: mardi | DY95: lundi | DZ95: dimanche | EA95: samedi | EB95: vendredi | EC95: jeudi | ED95: mercredi | EE95: mardi | EF95: lundi | EG95: dimanche | EH95: samedi | EI95: vendredi | EJ95: jeudi | EK95: mercredi | EL95: mardi | EM95: lundi | EN95: dimanche | EO95: samedi | EP95: vendredi | EQ95: jeudi | ER95: mercredi | ES95: mardi | ET95: lundi | EU95: dimanche | EV95: samedi | EW95: vendredi | EX95: jeudi | EY95: mercredi | EZ95: mardi | FA95: lundi | FB95: dimanche | FC95: samedi | FD95: vendredi | FE95: jeudi | FF95: mercredi | FG95: mardi | FH95: lundi | FI95: dimanche | FJ95: samedi | FK95: vendredi | FL95: jeudi | FM95: mercredi | FN95: mardi | FO95: lundi | FP95: dimanche | FQ95: samedi | FR95: vendredi | FS95: jeudi | FT95: mercredi | FU95: mardi | FV95: lundi | FW95: dimanche | FX95: samedi | FY95: vendredi | FZ95: jeudi | GA95: mercredi | GB95: mardi | GC95: lundi | GD95: dimanche | GE95: samedi | GF95: vendredi | GG95: jeudi | GH95: mercredi | GI95: mardi | GJ95: lundi | GK95: dimanche | GL95: samedi | GM95: vendredi | GN95: jeudi | GO95: mercredi | GP95: mardi | GQ95: lundi | GR95: dimanche | GS95: samedi | GT95: vendredi | GU95: jeudi | GV95: mercredi | GW95: mardi | GX95: lundi | GY95: dimanche | GZ95: samedi | HA95: vendredi | HB95: jeudi | HC95: mercredi | HD95: mardi | HE95: lundi | HF95: dimanche | HG95: samedi | HH95: vendredi | HI95: jeudi | HJ95: mercredi | HK95: mardi | HL95: lundi | HM95: dimanche | HN95: samedi | HO95: vendredi | HP95: jeudi | HQ95: mercredi | HR95: mardi | HS95: lundi | HT95: dimanche | HU95: samedi | HV95: vendredi | HW95: jeudi | HX95: mercredi | HY95: mardi | HZ95: lundi | IA95: dimanche | IB95: samedi | IC95: vendredi | ID95: jeudi | IE95: mercredi | IF95: mardi | IG95: lundi | IH95: dimanche | II95: samedi | IJ95: vendredi | IK95: jeudi | IL95: mercredi | IM95: mardi | IN95: lundi | IO95: dimanche | IP95: samedi | IQ95: vendredi | IR95: jeudi | IS95: mercredi | IT95: mardi | IU95: lundi | IV95: dimanche | IW95: samedi | IX95: vendredi | IY95: jeudi | IZ95: mercredi | JA95: mardi | JB95: lundi | JC95: dimanche | JD95: samedi | JE95: vendredi | JF95: jeudi | JG95: mercredi | JH95: mardi | JI95: lundi | JJ95: dimanche | JK95: samedi | JL95: vendredi | JM95: jeudi | JN95: mercredi | JO95: mardi | JP95: lundi | JQ95: dimanche | JR95: samedi | JS95: vendredi | JT95: jeudi | JU95: mercredi | JV95: mardi | JW95: lundi | JX95: dimanche | JY95: samedi | JZ95: vendredi | KA95: jeudi | KB95: mercredi | KC95: mardi | KD95: lundi | KE95: dimanche | KF95: samedi | KG95: vendredi | KH95: jeudi | KI95: mercredi | KJ95: mardi | KK95: lundi | KL95: dimanche | KM95: samedi | KN95: vendredi | KO95: jeudi | KP95: mercredi | KQ95: mardi | KR95: lundi | KS95: dimanche | KT95: samedi | KU95: vendredi | KV95: jeudi | KW95: mercredi | KX95: mardi | KY95: lundi | KZ95: dimanche | LA95: samedi | LB95: vendredi | LC95: jeudi | LD95: mercredi | LE95: mardi | LF95: lundi | LG95: dimanche | LH95: samedi | LI95: vendredi | LJ95: jeudi | LK95: mercredi | LL95: mardi | LM95: lundi | LN95: dimanche | LO95: samedi | LP95: vendredi | LQ95: jeudi | LR95: mercredi | LS95: mardi | LT95: lundi | LU95: dimanche | LV95: samedi | LW95: vendredi | LX95: jeudi | LY95: mercredi | LZ95: mardi | MA95: lundi | MB95: dimanche | MC95: samedi | MD95: vendredi | ME95: jeudi | MF95: mercredi | MG95: mardi | MH95: lundi | MI95: dimanche | MJ95: samedi | MK95: vendredi | ML95: jeudi | MM95: mercredi | MN95: mardi | MO95: lundi | MP95: dimanche | MQ95: samedi | MR95: vendredi | MS95: jeudi | MT95: mercredi | MU95: mardi | MV95: lundi | MW95: dimanche | MX95: samedi | MY95: vendredi | MZ95: jeudi | NA95: mercredi | NB95: mardi | NC95: lundi | ND95: dimanche
C97: 1 | D97: =IFERROR(IF(LOOKUP($C97,D$74:D$93)=$C97,D$94,""),"") -> 43100 | E97: =IFERROR(IF(LOOKUP($C97,E$74:E$93)=$C97,E$94,""),"") | F97: =IFERROR(IF(LOOKUP($C97,F$74:F$93)=$C97,F$94,""),"") | G97: =IFERROR(IF(LOOKUP($C97,G$74:G$93)=$C97,G$94,""),"") | H97: =IFERROR(IF(LOOKUP($C97,H$74:H$93)=$C97,H$94,""),"") -> 43096 | I97: =IFERROR(IF(LOOKUP($C97,I$74:I$93)=$C97,I$94,""),"") | J97: =IFERROR(IF(LOOKUP($C97,J$74:J$93)=$C97,J$94,""),"") | K97: =IFERROR(IF(LOOKUP($C97,K$74:K$93)=$C97,K$94,""),"") | ... ND97: =IFERROR(IF(LOOKUP($C97,ND$74:ND$93)=$C97,ND$94,""),"")
C98: 2 | D98: =IFERROR(IF(LOOKUP($C98,D$74:D$93)=$C98,D$94,""),"") | E98: =IFERROR(IF(LOOKUP($C98,E$74:E$93)=$C98,E$94,""),"") -> 43099 | F98: =IFERROR(IF(LOOKUP($C98,F$74:F$93)=$C98,F$94,""),"") | G98: =IFERROR(IF(LOOKUP($C98,G$74:G$93)=$C98,G$94,""),"") -> 43097 | H98: =IFERROR(IF(LOOKUP($C98,H$74:H$93)=$C98,H$94,""),"") | I98: =IFERROR(IF(LOOKUP($C98,I$74:I$93)=$C98,I$94,""),"") | J98: =IFERROR(IF(LOOKUP($C98,J$74:J$93)=$C98,J$94,""),"") | K98: =IFERROR(IF(LOOKUP($C98,K$74:K$93)=$C98,K$94,""),"") | ... ND98: =IFERROR(IF(LOOKUP($C98,ND$74:ND$93)=$C98,ND$94,""),"")
C99: 3 | D99: =IFERROR(IF(LOOKUP($C99,D$74:D$93)=$C99,D$94,""),"") | E99: =IFERROR(IF(LOOKUP($C99,E$74:E$93)=$C99,E$94,""),"") -> 43099 | F99: =IFERROR(IF(LOOKUP($C99,F$74:F$93)=$C99,F$94,""),"") -> 43098 | G99: =IFERROR(IF(LOOKUP($C99,G$74:G$93)=$C99,G$94,""),"") | H99: =IFERROR(IF(LOOKUP($C99,H$74:H$93)=$C99,H$94,""),"") -> 43096 | I99: =IFERROR(IF(LOOKUP($C99,I$74:I$93)=$C99,I$94,""),"") | J99: =IFERROR(IF(LOOKUP($C99,J$74:J$93)=$C99,J$94,""),"") | K99: =IFERROR(IF(LOOKUP($C99,K$74:K$93)=$C99,K$94,""),"") -> 43093 | ... ND99: =IFERROR(IF(LOOKUP($C99,ND$74:ND$93)=$C99,ND$94,""),"")
C100: 4 | D100: =IFERROR(IF(LOOKUP($C100,D$74:D$93)=$C100,D$94,""),"") | E100: =IFERROR(IF(LOOKUP($C100,E$74:E$93)=$C100,E$94,""),"") | F100: =IFERROR(IF(LOOKUP($C100,F$74:F$93)=$C100,F$94,""),"") | G100: =IFERROR(IF(LOOKUP($C100,G$74:G$93)=$C100,G$94,""),"") | H100: =IFERROR(IF(LOOKUP($C100,H$74:H$93)=$C100,H$94,""),"") -> 43096 | I100: =IFERROR(IF(LOOKUP($C100,I$74:I$93)=$C100,I$94,""),"") -> 43095 | J100: =IFERROR(IF(LOOKUP($C100,J$74:J$93)=$C100,J$94,""),"") | K100: =IFERROR(IF(LOOKUP($C100,K$74:K$93)=$C100,K$94,""),"") | ... ND100: =IFERROR(IF(LOOKUP($C100,ND$74:ND$93)=$C100,ND$94,""),"")
C101: 5 | D101: =IFERROR(IF(LOOKUP($C101,D$74:D$93)=$C101,D$94,""),"") | E101: =IFERROR(IF(LOOKUP($C101,E$74:E$93)=$C101,E$94,""),"") | F101: =IFERROR(IF(LOOKUP($C101,F$74:F$93)=$C101,F$94,""),"") | G101: =IFERROR(IF(LOOKUP($C101,G$74:G$93)=$C101,G$94,""),"") | H101: =IFERROR(IF(LOOKUP($C101,H$74:H$93)=$C101,H$94,""),"") -> 43096 | I101: =IFERROR(IF(LOOKUP($C101,I$74:I$93)=$C101,I$94,""),"") | J101: =IFERROR(IF(LOOKUP($C101,J$74:J$93)=$C101,J$94,""),"") | K101: =IFERROR(IF(LOOKUP($C101,K$74:K$93)=$C101,K$94,""),"") -> 43093 | ... ND101: =IFERROR(IF(LOOKUP($C101,ND$74:ND$93)=$C101,ND$94,""),"")
C102: 6 | D102: =IFERROR(IF(LOOKUP($C102,D$74:D$93)=$C102,D$94,""),"") | E102: =IFERROR(IF(LOOKUP($C102,E$74:E$93)=$C102,E$94,""),"") | F102: =IFERROR(IF(LOOKUP($C102,F$74:F$93)=$C102,F$94,""),"") | G102: =IFERROR(IF(LOOKUP($C102,G$74:G$93)=$C102,G$94,""),"") | H102: =IFERROR(IF(LOOKUP($C102,H$74:H$93)=$C102,H$94,""),"") | I102: =IFERROR(IF(LOOKUP($C102,I$74:I$93)=$C102,I$94,""),"") | J102: =IFERROR(IF(LOOKUP($C102,J$74:J$93)=$C102,J$94,""),"") -> 43094 | K102: =IFERROR(IF(LOOKUP($C102,K$74:K$93)=$C102,K$94,""),"") | ... ND102: =IFERROR(IF(LOOKUP($C102,ND$74:ND$93)=$C102,ND$94,""),"")
C103: 7 | D103: =IFERROR(IF(LOOKUP($C103,D$74:D$93)=$C103,D$94,""),"") | E103: =IFERROR(IF(LOOKUP($C103,E$74:E$93)=$C103,E$94,""),"") | F103: =IFERROR(IF(LOOKUP($C103,F$74:F$93)=$C103,F$94,""),"") | G103: =IFERROR(IF(LOOKUP($C103,G$74:G$93)=$C103,G$94,""),"") | H103: =IFERROR(IF(LOOKUP($C103,H$74:H$93)=$C103,H$94,""),"") | I103: =IFERROR(IF(LOOKUP($C103,I$74:I$93)=$C103,I$94,""),"") | J103: =IFERROR(IF(LOOKUP($C103,J$74:J$93)=$C103,J$94,""),"") -> 43094 | K103: =IFERROR(IF(LOOKUP($C103,K$74:K$93)=$C103,K$94,""),"") -> 43093 | ... ND103: =IFERROR(IF(LOOKUP($C103,ND$74:ND$93)=$C103,ND$94,""),"")
C104: 8 | D104: =IFERROR(IF(LOOKUP($C104,D$74:D$93)=$C104,D$94,""),"") -> 43100 | E104: =IFERROR(IF(LOOKUP($C104,E$74:E$93)=$C104,E$94,""),"") | F104: =IFERROR(IF(LOOKUP($C104,F$74:F$93)=$C104,F$94,""),"") | G104: =IFERROR(IF(LOOKUP($C104,G$74:G$93)=$C104,G$94,""),"") | H104: =IFERROR(IF(LOOKUP($C104,H$74:H$93)=$C104,H$94,""),"") | I104: =IFERROR(IF(LOOKUP($C104,I$74:I$93)=$C104,I$94,""),"") | J104: =IFERROR(IF(LOOKUP($C104,J$74:J$93)=$C104,J$94,""),"") | K104: =IFERROR(IF(LOOKUP($C104,K$74:K$93)=$C104,K$94,""),"") | ... ND104: =IFERROR(IF(LOOKUP($C104,ND$74:ND$93)=$C104,ND$94,""),"")
C105: 9 | D105: =IFERROR(IF(LOOKUP($C105,D$74:D$93)=$C105,D$94,""),"") -> 43100 | E105: =IFERROR(IF(LOOKUP($C105,E$74:E$93)=$C105,E$94,""),"") | F105: =IFERROR(IF(LOOKUP($C105,F$74:F$93)=$C105,F$94,""),"") -> 43098 | G105: =IFERROR(IF(LOOKUP($C105,G$74:G$93)=$C105,G$94,""),"") | H105: =IFERROR(IF(LOOKUP($C105,H$74:H$93)=$C105,H$94,""),"") | I105: =IFERROR(IF(LOOKUP($C105,I$74:I$93)=$C105,I$94,""),"") | J105: =IFERROR(IF(LOOKUP($C105,J$74:J$93)=$C105,J$94,""),"") | K105: =IFERROR(IF(LOOKUP($C105,K$74:K$93)=$C105,K$94,""),"") -> 43093 | ... ND105: =IFERROR(IF(LOOKUP($C105,ND$74:ND$93)=$C105,ND$94,""),"")
C106: 10 | D106: =IFERROR(IF(LOOKUP($C106,D$74:D$93)=$C106,D$94,""),"") | E106: =IFERROR(IF(LOOKUP($C106,E$74:E$93)=$C106,E$94,""),"") -> 43099 | F106: =IFERROR(IF(LOOKUP($C106,F$74:F$93)=$C106,F$94,""),"") | G106: =IFERROR(IF(LOOKUP($C106,G$74:G$93)=$C106,G$94,""),"") | H106: =IFERROR(IF(LOOKUP($C106,H$74:H$93)=$C106,H$94,""),"") | I106: =IFERROR(IF(LOOKUP($C106,I$74:I$93)=$C106,I$94,""),"") | J106: =IFERROR(IF(LOOKUP($C106,J$74:J$93)=$C106,J$94,""),"") | K106: =IFERROR(IF(LOOKUP($C106,K$74:K$93)=$C106,K$94,""),"") -> 43093 | ... ND106: =IFERROR(IF(LOOKUP($C106,ND$74:ND$93)=$C106,ND$94,""),"")
C107: 11 | D107: =IFERROR(IF(LOOKUP($C107,D$74:D$93)=$C107,D$94,""),"") -> 43100 | E107: =IFERROR(IF(LOOKUP($C107,E$74:E$93)=$C107,E$94,""),"") -> 43099 | F107: =IFERROR(IF(LOOKUP($C107,F$74:F$93)=$C107,F$94,""),"") | G107: =IFERROR(IF(LOOKUP($C107,G$74:G$93)=$C107,G$94,""),"") | H107: =IFERROR(IF(LOOKUP($C107,H$74:H$93)=$C107,H$94,""),"") | I107: =IFERROR(IF(LOOKUP($C107,I$74:I$93)=$C107,I$94,""),"") -> 43095 | J107: =IFERROR(IF(LOOKUP($C107,J$74:J$93)=$C107,J$94,""),"") -> 43094 | K107: =IFERROR(IF(LOOKUP($C107,K$74:K$93)=$C107,K$94,""),"") | ... ND107: =IFERROR(IF(LOOKUP($C107,ND$74:ND$93)=$C107,ND$94,""),"")
C108: 12 | D108: =IFERROR(IF(LOOKUP($C108,D$74:D$93)=$C108,D$94,""),"") | E108: =IFERROR(IF(LOOKUP($C108,E$74:E$93)=$C108,E$94,""),"") | F108: =IFERROR(IF(LOOKUP($C108,F$74:F$93)=$C108,F$94,""),"") | G108: =IFERROR(IF(LOOKUP($C108,G$74:G$93)=$C108,G$94,""),"") | H108: =IFERROR(IF(LOOKUP($C108,H$74:H$93)=$C108,H$94,""),"") -> 43096 | I108: =IFERROR(IF(LOOKUP($C108,I$74:I$93)=$C108,I$94,""),"") -> 43095 | J108: =IFERROR(IF(LOOKUP($C108,J$74:J$93)=$C108,J$94,""),"") -> 43094 | K108: =IFERROR(IF(LOOKUP($C108,K$74:K$93)=$C108,K$94,""),"") | ... ND108: =IFERROR(IF(LOOKUP($C108,ND$74:ND$93)=$C108,ND$94,""),"")
... C166: 70 | D166: =IFERROR(IF(LOOKUP($C166,D$74:D$93)=$C166,D$94,""),"") | E166: =IFERROR(IF(LOOKUP($C166,E$74:E$93)=$C166,E$94,""),"") -> 43099 | F166: =IFERROR(IF(LOOKUP($C166,F$74:F$93)=$C166,F$94,""),"") | G166: =IFERROR(IF(LOOKUP($C166,G$74:G$93)=$C166,G$94,""),"") -> 43097 | H166: =IFERROR(IF(LOOKUP($C166,H$74:H$93)=$C166,H$94,""),"") | I166: =IFERROR(IF(LOOKUP($C166,I$74:I$93)=$C166,I$94,""),"") | J166: =IFERROR(IF(LOOKUP($C166,J$74:J$93)=$C166,J$94,""),"") -> 43094 | K166: =IFERROR(IF(LOOKUP($C166,K$74:K$93)=$C166,K$94,""),"") | ... ND166: =IFERROR(IF(LOOKUP($C166,ND$74:ND$93)=$C166,ND$94,""),"")
D167: =IF(LOOKUP(ROW()-96,D$74:D$93)=ROW()-96,D$94,"")
...

Sheet nb de fois
B1: Apparition après combien de jours !
B2: X fois | C2: 1 | D2: 2 | E2: 3 | F2: 4 | G2: 5 | H2: 6 | I2: 7 | J2: 8 | K2: 9 | L2: 10 | M2: 11 | N2: 12 | O2: 13 | P2: 14 | Q2: 15
A3: 1 | B3: =ROW()-2&" = "&COUNTIF(Banco!$D$74:$AI$93,ROW()-2)&" fois" -> 1 = 9 fois | C3: =Banco!AZ169 -> 3 | D3: =Banco!BA169 -> 1 | E3: =Banco!BB169 -> 1 | F3: =Banco!BC169 -> 2 | G3: =Banco!BD169 | H3: =Banco!BE169 | I3: =Banco!BF169 -> 2 | J3: =Banco!BG169 | ... Q3: =Banco!BN169
A4: 2 | B4: =ROW()-2&" = "&COUNTIF(Banco!$D$74:$AI$93,ROW()-2)&" fois" -> 2 = 5 fois | C4: =Banco!AZ170 -> 1 | D4: =Banco!BA170 -> 1 | E4: =Banco!BB170 | F4: =Banco!BC170 | G4: =Banco!BD170 | H4: =Banco!BE170 -> 1 | I4: =Banco!BF170 | J4: =Banco!BG170 -> 1 | ... Q4: =Banco!BN170
A5: 3 | B5: =ROW()-2&" = "&COUNTIF(Banco!$D$74:$AI$93,ROW()-2)&" fois" -> 3 = 10 fois | C5: =Banco!AZ171 -> 4 | D5: =Banco!BA171 -> 1 | E5: =Banco!BB171 -> 3 | F5: =Banco!BC171 | G5: =Banco!BD171 -> 2 | H5: =Banco!BE171 | I5: =Banco!BF171 | J5: =Banco!BG171 | ... Q5: =Banco!BN171
A6: 4 | B6: =ROW()-2&" = "&COUNTIF(Banco!$D$74:$AI$93,ROW()-2)&" fois" -> 4 = 6 fois | C6: =Banco!AZ172 -> 3 | D6: =Banco!BA172 | E6: =Banco!BB172 | F6: =Banco!BC172 -> 1 | G6: =Banco!BD172 -> 1 | H6: =Banco!BE172 | I6: =Banco!BF172 | J6: =Banco!BG172 | ... Q6: =Banco!BN172 -> 1
A7: 5 | B7: =ROW()-2&" = "&COUNTIF(Banco!$D$74:$AI$93,ROW()-2)&" fois" -> 5 = 10 fois | C7: =Banco!AZ173 -> 3 | D7: =Banco!BA173 -> 2 | E7: =Banco!BB173 -> 1 | F7: =Banco!BC173 -> 2 | G7: =Banco!BD173 -> 1 | H7: =Banco!BE173 | I7: =Banco!BF173 | J7: =Banco!BG173 | ... Q7: =Banco!BN173
A8: 6 | B8: =ROW()-2&" = "&COUNTIF(Banco!$D$74:$AI$93,ROW()-2)&" fois" -> 6 = 10 fois | C8: =Banco!AZ174 -> 3 | D8: =Banco!BA174 -> 2 | E8: =Banco!BB174 -> 3 | F8: =Banco!BC174 -> 2 | G8: =Banco!BD174 | H8: =Banco!BE174 | I8: =Banco!BF174 | J8: =Banco!BG174 | ... Q8: =Banco!BN174
A9: 7 | B9: =ROW()-2&" = "&COUNTIF(Banco!$D$74:$AI$93,ROW()-2)&" fois" -> 7 = 5 fois | C9: =Banco!AZ175 -> 2 | D9: =Banco!BA175 | E9: =Banco!BB175 | F9: =Banco!BC175 -> 1 | G9: =Banco!BD175 | H9: =Banco!BE175 -> 1 | I9: =Banco!BF175 | J9: =Banco!BG175 -> 1 | ... Q9: =Banco!BN175
A10: 8 | B10: =ROW()-2&" = "&COUNTIF(Banco!$D$74:$AI$93,ROW()-2)&" fois" -> 8 = 7 fois | C10: =Banco!AZ176 -> 4 | D10: =Banco!BA176 | E10: =Banco!BB176 | F10: =Banco!BC176 | G10: =Banco!BD176 -> 1 | H10: =Banco!BE176 -> 1 | I10: =Banco!BF176 | J10: =Banco!BG176 | ... Q10: =Banco!BN176
A11: 9 | B11: =ROW()-2&" = "&COUNTIF(Banco!$D$74:$AI$93,ROW()-2)&" fois" -> 9 = 11 fois | C11: =Banco!AZ177 -> 4 | D11: =Banco!BA177 -> 3 | E11: =Banco!BB177 -> 1 | F11: =Banco!BC177 | G11: =Banco!BD177 -> 3 | H11: =Banco!BE177 | I11: =Banco!BF177 | J11: =Banco!BG177 | ... Q11: =Banco!BN177
A12: 10 | B12: =ROW()-2&" = "&COUNTIF(Banco!$D$74:$AI$93,ROW()-2)&" fois" -> 10 = 8 fois | C12: =Banco!AZ178 -> 2 | D12: =Banco!BA178 -> 2 | E12: =Banco!BB178 -> 1 | F12: =Banco!BC178 | G12: =Banco!BD178 -> 1 | H12: =Banco!BE178 -> 1 | I12: =Banco!BF178 | J12: =Banco!BG178 | ... Q12: =Banco!BN178
A13: 11 | B13: =ROW()-2&" = "&COUNTIF(Banco!$D$74:$AI$93,ROW()-2)&" fois" -> 11 = 9 fois | C13: =Banco!AZ179 -> 3 | D13: =Banco!BA179 -> 1 | E13: =Banco!BB179 -> 1 | F13: =Banco!BC179 -> 1 | G13: =Banco!BD179 -> 1 | H13: =Banco!BE179 | I13: =Banco!BF179 | J13: =Banco!BG179 | ... Q13: =Banco!BN179
A14: 12 | B14: =ROW()-2&" = "&COUNTIF(Banco!$D$74:$AI$93,ROW()-2)&" fois" -> 12 = 10 fois | C14: =Banco!AZ180 -> 4 | D14: =Banco!BA180 -> 2 | E14: =Banco!BB180 -> 1 | F14: =Banco!BC180 -> 2 | G14: =Banco!BD180 | H14: =Banco!BE180 -> 1 | I14: =Banco!BF180 | J14: =Banco!BG180 | ... Q14: =Banco!BN180
... A72: 70 | B72: =ROW()-2&" = "&COUNTIF(Banco!$D$74:$AI$93,ROW()-2)&" fois" -> 70 = 12 fois | C72: =Banco!AZ238 -> 5 | D72: =Banco!BA238 -> 3 | E72: =Banco!BB238 -> 2 | F72: =Banco!BC238 -> 1 | G72: =Banco!BD238 | H72: =Banco!BE238 | I72: =Banco!BF238 | J72: =Banco!BG238 | ... Q72: =Banco!BN238
