Workbook

Sheet Banco
A1: Exemple: | B1: 1 | D1: =IF(COUNTIF(D$74:D$93,ROWS(1:$1)),ROWS(1:$1),) -> 1 | E1: =IF(COUNTIF(E$74:E$93,ROWS(1:$1)),ROWS(1:$1),) -> 0 | F1: =IF(COUNTIF(F$74:F$93,ROWS(1:$1)),ROWS(1:$1),) -> 0 | G1: =IF(COUNTIF(G$74:G$93,ROWS(1:$1)),ROWS(1:$1),) -> 0 | H1: =IF(COUNTIF(H$74:H$93,ROWS(1:$1)),ROWS(1:$1),) -> 1 | I1: =IF(COUNTIF(I$74:I$93,ROWS(1:$1)),ROWS(1:$1),) -> 0 | J1: =IF(COUNTIF(J$74:J$93,ROWS(1:$1)),ROWS(1:$1),) -> 0 | K1: =IF(COUNTIF(K$74:K$93,ROWS(1:$1)),ROWS(1:$1),) -> 0 | ... AH1: =IF(COUNTIF(AH$74:AH$93,ROWS(1:$1)),ROWS(1:$1),) -> 0 | AN1: =IF(COUNTIF(AN$74:AN$93,ROWS($1:1)),ROWS($1:1),) -> 0 | AO1: =IF(COUNTIF(AO$74:AO$93,ROWS($1:1)),ROWS($1:1),) -> 0 | AP1: =IF(COUNTIF(AP$74:AP$93,ROWS($1:1)),ROWS($1:1),) -> 1 | AQ1: =IF(COUNTIF(AQ$74:AQ$93,ROWS($1:1)),ROWS($1:1),) -> 1 | AR1: =IF(COUNTIF(AR$74:AR$93,ROWS($1:1)),ROWS($1:1),) -> 0 | AS1: =IF(COUNTIF(AS$74:AS$93,ROWS($1:1)),ROWS($1:1),) -> 1 | AT1: =IF(COUNTIF(AT$74:AT$93,ROWS($1:1)),ROWS($1:1),) -> 0 | AU1: =IF(COUNTIF(AU$74:AU$93,ROWS($1:1)),ROWS($1:1),) -> 1 | AV1: =IF(COUNTIF(AV$74:AV$93,ROWS($1:1)),ROWS($1:1),) -> 0 | AX1: =IF(COUNTIF(AX$74:AX$93,ROWS($1:1)),ROWS($1:1),) -> 0 | AY1: =IF(COUNTIF(AY$74:AY$93,ROWS($1:1)),ROWS($1:1),) -> 0 | AZ1: =IF(COUNTIF(AZ$74:AZ$93,ROWS($1:1)),ROWS($1:1),) -> 0 | BA1: =IF(COUNTIF(BA$74:BA$93,ROWS($1:1)),ROWS($1:1),) -> 0 | BB1: =IF(COUNTIF(BB$74:BB$93,ROWS($1:1)),ROWS($1:1),) -> 0 | BC1: =IF(COUNTIF(BC$74:BC$93,ROWS($1:1)),ROWS($1:1),) -> 0 | BD1: =IF(COUNTIF(BD$74:BD$93,ROWS($1:1)),ROWS($1:1),) -> 0 | BE1: =IF(COUNTIF(BE$74:BE$93,ROWS($1:1)),ROWS($1:1),) -> 0 | ... ND1: =IF(COUNTIF(ND$74:ND$93,ROWS($1:1)),ROWS($1:1),) -> 0
B2: 2 | D2: =IF(COUNTIF(D$74:D$93,ROWS(1:$2)),ROWS(1:$2),) -> 0 | E2: =IF(COUNTIF(E$74:E$93,ROWS(1:$2)),ROWS(1:$2),) -> 2 | F2: =IF(COUNTIF(F$74:F$93,ROWS(1:$2)),ROWS(1:$2),) -> 0 | G2: =IF(COUNTIF(G$74:G$93,ROWS(1:$2)),ROWS(1:$2),) -> 2 | H2: =IF(COUNTIF(H$74:H$93,ROWS(1:$2)),ROWS(1:$2),) -> 0 | I2: =IF(COUNTIF(I$74:I$93,ROWS(1:$2)),ROWS(1:$2),) -> 0 | J2: =IF(COUNTIF(J$74:J$93,ROWS(1:$2)),ROWS(1:$2),) -> 0 | K2: =IF(COUNTIF(K$74:K$93,ROWS(1:$2)),ROWS(1:$2),) -> 0 | ... AG2: =IF(COUNTIF(AG$74:AG$93,ROWS(1:$2)),ROWS(1:$2),) -> 0 | AH2: =IF(COUNTIF(AH$74:AH$93,ROWS($1:2)),ROWS($1:2),) -> 0 | AI2: =IF(COUNTIF(AI$74:AI$93,ROWS($1:2)),ROWS($1:2),) -> 0 | AJ2: =IF(COUNTIF(AJ$74:AJ$93,ROWS($1:2)),ROWS($1:2),) -> 2 | AK2: =IF(COUNTIF(AK$74:AK$93,ROWS($1:2)),ROWS($1:2),) -> 0 | AL2: =IF(COUNTIF(AL$74:AL$93,ROWS($1:2)),ROWS($1:2),) -> 0 | AM2: =IF(COUNTIF(AM$74:AM$93,ROWS($1:2)),ROWS($1:2),) -> 0 | AN2: =IF(COUNTIF(AN$74:AN$93,ROWS($1:2)),ROWS($1:2),) -> 0 | AO2: =IF(COUNTIF(AO$74:AO$93,ROWS($1:2)),ROWS($1:2),) -> 0 | ... ND2: =IF(COUNTIF(ND$74:ND$93,ROWS($1:2)),ROWS($1:2),) -> 0
B3: 3 | D3: =IF(COUNTIF(D$74:D$93,ROWS(1:$3)),ROWS(1:$3),) -> 0 | E3: =IF(COUNTIF(E$74:E$93,ROWS(1:$3)),ROWS(1:$3),) -> 3 | F3: =IF(COUNTIF(F$74:F$93,ROWS(1:$3)),ROWS(1:$3),) -> 3 | G3: =IF(COUNTIF(G$74:G$93,ROWS(1:$3)),ROWS(1:$3),) -> 0 | H3: =IF(COUNTIF(H$74:H$93,ROWS(1:$3)),ROWS(1:$3),) -> 3 | I3: =IF(COUNTIF(I$74:I$93,ROWS(1:$3)),ROWS(1:$3),) -> 0 | J3: =IF(COUNTIF(J$74:J$93,ROWS(1:$3)),ROWS(1:$3),) -> 0 | K3: =IF(COUNTIF(K$74:K$93,ROWS(1:$3)),ROWS(1:$3),) -> 3 | ... AG3: =IF(COUNTIF(AG$74:AG$93,ROWS(1:$3)),ROWS(1:$3),) -> 0 | AH3: =IF(COUNTIF(AH$74:AH$93,ROWS($1:3)),ROWS($1:3),) -> 0 | AI3: =IF(COUNTIF(AI$74:AI$93,ROWS($1:3)),ROWS($1:3),) -> 0 | AJ3: =IF(COUNTIF(AJ$74:AJ$93,ROWS($1:3)),ROWS($1:3),) -> 0 | AK3: =IF(COUNTIF(AK$74:AK$93,ROWS($1:3)),ROWS($1:3),) -> 0 | AL3: =IF(COUNTIF(AL$74:AL$93,ROWS($1:3)),ROWS($1:3),) -> 0 | AM3: =IF(COUNTIF(AM$74:AM$93,ROWS($1:3)),ROWS($1:3),) -> 3 | AN3: =IF(COUNTIF(AN$74:AN$93,ROWS($1:3)),ROWS($1:3),) -> 3 | AO3: =IF(COUNTIF(AO$74:AO$93,ROWS($1:3)),ROWS($1:3),) -> 3 | ... ND3: =IF(COUNTIF(ND$74:ND$93,ROWS($1:3)),ROWS($1:3),) -> 0
B4: 4 | D4: =IF(COUNTIF(D$74:D$93,ROWS(1:$4)),ROWS(1:$4),) -> 0 | E4: =IF(COUNTIF(E$74:E$93,ROWS(1:$4)),ROWS(1:$4),) -> 0 | F4: =IF(COUNTIF(F$74:F$93,ROWS(1:$4)),ROWS(1:$4),) -> 0 | G4: =IF(COUNTIF(G$74:G$93,ROWS(1:$4)),ROWS(1:$4),) -> 0 | H4: =IF(COUNTIF(H$74:H$93,ROWS(1:$4)),ROWS(1:$4),) -> 4 | I4: =IF(COUNTIF(I$74:I$93,ROWS(1:$4)),ROWS(1:$4),) -> 4 | J4: =IF(COUNTIF(J$74:J$93,ROWS(1:$4)),ROWS(1:$4),) -> 0 | K4: =IF(COUNTIF(K$74:K$93,ROWS(1:$4)),ROWS(1:$4),) -> 0 | ... AG4: =IF(COUNTIF(AG$74:AG$93,ROWS(1:$4)),ROWS(1:$4),) -> 4 | AH4: =IF(COUNTIF(AH$74:AH$93,ROWS($1:4)),ROWS($1:4),) -> 4 | AI4: =IF(COUNTIF(AI$74:AI$93,ROWS($1:4)),ROWS($1:4),) -> 0 | AJ4: =IF(COUNTIF(AJ$74:AJ$93,ROWS($1:4)),ROWS($1:4),) -> 0 | AK4: =IF(COUNTIF(AK$74:AK$93,ROWS($1:4)),ROWS($1:4),) -> 0 | AL4: =IF(COUNTIF(AL$74:AL$93,ROWS($1:4)),ROWS($1:4),) -> 4 | AM4: =IF(COUNTIF(AM$74:AM$93,ROWS($1:4)),ROWS($1:4),) -> 0 | AN4: =IF(COUNTIF(AN$74:AN$93,ROWS($1:4)),ROWS($1:4),) -> 0 | AO4: =IF(COUNTIF(AO$74:AO$93,ROWS($1:4)),ROWS($1:4),) -> 4 | ... ND4: =IF(COUNTIF(ND$74:ND$93,ROWS($1:4)),ROWS($1:4),) -> 0
B5: 5 | D5: =IF(COUNTIF(D$74:D$93,ROWS(1:$5)),ROWS(1:$5),) -> 0 | E5: =IF(COUNTIF(E$74:E$93,ROWS(1:$5)),ROWS(1:$5),) -> 0 | F5: =IF(COUNTIF(F$74:F$93,ROWS(1:$5)),ROWS(1:$5),) -> 0 | G5: =IF(COUNTIF(G$74:G$93,ROWS(1:$5)),ROWS(1:$5),) -> 0 | H5: =IF(COUNTIF(H$74:H$93,ROWS(1:$5)),ROWS(1:$5),) -> 5 | I5: =IF(COUNTIF(I$74:I$93,ROWS(1:$5)),ROWS(1:$5),) -> 0 | J5: =IF(COUNTIF(J$74:J$93,ROWS(1:$5)),ROWS(1:$5),) -> 0 | K5: =IF(COUNTIF(K$74:K$93,ROWS(1:$5)),ROWS(1:$5),) -> 5 | ... AG5: =IF(COUNTIF(AG$74:AG$93,ROWS(1:$5)),ROWS(1:$5),) -> 0 | AH5: =IF(COUNTIF(AH$74:AH$93,ROWS($1:5)),ROWS($1:5),) -> 0 | AI5: =IF(COUNTIF(AI$74:AI$93,ROWS($1:5)),ROWS($1:5),) -> 5 | AJ5: =IF(COUNTIF(AJ$74:AJ$93,ROWS($1:5)),ROWS($1:5),) -> 5 | AK5: =IF(COUNTIF(AK$74:AK$93,ROWS($1:5)),ROWS($1:5),) -> 5 | AL5: =IF(COUNTIF(AL$74:AL$93,ROWS($1:5)),ROWS($1:5),) -> 5 | AM5: =IF(COUNTIF(AM$74:AM$93,ROWS($1:5)),ROWS($1:5),) -> 5 | AN5: =IF(COUNTIF(AN$74:AN$93,ROWS($1:5)),ROWS($1:5),) -> 5 | AO5: =IF(COUNTIF(AO$74:AO$93,ROWS($1:5)),ROWS($1:5),) -> 5 | ... ND5: =IF(COUNTIF(ND$74:ND$93,ROWS($1:5)),ROWS($1:5),) -> 0
B6: 6 | D6: =IF(COUNTIF(D$74:D$93,ROWS(1:$6)),ROWS(1:$6),) -> 0 | E6: =IF(COUNTIF(E$74:E$93,ROWS(1:$6)),ROWS(1:$6),) -> 0 | F6: =IF(COUNTIF(F$74:F$93,ROWS(1:$6)),ROWS(1:$6),) -> 0 | G6: =IF(COUNTIF(G$74:G$93,ROWS(1:$6)),ROWS(1:$6),) -> 0 | H6: =IF(COUNTIF(H$74:H$93,ROWS(1:$6)),ROWS(1:$6),) -> 0 | I6: =IF(COUNTIF(I$74:I$93,ROWS(1:$6)),ROWS(1:$6),) -> 0 | J6: =IF(COUNTIF(J$74:J$93,ROWS(1:$6)),ROWS(1:$6),) -> 6 | K6: =IF(COUNTIF(K$74:K$93,ROWS(1:$6)),ROWS(1:$6),) -> 0 | ... AG6: =IF(COUNTIF(AG$74:AG$93,ROWS(1:$6)),ROWS(1:$6),) -> 6 | AH6: =IF(COUNTIF(AH$74:AH$93,ROWS($1:6)),ROWS($1:6),) -> 0 | AI6: =IF(COUNTIF(AI$74:AI$93,ROWS($1:6)),ROWS($1:6),) -> 0 | AJ6: =IF(COUNTIF(AJ$74:AJ$93,ROWS($1:6)),ROWS($1:6),) -> 6 | AK6: =IF(COUNTIF(AK$74:AK$93,ROWS($1:6)),ROWS($1:6),) -> 0 | AL6: =IF(COUNTIF(AL$74:AL$93,ROWS($1:6)),ROWS($1:6),) -> 0 | AM6: =IF(COUNTIF(AM$74:AM$93,ROWS($1:6)),ROWS($1:6),) -> 6 | AN6: =IF(COUNTIF(AN$74:AN$93,ROWS($1:6)),ROWS($1:6),) -> 0 | AO6: =IF(COUNTIF(AO$74:AO$93,ROWS($1:6)),ROWS($1:6),) -> 0 | ... ND6: =IF(COUNTIF(ND$74:ND$93,ROWS($1:6)),ROWS($1:6),) -> 0
B7: 7 | D7: =IF(COUNTIF(D$74:D$93,ROWS(1:$7)),ROWS(1:$7),) -> 0 | E7: =IF(COUNTIF(E$74:E$93,ROWS(1:$7)),ROWS(1:$7),) -> 0 | F7: =IF(COUNTIF(F$74:F$93,ROWS(1:$7)),ROWS(1:$7),) -> 0 | G7: =IF(COUNTIF(G$74:G$93,ROWS(1:$7)),ROWS(1:$7),) -> 0 | H7: =IF(COUNTIF(H$74:H$93,ROWS(1:$7)),ROWS(1:$7),) -> 0 | I7: =IF(COUNTIF(I$74:I$93,ROWS(1:$7)),ROWS(1:$7),) -> 0 | J7: =IF(COUNTIF(J$74:J$93,ROWS(1:$7)),ROWS(1:$7),) -> 7 | K7: =IF(COUNTIF(K$74:K$93,ROWS(1:$7)),ROWS(1:$7),) -> 7 | ... AG7: =IF(COUNTIF(AG$74:AG$93,ROWS(1:$7)),ROWS(1:$7),) -> 0 | AH7: =IF(COUNTIF(AH$74:AH$93,ROWS($1:7)),ROWS($1:7),) -> 0 | AI7: =IF(COUNTIF(AI$74:AI$93,ROWS($1:7)),ROWS($1:7),) -> 0 | AJ7: =IF(COUNTIF(AJ$74:AJ$93,ROWS($1:7)),ROWS($1:7),) -> 0 | AK7: =IF(COUNTIF(AK$74:AK$93,ROWS($1:7)),ROWS($1:7),) -> 0 | AL7: =IF(COUNTIF(AL$74:AL$93,ROWS($1:7)),ROWS($1:7),) -> 0 | AM7: =IF(COUNTIF(AM$74:AM$93,ROWS($1:7)),ROWS($1:7),) -> 0 | AN7: =IF(COUNTIF(AN$74:AN$93,ROWS($1:7)),ROWS($1:7),) -> 0 | AO7: =IF(COUNTIF(AO$74:AO$93,ROWS($1:7)),ROWS($1:7),) -> 0 | ... ND7: =IF(COUNTIF(ND$74:ND$93,ROWS($1:7)),ROWS($1:7),) -> 0
B8: 8 | D8: =IF(COUNTIF(D$74:D$93,ROWS(1:$8)),ROWS(1:$8),) -> 8 | E8: =IF(COUNTIF(E$74:E$93,ROWS(1:$8)),ROWS(1:$8),) -> 0 | F8: =IF(COUNTIF(F$74:F$93,ROWS(1:$8)),ROWS(1:$8),) -> 0 | G8: =IF(COUNTIF(G$74:G$93,ROWS(1:$8)),ROWS(1:$8),) -> 0 | H8: =IF(COUNTIF(H$74:H$93,ROWS(1:$8)),ROWS(1:$8),) -> 0 | I8: =IF(COUNTIF(I$74:I$93,ROWS(1:$8)),ROWS(1:$8),) -> 0 | J8: =IF(COUNTIF(J$74:J$93,ROWS(1:$8)),ROWS(1:$8),) -> 0 | K8: =IF(COUNTIF(K$74:K$93,ROWS(1:$8)),ROWS(1:$8),) -> 0 | ... AG8: =IF(COUNTIF(AG$74:AG$93,ROWS(1:$8)),ROWS(1:$8),) -> 0 | AH8: =IF(COUNTIF(AH$74:AH$93,ROWS($1:8)),ROWS($1:8),) -> 0 | AI8: =IF(COUNTIF(AI$74:AI$93,ROWS($1:8)),ROWS($1:8),) -> 0 | AJ8: =IF(COUNTIF(AJ$74:AJ$93,ROWS($1:8)),ROWS($1:8),) -> 0 | AK8: =IF(COUNTIF(AK$74:AK$93,ROWS($1:8)),ROWS($1:8),) -> 0 | AL8: =IF(COUNTIF(AL$74:AL$93,ROWS($1:8)),ROWS($1:8),) -> 8 | AM8: =IF(COUNTIF(AM$74:AM$93,ROWS($1:8)),ROWS($1:8),) -> 0 | AN8: =IF(COUNTIF(AN$74:AN$93,ROWS($1:8)),ROWS($1:8),) -> 0 | AO8: =IF(COUNTIF(AO$74:AO$93,ROWS($1:8)),ROWS($1:8),) -> 0 | ... ND8: =IF(COUNTIF(ND$74:ND$93,ROWS($1:8)),ROWS($1:8),) -> 0
B9: 9 | D9: =IF(COUNTIF(D$74:D$93,ROWS(1:$9)),ROWS(1:$9),) -> 9 | E9: =IF(COUNTIF(E$74:E$93,ROWS(1:$9)),ROWS(1:$9),) -> 0 | F9: =IF(COUNTIF(F$74:F$93,ROWS(1:$9)),ROWS(1:$9),) -> 9 | G9: =IF(COUNTIF(G$74:G$93,ROWS(1:$9)),ROWS(1:$9),) -> 0 | H9: =IF(COUNTIF(H$74:H$93,ROWS(1:$9)),ROWS(1:$9),) -> 0 | I9: =IF(COUNTIF(I$74:I$93,ROWS(1:$9)),ROWS(1:$9),) -> 0 | J9: =IF(COUNTIF(J$74:J$93,ROWS(1:$9)),ROWS(1:$9),) -> 0 | K9: =IF(COUNTIF(K$74:K$93,ROWS(1:$9)),ROWS(1:$9),) -> 9 | ... AG9: =IF(COUNTIF(AG$74:AG$93,ROWS(1:$9)),ROWS(1:$9),) -> 0 | AH9: =IF(COUNTIF(AH$74:AH$93,ROWS($1:9)),ROWS($1:9),) -> 0 | AI9: =IF(COUNTIF(AI$74:AI$93,ROWS($1:9)),ROWS($1:9),) -> 0 | AJ9: =IF(COUNTIF(AJ$74:AJ$93,ROWS($1:9)),ROWS($1:9),) -> 0 | AK9: =IF(COUNTIF(AK$74:AK$93,ROWS($1:9)),ROWS($1:9),) -> 9 | AL9: =IF(COUNTIF(AL$74:AL$93,ROWS($1:9)),ROWS($1:9),) -> 0 | AM9: =IF(COUNTIF(AM$74:AM$93,ROWS($1:9)),ROWS($1:9),) -> 0 | AN9: =IF(COUNTIF(AN$74:AN$93,ROWS($1:9)),ROWS($1:9),) -> 0 | AO9: =IF(COUNTIF(AO$74:AO$93,ROWS($1:9)),ROWS($1:9),) -> 0 | ... ND9: =IF(COUNTIF(ND$74:ND$93,ROWS($1:9)),ROWS($1:9),) -> 0
B10: 10 | D10: =IF(COUNTIF(D$74:D$93,ROWS(1:$10)),ROWS(1:$10),) -> 0 | E10: =IF(COUNTIF(E$74:E$93,ROWS(1:$10)),ROWS(1:$10),) -> 10 | F10: =IF(COUNTIF(F$74:F$93,ROWS(1:$10)),ROWS(1:$10),) -> 0 | G10: =IF(COUNTIF(G$74:G$93,ROWS(1:$10)),ROWS(1:$10),) -> 0 | H10: =IF(COUNTIF(H$74:H$93,ROWS(1:$10)),ROWS(1:$10),) -> 0 | I10: =IF(COUNTIF(I$74:I$93,ROWS(1:$10)),ROWS(1:$10),) -> 0 | J10: =IF(COUNTIF(J$74:J$93,ROWS(1:$10)),ROWS(1:$10),) -> 0 | K10: =IF(COUNTIF(K$74:K$93,ROWS(1:$10)),ROWS(1:$10),) -> 10 | ... AG10: =IF(COUNTIF(AG$74:AG$93,ROWS(1:$10)),ROWS(1:$10),) -> 10 | AH10: =IF(COUNTIF(AH$74:AH$93,ROWS($1:10)),ROWS($1:10),) -> 0 | AI10: =IF(COUNTIF(AI$74:AI$93,ROWS($1:10)),ROWS($1:10),) -> 0 | AJ10: =IF(COUNTIF(AJ$74:AJ$93,ROWS($1:10)),ROWS($1:10),) -> 10 | AK10: =IF(COUNTIF(AK$74:AK$93,ROWS($1:10)),ROWS($1:10),) -> 0 | AL10: =IF(COUNTIF(AL$74:AL$93,ROWS($1:10)),ROWS($1:10),) -> 10 | AM10: =IF(COUNTIF(AM$74:AM$93,ROWS($1:10)),ROWS($1:10),) -> 0 | AN10: =IF(COUNTIF(AN$74:AN$93,ROWS($1:10)),ROWS($1:10),) -> 0 | AO10: =IF(COUNTIF(AO$74:AO$93,ROWS($1:10)),ROWS($1:10),) -> 0 | ... ND10: =IF(COUNTIF(ND$74:ND$93,ROWS($1:10)),ROWS($1:10),) -> 0
B11: 11 | D11: =IF(COUNTIF(D$74:D$93,ROWS(1:$11)),ROWS(1:$11),) -> 11 | E11: =IF(COUNTIF(E$74:E$93,ROWS(1:$11)),ROWS(1:$11),) -> 11 | F11: =IF(COUNTIF(F$74:F$93,ROWS(1:$11)),ROWS(1:$11),) -> 0 | G11: =IF(COUNTIF(G$74:G$93,ROWS(1:$11)),ROWS(1:$11),) -> 0 | H11: =IF(COUNTIF(H$74:H$93,ROWS(1:$11)),ROWS(1:$11),) -> 0 | I11: =IF(COUNTIF(I$74:I$93,ROWS(1:$11)),ROWS(1:$11),) -> 11 | J11: =IF(COUNTIF(J$74:J$93,ROWS(1:$11)),ROWS(1:$11),) -> 11 | K11: =IF(COUNTIF(K$74:K$93,ROWS(1:$11)),ROWS(1:$11),) -> 0 | ... AG11: =IF(COUNTIF(AG$74:AG$93,ROWS(1:$11)),ROWS(1:$11),) -> 0 | AH11: =IF(COUNTIF(AH$74:AH$93,ROWS($1:11)),ROWS($1:11),) -> 0 | AI11: =IF(COUNTIF(AI$74:AI$93,ROWS($1:11)),ROWS($1:11),) -> 11 | AJ11: =IF(COUNTIF(AJ$74:AJ$93,ROWS($1:11)),ROWS($1:11),) -> 0 | AK11: =IF(COUNTIF(AK$74:AK$93,ROWS($1:11)),ROWS($1:11),) -> 11 | AL11: =IF(COUNTIF(AL$74:AL$93,ROWS($1:11)),ROWS($1:11),) -> 0 | AM11: =IF(COUNTIF(AM$74:AM$93,ROWS($1:11)),ROWS($1:11),) -> 0 | AN11: =IF(COUNTIF(AN$74:AN$93,ROWS($1:11)),ROWS($1:11),) -> 0 | AO11: =IF(COUNTIF(AO$74:AO$93,ROWS($1:11)),ROWS($1:11),) -> 0 | ... ND11: =IF(COUNTIF(ND$74:ND$93,ROWS($1:11)),ROWS($1:11),) -> 0
B12: 12 | D12: =IF(COUNTIF(D$74:D$93,ROWS(1:$12)),ROWS(1:$12),) -> 0 | E12: =IF(COUNTIF(E$74:E$93,ROWS(1:$12)),ROWS(1:$12),) -> 0 | F12: =IF(COUNTIF(F$74:F$93,ROWS(1:$12)),ROWS(1:$12),) -> 0 | G12: =IF(COUNTIF(G$74:G$93,ROWS(1:$12)),ROWS(1:$12),) -> 0 | H12: =IF(COUNTIF(H$74:H$93,ROWS(1:$12)),ROWS(1:$12),) -> 12 | I12: =IF(COUNTIF(I$74:I$93,ROWS(1:$12)),ROWS(1:$12),) -> 12 | J12: =IF(COUNTIF(J$74:J$93,ROWS(1:$12)),ROWS(1:$12),) -> 12 | K12: =IF(COUNTIF(K$74:K$93,ROWS(1:$12)),ROWS(1:$12),) -> 0 | ... AG12: =IF(COUNTIF(AG$74:AG$93,ROWS(1:$12)),ROWS(1:$12),) -> 0 | AH12: =IF(COUNTIF(AH$74:AH$93,ROWS($1:12)),ROWS($1:12),) -> 0 | AI12: =IF(COUNTIF(AI$74:AI$93,ROWS($1:12)),ROWS($1:12),) -> 0 | AJ12: =IF(COUNTIF(AJ$74:AJ$93,ROWS($1:12)),ROWS($1:12),) -> 0 | AK12: =IF(COUNTIF(AK$74:AK$93,ROWS($1:12)),ROWS($1:12),) -> 0 | AL12: =IF(COUNTIF(AL$74:AL$93,ROWS($1:12)),ROWS($1:12),) -> 12 | AM12: =IF(COUNTIF(AM$74:AM$93,ROWS($1:12)),ROWS($1:12),) -> 12 | AN12: =IF(COUNTIF(AN$74:AN$93,ROWS($1:12)),ROWS($1:12),) -> 0 | AO12: =IF(COUNTIF(AO$74:AO$93,ROWS($1:12)),ROWS($1:12),) -> 0 | ... ND12: =IF(COUNTIF(ND$74:ND$93,ROWS($1:12)),ROWS($1:12),) -> 0
B13: 13 | D13: =IF(COUNTIF(D$74:D$93,ROWS(1:$13)),ROWS(1:$13),) -> 0 | E13: =IF(COUNTIF(E$74:E$93,ROWS(1:$13)),ROWS(1:$13),) -> 0 | F13: =IF(COUNTIF(F$74:F$93,ROWS(1:$13)),ROWS(1:$13),) -> 0 | G13: =IF(COUNTIF(G$74:G$93,ROWS(1:$13)),ROWS(1:$13),) -> 0 | H13: =IF(COUNTIF(H$74:H$93,ROWS(1:$13)),ROWS(1:$13),) -> 13 | I13: =IF(COUNTIF(I$74:I$93,ROWS(1:$13)),ROWS(1:$13),) -> 13 | J13: =IF(COUNTIF(J$74:J$93,ROWS(1:$13)),ROWS(1:$13),) -> 0 | K13: =IF(COUNTIF(K$74:K$93,ROWS(1:$13)),ROWS(1:$13),) -> 0 | ... AG13: =IF(COUNTIF(AG$74:AG$93,ROWS(1:$13)),ROWS(1:$13),) -> 0 | AH13: =IF(COUNTIF(AH$74:AH$93,ROWS($1:13)),ROWS($1:13),) -> 0 | AI13: =IF(COUNTIF(AI$74:AI$93,ROWS($1:13)),ROWS($1:13),) -> 0 | AJ13: =IF(COUNTIF(AJ$74:AJ$93,ROWS($1:13)),ROWS($1:13),) -> 0 | AK13: =IF(COUNTIF(AK$74:AK$93,ROWS($1:13)),ROWS($1:13),) -> 0 | AL13: =IF(COUNTIF(AL$74:AL$93,ROWS($1:13)),ROWS($1:13),) -> 0 | AM13: =IF(COUNTIF(AM$74:AM$93,ROWS($1:13)),ROWS($1:13),) -> 13 | AN13: =IF(COUNTIF(AN$74:AN$93,ROWS($1:13)),ROWS($1:13),) -> 13 | AO13: =IF(COUNTIF(AO$74:AO$93,ROWS($1:13)),ROWS($1:13),) -> 0 | ... ND13: =IF(COUNTIF(ND$74:ND$93,ROWS($1:13)),ROWS($1:13),) -> 0
B14: 14 | D14: =IF(COUNTIF(D$74:D$93,ROWS(1:$14)),ROWS(1:$14),) -> 14 | E14: =IF(COUNTIF(E$74:E$93,ROWS(1:$14)),ROWS(1:$14),) -> 14 | F14: =IF(COUNTIF(F$74:F$93,ROWS(1:$14)),ROWS(1:$14),) -> 14 | G14: =IF(COUNTIF(G$74:G$93,ROWS(1:$14)),ROWS(1:$14),) -> 14 | H14: =IF(COUNTIF(H$74:H$93,ROWS(1:$14)),ROWS(1:$14),) -> 0 | I14: =IF(COUNTIF(I$74:I$93,ROWS(1:$14)),ROWS(1:$14),) -> 0 | J14: =IF(COUNTIF(J$74:J$93,ROWS(1:$14)),ROWS(1:$14),) -> 14 | K14: =IF(COUNTIF(K$74:K$93,ROWS(1:$14)),ROWS(1:$14),) -> 0 | ... AG14: =IF(COUNTIF(AG$74:AG$93,ROWS(1:$14)),ROWS(1:$14),) -> 14 | AH14: =IF(COUNTIF(AH$74:AH$93,ROWS($1:14)),ROWS($1:14),) -> 14 | AI14: =IF(COUNTIF(AI$74:AI$93,ROWS($1:14)),ROWS($1:14),) -> 0 | AJ14: =IF(COUNTIF(AJ$74:AJ$93,ROWS($1:14)),ROWS($1:14),) -> 0 | AK14: =IF(COUNTIF(AK$74:AK$93,ROWS($1:14)),ROWS($1:14),) -> 0 | AL14: =IF(COUNTIF(AL$74:AL$93,ROWS($1:14)),ROWS($1:14),) -> 0 | AM14: =IF(COUNTIF(AM$74:AM$93,ROWS($1:14)),ROWS($1:14),) -> 14 | AN14: =IF(COUNTIF(AN$74:AN$93,ROWS($1:14)),ROWS($1:14),) -> 14 | AO14: =IF(COUNTIF(AO$74:AO$93,ROWS($1:14)),ROWS($1:14),) -> 0 | ... ND14: =IF(COUNTIF(ND$74:ND$93,ROWS($1:14)),ROWS($1:14),) -> 0
B15: 15 | D15: =IF(COUNTIF(D$74:D$93,ROWS(1:$15)),ROWS(1:$15),) -> 0 | E15: =IF(COUNTIF(E$74:E$93,ROWS(1:$15)),ROWS(1:$15),) -> 0 | F15: =IF(COUNTIF(F$74:F$93,ROWS(1:$15)),ROWS(1:$15),) -> 15 | G15: =IF(COUNTIF(G$74:G$93,ROWS(1:$15)),ROWS(1:$15),) -> 0 | H15: =IF(COUNTIF(H$74:H$93,ROWS(1:$15)),ROWS(1:$15),) -> 15 | I15: =IF(COUNTIF(I$74:I$93,ROWS(1:$15)),ROWS(1:$15),) -> 15 | J15: =IF(COUNTIF(J$74:J$93,ROWS(1:$15)),ROWS(1:$15),) -> 0 | K15: =IF(COUNTIF(K$74:K$93,ROWS(1:$15)),ROWS(1:$15),) -> 15 | ... AG15: =IF(COUNTIF(AG$74:AG$93,ROWS(1:$15)),ROWS(1:$15),) -> 0 | AH15: =IF(COUNTIF(AH$74:AH$93,ROWS($1:15)),ROWS($1:15),) -> 0 | AI15: =IF(COUNTIF(AI$74:AI$93,ROWS($1:15)),ROWS($1:15),) -> 0 | AJ15: =IF(COUNTIF(AJ$74:AJ$93,ROWS($1:15)),ROWS($1:15),) -> 15 | AK15: =IF(COUNTIF(AK$74:AK$93,ROWS($1:15)),ROWS($1:15),) -> 0 | AL15: =IF(COUNTIF(AL$74:AL$93,ROWS($1:15)),ROWS($1:15),) -> 15 | AM15: =IF(COUNTIF(AM$74:AM$93,ROWS($1:15)),ROWS($1:15),) -> 0 | AN15: =IF(COUNTIF(AN$74:AN$93,ROWS($1:15)),ROWS($1:15),) -> 0 | AO15: =IF(COUNTIF(AO$74:AO$93,ROWS($1:15)),ROWS($1:15),) -> 15 | ... ND15: =IF(COUNTIF(ND$74:ND$93,ROWS($1:15)),ROWS($1:15),) -> 0
B16: 16 | D16: =IF(COUNTIF(D$74:D$93,ROWS(1:$16)),ROWS(1:$16),) -> 0 | E16: =IF(COUNTIF(E$74:E$93,ROWS(1:$16)),ROWS(1:$16),) -> 0 | F16: =IF(COUNTIF(F$74:F$93,ROWS(1:$16)),ROWS(1:$16),) -> 16 | G16: =IF(COUNTIF(G$74:G$93,ROWS(1:$16)),ROWS(1:$16),) -> 0 | H16: =IF(COUNTIF(H$74:H$93,ROWS(1:$16)),ROWS(1:$16),) -> 0 | I16: =IF(COUNTIF(I$74:I$93,ROWS(1:$16)),ROWS(1:$16),) -> 16 | J16: =IF(COUNTIF(J$74:J$93,ROWS(1:$16)),ROWS(1:$16),) -> 0 | K16: =IF(COUNTIF(K$74:K$93,ROWS(1:$16)),ROWS(1:$16),) -> 16 | ... AG16: =IF(COUNTIF(AG$74:AG$93,ROWS(1:$16)),ROWS(1:$16),) -> 16 | AH16: =IF(COUNTIF(AH$74:AH$93,ROWS($1:16)),ROWS($1:16),) -> 16 | AI16: =IF(COUNTIF(AI$74:AI$93,ROWS($1:16)),ROWS($1:16),) -> 0 | AJ16: =IF(COUNTIF(AJ$74:AJ$93,ROWS($1:16)),ROWS($1:16),) -> 0 | AK16: =IF(COUNTIF(AK$74:AK$93,ROWS($1:16)),ROWS($1:16),) -> 0 | AL16: =IF(COUNTIF(AL$74:AL$93,ROWS($1:16)),ROWS($1:16),) -> 0 | AM16: =IF(COUNTIF(AM$74:AM$93,ROWS($1:16)),ROWS($1:16),) -> 0 | AN16: =IF(COUNTIF(AN$74:AN$93,ROWS($1:16)),ROWS($1:16),) -> 0 | AO16: =IF(COUNTIF(AO$74:AO$93,ROWS($1:16)),ROWS($1:16),) -> 0 | ... ND16: =IF(COUNTIF(ND$74:ND$93,ROWS($1:16)),ROWS($1:16),) -> 0
B17: 17 | D17: =IF(COUNTIF(D$74:D$93,ROWS(1:$17)),ROWS(1:$17),) -> 0 | E17: =IF(COUNTIF(E$74:E$93,ROWS(1:$17)),ROWS(1:$17),) -> 0 | F17: =IF(COUNTIF(F$74:F$93,ROWS(1:$17)),ROWS(1:$17),) -> 0 | G17: =IF(COUNTIF(G$74:G$93,ROWS(1:$17)),ROWS(1:$17),) -> 0 | H17: =IF(COUNTIF(H$74:H$93,ROWS(1:$17)),ROWS(1:$17),) -> 0 | I17: =IF(COUNTIF(I$74:I$93,ROWS(1:$17)),ROWS(1:$17),) -> 17 | J17: =IF(COUNTIF(J$74:J$93,ROWS(1:$17)),ROWS(1:$17),) -> 17 | K17: =IF(COUNTIF(K$74:K$93,ROWS(1:$17)),ROWS(1:$17),) -> 0 | ... AG17: =IF(COUNTIF(AG$74:AG$93,ROWS(1:$17)),ROWS(1:$17),) -> 0 | AH17: =IF(COUNTIF(AH$74:AH$93,ROWS($1:17)),ROWS($1:17),) -> 17 | AI17: =IF(COUNTIF(AI$74:AI$93,ROWS($1:17)),ROWS($1:17),) -> 0 | AJ17: =IF(COUNTIF(AJ$74:AJ$93,ROWS($1:17)),ROWS($1:17),) -> 0 | AK17: =IF(COUNTIF(AK$74:AK$93,ROWS($1:17)),ROWS($1:17),) -> 0 | AL17: =IF(COUNTIF(AL$74:AL$93,ROWS($1:17)),ROWS($1:17),) -> 17 | AM17: =IF(COUNTIF(AM$74:AM$93,ROWS($1:17)),ROWS($1:17),) -> 0 | AN17: =IF(COUNTIF(AN$74:AN$93,ROWS($1:17)),ROWS($1:17),) -> 0 | AO17: =IF(COUNTIF(AO$74:AO$93,ROWS($1:17)),ROWS($1:17),) -> 0 | ... ND17: =IF(COUNTIF(ND$74:ND$93,ROWS($1:17)),ROWS($1:17),) -> 0
B18: 18 | D18: =IF(COUNTIF(D$74:D$93,ROWS(1:$18)),ROWS(1:$18),) -> 0 | E18: =IF(COUNTIF(E$74:E$93,ROWS(1:$18)),ROWS(1:$18),) -> 18 | F18: =IF(COUNTIF(F$74:F$93,ROWS(1:$18)),ROWS(1:$18),) -> 18 | G18: =IF(COUNTIF(G$74:G$93,ROWS(1:$18)),ROWS(1:$18),) -> 18 | H18: =IF(COUNTIF(H$74:H$93,ROWS(1:$18)),ROWS(1:$18),) -> 0 | I18: =IF(COUNTIF(I$74:I$93,ROWS(1:$18)),ROWS(1:$18),) -> 18 | J18: =IF(COUNTIF(J$74:J$93,ROWS(1:$18)),ROWS(1:$18),) -> 0 | K18: =IF(COUNTIF(K$74:K$93,ROWS(1:$18)),ROWS(1:$18),) -> 0 | ... AG18: =IF(COUNTIF(AG$74:AG$93,ROWS(1:$18)),ROWS(1:$18),) -> 0 | AH18: =IF(COUNTIF(AH$74:AH$93,ROWS($1:18)),ROWS($1:18),) -> 18 | AI18: =IF(COUNTIF(AI$74:AI$93,ROWS($1:18)),ROWS($1:18),) -> 0 | AJ18: =IF(COUNTIF(AJ$74:AJ$93,ROWS($1:18)),ROWS($1:18),) -> 0 | AK18: =IF(COUNTIF(AK$74:AK$93,ROWS($1:18)),ROWS($1:18),) -> 18 | AL18: =IF(COUNTIF(AL$74:AL$93,ROWS($1:18)),ROWS($1:18),) -> 0 | AM18: =IF(COUNTIF(AM$74:AM$93,ROWS($1:18)),ROWS($1:18),) -> 0 | AN18: =IF(COUNTIF(AN$74:AN$93,ROWS($1:18)),ROWS($1:18),) -> 0 | AO18: =IF(COUNTIF(AO$74:AO$93,ROWS($1:18)),ROWS($1:18),) -> 18 | ... ND18: =IF(COUNTIF(ND$74:ND$93,ROWS($1:18)),ROWS($1:18),) -> 0
B19: 19 | D19: =IF(COUNTIF(D$74:D$93,ROWS(1:$19)),ROWS(1:$19),) -> 0 | E19: =IF(COUNTIF(E$74:E$93,ROWS(1:$19)),ROWS(1:$19),) -> 19 | F19: =IF(COUNTIF(F$74:F$93,ROWS(1:$19)),ROWS(1:$19),) -> 0 | G19: =IF(COUNTIF(G$74:G$93,ROWS(1:$19)),ROWS(1:$19),) -> 0 | H19: =IF(COUNTIF(H$74:H$93,ROWS(1:$19)),ROWS(1:$19),) -> 0 | I19: =IF(COUNTIF(I$74:I$93,ROWS(1:$19)),ROWS(1:$19),) -> 19 | J19: =IF(COUNTIF(J$74:J$93,ROWS(1:$19)),ROWS(1:$19),) -> 19 | K19: =IF(COUNTIF(K$74:K$93,ROWS(1:$19)),ROWS(1:$19),) -> 0 | ... AG19: =IF(COUNTIF(AG$74:AG$93,ROWS(1:$19)),ROWS(1:$19),) -> 0 | AH19: =IF(COUNTIF(AH$74:AH$93,ROWS($1:19)),ROWS($1:19),) -> 0 | AI19: =IF(COUNTIF(AI$74:AI$93,ROWS($1:19)),ROWS($1:19),) -> 0 | AJ19: =IF(COUNTIF(AJ$74:AJ$93,ROWS($1:19)),ROWS($1:19),) -> 0 | AK19: =IF(COUNTIF(AK$74:AK$93,ROWS($1:19)),ROWS($1:19),) -> 19 | AL19: =IF(COUNTIF(AL$74:AL$93,ROWS($1:19)),ROWS($1:19),) -> 0 | AM19: =IF(COUNTIF(AM$74:AM$93,ROWS($1:19)),ROWS($1:19),) -> 19 | AN19: =IF(COUNTIF(AN$74:AN$93,ROWS($1:19)),ROWS($1:19),) -> 19 | AO19: =IF(COUNTIF(AO$74:AO$93,ROWS($1:19)),ROWS($1:19),) -> 19 | ... ND19: =IF(COUNTIF(ND$74:ND$93,ROWS($1:19)),ROWS($1:19),) -> 0
B20: 20 | D20: =IF(COUNTIF(D$74:D$93,ROWS(1:$20)),ROWS(1:$20),) -> 20 | E20: =IF(COUNTIF(E$74:E$93,ROWS(1:$20)),ROWS(1:$20),) -> 0 | F20: =IF(COUNTIF(F$74:F$93,ROWS(1:$20)),ROWS(1:$20),) -> 0 | G20: =IF(COUNTIF(G$74:G$93,ROWS(1:$20)),ROWS(1:$20),) -> 0 | H20: =IF(COUNTIF(H$74:H$93,ROWS(1:$20)),ROWS(1:$20),) -> 20 | I20: =IF(COUNTIF(I$74:I$93,ROWS(1:$20)),ROWS(1:$20),) -> 0 | J20: =IF(COUNTIF(J$74:J$93,ROWS(1:$20)),ROWS(1:$20),) -> 20 | K20: =IF(COUNTIF(K$74:K$93,ROWS(1:$20)),ROWS(1:$20),) -> 0 | ... AG20: =IF(COUNTIF(AG$74:AG$93,ROWS(1:$20)),ROWS(1:$20),) -> 0 | AH20: =IF(COUNTIF(AH$74:AH$93,ROWS($1:20)),ROWS($1:20),) -> 20 | AI20: =IF(COUNTIF(AI$74:AI$93,ROWS($1:20)),ROWS($1:20),) -> 0 | AJ20: =IF(COUNTIF(AJ$74:AJ$93,ROWS($1:20)),ROWS($1:20),) -> 0 | AK20: =IF(COUNTIF(AK$74:AK$93,ROWS($1:20)),ROWS($1:20),) -> 0 | AL20: =IF(COUNTIF(AL$74:AL$93,ROWS($1:20)),ROWS($1:20),) -> 0 | AM20: =IF(COUNTIF(AM$74:AM$93,ROWS($1:20)),ROWS($1:20),) -> 20 | AN20: =IF(COUNTIF(AN$74:AN$93,ROWS($1:20)),ROWS($1:20),) -> 0 | AO20: =IF(COUNTIF(AO$74:AO$93,ROWS($1:20)),ROWS($1:20),) -> 20 | ... ND20: =IF(COUNTIF(ND$74:ND$93,ROWS($1:20)),ROWS($1:20),) -> 0
B21: 21 | D21: =IF(COUNTIF(D$74:D$93,ROWS(1:$21)),ROWS(1:$21),) -> 0 | E21: =IF(COUNTIF(E$74:E$93,ROWS(1:$21)),ROWS(1:$21),) -> 0 | F21: =IF(COUNTIF(F$74:F$93,ROWS(1:$21)),ROWS(1:$21),) -> 0 | G21: =IF(COUNTIF(G$74:G$93,ROWS(1:$21)),ROWS(1:$21),) -> 21 | H21: =IF(COUNTIF(H$74:H$93,ROWS(1:$21)),ROWS(1:$21),) -> 0 | I21: =IF(COUNTIF(I$74:I$93,ROWS(1:$21)),ROWS(1:$21),) -> 0 | J21: =IF(COUNTIF(J$74:J$93,ROWS(1:$21)),ROWS(1:$21),) -> 21 | K21: =IF(COUNTIF(K$74:K$93,ROWS(1:$21)),ROWS(1:$21),) -> 0 | ... AG21: =IF(COUNTIF(AG$74:AG$93,ROWS(1:$21)),ROWS(1:$21),) -> 0 | AH21: =IF(COUNTIF(AH$74:AH$93,ROWS($1:21)),ROWS($1:21),) -> 21 | AI21: =IF(COUNTIF(AI$74:AI$93,ROWS($1:21)),ROWS($1:21),) -> 0 | AJ21: =IF(COUNTIF(AJ$74:AJ$93,ROWS($1:21)),ROWS($1:21),) -> 0 | AK21: =IF(COUNTIF(AK$74:AK$93,ROWS($1:21)),ROWS($1:21),) -> 0 | AL21: =IF(COUNTIF(AL$74:AL$93,ROWS($1:21)),ROWS($1:21),) -> 0 | AM21: =IF(COUNTIF(AM$74:AM$93,ROWS($1:21)),ROWS($1:21),) -> 0 | AN21: =IF(COUNTIF(AN$74:AN$93,ROWS($1:21)),ROWS($1:21),) -> 0 | AO21: =IF(COUNTIF(AO$74:AO$93,ROWS($1:21)),ROWS($1:21),) -> 21 | ... ND21: =IF(COUNTIF(ND$74:ND$93,ROWS($1:21)),ROWS($1:21),) -> 0
B22: 22 | D22: =IF(COUNTIF(D$74:D$93,ROWS(1:$22)),ROWS(1:$22),) -> 22 | E22: =IF(COUNTIF(E$74:E$93,ROWS(1:$22)),ROWS(1:$22),) -> 0 | F22: =IF(COUNTIF(F$74:F$93,ROWS(1:$22)),ROWS(1:$22),) -> 0 | G22: =IF(COUNTIF(G$74:G$93,ROWS(1:$22)),ROWS(1:$22),) -> 0 | H22: =IF(COUNTIF(H$74:H$93,ROWS(1:$22)),ROWS(1:$22),) -> 22 | I22: =IF(COUNTIF(I$74:I$93,ROWS(1:$22)),ROWS(1:$22),) -> 22 | J22: =IF(COUNTIF(J$74:J$93,ROWS(1:$22)),ROWS(1:$22),) -> 22 | K22: =IF(COUNTIF(K$74:K$93,ROWS(1:$22)),ROWS(1:$22),) -> 22 | ... AG22: =IF(COUNTIF(AG$74:AG$93,ROWS(1:$22)),ROWS(1:$22),) -> 0 | AH22: =IF(COUNTIF(AH$74:AH$93,ROWS($1:22)),ROWS($1:22),) -> 0 | AI22: =IF(COUNTIF(AI$74:AI$93,ROWS($1:22)),ROWS($1:22),) -> 0 | AJ22: =IF(COUNTIF(AJ$74:AJ$93,ROWS($1:22)),ROWS($1:22),) -> 0 | AK22: =IF(COUNTIF(AK$74:AK$93,ROWS($1:22)),ROWS($1:22),) -> 0 | AL22: =IF(COUNTIF(AL$74:AL$93,ROWS($1:22)),ROWS($1:22),) -> 22 | AM22: =IF(COUNTIF(AM$74:AM$93,ROWS($1:22)),ROWS($1:22),) -> 0 | AN22: =IF(COUNTIF(AN$74:AN$93,ROWS($1:22)),ROWS($1:22),) -> 0 | AO22: =IF(COUNTIF(AO$74:AO$93,ROWS($1:22)),ROWS($1:22),) -> 22 | ... ND22: =IF(COUNTIF(ND$74:ND$93,ROWS($1:22)),ROWS($1:22),) -> 0
B23: 23 | D23: =IF(COUNTIF(D$74:D$93,ROWS(1:$23)),ROWS(1:$23),) -> 0 | E23: =IF(COUNTIF(E$74:E$93,ROWS(1:$23)),ROWS(1:$23),) -> 0 | F23: =IF(COUNTIF(F$74:F$93,ROWS(1:$23)),ROWS(1:$23),) -> 0 | G23: =IF(COUNTIF(G$74:G$93,ROWS(1:$23)),ROWS(1:$23),) -> 0 | H23: =IF(COUNTIF(H$74:H$93,ROWS(1:$23)),ROWS(1:$23),) -> 0 | I23: =IF(COUNTIF(I$74:I$93,ROWS(1:$23)),ROWS(1:$23),) -> 0 | J23: =IF(COUNTIF(J$74:J$93,ROWS(1:$23)),ROWS(1:$23),) -> 0 | K23: =IF(COUNTIF(K$74:K$93,ROWS(1:$23)),ROWS(1:$23),) -> 0 | ... AG23: =IF(COUNTIF(AG$74:AG$93,ROWS(1:$23)),ROWS(1:$23),) -> 0 | AH23: =IF(COUNTIF(AH$74:AH$93,ROWS($1:23)),ROWS($1:23),) -> 23 | AI23: =IF(COUNTIF(AI$74:AI$93,ROWS($1:23)),ROWS($1:23),) -> 0 | AJ23: =IF(COUNTIF(AJ$74:AJ$93,ROWS($1:23)),ROWS($1:23),) -> 0 | AK23: =IF(COUNTIF(AK$74:AK$93,ROWS($1:23)),ROWS($1:23),) -> 0 | AL23: =IF(COUNTIF(AL$74:AL$93,ROWS($1:23)),ROWS($1:23),) -> 0 | AM23: =IF(COUNTIF(AM$74:AM$93,ROWS($1:23)),ROWS($1:23),) -> 0 | AN23: =IF(COUNTIF(AN$74:AN$93,ROWS($1:23)),ROWS($1:23),) -> 0 | AO23: =IF(COUNTIF(AO$74:AO$93,ROWS($1:23)),ROWS($1:23),) -> 0 | ... ND23: =IF(COUNTIF(ND$74:ND$93,ROWS($1:23)),ROWS($1:23),) -> 0
B24: 24 | D24: =IF(COUNTIF(D$74:D$93,ROWS(1:$24)),ROWS(1:$24),) -> 0 | E24: =IF(COUNTIF(E$74:E$93,ROWS(1:$24)),ROWS(1:$24),) -> 0 | F24: =IF(COUNTIF(F$74:F$93,ROWS(1:$24)),ROWS(1:$24),) -> 0 | G24: =IF(COUNTIF(G$74:G$93,ROWS(1:$24)),ROWS(1:$24),) -> 24 | H24: =IF(COUNTIF(H$74:H$93,ROWS(1:$24)),ROWS(1:$24),) -> 0 | I24: =IF(COUNTIF(I$74:I$93,ROWS(1:$24)),ROWS(1:$24),) -> 0 | J24: =IF(COUNTIF(J$74:J$93,ROWS(1:$24)),ROWS(1:$24),) -> 0 | K24: =IF(COUNTIF(K$74:K$93,ROWS(1:$24)),ROWS(1:$24),) -> 0 | ... AG24: =IF(COUNTIF(AG$74:AG$93,ROWS(1:$24)),ROWS(1:$24),) -> 0 | AH24: =IF(COUNTIF(AH$74:AH$93,ROWS($1:24)),ROWS($1:24),) -> 24 | AI24: =IF(COUNTIF(AI$74:AI$93,ROWS($1:24)),ROWS($1:24),) -> 0 | AJ24: =IF(COUNTIF(AJ$74:AJ$93,ROWS($1:24)),ROWS($1:24),) -> 24 | AK24: =IF(COUNTIF(AK$74:AK$93,ROWS($1:24)),ROWS($1:24),) -> 24 | AL24: =IF(COUNTIF(AL$74:AL$93,ROWS($1:24)),ROWS($1:24),) -> 0 | AM24: =IF(COUNTIF(AM$74:AM$93,ROWS($1:24)),ROWS($1:24),) -> 0 | AN24: =IF(COUNTIF(AN$74:AN$93,ROWS($1:24)),ROWS($1:24),) -> 0 | AO24: =IF(COUNTIF(AO$74:AO$93,ROWS($1:24)),ROWS($1:24),) -> 24 | ... ND24: =IF(COUNTIF(ND$74:ND$93,ROWS($1:24)),ROWS($1:24),) -> 0
B25: 25 | D25: =IF(COUNTIF(D$74:D$93,ROWS($1:25)),ROWS($1:25),) -> 25 | E25: =IF(COUNTIF(E$74:E$93,ROWS($1:25)),ROWS($1:25),) -> 0 | F25: =IF(COUNTIF(F$74:F$93,ROWS($1:25)),ROWS($1:25),) -> 0 | G25: =IF(COUNTIF(G$74:G$93,ROWS($1:25)),ROWS($1:25),) -> 25 | H25: =IF(COUNTIF(H$74:H$93,ROWS($1:25)),ROWS($1:25),) -> 0 | I25: =IF(COUNTIF(I$74:I$93,ROWS($1:25)),ROWS($1:25),) -> 0 | J25: =IF(COUNTIF(J$74:J$93,ROWS($1:25)),ROWS($1:25),) -> 0 | K25: =IF(COUNTIF(K$74:K$93,ROWS($1:25)),ROWS($1:25),) -> 0 | ... ND25: =IF(COUNTIF(ND$74:ND$93,ROWS($1:25)),ROWS($1:25),) -> 0
B26: 26 | D26: =IF(COUNTIF(D$74:D$93,ROWS($1:26)),ROWS($1:26),) -> 0 | E26: =IF(COUNTIF(E$74:E$93,ROWS($1:26)),ROWS($1:26),) -> 26 | F26: =IF(COUNTIF(F$74:F$93,ROWS($1:26)),ROWS($1:26),) -> 0 | G26: =IF(COUNTIF(G$74:G$93,ROWS($1:26)),ROWS($1:26),) -> 0 | H26: =IF(COUNTIF(H$74:H$93,ROWS($1:26)),ROWS($1:26),) -> 0 | I26: =IF(COUNTIF(I$74:I$93,ROWS($1:26)),ROWS($1:26),) -> 0 | J26: =IF(COUNTIF(J$74:J$93,ROWS($1:26)),ROWS($1:26),) -> 26 | K26: =IF(COUNTIF(K$74:K$93,ROWS($1:26)),ROWS($1:26),) -> 0 | ... ND26: =IF(COUNTIF(ND$74:ND$93,ROWS($1:26)),ROWS($1:26),) -> 0
B27: 27 | D27: =IF(COUNTIF(D$74:D$93,ROWS($1:27)),ROWS($1:27),) -> 0 | E27: =IF(COUNTIF(E$74:E$93,ROWS($1:27)),ROWS($1:27),) -> 0 | F27: =IF(COUNTIF(F$74:F$93,ROWS($1:27)),ROWS($1:27),) -> 0 | G27: =IF(COUNTIF(G$74:G$93,ROWS($1:27)),ROWS($1:27),) -> 27 | H27: =IF(COUNTIF(H$74:H$93,ROWS($1:27)),ROWS($1:27),) -> 0 | I27: =IF(COUNTIF(I$74:I$93,ROWS($1:27)),ROWS($1:27),) -> 0 | J27: =IF(COUNTIF(J$74:J$93,ROWS($1:27)),ROWS($1:27),) -> 0 | K27: =IF(COUNTIF(K$74:K$93,ROWS($1:27)),ROWS($1:27),) -> 0 | ... ND27: =IF(COUNTIF(ND$74:ND$93,ROWS($1:27)),ROWS($1:27),) -> 0
B28: 28 | D28: =IF(COUNTIF(D$74:D$93,ROWS($1:28)),ROWS($1:28),) -> 0 | E28: =IF(COUNTIF(E$74:E$93,ROWS($1:28)),ROWS($1:28),) -> 0 | F28: =IF(COUNTIF(F$74:F$93,ROWS($1:28)),ROWS($1:28),) -> 28 | G28: =IF(COUNTIF(G$74:G$93,ROWS($1:28)),ROWS($1:28),) -> 28 | H28: =IF(COUNTIF(H$74:H$93,ROWS($1:28)),ROWS($1:28),) -> 0 | I28: =IF(COUNTIF(I$74:I$93,ROWS($1:28)),ROWS($1:28),) -> 0 | J28: =IF(COUNTIF(J$74:J$93,ROWS($1:28)),ROWS($1:28),) -> 0 | K28: =IF(COUNTIF(K$74:K$93,ROWS($1:28)),ROWS($1:28),) -> 0 | ... ND28: =IF(COUNTIF(ND$74:ND$93,ROWS($1:28)),ROWS($1:28),) -> 0
B29: 29 | D29: =IF(COUNTIF(D$74:D$93,ROWS($1:29)),ROWS($1:29),) -> 0 | E29: =IF(COUNTIF(E$74:E$93,ROWS($1:29)),ROWS($1:29),) -> 0 | F29: =IF(COUNTIF(F$74:F$93,ROWS($1:29)),ROWS($1:29),) -> 29 | G29: =IF(COUNTIF(G$74:G$93,ROWS($1:29)),ROWS($1:29),) -> 0 | H29: =IF(COUNTIF(H$74:H$93,ROWS($1:29)),ROWS($1:29),) -> 0 | I29: =IF(COUNTIF(I$74:I$93,ROWS($1:29)),ROWS($1:29),) -> 0 | J29: =IF(COUNTIF(J$74:J$93,ROWS($1:29)),ROWS($1:29),) -> 0 | K29: =IF(COUNTIF(K$74:K$93,ROWS($1:29)),ROWS($1:29),) -> 29 | ... ND29: =IF(COUNTIF(ND$74:ND$93,ROWS($1:29)),ROWS($1:29),) -> 0
B30: 30 | D30: =IF(COUNTIF(D$74:D$93,ROWS($1:30)),ROWS($1:30),) -> 0 | E30: =IF(COUNTIF(E$74:E$93,ROWS($1:30)),ROWS($1:30),) -> 30 | F30: =IF(COUNTIF(F$74:F$93,ROWS($1:30)),ROWS($1:30),) -> 0 | G30: =IF(COUNTIF(G$74:G$93,ROWS($1:30)),ROWS($1:30),) -> 0 | H30: =IF(COUNTIF(H$74:H$93,ROWS($1:30)),ROWS($1:30),) -> 0 | I30: =IF(COUNTIF(I$74:I$93,ROWS($1:30)),ROWS($1:30),) -> 30 | J30: =IF(COUNTIF(J$74:J$93,ROWS($1:30)),ROWS($1:30),) -> 0 | K30: =IF(COUNTIF(K$74:K$93,ROWS($1:30)),ROWS($1:30),) -> 0 | ... ND30: =IF(COUNTIF(ND$74:ND$93,ROWS($1:30)),ROWS($1:30),) -> 0
B31: 31 | D31: =IF(COUNTIF(D$74:D$93,ROWS($1:31)),ROWS($1:31),) -> 0 | E31: =IF(COUNTIF(E$74:E$93,ROWS($1:31)),ROWS($1:31),) -> 0 | F31: =IF(COUNTIF(F$74:F$93,ROWS($1:31)),ROWS($1:31),) -> 0 | G31: =IF(COUNTIF(G$74:G$93,ROWS($1:31)),ROWS($1:31),) -> 31 | H31: =IF(COUNTIF(H$74:H$93,ROWS($1:31)),ROWS($1:31),) -> 0 | I31: =IF(COUNTIF(I$74:I$93,ROWS($1:31)),ROWS($1:31),) -> 0 | J31: =IF(COUNTIF(J$74:J$93,ROWS($1:31)),ROWS($1:31),) -> 0 | K31: =IF(COUNTIF(K$74:K$93,ROWS($1:31)),ROWS($1:31),) -> 0 | ... ND31: =IF(COUNTIF(ND$74:ND$93,ROWS($1:31)),ROWS($1:31),) -> 0
B32: 32 | D32: =IF(COUNTIF(D$74:D$93,ROWS($1:32)),ROWS($1:32),) -> 0 | E32: =IF(COUNTIF(E$74:E$93,ROWS($1:32)),ROWS($1:32),) -> 0 | F32: =IF(COUNTIF(F$74:F$93,ROWS($1:32)),ROWS($1:32),) -> 32 | G32: =IF(COUNTIF(G$74:G$93,ROWS($1:32)),ROWS($1:32),) -> 0 | H32: =IF(COUNTIF(H$74:H$93,ROWS($1:32)),ROWS($1:32),) -> 32 | I32: =IF(COUNTIF(I$74:I$93,ROWS($1:32)),ROWS($1:32),) -> 0 | J32: =IF(COUNTIF(J$74:J$93,ROWS($1:32)),ROWS($1:32),) -> 0 | K32: =IF(COUNTIF(K$74:K$93,ROWS($1:32)),ROWS($1:32),) -> 0 | ... ND32: =IF(COUNTIF(ND$74:ND$93,ROWS($1:32)),ROWS($1:32),) -> 0
B33: 33 | D33: =IF(COUNTIF(D$74:D$93,ROWS($1:33)),ROWS($1:33),) -> 0 | E33: =IF(COUNTIF(E$74:E$93,ROWS($1:33)),ROWS($1:33),) -> 0 | F33: =IF(COUNTIF(F$74:F$93,ROWS($1:33)),ROWS($1:33),) -> 33 | G33: =IF(COUNTIF(G$74:G$93,ROWS($1:33)),ROWS($1:33),) -> 0 | H33: =IF(COUNTIF(H$74:H$93,ROWS($1:33)),ROWS($1:33),) -> 0 | I33: =IF(COUNTIF(I$74:I$93,ROWS($1:33)),ROWS($1:33),) -> 33 | J33: =IF(COUNTIF(J$74:J$93,ROWS($1:33)),ROWS($1:33),) -> 0 | K33: =IF(COUNTIF(K$74:K$93,ROWS($1:33)),ROWS($1:33),) -> 0 | ... ND33: =IF(COUNTIF(ND$74:ND$93,ROWS($1:33)),ROWS($1:33),) -> 0
B34: 34 | D34: =IF(COUNTIF(D$74:D$93,ROWS($1:34)),ROWS($1:34),) -> 0 | E34: =IF(COUNTIF(E$74:E$93,ROWS($1:34)),ROWS($1:34),) -> 34 | F34: =IF(COUNTIF(F$74:F$93,ROWS($1:34)),ROWS($1:34),) -> 0 | G34: =IF(COUNTIF(G$74:G$93,ROWS($1:34)),ROWS($1:34),) -> 0 | H34: =IF(COUNTIF(H$74:H$93,ROWS($1:34)),ROWS($1:34),) -> 34 | I34: =IF(COUNTIF(I$74:I$93,ROWS($1:34)),ROWS($1:34),) -> 34 | J34: =IF(COUNTIF(J$74:J$93,ROWS($1:34)),ROWS($1:34),) -> 0 | K34: =IF(COUNTIF(K$74:K$93,ROWS($1:34)),ROWS($1:34),) -> 0 | ... ND34: =IF(COUNTIF(ND$74:ND$93,ROWS($1:34)),ROWS($1:34),) -> 0
B35: 35 | D35: =IF(COUNTIF(D$74:D$93,ROWS($1:35)),ROWS($1:35),) -> 0 | E35: =IF(COUNTIF(E$74:E$93,ROWS($1:35)),ROWS($1:35),) -> 0 | F35: =IF(COUNTIF(F$74:F$93,ROWS($1:35)),ROWS($1:35),) -> 35 | G35: =IF(COUNTIF(G$74:G$93,ROWS($1:35)),ROWS($1:35),) -> 35 | H35: =IF(COUNTIF(H$74:H$93,ROWS($1:35)),ROWS($1:35),) -> 0 | I35: =IF(COUNTIF(I$74:I$93,ROWS($1:35)),ROWS($1:35),) -> 0 | J35: =IF(COUNTIF(J$74:J$93,ROWS($1:35)),ROWS($1:35),) -> 0 | K35: =IF(COUNTIF(K$74:K$93,ROWS($1:35)),ROWS($1:35),) -> 0 | ... ND35: =IF(COUNTIF(ND$74:ND$93,ROWS($1:35)),ROWS($1:35),) -> 0
B36: 36 | D36: =IF(COUNTIF(D$74:D$93,ROWS($1:36)),ROWS($1:36),) -> 0 | E36: =IF(COUNTIF(E$74:E$93,ROWS($1:36)),ROWS($1:36),) -> 0 | F36: =IF(COUNTIF(F$74:F$93,ROWS($1:36)),ROWS($1:36),) -> 0 | G36: =IF(COUNTIF(G$74:G$93,ROWS($1:36)),ROWS($1:36),) -> 0 | H36: =IF(COUNTIF(H$74:H$93,ROWS($1:36)),ROWS($1:36),) -> 0 | I36: =IF(COUNTIF(I$74:I$93,ROWS($1:36)),ROWS($1:36),) -> 0 | J36: =IF(COUNTIF(J$74:J$93,ROWS($1:36)),ROWS($1:36),) -> 0 | K36: =IF(COUNTIF(K$74:K$93,ROWS($1:36)),ROWS($1:36),) -> 0 | ... ND36: =IF(COUNTIF(ND$74:ND$93,ROWS($1:36)),ROWS($1:36),) -> 0
B37: 37 | D37: =IF(COUNTIF(D$74:D$93,ROWS($1:37)),ROWS($1:37),) -> 0 | E37: =IF(COUNTIF(E$74:E$93,ROWS($1:37)),ROWS($1:37),) -> 37 | F37: =IF(COUNTIF(F$74:F$93,ROWS($1:37)),ROWS($1:37),) -> 37 | G37: =IF(COUNTIF(G$74:G$93,ROWS($1:37)),ROWS($1:37),) -> 0 | H37: =IF(COUNTIF(H$74:H$93,ROWS($1:37)),ROWS($1:37),) -> 0 | I37: =IF(COUNTIF(I$74:I$93,ROWS($1:37)),ROWS($1:37),) -> 37 | J37: =IF(COUNTIF(J$74:J$93,ROWS($1:37)),ROWS($1:37),) -> 0 | K37: =IF(COUNTIF(K$74:K$93,ROWS($1:37)),ROWS($1:37),) -> 0 | ... ND37: =IF(COUNTIF(ND$74:ND$93,ROWS($1:37)),ROWS($1:37),) -> 0
B38: 38 | D38: =IF(COUNTIF(D$74:D$93,ROWS($1:38)),ROWS($1:38),) -> 0 | E38: =IF(COUNTIF(E$74:E$93,ROWS($1:38)),ROWS($1:38),) -> 0 | F38: =IF(COUNTIF(F$74:F$93,ROWS($1:38)),ROWS($1:38),) -> 0 | G38: =IF(COUNTIF(G$74:G$93,ROWS($1:38)),ROWS($1:38),) -> 0 | H38: =IF(COUNTIF(H$74:H$93,ROWS($1:38)),ROWS($1:38),) -> 0 | I38: =IF(COUNTIF(I$74:I$93,ROWS($1:38)),ROWS($1:38),) -> 0 | J38: =IF(COUNTIF(J$74:J$93,ROWS($1:38)),ROWS($1:38),) -> 0 | K38: =IF(COUNTIF(K$74:K$93,ROWS($1:38)),ROWS($1:38),) -> 0 | ... ND38: =IF(COUNTIF(ND$74:ND$93,ROWS($1:38)),ROWS($1:38),) -> 0
B39: 39 | D39: =IF(COUNTIF(D$74:D$93,ROWS($1:39)),ROWS($1:39),) -> 39 | E39: =IF(COUNTIF(E$74:E$93,ROWS($1:39)),ROWS($1:39),) -> 0 | F39: =IF(COUNTIF(F$74:F$93,ROWS($1:39)),ROWS($1:39),) -> 39 | G39: =IF(COUNTIF(G$74:G$93,ROWS($1:39)),ROWS($1:39),) -> 39 | H39: =IF(COUNTIF(H$74:H$93,ROWS($1:39)),ROWS($1:39),) -> 0 | I39: =IF(COUNTIF(I$74:I$93,ROWS($1:39)),ROWS($1:39),) -> 0 | J39: =IF(COUNTIF(J$74:J$93,ROWS($1:39)),ROWS($1:39),) -> 39 | K39: =IF(COUNTIF(K$74:K$93,ROWS($1:39)),ROWS($1:39),) -> 39 | ... ND39: =IF(COUNTIF(ND$74:ND$93,ROWS($1:39)),ROWS($1:39),) -> 0
B40: 40 | D40: =IF(COUNTIF(D$74:D$93,ROWS($1:40)),ROWS($1:40),) -> 0 | E40: =IF(COUNTIF(E$74:E$93,ROWS($1:40)),ROWS($1:40),) -> 0 | F40: =IF(COUNTIF(F$74:F$93,ROWS($1:40)),ROWS($1:40),) -> 0 | G40: =IF(COUNTIF(G$74:G$93,ROWS($1:40)),ROWS($1:40),) -> 0 | H40: =IF(COUNTIF(H$74:H$93,ROWS($1:40)),ROWS($1:40),) -> 0 | I40: =IF(COUNTIF(I$74:I$93,ROWS($1:40)),ROWS($1:40),) -> 0 | J40: =IF(COUNTIF(J$74:J$93,ROWS($1:40)),ROWS($1:40),) -> 0 | K40: =IF(COUNTIF(K$74:K$93,ROWS($1:40)),ROWS($1:40),) -> 0 | ... ND40: =IF(COUNTIF(ND$74:ND$93,ROWS($1:40)),ROWS($1:40),) -> 0
...

Sheet nb de fois
B1: Apparition après combien de jours !
B2: X fois | C2: 1 | D2: 2 | E2: 3 | F2: 4 | G2: 5 | H2: 6 | I2: 7 | J2: 8 | K2: 9 | L2: 10 | M2: 11 | N2: 12 | O2: 13 | P2: 14 | Q2: 15
A3: 1 | B3: =ROW()-2&" = "&COUNTIF(Banco!$D$74:$AI$93,ROW()-2)&" fois" -> 1 = 9 fois | C3: =Banco!AZ169 -> 3 | D3: =Banco!BA169 -> 1 | E3: =Banco!BB169 -> 1 | F3: =Banco!BC169 -> 2 | G3: =Banco!BD169 | H3: =Banco!BE169 | I3: =Banco!BF169 -> 2 | J3: =Banco!BG169 | ... Q3: =Banco!BN169
A4: 2 | B4: =ROW()-2&" = "&COUNTIF(Banco!$D$74:$AI$93,ROW()-2)&" fois" -> 2 = 5 fois | C4: =Banco!AZ170 -> 1 | D4: =Banco!BA170 -> 1 | E4: =Banco!BB170 | F4: =Banco!BC170 | G4: =Banco!BD170 | H4: =Banco!BE170 -> 1 | I4: =Banco!BF170 | J4: =Banco!BG170 -> 1 | ... Q4: =Banco!BN170
A5: 3 | B5: =ROW()-2&" = "&COUNTIF(Banco!$D$74:$AI$93,ROW()-2)&" fois" -> 3 = 10 fois | C5: =Banco!AZ171 -> 4 | D5: =Banco!BA171 -> 1 | E5: =Banco!BB171 -> 3 | F5: =Banco!BC171 | G5: =Banco!BD171 -> 2 | H5: =Banco!BE171 | I5: =Banco!BF171 | J5: =Banco!BG171 | ... Q5: =Banco!BN171
A6: 4 | B6: =ROW()-2&" = "&COUNTIF(Banco!$D$74:$AI$93,ROW()-2)&" fois" -> 4 = 6 fois | C6: =Banco!AZ172 -> 3 | D6: =Banco!BA172 | E6: =Banco!BB172 | F6: =Banco!BC172 -> 1 | G6: =Banco!BD172 -> 1 | H6: =Banco!BE172 | I6: =Banco!BF172 | J6: =Banco!BG172 | ... Q6: =Banco!BN172 -> 1
A7: 5 | B7: =ROW()-2&" = "&COUNTIF(Banco!$D$74:$AI$93,ROW()-2)&" fois" -> 5 = 10 fois | C7: =Banco!AZ173 -> 3 | D7: =Banco!BA173 -> 2 | E7: =Banco!BB173 -> 1 | F7: =Banco!BC173 -> 2 | G7: =Banco!BD173 -> 1 | H7: =Banco!BE173 | I7: =Banco!BF173 | J7: =Banco!BG173 | ... Q7: =Banco!BN173
A8: 6 | B8: =ROW()-2&" = "&COUNTIF(Banco!$D$74:$AI$93,ROW()-2)&" fois" -> 6 = 10 fois | C8: =Banco!AZ174 -> 3 | D8: =Banco!BA174 -> 2 | E8: =Banco!BB174 -> 3 | F8: =Banco!BC174 -> 2 | G8: =Banco!BD174 | H8: =Banco!BE174 | I8: =Banco!BF174 | J8: =Banco!BG174 | ... Q8: =Banco!BN174
A9: 7 | B9: =ROW()-2&" = "&COUNTIF(Banco!$D$74:$AI$93,ROW()-2)&" fois" -> 7 = 5 fois | C9: =Banco!AZ175 -> 2 | D9: =Banco!BA175 | E9: =Banco!BB175 | F9: =Banco!BC175 -> 1 | G9: =Banco!BD175 | H9: =Banco!BE175 -> 1 | I9: =Banco!BF175 | J9: =Banco!BG175 -> 1 | ... Q9: =Banco!BN175
A10: 8 | B10: =ROW()-2&" = "&COUNTIF(Banco!$D$74:$AI$93,ROW()-2)&" fois" -> 8 = 7 fois | C10: =Banco!AZ176 -> 4 | D10: =Banco!BA176 | E10: =Banco!BB176 | F10: =Banco!BC176 | G10: =Banco!BD176 -> 1 | H10: =Banco!BE176 -> 1 | I10: =Banco!BF176 | J10: =Banco!BG176 | ... Q10: =Banco!BN176
A11: 9 | B11: =ROW()-2&" = "&COUNTIF(Banco!$D$74:$AI$93,ROW()-2)&" fois" -> 9 = 11 fois | C11: =Banco!AZ177 -> 4 | D11: =Banco!BA177 -> 3 | E11: =Banco!BB177 -> 1 | F11: =Banco!BC177 | G11: =Banco!BD177 -> 3 | H11: =Banco!BE177 | I11: =Banco!BF177 | J11: =Banco!BG177 | ... Q11: =Banco!BN177
A12: 10 | B12: =ROW()-2&" = "&COUNTIF(Banco!$D$74:$AI$93,ROW()-2)&" fois" -> 10 = 8 fois | C12: =Banco!AZ178 -> 2 | D12: =Banco!BA178 -> 2 | E12: =Banco!BB178 -> 1 | F12: =Banco!BC178 | G12: =Banco!BD178 -> 1 | H12: =Banco!BE178 -> 1 | I12: =Banco!BF178 | J12: =Banco!BG178 | ... Q12: =Banco!BN178
A13: 11 | B13: =ROW()-2&" = "&COUNTIF(Banco!$D$74:$AI$93,ROW()-2)&" fois" -> 11 = 9 fois | C13: =Banco!AZ179 -> 3 | D13: =Banco!BA179 -> 1 | E13: =Banco!BB179 -> 1 | F13: =Banco!BC179 -> 1 | G13: =Banco!BD179 -> 1 | H13: =Banco!BE179 | I13: =Banco!BF179 | J13: =Banco!BG179 | ... Q13: =Banco!BN179
A14: 12 | B14: =ROW()-2&" = "&COUNTIF(Banco!$D$74:$AI$93,ROW()-2)&" fois" -> 12 = 10 fois | C14: =Banco!AZ180 -> 4 | D14: =Banco!BA180 -> 2 | E14: =Banco!BB180 -> 1 | F14: =Banco!BC180 -> 2 | G14: =Banco!BD180 | H14: =Banco!BE180 -> 1 | I14: =Banco!BF180 | J14: =Banco!BG180 | ... Q14: =Banco!BN180
... A72: 70 | B72: =ROW()-2&" = "&COUNTIF(Banco!$D$74:$AI$93,ROW()-2)&" fois" -> 70 = 12 fois | C72: =Banco!AZ238 -> 5 | D72: =Banco!BA238 -> 3 | E72: =Banco!BB238 -> 2 | F72: =Banco!BC238 -> 1 | G72: =Banco!BD238 | H72: =Banco!BE238 | I72: =Banco!BF238 | J72: =Banco!BG238 | ... Q72: =Banco!BN238
