Workbook

Sheet (11) Novembre
B1: C. | C1: Tonnage | D1: Nombre Tonnage | G1: C. | H1: Tonnage | I1: Nombre Tonnage | L1: C. | M1: Tonnage | N1: Nombre Tonnage | Q1: C. | R1: Tonnage | S1: Nombre Tonnage | V1: C. | W1: Tonnage | X1: Nombre Tonnage | AA1: C. | AB1: Tonnage | AC1: Nombre Tonnage
A2: BARBENTANE | C2: =C3+C12+C19+C34+C44+C51+C54+C57 -> 136.002 | D2: =D3+D12+D19+D34+D44+D51+D54+D57 -> 28 | F2: CHATEAURENARD | H2: =H3+H12+H19+H34+H44+H51+H57+H54 -> 182.913 | I2: =I3+I12+I19+I34+I44+I51+I57+I54 -> 39 | K2: MOLLEGES | M2: =SUM(M3,M12,M57,M19,M34,M44,M54) -> 170.7 | N2: =SUM(N3,N12,N57,N19,N34,N44,N54) -> 27 | P2: EYRAGUES | R2: =SUM(R3,R12,R19,R34,R44,R54,R57) -> 140.28 | S2: =SUM(S3,S12,S19,S34,S44,S54,S57) -> 34 | U2: MAILLANE | W2: =SUM(W3,W12,W19,W34,W54,W44,W57) -> 100.82 | X2: =SUM(X3,X12,X19,X34,X54,X44,X57) -> 22 | Z2: SERVICES TECHNIQUES | AB2: =AB3+AB8+AB12+AB16 -> 17.762 | AC2: =AC3+AC8+AC12+AC16 -> 5
A3: Bois de classe B | C3: =SUM(C4:C11) -> 10.6 | D3: =SUM(D4:D11) -> 2 | F3: Bois de classe B | H3: =SUM(H4:H11) -> 14.68 | I3: =SUM(I4:I11) -> 3 | K3: Bois de classe B | M3: =SUM(M4:M11) -> 9.72 | N3: =SUM(N4:N11) -> 2 | P3: Bois de classe B | R3: =SUM(R4:R10) -> 16.08 | S3: =SUM(S4:S10) -> 4 | U3: Bois de classe B | W3: =SUM(W4:W10) -> 9.36 | X3: =SUM(X4:X10) -> 3 | Z3: Déchets verts | AB3: =SUM(AB4:AB7) -> 6.94 | AC3: =SUM(AC4:AC7) -> 2
A4: 45602 | B4: David | C4: 5.92 | D4: 1 | F4: 45601 | G4: David | H4: 5.1 | I4: 1 | K4: 45602 | L4: Mickael | M4: 4.96 | N4: 1 | P4: 45600 | Q4: Mickael | R4: 3.26 | S4: 1 | U4: 45600 | V4: David | W4: 3.3 | X4: 1 | Z4: 45600 | AA4: Mickael | AB4: 3.6 | AC4: 1
A5: 45608 | B5: David | C5: 4.68 | D5: 1 | F5: 45603 | G5: David | H5: 4.34 | I5: 1 | K5: 45610 | L5: Mickael | M5: 4.76 | N5: 1 | P5: 45602 | Q5: Mickael | R5: 4.62 | S5: 1 | U5: 45601 | V5: David | W5: 3 | X5: 1 | Z5: 45604 | AA5: David | AB5: 3.34 | AC5: 1
F6: 45610 | G6: Anthony | H6: 5.24 | I6: 1 | P6: 45608 | Q6: Mickael | R6: 4.66 | S6: 1 | U6: 45608 | V6: David | W6: 3.06 | X6: 1
P7: 45611 | Q7: Mickael | R7: 3.54 | S7: 1
Z8: Carton, CCR triés | AB8: =SUM(AB9:AB10) -> 2.362 | AC8: =SUM(AC9:AC10) -> 1
Z9: 45609 | AA9: Mickael | AB9: 2.362 | AC9: 1
A12: Carton, CCR triés | C12: =SUM(C13:C18) -> 1.832 | D12: =SUM(D13:D18) -> 2 | F12: Carton, CCR triés | H12: =SUM(H13:H18) -> 3.64 | I12: =SUM(I13:I18) -> 2 | K12: Carton, CCR triés | M12: =SUM(M13:M18) -> 5.18 | N12: =SUM(N13:N18) -> 2 | P12: Carton, CCR triés | R12: =SUM(R13:R17) -> 4.72 | S12: =SUM(S13:S17) -> 2 | U12: Carton, CCR triés | W12: =SUM(W13:W17) -> 3.22 | X12: =SUM(X13:X17) -> 1 | Z12: OM | AB12: =SUM(AB13:AB15) -> 1.64 | AC12: =SUM(AC13:AC15) -> 1
A13: 45600 | B13: David | C13: 1.067 | D13: 1 | F13: 45602 | G13: Mickael | H13: 1.86 | I13: 1 | K13: 45602 | L13: Mickael | M13: 3.08 | N13: 1 | P13: 45602 | Q13: Mickael | R13: 2.4 | S13: 1 | U13: 45609 | V13: Mickael | W13: 3.22 | X13: 1 | Z13: 45604 | AA13: Mickael | AB13: 1.64 | AC13: 1
A14: 45611 | B14: David | C14: 0.765 | D14: 1 | F14: 45610 | G14: Anthony | H14: 1.78 | I14: 1 | K14: 45612 | L14: Mickael | M14: 2.1 | N14: 1 | P14: 45609 | Q14: Mickael | R14: 2.32 | S14: 1
Z16: Encombrants et DEA | AB16: =SUM(AB17:AB20) -> 6.82 | AC16: =SUM(AC17:AC20) -> 1
Z17: 45603 | AA17: Mickael | AB17: 6.82 | AC17: 1
A19: Déchets verts | C19: =SUM(C20:C33) -> 53.94 | D19: =SUM(D20:D33) -> 12 | F19: Déchets verts | H19: =SUM(H20:H33) -> 62.72 | I19: =SUM(I20:I33) -> 12 | K19: Déchets Verts | M19: =SUM(M20:M33) -> 88.22 | N19: =SUM(N20:N33) -> 12 | P19: Déchets verts | R19: =SUM(R20:R33) -> 65.06 | S19: =SUM(S20:S33) -> 16 | U19: Déchets Verts | W19: =SUM(W20:W33) -> 52.06 | X19: =SUM(X20:X33) -> 11
A20: 45598 | B20: Mickael | C20: 5.52 | D20: 1 | F20: 45600 | G20: David | H20: =5.82+6.56 -> 12.38 | I20: 2 | K20: 45598 | L20: Mickael | M20: 6.22 | N20: 1 | P20: 45598 | Q20: Mickael | R20: 7.14 | S20: 2 | U20: 45598 | V20: Mickael | W20: 4.66 | X20: 1
A21: 45600 | B21: David | C21: 4.56 | D21: 1 | F21: 45602 | G21: Dorian | H21: =5.9+5.66 -> 11.56 | I21: 2 | K21: 45600 | L21: Mickael | M21: 5.84 | N21: 1 | P21: 45600 | Q21: Mickael | R21: 4.14 | S21: 1 | U21: 45601 | V21: David | W21: 9.16 | X21: 2 | Z21: TOTAL PLTES | AC21: =SUM(AC16,AC8,AC3,X44,X54,X34,X19,X12,X3,S44,S34,S19,S12,S3,N44,N34,N19,N12,I44,I34,I19,I12,I3,D34,D19,D12,X57,S57,S54,N54,N57,N3,I54,I57,I51,D54,D51,D44,D3,AC12) -> 155
A22: 45601 | B22: David | C22: 5.16 | D22: 1 | F22: 45604 | G22: David | H22: =5.28+4.02 -> 9.3 | I22: 2 | K22: 45601 | L22: Mickael | M22: 28.34 | N22: 2 | P22: 45601 | Q22: David | R22: =4.22+4.58+2.7 -> 11.5 | S22: 3 | U22: 45602 | V22: Dorian | W22: 4.26 | X22: 1 | AB22: =SUM(AB13:AB15,AB17:AB20,W58:W62,W55:W56,W45:W53,W35:W43,W20:W33,W13:W18,W4:W11,R55:R56,R58:R61,R45:R53,R35:R43,R20:R33,R13:R18,R4:R11,M55:M56,M45:M53,M35:M43,M20:M33,M4:M11,M13:M18,M58:M64,H55:H56,H52:H53,H45:H50,H35:H43,H20:H33,H13:H18,H4:H11,C55:C64,C52:C53,C45:C50,C35:C43,C20:C33,C13:C18,C4:C11,AB9:AB11,AB4:AB7,H58:H64) -> 743.817 | AC22: =SUM(AC2,X2,S2,N2,I2,D2) -> 155
A23: 45602 | B23: Dorian | C23: 4.22 | D23: 1 | F23: 45605 | G23: Mickael | H23: 4.62 | I23: 1 | K23: 45603 | L23: Mickael | M23: 12.64 | N23: 2 | P23: 45603 | Q23: Mickael | R23: 8.78 | S23: 2 | U23: 45603 | V23: David | W23: 4.36 | X23: 1
A24: 45603 | B24: David | C24: 5.44 | D24: 1 | F24: 45608 | G24: David | H24: 4.34 | I24: 1 | K24: 45604 | L24: Mickael | M24: 5.82 | N24: 1 | P24: 45604 | Q24: Mickael | R24: 3.56 | S24: 1 | U24: 45605 | V24: Mickael | W24: 5.72 | X24: 1
A25: 45604 | B25: David | C25: 4.86 | D25: 1 | F25: 45609 | G25: Dorian | H25: 5.06 | I25: 1 | K25: 45608 | L25: Mickael | M25: 11.46 | N25: 2 | P25: 45605 | Q25: Mickael | R25: 5.04 | S25: 1 | U25: 45608 | V25: David | W25: 5.96 | X25: 1
A26: 45605 | B26: Mickael | C26: 5.2 | D26: 1 | F26: 45609 | G26: David | H26: 5.76 | I26: 1 | K26: 45609 | L26: Mickael | M26: 4.44 | N26: 1 | P26: 45608 | Q26: Mickael | R26: 4.34 | S26: 1 | U26: 45609 | V26: Anthony | W26: 4.38 | X26: 1
A27: 45608 | B27: David | C27: 4.12 | D27: 1 | F27: 45611 | G27: David | H27: =4.54+5.16 -> 9.7 | I27: 2 | K27: 45612 | L27: David | M27: 13.46 | N27: 2 | P27: 45609 | Q27: Mickael | R27: =6.04+4.82 -> 10.86 | S27: 2 | U27: 45610 | V27: David | W27: 4.52 | X27: 1
A28: 45609 | B28: Dorian | C28: 4.58 | D28: 1 | P28: 45611 | Q28: Mickael | R28: 6.54 | S28: 2 | U28: 45612 | V28: David | W28: 9.04 | X28: 2
A29: 45610 | B29: David | C29: 3.26 | D29: 1 | P29: 45612 | Q29: David | R29: 3.16 | S29: 1
A30: 45611 | B30: David | C30: 3.66 | D30: 1
A31: 45612 | B31: David | C31: 3.36 | D31: 1
A34: Encombrants | C34: =SUM(C35:C43) -> 35.74 | D34: =SUM(D35:D43) -> 7 | F34: Encombrants | H34: =SUM(H35:H43) -> 53.9 | I34: =SUM(I35:I43) -> 11 | K34: Encombrants | M34: =SUM(M35:M43) -> 38.94 | N34: =SUM(N35:N43) -> 7 | P34: Encombrants | R34: =SUM(R35:R43) -> 31.38 | S34: =SUM(S35:S43) -> 8 | U34: Encombrants | W34: =SUM(W35:W43) -> 16.98 | X34: =SUM(X35:X43) -> 4
A35: 45600 | B35: David | C35: 8.28 | D35: 1 | F35: 45600 | G35: David | H35: 6.44 | I35: 1 | K35: 45600 | L35: Mickael | M35: 6.32 | N35: 1 | P35: 45600 | Q35: Mickael | R35: =4.46+3.04 -> 7.5 | S35: 2 | U35: 45602 | V35: David | W35: =3.84+4.92 -> 8.76 | X35: 2
A36: 45603 | B36: David | C36: =3.32+4.48 -> 7.8 | D36: 2 | F36: 45601 | G36: David | H36: =3.58+4.94 -> 8.52 | I36: 2 | K36: 45601 | L36: Mickael | M36: 7.54 | N36: 1 | P36: 45601 | Q36: Mickael | R36: 4.56 | S36: 1 | U36: 45608 | V36: David | W36: 3.84 | X36: 1
A37: 45604 | B37: David | C37: 5.06 | D37: 1 | F37: 45602 | G37: David | H37: =5.52+6.84 -> 12.36 | I37: 2 | K37: 45604 | L37: Mickael | M37: 4.52 | N37: 1 | P37: 45602 | Q37: Mickael | R37: =3.42+4.1 -> 7.52 | S37: 2 | U37: 45609 | V37: Mickael | W37: 4.38 | X37: 1
A38: 45608 | B38: David | C38: 5.02 | D38: 1 | F38: 45604 | G38: David | H38: 6.34 | I38: 1 | K38: 45608 | L38: Mickael | M38: 5.86 | N38: 1 | P38: 45604 | Q38: Mickael | R38: 4.34 | S38: 1
A39: 45610 | B39: David | C39: 5.9 | D39: 1 | F39: 45609 | G39: David | H39: =4.04+5.3 -> 9.34 | I39: 2 | K39: 45610 | L39: Mickael | M39: =5.62+2.8 -> 8.42 | N39: 2 | P39: 45608 | Q39: Mickael | R39: 4.66 | S39: 1
A40: 45611 | B40: David | C40: 3.68 | D40: 1 | F40: 45610 | G40: Anthony | H40: =3.8+2.84 -> 6.64 | I40: 2 | K40: 45611 | L40: Mickael | M40: 6.28 | N40: 1 | P40: 45611 | Q40: Mickael | R40: 2.8 | S40: 1
F41: 45611 | G41: David | H41: 4.26 | I41: 1
A44: Gravats | C44: =SUM(C45:C50) -> 27.88 | D44: =SUM(D45:D50) -> 3 | F44: Gravats | H44: =SUM(H45:H53) -> 45.64 | I44: =SUM(I45:I53) -> 7 | K44: Gravats | M44: =SUM(M45:M53) -> 28.64 | N44: =SUM(N45:N53) -> 4 | P44: Gravats | R44: =SUM(R45:R52) -> 18.5 | S44: =SUM(S45:S52) -> 3 | U44: Gravats | W44: =SUM(W45:W52) -> 16 | X44: =SUM(X45:X52) -> 2
A45: 45600 | B45: David | C45: 9.56 | D45: 1 | F45: 45600 | G45: David | H45: 7.98 | I45: 1 | K45: 45601 | L45: Mickael | M45: =6.1+7.4 -> 13.5 | N45: 2 | P45: 45603 | Q45: Mickael | R45: 7.02 | S45: 1 | U45: 45602 | V45: David | W45: 9 | X45: 1
A46: 45602 | B46: David | C46: 9.04 | D46: 1 | F46: 45603 | G46: David | H46: 6.06 | I46: 1 | K46: 45603 | L46: Mickael | M46: 8.48 | N46: 1 | P46: 45610 | Q46: Mickael | R46: =5.88+5.6 -> 11.48 | S46: 2 | U46: 45610 | V46: David | W46: 7 | X46: 1
A47: 45609 | B47: David | C47: 9.28 | D47: 1 | F47: 45609 | G47: David | H47: =10.28+10.32 -> 20.6 | I47: 2 | K47: 45608 | L47: Mickael | M47: 6.66 | N47: 1
F48: 45611 | G48: David | H48: 6.34 | I48: 1
...

Sheet (11) Total
D2: Barbentane | E2: Chateaurenard | F2: Molleges | G2: Eyragues | H2: Maillane | I2: Serv. Techni. | N2: Tarifs | O2: Mickael | P2: David | Q2: Dorian | R2: Anthony | S2: Arnaud | T2: Jérémy
B3: Bois de classe B | C3: =SUM('(11) Novembre'!S3,'(11) Novembre'!X3,'(11) Novembre'!N3,'(11) Novembre'!I3,'(11) Novembre'!D3) -> 14 | D3: ='(11) Novembre'!D3 -> 2 | E3: ='(11) Novembre'!I3 -> 3 | F3: ='(11) Novembre'!N3 -> 2 | G3: ='(11) Novembre'!S3 -> 4 | H3: ='(11) Novembre'!X3 -> 3 | I3: - | J3: =SUM(D3:I3) -> 14 | M3: Bois de classe B | N3: 144.94
B5: Carton, CCR triés | C5: =SUM('(11) Novembre'!D12,'(11) Novembre'!I12,'(11) Novembre'!N12,'(11) Novembre'!S12,'(11) Novembre'!X12,'(11) Novembre'!AC8) -> 10 | D5: ='(11) Novembre'!D12 -> 2 | E5: ='(11) Novembre'!I12 -> 2 | F5: ='(11) Novembre'!N12 -> 2 | G5: ='(11) Novembre'!S12 -> 2 | H5: ='(11) Novembre'!X12 -> 1 | I5: ='(11) Novembre'!AC8 -> 1 | J5: =SUM(D5:I5) -> 10 | M5: Carton, CCR triés | N5: 147.38
B7: Déchets verts | C7: =SUM('(11) Novembre'!D19,'(11) Novembre'!I19,'(11) Novembre'!N19,'(11) Novembre'!S19,'(11) Novembre'!X19,'(11) Novembre'!AC3) -> 65 | D7: ='(11) Novembre'!D19 -> 12 | E7: ='(11) Novembre'!I19 -> 12 | F7: ='(11) Novembre'!N19 -> 12 | G7: ='(11) Novembre'!S19 -> 16 | H7: ='(11) Novembre'!X19 -> 11 | I7: ='(11) Novembre'!AC3 -> 2 | J7: =SUM(D7:I7) -> 65 | M7: Déchets verts | N7: 133.98
B9: Encombrants et DEA | C9: =SUM('(11) Novembre'!S34,'(11) Novembre'!X34,'(11) Novembre'!AC16,'(11) Novembre'!D34,'(11) Novembre'!I34,'(11) Novembre'!N34) -> 38 | D9: ='(11) Novembre'!D34 -> 7 | E9: ='(11) Novembre'!I34 -> 11 | F9: ='(11) Novembre'!N34 -> 7 | G9: ='(11) Novembre'!S34 -> 8 | H9: ='(11) Novembre'!X34 -> 4 | I9: ='(11) Novembre'!AC16 -> 1 | J9: =SUM(D9:I9) -> 38 | M9: Encombrants et DEA | N9: 133.98
B11: Gravats en mélange inertes | C11: =SUM('(11) Novembre'!S44,'(11) Novembre'!X44,'(11) Novembre'!N44,'(11) Novembre'!I44,'(11) Novembre'!D44) -> 19 | D11: ='(11) Novembre'!D44 -> 3 | E11: ='(11) Novembre'!I44 -> 7 | F11: ='(11) Novembre'!N44 -> 4 | G11: ='(11) Novembre'!S44 -> 3 | H11: ='(11) Novembre'!X44 -> 2 | I11: - | J11: =SUM(D11:I11) -> 19 | M11: Gravats en mélange inertes | N11: 140.07
B13: Ferrailles légères/Métaux | C13: =SUM('(11) Novembre'!D54,'(11) Novembre'!I54,'(11) Novembre'!N54,'(11) Novembre'!S54,'(11) Novembre'!X54) -> 3 | D13: ='(11) Novembre'!D54 -> 1 | E13: ='(11) Novembre'!I54 -> 0 | F13: ='(11) Novembre'!N54 -> 0 | G13: ='(11) Novembre'!S54 -> 1 | H13: ='(11) Novembre'!X54 -> 1 | I13: - | J13: =SUM(D13:I13) -> 3 | M13: Ferrailles légères/Métaux | N13: 149.81
B15: Pneus | C15: =SUM('(11) Novembre'!D51,'(11) Novembre'!I51) -> 2 | D15: ='(11) Novembre'!D51 -> 1 | E15: ='(11) Novembre'!I51 -> 1 | F15: - | G15: - | H15: - | I15: - | J15: =SUM(D15:I15) -> 2 | M15: Pneus | N15: 144.94
B17: Plastiques | C17: =SUM('(11) Novembre'!X57,'(11) Novembre'!S57,'(11) Novembre'!D57,'(11) Novembre'!I57,'(11) Novembre'!N57) -> 3 | D17: ='(11) Novembre'!D57 -> 0 | E17: ='(11) Novembre'!I57 -> 3 | F17: ='(11) Novembre'!N57 -> 0 | G17: ='(11) Novembre'!S57 -> 0 | H17: ='(11) Novembre'!X57 -> 0 | I17: - | J17: =SUM(D17:I17) -> 3 | M17: Plastiques | N17: 133.98
B19: OM Mollègues | C19: ='(11) Novembre'!AC12 -> 1 | D19: - | E19: - | F19: - | G19: - | H19: - | I19: ='(11) Novembre'!AC12 -> 1 | J19: =SUM(D19:I19) -> 1 | M19: OM Mollègues | N19: 132.15
D20: =SUM(D3:D19) -> 28 | E20: =SUM(E3:E19) -> 39 | F20: =SUM(F3:F19) -> 27 | G20: =SUM(G3:G19) -> 34 | H20: =SUM(H3:H19) -> 22 | I20: =SUM(I3:I19) -> 5
D22: TOTAL GENERAL NOVEMBRE | F22: =SUM(C3:C19) -> 155
