Workbook

Sheet CALCUL FACONS
A1: NOM:
A2: DATE DE CLOTURE: | B2: 45626
A4: CALCUL DES FACONS CULTURALES
A7: Cultures | B7: Surfaces | C7: Coût | D7: Total
A8: Blé hiver | C8: =IFERROR(INDEX(COUTS!B7:M19,MATCH('CALCUL FACONS'!A8,COUTS!A7:A19,0),MATCH('CALCUL FACONS'!$B$2,COUTS!$B$5:$C$5)),"") -> 168 | D8: =B8*C8 -> 0
A9: Escourgeon | C9: =IFERROR(INDEX(COUTS!B8:K20,MATCH('CALCUL FACONS'!A9,COUTS!A8:A20,0),MATCH('CALCUL FACONS'!$B$2,COUTS!$B$5:$C$5)),"") -> 168 | D9: =B9*C9 -> 0
A10: Orge printemps | C10: =IFERROR(INDEX(COUTS!B9:K21,MATCH('CALCUL FACONS'!A10,COUTS!A9:A21,0),MATCH('CALCUL FACONS'!$B$2,COUTS!$B$5:$C$5)),"") -> 0 | D10: =B10*C10 -> 0
A11: Avoine | C11: =IFERROR(INDEX(COUTS!B10:K22,MATCH('CALCUL FACONS'!A11,COUTS!A10:A22,0),MATCH('CALCUL FACONS'!$B$2,COUTS!$B$5:$C$5)),"") -> 0 | D11: =B11*C11 -> 0
A12: Colza hiver | C12: =IFERROR(INDEX(COUTS!B11:K23,MATCH('CALCUL FACONS'!A12,COUTS!A11:A23,0),MATCH('CALCUL FACONS'!$B$2,COUTS!$B$5:$C$5)),"") -> 279 | D12: =B12*C12 -> 0
A13: Tournesol | C13: =IFERROR(INDEX(COUTS!B12:K24,MATCH('CALCUL FACONS'!A13,COUTS!A12:A24,0),MATCH('CALCUL FACONS'!$B$2,COUTS!$B$5:$C$5)),"") -> 153 | D13: =B13*C13 -> 0
A14: Maïs grain | C14: =IFERROR(INDEX(COUTS!B13:K25,MATCH('CALCUL FACONS'!A14,COUTS!A13:A25,0),MATCH('CALCUL FACONS'!$B$2,COUTS!$B$5:$C$5)),"") -> 153 | D14: =B14*C14 -> 0
A15: Maïs ensilage | C15: =IFERROR(INDEX(COUTS!B14:K26,MATCH('CALCUL FACONS'!A15,COUTS!A14:A26,0),MATCH('CALCUL FACONS'!$B$2,COUTS!$B$5:$C$5)),"") -> 153 | D15: =B15*C15 -> 0
A16: Pois printemps | C16: =IFERROR(INDEX(COUTS!B15:K27,MATCH('CALCUL FACONS'!A16,COUTS!A15:A27,0),MATCH('CALCUL FACONS'!$B$2,COUTS!$B$5:$C$5)),"") -> 0 | D16: =B16*C16 -> 0
A17: Féverolles | C17: =IFERROR(INDEX(COUTS!B16:K28,MATCH('CALCUL FACONS'!A17,COUTS!A16:A28,0),MATCH('CALCUL FACONS'!$B$2,COUTS!$B$5:$C$5)),"") -> 0 | D17: =B17*C17 -> 0
A18: Triticales | C18: =IFERROR(INDEX(COUTS!B17:K29,MATCH('CALCUL FACONS'!A18,COUTS!A17:A29,0),MATCH('CALCUL FACONS'!$B$2,COUTS!$B$5:$C$5)),"") -> 168 | D18: =B18*C18 -> 0
A19: Prairies temporaires semis d'automne | C19: =IFERROR(INDEX(COUTS!B18:K30,MATCH('CALCUL FACONS'!A19,COUTS!A18:A30,0),MATCH('CALCUL FACONS'!$B$2,COUTS!$B$5:$C$5)),"") -> 252 | D19: =B19*C19 -> 0
A20: Prairies temporaires semis printemps | C20: =IFERROR(INDEX(COUTS!B19:K31,MATCH('CALCUL FACONS'!A20,COUTS!A19:A31,0),MATCH('CALCUL FACONS'!$B$2,COUTS!$B$5:$C$5)),"") -> 0 | D20: =B20*C20 -> 0
C21: 0 | D21: =B21*C21 -> 0
C22: 0 | D22: =B22*C22 -> 0
C23: 0 | D23: =B23*C23 -> 0
C24: 0 | D24: =B24*C24 -> 0
A25: TOTAUX | B25: =SUM(B8:B24) -> 0 | D25: =SUM(D8:D24) -> 0

Sheet COUTS
A1: COUT DES FACONS CULTURALES 2024 2025
B5: 45535 | C5: 45565 | D5: 45596 | E5: 45626 | F5: 45657 | G5: 45688 | H5: 29/02/2025 | I5: 45747 | J5: 45777 | K5: 45808 | L5: 45838 | M5: 45869
A6: CULTURES
A7: Blé hiver | B7: 0 | C7: 168 | D7: 248 | E7: 248 | F7: 248 | G7: 248 | H7: 257 | I7: 284 | J7: 299 | K7: 299 | L7: 299 | M7: 299
A8: Escourgeon | B8: 0 | C8: 168 | D8: 248 | E8: 248 | F8: 248 | G8: 248 | H8: 257 | I8: 284 | J8: 299 | K8: 299 | L8: 299 | M8: 299
A9: Orge printemps | B9: 0 | C9: 0 | D9: 0 | E9: 0 | F9: 0 | G9: 0 | H9: 198 | I9: 213 | J9: 226 | K9: 235 | L9: 235 | M9: 235
A10: Avoine | B10: 0 | C10: 0 | D10: 0 | E10: 0 | F10: 0 | G10: 0 | H10: 198 | I10: 213 | J10: 226 | K10: 235 | L10: 235 | M10: 235
A11: Colza hiver | B11: 268 | C11: 279 | D11: 279 | E11: 279 | F11: 279 | G11: 279 | H11: 288 | I11: 306 | J11: 315 | K11: 315 | L11: 315 | M11: 315
A12: Tournesol | B12: 153 | C12: 153 | D12: 153 | E12: 0 | F12: 0 | G12: 0 | H12: 113 | I12: 138 | J12: 180 | K12: 189 | L12: 198 | M12: 198
A13: Maïs grain | B13: 153 | C13: 153 | D13: 153 | E13: 0 | F13: 0 | G13: 0 | H13: 113 | I13: 138 | J13: 180 | K13: 189 | L13: 198 | M13: 198
A14: Maïs ensilage | B14: 153 | C14: 153 | D14: 153 | E14: 0 | F14: 0 | G14: 0 | H14: 113 | I14: 138 | J14: 180 | K14: 189 | L14: 198 | M14: 198
A15: Pois printemps | B15: 0 | C15: 0 | D15: 0 | E15: 0 | F15: 0 | G15: 0 | H15: 102 | I15: 208 | J15: 217 | K15: 222 | L15: 226 | M15: 226
A16: Féverolles | B16: 0 | C16: 0 | D16: 0 | E16: 0 | F16: 0 | G16: 0 | H16: 102 | I16: 208 | J16: 217 | K16: 222 | L16: 226 | M16: 226
A17: Triticales | B17: 0 | C17: 168 | D17: 248 | E17: 248 | F17: 248 | G17: 248 | H17: 257 | I17: 284 | J17: 299 | K17: 299 | L17: 299 | M17: 299
A18: Prairies temporaires semis d'automne | B18: 168 | C18: 252 | D18: 252 | E18: 252 | F18: 252 | G18: 252 | H18: 252 | I18: 258 | J18: 258 | K18: 0 | L18: 0 | M18: 0
A19: Prairies temporaires semis printemps | B19: 0 | C19: 0 | D19: 0 | E19: 0 | F19: 0 | G19: 0 | H19: 185 | I19: 200 | J19: 209 | K19: 209 | L19: 209 | M19: 209
