Workbook

Sheet Graph
C2: 1 | D2: 2 | E2: 3 | F2: 4 | G2: 5 | H2: 6 | I2: 7 | J2: 8
B3: 10 | C3: =VLOOKUP($B3,'Donnée 1'!$B$2:$F$19,2,FALSE) -> 0.8059564 | D3: =VLOOKUP($B3,'Donnée 1'!$B$2:$F$19,2,FALSE) -> 0.8059564 | E3: =VLOOKUP($B3,'Donnée 1'!$B$2:$F$19,2,FALSE) -> 0.8059564 | F3: =VLOOKUP($B3,'Donnée 1'!$B$2:$F$19,2,FALSE) -> 0.8059564 | G3: =VLOOKUP($B3,'Donnée 2'!$B$2:$F$20,2,FALSE) -> 0 | H3: =VLOOKUP($B3,'Donnée 2'!$B$2:$F$20,3,FALSE) -> 0 | I3: =VLOOKUP($B3,'Donnée 2'!$B$2:$F$20,4,FALSE) -> 0.93664412 | J3: =VLOOKUP($B3,'Donnée 2'!$B$2:$F$20,5,FALSE) -> 0.63447671
B4: 11 | C4: =VLOOKUP($B4,'Donnée 1'!$B$2:$F$19,2,FALSE) -> 0.90410343 | D4: =VLOOKUP($B4,'Donnée 1'!$B$2:$F$19,2,FALSE) -> 0.90410343 | E4: =VLOOKUP($B4,'Donnée 1'!$B$2:$F$19,2,FALSE) -> 0.90410343 | F4: =VLOOKUP($B4,'Donnée 1'!$B$2:$F$19,2,FALSE) -> 0.90410343 | G4: =VLOOKUP($B4,'Donnée 2'!$B$2:$F$20,2,FALSE) -> 0 | H4: =VLOOKUP($B4,'Donnée 2'!$B$2:$F$20,3,FALSE) -> 0 | I4: =VLOOKUP($B4,'Donnée 2'!$B$2:$F$20,4,FALSE) -> 0.74189376 | J4: =VLOOKUP($B4,'Donnée 2'!$B$2:$F$20,5,FALSE) -> 0.63018097
B5: 12 | C5: =VLOOKUP($B5,'Donnée 1'!$B$2:$F$19,2,FALSE) -> 0.35554713 | D5: =VLOOKUP($B5,'Donnée 1'!$B$2:$F$19,2,FALSE) -> 0.35554713 | E5: =VLOOKUP($B5,'Donnée 1'!$B$2:$F$19,2,FALSE) -> 0.35554713 | F5: =VLOOKUP($B5,'Donnée 1'!$B$2:$F$19,2,FALSE) -> 0.35554713 | G5: =VLOOKUP($B5,'Donnée 2'!$B$2:$F$20,2,FALSE) -> 0 | H5: =VLOOKUP($B5,'Donnée 2'!$B$2:$F$20,3,FALSE) -> 0 | I5: =VLOOKUP($B5,'Donnée 2'!$B$2:$F$20,4,FALSE) -> 0.87214685 | J5: =VLOOKUP($B5,'Donnée 2'!$B$2:$F$20,5,FALSE) -> 0.66085976
B6: 13 | C6: =VLOOKUP($B6,'Donnée 1'!$B$2:$F$19,2,FALSE) -> 0.8598283 | D6: =VLOOKUP($B6,'Donnée 1'!$B$2:$F$19,2,FALSE) -> 0.8598283 | E6: =VLOOKUP($B6,'Donnée 1'!$B$2:$F$19,2,FALSE) -> 0.8598283 | F6: =VLOOKUP($B6,'Donnée 1'!$B$2:$F$19,2,FALSE) -> 0.8598283 | G6: =VLOOKUP($B6,'Donnée 2'!$B$2:$F$20,2,FALSE) -> 0 | H6: =VLOOKUP($B6,'Donnée 2'!$B$2:$F$20,3,FALSE) -> 0 | I6: =VLOOKUP($B6,'Donnée 2'!$B$2:$F$20,4,FALSE) -> 0.9878877 | J6: =VLOOKUP($B6,'Donnée 2'!$B$2:$F$20,5,FALSE) -> 0.8906258
B7: 14 | C7: =VLOOKUP($B7,'Donnée 1'!$B$2:$F$19,2,FALSE) -> 0.49939145 | D7: =VLOOKUP($B7,'Donnée 1'!$B$2:$F$19,2,FALSE) -> 0.49939145 | E7: =VLOOKUP($B7,'Donnée 1'!$B$2:$F$19,2,FALSE) -> 0.49939145 | F7: =VLOOKUP($B7,'Donnée 1'!$B$2:$F$19,2,FALSE) -> 0.49939145 | G7: =VLOOKUP($B7,'Donnée 2'!$B$2:$F$20,2,FALSE) -> 0 | H7: =VLOOKUP($B7,'Donnée 2'!$B$2:$F$20,3,FALSE) -> 0 | I7: =VLOOKUP($B7,'Donnée 2'!$B$2:$F$20,4,FALSE) -> 0.57129336 | J7: =VLOOKUP($B7,'Donnée 2'!$B$2:$F$20,5,FALSE) -> 0.6066819
B8: 15 | C8: =VLOOKUP($B8,'Donnée 1'!$B$2:$F$19,2,FALSE) -> 0.017550114 | D8: =VLOOKUP($B8,'Donnée 1'!$B$2:$F$19,2,FALSE) -> 0.017550114 | E8: =VLOOKUP($B8,'Donnée 1'!$B$2:$F$19,2,FALSE) -> 0.017550114 | F8: =VLOOKUP($B8,'Donnée 1'!$B$2:$F$19,2,FALSE) -> 0.017550114 | G8: =VLOOKUP($B8,'Donnée 2'!$B$2:$F$20,2,FALSE) -> 0 | H8: =VLOOKUP($B8,'Donnée 2'!$B$2:$F$20,3,FALSE) -> 0 | I8: =VLOOKUP($B8,'Donnée 2'!$B$2:$F$20,4,FALSE) -> 0 | J8: =VLOOKUP($B8,'Donnée 2'!$B$2:$F$20,5,FALSE) -> 0.0062470688
B9: 16 | C9: =VLOOKUP($B9,'Donnée 1'!$B$2:$F$19,2,FALSE) -> #N/A | D9: =VLOOKUP($B9,'Donnée 1'!$B$2:$F$19,2,FALSE) -> #N/A | E9: =VLOOKUP($B9,'Donnée 1'!$B$2:$F$19,2,FALSE) -> #N/A | F9: =VLOOKUP($B9,'Donnée 1'!$B$2:$F$19,2,FALSE) -> #N/A | G9: =VLOOKUP($B9,'Donnée 2'!$B$2:$F$20,2,FALSE) -> 0 | H9: =VLOOKUP($B9,'Donnée 2'!$B$2:$F$20,3,FALSE) -> 0 | I9: =VLOOKUP($B9,'Donnée 2'!$B$2:$F$20,4,FALSE) -> 0.42 | J9: =VLOOKUP($B9,'Donnée 2'!$B$2:$F$20,5,FALSE) -> 0.85
B10: 17 | C10: =VLOOKUP($B10,'Donnée 1'!$B$2:$F$19,2,FALSE) -> 0.54609918 | D10: =VLOOKUP($B10,'Donnée 1'!$B$2:$F$19,2,FALSE) -> 0.54609918 | E10: =VLOOKUP($B10,'Donnée 1'!$B$2:$F$19,2,FALSE) -> 0.54609918 | F10: =VLOOKUP($B10,'Donnée 1'!$B$2:$F$19,2,FALSE) -> 0.54609918 | G10: =VLOOKUP($B10,'Donnée 2'!$B$2:$F$20,2,FALSE) -> 0 | H10: =VLOOKUP($B10,'Donnée 2'!$B$2:$F$20,3,FALSE) -> 0 | I10: =VLOOKUP($B10,'Donnée 2'!$B$2:$F$20,4,FALSE) -> 0.41242062 | J10: =VLOOKUP($B10,'Donnée 2'!$B$2:$F$20,5,FALSE) -> 0.32366384
B11: 18 | C11: =VLOOKUP($B11,'Donnée 1'!$B$2:$F$19,2,FALSE) -> 0.068547945 | D11: =VLOOKUP($B11,'Donnée 1'!$B$2:$F$19,2,FALSE) -> 0.068547945 | E11: =VLOOKUP($B11,'Donnée 1'!$B$2:$F$19,2,FALSE) -> 0.068547945 | F11: =VLOOKUP($B11,'Donnée 1'!$B$2:$F$19,2,FALSE) -> 0.068547945 | G11: =VLOOKUP($B11,'Donnée 2'!$B$2:$F$20,2,FALSE) -> 0 | H11: =VLOOKUP($B11,'Donnée 2'!$B$2:$F$20,3,FALSE) -> 0 | I11: =VLOOKUP($B11,'Donnée 2'!$B$2:$F$20,4,FALSE) -> 0.6030423 | J11: =VLOOKUP($B11,'Donnée 2'!$B$2:$F$20,5,FALSE) -> 0.53385628
B12: 19 | C12: =VLOOKUP($B12,'Donnée 1'!$B$2:$F$19,2,FALSE) -> 1.1026932 | D12: =VLOOKUP($B12,'Donnée 1'!$B$2:$F$19,2,FALSE) -> 1.1026932 | E12: =VLOOKUP($B12,'Donnée 1'!$B$2:$F$19,2,FALSE) -> 1.1026932 | F12: =VLOOKUP($B12,'Donnée 1'!$B$2:$F$19,2,FALSE) -> 1.1026932 | G12: =VLOOKUP($B12,'Donnée 2'!$B$2:$F$20,2,FALSE) -> 0 | H12: =VLOOKUP($B12,'Donnée 2'!$B$2:$F$20,3,FALSE) -> 0 | I12: =VLOOKUP($B12,'Donnée 2'!$B$2:$F$20,4,FALSE) -> 0.57383357 | J12: =VLOOKUP($B12,'Donnée 2'!$B$2:$F$20,5,FALSE) -> 0.60009389
B13: 20 | C13: =VLOOKUP($B13,'Donnée 1'!$B$2:$F$19,2,FALSE) -> 0.50142205 | D13: =VLOOKUP($B13,'Donnée 1'!$B$2:$F$19,2,FALSE) -> 0.50142205 | E13: =VLOOKUP($B13,'Donnée 1'!$B$2:$F$19,2,FALSE) -> 0.50142205 | F13: =VLOOKUP($B13,'Donnée 1'!$B$2:$F$19,2,FALSE) -> 0.50142205 | G13: =VLOOKUP($B13,'Donnée 2'!$B$2:$F$20,2,FALSE) -> 0 | H13: =VLOOKUP($B13,'Donnée 2'!$B$2:$F$20,3,FALSE) -> 0 | I13: =VLOOKUP($B13,'Donnée 2'!$B$2:$F$20,4,FALSE) -> 0 | J13: =VLOOKUP($B13,'Donnée 2'!$B$2:$F$20,5,FALSE) -> 0
B14: 21 | C14: =VLOOKUP($B14,'Donnée 1'!$B$2:$F$19,2,FALSE) -> 0.96558749 | D14: =VLOOKUP($B14,'Donnée 1'!$B$2:$F$19,2,FALSE) -> 0.96558749 | E14: =VLOOKUP($B14,'Donnée 1'!$B$2:$F$19,2,FALSE) -> 0.96558749 | F14: =VLOOKUP($B14,'Donnée 1'!$B$2:$F$19,2,FALSE) -> 0.96558749 | G14: =VLOOKUP($B14,'Donnée 2'!$B$2:$F$20,2,FALSE) -> 0 | H14: =VLOOKUP($B14,'Donnée 2'!$B$2:$F$20,3,FALSE) -> 0 | I14: =VLOOKUP($B14,'Donnée 2'!$B$2:$F$20,4,FALSE) -> 0.70201987 | J14: =VLOOKUP($B14,'Donnée 2'!$B$2:$F$20,5,FALSE) -> 0.69640107
... B21: 28 | C21: =VLOOKUP($B21,'Donnée 1'!$B$2:$F$19,2,FALSE) -> 0.38030575 | D21: =VLOOKUP($B21,'Donnée 1'!$B$2:$F$19,2,FALSE) -> 0.38030575 | E21: =VLOOKUP($B21,'Donnée 1'!$B$2:$F$19,2,FALSE) -> 0.38030575 | F21: =VLOOKUP($B21,'Donnée 1'!$B$2:$F$19,2,FALSE) -> 0.38030575 | G21: =VLOOKUP($B21,'Donnée 2'!$B$2:$F$20,2,FALSE) -> 0 | H21: =VLOOKUP($B21,'Donnée 2'!$B$2:$F$20,3,FALSE) -> 0 | I21: =VLOOKUP($B21,'Donnée 2'!$B$2:$F$20,4,FALSE) -> 0.58351721 | J21: =VLOOKUP($B21,'Donnée 2'!$B$2:$F$20,5,FALSE) -> 0.42977118

Sheet Donnée 1
C1: 1 | D1: 2 | E1: 3 | F1: 4
B2: 26 | C2: 0.44032866 | D2: 0.54726716 | E2: 0.53453219 | F2: 0.49861935
B3: 17 | C3: 0.54609918 | D3: 0.63034468 | E3: 0.41242062 | F3: 0.32366384
B4: 21 | C4: 0.96558749 | D4: 0.83120432 | E4: 0.70201987 | F4: 0.69640107
B5: 19 | C5: 1.1026932 | D5: 0.098444347 | E5: 0 | F5: 0
B6: 11 | C6: 0.90410343 | D6: 1.1847722 | E6: 0.93664412 | F6: 0.63447671
B7: 20 | C7: 0.50142205 | D7: 0.56845746 | E7: 0.57383357 | F7: 0.60009389
B8: 13 | C8: 0.8598283 | D8: 0.65165268 | E8: 0.57129336 | F8: 0.6066819
B9: 14 | C9: 0.49939145 | D9: 0.36054247 | E9: 0.32452329 | F9: 0.26697808
B10: 25 | C10: 1.1573761 | D10: 0.89230973 | E10: 0.9878877 | F10: 0.8906258
B11: 27 | C11: 0.71397336 | D11: 0.65276716 | E11: 0.6030423 | F11: 0.53385628
B12: 18 | C12: 0.068547945 | D12: 0.0059178082 | E12: 0 | F12: 0.037950685
B13: 10 | C13: 0.8059564 | D13: 0.86008658 | E13: 0.87214685 | F13: 0.66085976
... B17: 23 | C17: 0.75844403 | D17: 0.92022786 | E17: 0.66877736 | F17: 0.82856164
B18: 24 | C18: 0.53232069 | F18: 0.50093793
B19: 15 | C19: 0.017550114 | D19: 0 | E19: 0 | F19: 0

Sheet Donnée 2
C1: 5 | D1: 6 | E1: 7 | F1: 8
B2: 22 | E2: 0.53453219 | F2: 0.49861935
B3: 17 | E3: 0.41242062 | F3: 0.32366384
B4: 21 | E4: 0.70201987 | F4: 0.69640107
B5: 20 | E5: 0 | F5: 0
B6: 10 | E6: 0.93664412 | F6: 0.63447671
B7: 19 | E7: 0.57383357 | F7: 0.60009389
B8: 16 | E8: 0.42 | F8: 0.85
B9: 14 | E9: 0.57129336 | F9: 0.6066819
B10: 25 | E10: 0.32452329 | F10: 0.26697808
B11: 13 | E11: 0.9878877 | F11: 0.8906258
B12: 18 | E12: 0.6030423 | F12: 0.53385628
B13: 27 | E13: 0 | F13: 0.037950685
... B18: 26 | E18: 0.66877736 | F18: 0.82856164
B19: 23 | F19: 0.50093793
B20: 24 | E20: 0 | F20: 0
