Workbook

Sheet RWC_TREE_TOURNAMENT
B3: RWC #2 - TRACKMANIA
B7: GROUPE A | J7: Classement | K7: Pts | L7: PW | M7: PL | N7: ="+/-" -> +/- | S7: Huitièmes de finale | AK7: AJ | AL7: AK | AM7: AL | AN7: AM | AO7: AN | AP7: AO | AQ7: AP | AR7: AQ | AS7: AR | AT7: AS | AU7: AT | AV7: AU | AW7: AV | AX7: AW | AY7: AX | AZ7: AY | BA7: AZ | BB7: BA | BC7: BB | BD7: BC | BE7: BD | BF7: BE | BG7: BF | BH7: BG | BI7: BH | BJ7: BI | BK7: BJ | BL7: BK | BM7: BL | BN7: BM | BO7: BN | BP7: BO | BQ7: BP | BR7: BO | BS7: BP | BU7: =IF($BM11,IF(E8-F8<0,-0.5,IF(F8-E8<0,0.5,0)),IF($BI11,IF($AZ11>$AZ12,-0.5,IF($AZ11<$AZ12,0.5,0)),IF($BJ11,IF($BA11>$BA12,-0.5, IF($BA11<$BA12,0.5,0)),0))) -> 0 | BW7: =F12-E12 -> 15
B8: 45130 | C8: TIME | D8: =SEEDINGS!H3 -> Nayko.TM | E8: 15 | F8: 0 | G8: =SEEDINGS!H34 -> - | I8: =AI11 -> 1 | J8: {=INDEX(AM11:AM14,MATCH(AK11,$AL11:$AL14,0))} -> Nayko.TM | K8: {=INDEX(AN11:AN14,MATCH(AK11,$AL11:$AL14,0))} -> 9 | L8: {=INDEX(AO11:AO14,MATCH(AK11,$AL11:$AL14,0))} -> 45 | M8: {=INDEX(AP11:AP14,MATCH(AK11,$AL11:$AL14,0))} -> 2 | N8: {=INDEX(AQ11:AQ14,MATCH(AK11,$AL11:$AL14,0))} -> 43 | S8: 45134 | T8: TIME | U8: =IF(OR(I25<2),"C1",T(J24)) -> Maxtrak | V8: 8
B9: 45130 | C9: TIME | D9: =SEEDINGS!H18 -> thoboom | E9: 7 | F9: 15 | G9: =SEEDINGS!H19 -> Walegen | I9: =AI12 -> 2 | J9: {=INDEX(AM11:AM14,MATCH(AK12,$AL11:$AL14,0))} -> Walegen | K9: {=INDEX(AN11:AN14,MATCH(AK12,$AL11:$AL14,0))} -> 6 | L9: {=INDEX(AO11:AO14,MATCH(AK12,$AL11:$AL14,0))} -> 30 | M9: {=INDEX(AP11:AP14,MATCH(AK12,$AL11:$AL14,0))} -> 22 | N9: {=INDEX(AQ11:AQ14,MATCH(AK12,$AL11:$AL14,0))} -> 8 | U9: =IF(OR(I34<3,I33<2),"D2",T(J33)) -> MimoJr. | V9: 15
B10: 45130 | C10: TIME | D10: =D8 -> Nayko.TM | E10: 15 | F10: 2 | G10: =D9 -> thoboom | I10: =AI13 -> 3 | J10: {=INDEX(AM11:AM14,MATCH(AK13,$AL11:$AL14,0))} -> thoboom | K10: {=INDEX(AN11:AN14,MATCH(AK13,$AL11:$AL14,0))} -> 3 | L10: {=INDEX(AO11:AO14,MATCH(AK13,$AL11:$AL14,0))} -> 24 | M10: {=INDEX(AP11:AP14,MATCH(AK13,$AL11:$AL14,0))} -> 30 | N10: {=INDEX(AQ11:AQ14,MATCH(AK13,$AL11:$AL14,0))} -> -6 | S10: 45134 | T10: TIME | U10: =IF(OR(I9<2),"A1",T(J8)) -> Nayko.TM | V10: 12 | AL10: Rank | AM10: Team | AN10: Pts | AO10: GF | AP10: GA | AQ10: GD | AR10: Ag1 | AS10: Ag2 | AT10: Ag3 | AU10: Ag4 | AV10: Sp1 | AW10: Sp2 | AX10: Sp3 | AY10: Sp4 | AZ10: T123 | BA10: T124 | BB10: T134 | BC10: T234 | BD10: Rk1 | BE10: Rk2 | BF10: Rk3 | BG10: Rk4 | BH10: T1234 | BI10: T123 | BJ10: T124 | BK10: T134 | BL10: T234 | BM10: T12 | BN10: T13 | BO10: T14 | BP10: T23 | BQ10: T24 | BR10: T34 | BS10: NoT | BT10: sRk1 | BU10: sRk2 | BV10: sRk3 | BW10: sRk4
B11: 45130 | C11: TIME | D11: =G9 -> Walegen | E11: 15 | F11: 0 | G11: =G8 -> - | I11: =AI14 -> 4 | J11: {=INDEX(AM11:AM14,MATCH(AK14,$AL11:$AL14,0))} -> - | K11: {=INDEX(AN11:AN14,MATCH(AK14,$AL11:$AL14,0))} -> 0 | L11: {=INDEX(AO11:AO14,MATCH(AK14,$AL11:$AL14,0))} -> 0 | M11: {=INDEX(AP11:AP14,MATCH(AK14,$AL11:$AL14,0))} -> 45 | N11: {=INDEX(AQ11:AQ14,MATCH(AK14,$AL11:$AL14,0))} -> -45 | U11: =IF(OR(I18<3,I17<2),"B2",T(J17)) -> SnatiX. | V11: 14 | AI11: 1 | AJ11: =ROUND(AK11,0) -> 1 | AK11: =MIN(AL11:AL14) -> 0.95 | AL11: =SUM(BD11:BG11)+2.45 -> 0.95 | AM11: =D8 -> Nayko.TM | AN11: =SUM(AR11:AU11) -> 9 | AO11: =E8+E10+F12 -> 45 | AP11: =F8+F10+E12 -> 2 | AQ11: =AO11-AP11 -> 43 | AR11: x | AS11: =IF(ISBLANK(E8),0,IF(E8>F8,3,IF(E8=F8,1,0))) -> 3 | AT11: =IF(ISBLANK(E10),0,IF(E10>F10,3,IF(E10=F10,1,0))) -> 3 | AU11: =IF(ISBLANK(F12),0,IF(F12>E12,3,IF(F12=E12,1,0))) -> 3 | AV11: x | AW11: =(10*(AQ11-AQ12)+AO11-AO12>0) -> TRUE | AX11: =10*(AQ11-AQ13)+AO11-AO13>0 -> TRUE | AY11: =10*(AQ11-AQ14)+AO11-AO14>0 -> TRUE | AZ11: =10000*(AS11+AT11)+(E10-F10+E8-F8)*100+(E10+E8) -> 62830 | BA11: =10000*(AS11+AU11)+(E8-F8+F12-E12)*100+(E8+F12) -> 63030 | BB11: =10000*(AT11+AU11)+(E10-F10+F12-E12)*100+(E10+F12) -> 62830 | BC11: x | BD11: x | BE11: =IF($AN11>$AN12,-0.5,IF($AN12>$AN11,0.5,IF(AW11,-0.5,IF(AV12,0.5,BU11)))) -> -0.5 | BF11: =IF($AN11>$AN13,-0.5,IF($AN13>$AN11,0.5,IF(AX11,-0.5,IF(AV13,0.5,BV11)))) -> -0.5 | BG11: =IF($AN11>$AN14,-0.5,IF($AN14>$AN11,0.5,IF(AY11,-0.5,IF(AV14,0.5,BW11)))) -> -0.5 | BH11: =AND(AND(AN11=AN12,AN12=AN13,AN13=AN14),AND(AO11=AO12,AO12=AO13,AO13=AO14),AND(AP11=AP12,AP12=AP13,AP13=AP14)) -> FALSE | BI11: =AND(NOT(BH11),AN11=AN12,AN11=AN13,AO11=AO12,AO11=AO13,AP11=AP12,AP11=AP13) -> FALSE | BJ11: =AND(NOT(BH11),AN11=AN12,AN11=AN14,AO11=AO12,AO11=AO14,AP11=AP12,AP11=AP14) -> FALSE | BK11: =AND(NOT(BH11),AN11=AN13,AN11=AN14,AO11=AO13,AO11=AO14,AP11=AP13,AP11=AP14) -> FALSE | BL11: =AND(NOT(BH11),AN12=AN13,AN12=AN14,AO12=AO13,AO12=AO14,AP12=AP13,AP12=AP14) -> FALSE | BM11: =AND(NOT(BH11),NOT(BI11),NOT(BJ11),AN11=AN12,AO11=AO12,AP11=AP12) -> FALSE | BN11: =AND(NOT(BH11),NOT(BI11),NOT(BK11),AN11=AN13,AO11=AO13,AP11=AP13) -> FALSE | BO11: =AND(NOT(BH11),NOT(BJ11),NOT(BK11),AN11=AN14,AO11=AO14,AP11=AP14) -> FALSE | BP11: =AND(NOT(BH11),NOT(BI11),NOT(BL11),AN12=AN13,AO12=AO13) -> FALSE | BQ11: =AND(NOT(BH11),NOT(BJ11),NOT(BL11),AN12=AN14,AO12=AO14,AP12=AP14) -> FALSE | BR11: =AND(NOT(BH11),NOT(BK11),NOT(BL11),AN13=AN14,AO13=AO14,AP13=AP14) -> FALSE | BS11: {=AND(NOT(BH11:BR11))} -> TRUE | BT11: x | BU11: =IF($BM11,IF(F8-E8<0,-0.5,IF(E8-F8<0,0.5,0)),IF($BI11,IF($AZ11>$AZ12,-0.5,IF($AZ11<$AZ12,0.5,0)),IF($BJ11,IF($BA11>$BA12,-0.5, IF($BA11<$BA12,0.5,0)),0))) -> 0 | BV11: =IF($BN11,IF(F10-E10<0,-0.5,IF(E10-F10<0,0.5,0)),IF($BI11,IF($AZ11>$AZ13,-0.5,IF($AZ11<$AZ13,0.5,0)),IF($BK11,IF($BB11>$BB13,-0.5,IF($BB11<$BB13,0.5,0)),0))) -> 0 | BW11: =IF($BO11,IF(E12-F12<0,-0.5,IF(F12-E12<0,0.5,0)),IF($BJ11,IF($BA11>$BA14,-0.5,IF($BA11<$BA14,0.5,0)),IF($BK11,IF($BB11>$BB14,-0.5, IF($BB11<$BB14,0.5,0)),0))) -> 0
B12: 45130 | C12: TIME | D12: =G9 -> Walegen | E12: 0 | F12: 15 | G12: =D8 -> Nayko.TM | J12: =IF(OR(I10<3,I9<2),"TIRAGE AU SORT !!!"," ") | S12: 45134 | T12: TIME | U12: =IF(OR(I17<2),"B1",T(J16)) -> Plombz | V12: 14 | AI12: =IF(ROUND(AK12,0)=ROUND(AK11,0),AI11,2) -> 2 | AJ12: =ROUND(AK12,0) -> 2 | AK12: =MAX(MIN(AL11:AL13),MIN(AL11,AL12,AL14),MIN(AL11,AL13,AL14),MIN(AL12:AL14)) -> 1.98 | AL12: =SUM(BD12:BG12)+2.46 -> 3.96 | AM12: =G8 -> - | AN12: =SUM(AR12:AU12) -> 0 | AO12: =F8+F11+E13 -> 0 | AP12: =E8+E11+F13 -> 45 | AQ12: =AO12-AP12 -> -45 | AR12: =IF(ISBLANK(F8),0,IF(AS11=3,0,IF(AS11=1,1,3))) -> 0 | AS12: x | AT12: =IF(ISBLANK(E13),0,IF(AS13=3,0,IF(AS13=1,1,3))) -> 0 | AU12: =IF(ISBLANK(F11),0,IF(F11>E11,3,IF(F11=E11,1,0))) -> 0 | AV12: =(10*(AQ11-AQ12)+AO11-AO12<0) -> FALSE | AW12: x | AX12: =10*(AQ12-AQ13)+AO12-AO13>0 -> FALSE | AY12: =10*(AQ12-AQ14)+AO12-AO14>0 -> FALSE | AZ12: =10000*(AR12+AT12)+(F8-E8+E13-F13)*100+(F8+E13) -> -3000 | BA12: =10000*(AR12+AU12)+(F8-E8+F11-E11)*100+(F8+F11) -> -3000 | BB12: x | BC12: =10000*(AT12+AU12)+(F11-E11+E13-F13)*100+(F11+E13) -> -3000 | BD12: =-BE11 -> 0.5 | BE12: x | BF12: =IF($AN12>$AN13,-0.5,IF($AN13>$AN12,0.5,IF(AX12,-0.5,IF(AW13,0.5,BV12)))) -> 0.5 | BG12: =IF($AN12>$AN14,-0.5,IF($AN14>$AN12,0.5,IF(AY12,-0.5,IF(AW14,0.5,BW12)))) -> 0.5 | BU12: x | BV12: =IF($BP11,IF(F13-E13<0,-0.5,IF(E13-F13<0,0.5,0)),IF($BI11,IF($AZ12>$AZ13,-0.5,IF($AZ12<$AZ13,0.5,0)),IF($BL11,IF($BC12>$BC13,-0.5,IF($BC12<$BC13,0.5,0)),0))) -> 0 | BW12: =IF($BQ11,IF(E11-F11<0,-0.5,IF(F11-E11<0,0.5,0)),IF($BJ11,IF($BA12>$BA14,-0.5,IF($BA12<$BA14,0.5,0)),IF($BL11,IF($BC12>$BC14,-0.5,IF($BC12<$BC14,0.5,0)),0))) -> 0
B13: 45130 | C13: TIME | D13: =G8 -> - | E13: 0 | F13: 15 | G13: =D9 -> thoboom | U13: =IF(OR(I10<3,I9<2),"A2",T(J9)) -> Walegen | V13: 11 | AI13: =IF(ROUND(AK13,0)=ROUND(AK12,0),AI12,3) -> 3 | AJ13: =ROUND(AK13,0) -> 3 | AK13: =MIN(MAX(AL11:AL13),MAX(AL11,AL12,AL14),MAX(AL11,AL13,AL14),MAX(AL12:AL14)) -> 2.97 | AL13: =SUM(BD13:BG13)+2.47 -> 2.97 | AM13: =D9 -> thoboom | AN13: =SUM(AR13:AU13) -> 3 | AO13: =E9+F10+F13 -> 24 | AP13: =F9+E10+E13 -> 30 | AQ13: =AO13-AP13 -> -6 | AR13: =IF(ISBLANK(F10),0,IF(AT11=3,0,IF(AT11=1,1,3))) -> 0 | AS13: =IF(ISBLANK(F13),0,IF(F13>E13,3,IF(F13=E13,1,0))) -> 3 | AT13: x | AU13: =IF(ISBLANK(E9),0,IF(E9>F9,3,IF(E9=F9,1,0))) -> 0 | AV13: =10*(AQ11-AQ13)+AO11-AO13<0 -> FALSE | AW13: =10*(AQ12-AQ13)+AO12-AO13<0 -> TRUE | AX13: x | AY13: =10*(AQ13-AQ14)+AO13-AO14>0 -> FALSE | AZ13: =10000*(AR13+AS13)+(F10-E10+F13-E13)*100+(F10+F13) -> 30217 | BA13: x | BB13: =10000*(AR13+AU13)+(E9-F9+F10-E10)*100+(E9+F10) -> -2091 | BC13: =10000*(AS13+AU13)+(E9-F9+F13-E13)*100+(E9+F13) -> 30722 | BD13: =-BF11 -> 0.5 | BE13: =-BF12 -> -0.5 | BF13: x | BG13: =IF($AN13>$AN14,-0.5,IF($AN14>$AN13,0.5,IF(AY13,-0.5,IF(AX14,0.5,BW13)))) -> 0.5 | BV13: x | BW13: =IF($BR11,IF(F9-E9<0,-0.5,IF(E9-F9<0,0.5,0)),IF($BK11,IF($BB13>$BB14,-0.5,IF($BB13<$BB14,0.5,0)),IF($BL11,IF($BC13>$BC14,-0.5,IF($BC13<$BC14,0.5,0)),0))) -> 0
S14: 45134 | T14: DNF | U14: =IF(OR(I33<2),"D1",T(J32)) -> FeedTM | V14: 0 | AI14: =IF(ROUND(AK14,0)=ROUND(AK13,0),AI13,4) -> 4 | AJ14: =ROUND(AK14,0) -> 4 | AK14: =MAX(AL11:AL14) -> 3.96 | AL14: =SUM(BD14:BG14)+2.48 -> 1.98 | AM14: =G9 -> Walegen | AN14: =SUM(AR14:AU14) -> 6 | AO14: =F9+E11+E12 -> 30 | AP14: =E9+F11+F12 -> 22 | AQ14: =AO14-AP14 -> 8 | AR14: =IF(ISBLANK(E12),0,IF(AU11=3,0,IF(AU11=1,1,3))) -> 0 | AS14: =IF(ISBLANK(E11),0,IF(AU12=3,0,IF(AU12=1,1,3))) -> 3 | AT14: =IF(ISBLANK(F9),0,IF(AU13=3,0,IF(AU13=1,1,3))) -> 3 | AU14: x | AV14: =10*(AQ11-AQ14)+AO11-AO14<0 -> FALSE | AW14: =10*(AQ12-AQ14)+AO12-AO14<0 -> TRUE | AX14: =10*(AQ13-AQ14)+AO13-AO14<0 -> TRUE | AY14: x | AZ14: x | BA14: =10000*(AR14+AS14)+(E12-F12+E11-F11)*100+(E12+E11) -> 30015 | BB14: =10000*(AR14+AT14)+(F9-E9+E12-F12)*100+(F9+E12) -> 29315 | BC14: =10000*(AS14+AT14)+(E11-F11+F9-E9)*100+(E11+F9) -> 62330 | BD14: =-BG11 -> 0.5 | BE14: =-BG12 -> -0.5 | BF14: =-BG13 -> -0.5 | BG14: x | BW14: x
B15: GROUPE B | J15: Classement | K15: Pts | L15: PW | M15: PL | N15: ="+/-" -> +/- | U15: =IF(OR(I26<3,I25<2),"C2",T(J25)) -> Dam_Pouleto | V15: 15
B16: 45130 | C16: TIME | D16: =SEEDINGS!H4 -> Plombz | E16: 15 | F16: 7 | G16: =SEEDINGS!H17 -> SnatiX. | I16: =AI19 -> 1 | J16: {=INDEX(AM19:AM22,MATCH(AK19,$AL19:$AL22,0))} -> Plombz | K16: {=INDEX(AN19:AN22,MATCH(AK19,$AL19:$AL22,0))} -> 9 | L16: {=INDEX(AO19:AO22,MATCH(AK19,$AL19:$AL22,0))} -> 45 | M16: {=INDEX(AP19:AP22,MATCH(AK19,$AL19:$AL22,0))} -> 7 | N16: {=INDEX(AQ19:AQ22,MATCH(AK19,$AL19:$AL22,0))} -> 38 | S16: 45134 | T16: DNF | U16: =IF(OR(I41<2),"E1",T(J40)) -> Rh3torique | V16: 15
B17: 45130 | C17: TIME | D17: =SEEDINGS!H20 -> Gold.TM | E17: 15 | F17: 0 | G17: =SEEDINGS!H33 -> - | I17: =AI20 -> 2 | J17: {=INDEX(AM19:AM22,MATCH(AK20,$AL19:$AL22,0))} -> SnatiX. | K17: {=INDEX(AN19:AN22,MATCH(AK20,$AL19:$AL22,0))} -> 6 | L17: {=INDEX(AO19:AO22,MATCH(AK20,$AL19:$AL22,0))} -> 37 | M17: {=INDEX(AP19:AP22,MATCH(AK20,$AL19:$AL22,0))} -> 15 | N17: {=INDEX(AQ19:AQ22,MATCH(AK20,$AL19:$AL22,0))} -> 22 | U17: =IF(OR(I50<3,I49<2),"F2",T(J49)) -> Acide. | V17: 0
B18: 45130 | C18: TIME | D18: =D16 -> Plombz | E18: 15 | F18: 0 | G18: =D17 -> Gold.TM | I18: =AI21 -> 3 | J18: {=INDEX(AM19:AM22,MATCH(AK21,$AL19:$AL22,0))} -> Gold.TM | K18: {=INDEX(AN19:AN22,MATCH(AK21,$AL19:$AL22,0))} -> 3 | L18: {=INDEX(AO19:AO22,MATCH(AK21,$AL19:$AL22,0))} -> 15 | M18: {=INDEX(AP19:AP22,MATCH(AK21,$AL19:$AL22,0))} -> 30 | N18: {=INDEX(AQ19:AQ22,MATCH(AK21,$AL19:$AL22,0))} -> -15 | S18: 45134 | T18: TIME | U18: =IF(OR(I57<2),"G1",T(J56)) -> iFreezeR_ | V18: 15 | AL18: Rank | AM18: Team | AN18: Pts | AO18: GF | AP18: GA | AQ18: GD | AR18: Ag1 | AS18: Ag2 | AT18: Ag3 | AU18: Ag4 | AV18: Sp1 | AW18: Sp2 | AX18: Sp3 | AY18: Sp4 | AZ18: T123 | BA18: T124 | BB18: T134 | BC18: T234 | BD18: Rk1 | BE18: Rk2 | BF18: Rk3 | BG18: Rk4 | BH18: T1234 | BI18: T123 | BJ18: T124 | BK18: T134 | BL18: T234 | BM18: T12 | BN18: T13 | BO18: T14 | BP18: T23 | BQ18: T24 | BR18: T34 | BS18: NoT | BT18: sRk1 | BU18: sRk2 | BV18: sRk3 | BW18: sRk4
B19: 45130 | C19: TIME | D19: =G17 -> - | E19: 0 | F19: 15 | G19: =G16 -> SnatiX. | I19: =AI22 -> 4 | J19: {=INDEX(AM19:AM22,MATCH(AK22,$AL19:$AL22,0))} -> - | K19: {=INDEX(AN19:AN22,MATCH(AK22,$AL19:$AL22,0))} -> 0 | L19: {=INDEX(AO19:AO22,MATCH(AK22,$AL19:$AL22,0))} -> 0 | M19: {=INDEX(AP19:AP22,MATCH(AK22,$AL19:$AL22,0))} -> 45 | N19: {=INDEX(AQ19:AQ22,MATCH(AK22,$AL19:$AL22,0))} -> -45 | U19: =IF(OR(I66<3,I65<2),"H2",T(J65)) -> Aqueyas | V19: 1 | AI19: 1 | AJ19: =ROUND(AK19,0) -> 1 | AK19: =MIN(AL19:AL22) -> 0.95 | AL19: =SUM(BD19:BG19)+2.45 -> 0.95 | AM19: =D16 -> Plombz | AN19: =SUM(AR19:AU19) -> 9 | AO19: =E16+E18+F20 -> 45 | AP19: =F16+F18+E20 -> 7 | AQ19: =AO19-AP19 -> 38 | AR19: x | AS19: =IF(ISBLANK(E16),0,IF(E16>F16,3,IF(E16=F16,1,0))) -> 3 | AT19: =IF(ISBLANK(E18),0,IF(E18>F18,3,IF(E18=F18,1,0))) -> 3 | AU19: =IF(ISBLANK(F20),0,IF(F20>E20,3,IF(F20=E20,1,0))) -> 3 | AV19: x | AW19: =(10*(AQ19-AQ20)+AO19-AO20>0) -> TRUE | AX19: =10*(AQ19-AQ21)+AO19-AO21>0 -> TRUE | AY19: =10*(AQ19-AQ22)+AO19-AO22>0 -> TRUE | AZ19: =10000*(AS19+AT19)+(E18-F18+E16-F16)*100+(E18+E16) -> 62330 | BA19: =10000*(AS19+AU19)+(E16-F16+F20-E20)*100+(E16+F20) -> 62330 | BB19: =10000*(AT19+AU19)+(F20-E20+E18-F18)*100+(F20+E18) -> 63030 | BC19: x | BD19: x | BE19: =IF($AN19>$AN20,-0.5,IF($AN20>$AN19,0.5,IF(AW19,-0.5,IF(AV20,0.5,BU19)))) -> -0.5 | BF19: =IF($AN19>$AN21,-0.5,IF($AN21>$AN19,0.5,IF(AX19,-0.5,IF(AV21,0.5,BV19)))) -> -0.5 | BG19: =IF($AN19>$AN22,-0.5,IF($AN22>$AN19,0.5,IF(AY19,-0.5,IF(AV22,0.5,BW19)))) -> -0.5 | BH19: =AND(AND(AN19=AN20,AN20=AN21,AN21=AN22),AND(AO19=AO20,AO20=AO21,AO21=AO22),AND(AP19=AP20,AP20=AP21,AP21=AP22)) -> FALSE | BI19: =AND(NOT(BH19),AN19=AN20,AN19=AN21,AO19=AO20,AO19=AO21,AP19=AP20,AP19=AP21) -> FALSE | BJ19: =AND(NOT(BH19),AN19=AN20,AN19=AN22,AO19=AO20,AO19=AO22,AP19=AP20,AP19=AP22) -> FALSE | BK19: =AND(NOT(BH19),AN19=AN21,AN19=AN22,AO19=AO21,AO19=AO22,AP19=AP21,AP19=AP22) -> FALSE | BL19: =AND(NOT(BH19),AN20=AN21,AN20=AN22,AO20=AO21,AO20=AO22,AP20=AP21,AP20=AP22) -> FALSE | BM19: =AND(NOT(BH19),NOT(BI19),NOT(BJ19),AN19=AN20,AO19=AO20,AP19=AP20) -> FALSE | BN19: =AND(NOT(BH19),NOT(BI19),NOT(BK19),AN19=AN21,AO19=AO21,AP19=AP21) -> FALSE | BO19: =AND(NOT(BH19),NOT(BJ19),NOT(BK19),AN19=AN22,AO19=AO22,AP19=AP22) -> FALSE | BP19: =AND(NOT(BH19),NOT(BI19),NOT(BL19),AN20=AN21,AO20=AO21) -> FALSE | BQ19: =AND(NOT(BH19),NOT(BJ19),NOT(BL19),AN20=AN22,AO20=AO22,AP20=AP22) -> FALSE | BR19: =AND(NOT(BH19),NOT(BK19),NOT(BL19),AN21=AN22,AO21=AO22,AP21=AP22) -> FALSE | BS19: {=AND(NOT(BH19:BR19))} -> TRUE | BT19: x | BU19: =IF($BM19,IF(F16-E16<0,-0.5,IF(E16-F16<0,0.5,0)),IF($BI19,IF($AZ19>$AZ20,-0.5,IF($AZ19<$AZ20,0.5,0)),IF($BJ19,IF($BA19>$BA20,-0.5, IF($BA19<$BA20,0.5,0)),0))) -> 0 | BV19: =IF($BN19,IF(F18-E18<0,-0.5,IF(E18-F18<0,0.5,0)),IF($BI19,IF($AZ19>$AZ21,-0.5,IF($AZ19<$AZ21,0.5,0)),IF($BK19,IF($BB19>$BB21,-0.5,IF($BB19<$BB21,0.5,0)),0))) -> 0 | BW19: =IF($BO19,IF(E20-F20<0,-0.5,IF(F20-E20<0,0.5,0)),IF($BJ19,IF($BA19>$BA22,-0.5,IF($BA19<$BA22,0.5,0)),IF($BK19,IF($BB19>$BB22,-0.5, IF($BB19<$BB22,0.5,0)),0))) -> 0
B20: 45130 | C20: TIME | D20: =G17 -> - | E20: 0 | F20: 15 | G20: =D16 -> Plombz | J20: =IF(OR(I18<3,I17<2),"TIRAGE AU SORT !!!"," ") | S20: 45134 | T20: DNF | U20: =IF(OR(I49<2),"F1",T(J48)) -> Azion. | V20: 15 | AI20: =IF(ROUND(AK20,0)=ROUND(AK19,0),AI19,2) -> 2 | AJ20: =ROUND(AK20,0) -> 2 | AK20: =MAX(MIN(AL19:AL21),MIN(AL19,AL20,AL22),MIN(AL19,AL21,AL22),MIN(AL20:AL22)) -> 1.96 | AL20: =SUM(BD20:BG20)+2.46 -> 1.96 | AM20: =G16 -> SnatiX. | AN20: =SUM(AR20:AU20) -> 6 | AO20: =F16+F19+E21 -> 37 | AP20: =E16+E19+F21 -> 15 | AQ20: =AO20-AP20 -> 22 | AR20: =IF(ISBLANK(F16),0,IF(AS19=3,0,IF(AS19=1,1,3))) -> 0 | AS20: x | AT20: =IF(ISBLANK(E21),0,IF(AS21=3,0,IF(AS21=1,1,3))) -> 3 | AU20: =IF(ISBLANK(F19),0,IF(F19>E19,3,IF(F19=E19,1,0))) -> 3 | AV20: =(10*(AQ19-AQ20)+AO19-AO20<0) -> FALSE | AW20: x | AX20: =10*(AQ20-AQ21)+AO20-AO21>0 -> TRUE | AY20: =10*(AQ20-AQ22)+AO20-AO22>0 -> TRUE | AZ20: =10000*(AR20+AT20)+(F16-E16+E21-F21)*100+(F16+E21) -> 30722 | BA20: =10000*(AR20+AU20)+(F16-E16+F19-E19)*100+(F16+F19) -> 30722 | BB20: x | BC20: =10000*(AT20+AU20)+(F19-E19+E21-F21)*100+(F19+E21) -> 63030 | BD20: =-BE19 -> 0.5 | BE20: x | BF20: =IF($AN20>$AN21,-0.5,IF($AN21>$AN20,0.5,IF(AX20,-0.5,IF(AW21,0.5,BV20)))) -> -0.5 | BG20: =IF($AN20>$AN22,-0.5,IF($AN22>$AN20,0.5,IF(AY20,-0.5,IF(AW22,0.5,BW20)))) -> -0.5 | BU20: x | BV20: =IF($BP19,IF(F21-E21<0,-0.5,IF(E21-F21<0,0.5,0)),IF($BI19,IF($AZ20>$AZ21,-0.5,IF($AZ20<$AZ21,0.5,0)),IF($BL19,IF($BC20>$BC21,-0.5,IF($BC20<$BC21,0.5,0)),0))) -> 0 | BW20: =IF($BQ19,IF(E19-F19<0,-0.5,IF(F19-E19<0,0.5,0)),IF($BJ19,IF($BA20>$BA22,-0.5,IF($BA20<$BA22,0.5,0)),IF($BL19,IF($BC20>$BC22,-0.5,IF($BC20<$BC22,0.5,0)),0))) -> 0
B21: 45130 | C21: TIME | D21: =G16 -> SnatiX. | E21: 15 | F21: 0 | G21: =D17 -> Gold.TM | U21: =IF(OR(I42<3,I41<2),"E2",T(J41)) -> Paynn_TM | V21: 0 | AI21: =IF(ROUND(AK21,0)=ROUND(AK20,0),AI20,3) -> 3 | AJ21: =ROUND(AK21,0) -> 3 | AK21: =MIN(MAX(AL19:AL21),MAX(AL19,AL20,AL22),MAX(AL19,AL21,AL22),MAX(AL20:AL22)) -> 2.97 | AL21: =SUM(BD21:BG21)+2.47 -> 2.97 | AM21: =D17 -> Gold.TM | AN21: =SUM(AR21:AU21) -> 3 | AO21: =E17+F18+F21 -> 15 | AP21: =F17+E18+E21 -> 30 | AQ21: =AO21-AP21 -> -15 | AR21: =IF(ISBLANK(F18),0,IF(AT19=3,0,IF(AT19=1,1,3))) -> 0 | AS21: =IF(ISBLANK(F21),0,IF(F21>E21,3,IF(F21=E21,1,0))) -> 0 | AT21: x | AU21: =IF(ISBLANK(E17),0,IF(E17>F17,3,IF(E17=F17,1,0))) -> 3 | AV21: =10*(AQ19-AQ21)+AO19-AO21<0 -> FALSE | AW21: =10*(AQ20-AQ21)+AO20-AO21<0 -> FALSE | AX21: x | AY21: =10*(AQ21-AQ22)+AO21-AO22>0 -> TRUE | AZ21: =10000*(AR21+AS21)+(F18-E18+F21-E21)*100+(F18+F21) -> -3000 | BA21: x | BB21: =10000*(AR21+AU21)+(E17-F17+F18-E18)*100+(E17+F18) -> 30015 | BC21: =10000*(AS21+AU21)+(E17-F17+F21-E21)*100+(E17+F21) -> 30015 | BD21: =-BF19 -> 0.5 | BE21: =-BF20 -> 0.5 | BF21: x | BG21: =IF($AN21>$AN22,-0.5,IF($AN22>$AN21,0.5,IF(AY21,-0.5,IF(AX22,0.5,BW21)))) -> -0.5 | BV21: x | BW21: =IF($BR19,IF(F17-E17<0,-0.5,IF(E17-F17<0,0.5,0)),IF($BK19,IF($BB21>$BB22,-0.5,IF($BB21<$BB22,0.5,0)),IF($BL19,IF($BC21>$BC22,-0.5,IF($BC21<$BC22,0.5,0)),0))) -> 0
S22: 45134 | T22: DNF | U22: =IF(OR(I65<2),"H1",T(J64)) -> ShaDenis_ | V22: 15 | AI22: =IF(ROUND(AK22,0)=ROUND(AK21,0),AI21,4) -> 4 | AJ22: =ROUND(AK22,0) -> 4 | AK22: =MAX(AL19:AL22) -> 3.98 | AL22: =SUM(BD22:BG22)+2.48 -> 3.98 | AM22: =G17 -> - | AN22: =SUM(AR22:AU22) -> 0 | AO22: =F17+E19+E20 -> 0 | AP22: =E17+F19+F20 -> 45 | AQ22: =AO22-AP22 -> -45 | AR22: =IF(ISBLANK(E20),0,IF(AU19=3,0,IF(AU19=1,1,3))) -> 0 | AS22: =IF(ISBLANK(E19),0,IF(AU20=3,0,IF(AU20=1,1,3))) -> 0 | AT22: =IF(ISBLANK(F17),0,IF(AU21=3,0,IF(AU21=1,1,3))) -> 0 | AU22: x | AV22: =10*(AQ19-AQ22)+AO19-AO22<0 -> FALSE | AW22: =10*(AQ20-AQ22)+AO20-AO22<0 -> FALSE | AX22: =10*(AQ21-AQ22)+AO21-AO22<0 -> FALSE | AY22: x | AZ22: x | BA22: =10000*(AR22+AS22)+(E19-F19+E20-F20)*100+(E19+E20) -> -3000 | BB22: =10000*(AR22+AT22)+(E20-F20+F17-E17)*100+(E20+F17) -> -3000 | BC22: =10000*(AS22+AT22)+(E19-F19+F17-E17)*100+(E19+F17) -> -3000 | BD22: =-BG19 -> 0.5 | BE22: =-BG20 -> 0.5 | BF22: =-BG21 -> 0.5 | BG22: x | BW22: x
B23: GROUPE C | J23: Classement | K23: Pts | L23: PW | M23: PL | N23: ="+/-" -> +/- | U23: =IF(OR(I58<3,I57<2),"G2",T(J57)) -> N0vux | V23: 0
B24: 45130 | C24: TIME | D24: =SEEDINGS!H5 -> Maxtrak | E24: 15 | F24: 1 | G24: =SEEDINGS!H16 -> Dam_Pouleto | I24: =AI27 -> 1 | J24: {=INDEX(AM27:AM35,MATCH(AK27,$AL27:$AL35,0))} -> Maxtrak | K24: {=INDEX(AN27:AN35,MATCH(AK27,$AL27:$AL35,0))} -> 9 | L24: {=INDEX(AO27:AO35,MATCH(AK27,$AL27:$AL35,0))} -> 45 | M24: {=INDEX(AP27:AP35,MATCH(AK27,$AL27:$AL35,0))} -> 5 | N24: {=INDEX(AQ27:AQ35,MATCH(AK27,$AL27:$AL35,0))} -> 40
B25: 45130 | C25: TIME | D25: =SEEDINGS!H21 -> Troulet27 | E25: 15 | F25: 0 | G25: =SEEDINGS!H32 -> - | I25: =AI33 -> 2 | J25: {=INDEX(AM27:AM35,MATCH(AK33,$AL27:$AL35,0))} -> Dam_Pouleto | K25: {=INDEX(AN27:AN35,MATCH(AK33,$AL27:$AL35,0))} -> 6 | L25: {=INDEX(AO27:AO35,MATCH(AK33,$AL27:$AL35,0))} -> 31 | M25: {=INDEX(AP27:AP35,MATCH(AK33,$AL27:$AL35,0))} -> 18 | N25: {=INDEX(AQ27:AQ35,MATCH(AK33,$AL27:$AL35,0))} -> 13 | S25: Quarts de finale
B26: 45130 | C26: TIME | D26: =G25 -> - | E26: 0 | F26: 15 | G26: =G24 -> Dam_Pouleto | I26: =AI34 -> 3 | J26: {=INDEX(AM27:AM35,MATCH(AK34,$AL27:$AL35,0))} -> Troulet27 | K26: {=INDEX(AN27:AN35,MATCH(AK34,$AL27:$AL35,0))} -> 3 | L26: {=INDEX(AO27:AO35,MATCH(AK34,$AL27:$AL35,0))} -> 22 | M26: {=INDEX(AP27:AP35,MATCH(AK34,$AL27:$AL35,0))} -> 30 | N26: {=INDEX(AQ27:AQ35,MATCH(AK34,$AL27:$AL35,0))} -> -8 | S26: 45135 | T26: TIME | U26: =IF(100*V10+W10>100*V11+W11,U10,IF(100*V10+W10<100*V11+W11,U11,CONCATENATE(U10," ou ",U11))) -> SnatiX. | V26: 1 | AL26: Rank | AM26: Team | AN26: Pts | AO26: GF | AP26: GA | AQ26: GD | AR26: Ag1 | AS26: Ag2 | AT26: Ag3 | AU26: Ag4 | AV26: Sp1 | AW26: Sp2 | AX26: Sp3 | AY26: Sp4 | AZ26: T123 | BA26: T124 | BB26: T134 | BC26: T234 | BD26: Rk1 | BE26: Rk2 | BF26: Rk3 | BG26: Rk4 | BH26: T1234 | BI26: T123 | BJ26: T124 | BK26: T134 | BL26: T234 | BM26: T12 | BN26: T13 | BO26: T14 | BP26: T23 | BQ26: T24 | BR26: T34 | BS26: NoT | BT26: sRk1 | BU26: sRk2 | BV26: sRk3 | BW26: sRk4
B27: 45130 | C27: TIME | D27: =D24 -> Maxtrak | E27: 15 | F27: 4 | G27: =D25 -> Troulet27 | I27: =AI35 -> 4 | J27: {=INDEX(AM27:AM35,MATCH(AK35,$AL27:$AL35,0))} -> - | K27: {=INDEX(AN27:AN35,MATCH(AK35,$AL27:$AL35,0))} -> 0 | L27: {=INDEX(AO27:AO35,MATCH(AK35,$AL27:$AL35,0))} -> 0 | M27: {=INDEX(AP27:AP35,MATCH(AK35,$AL27:$AL35,0))} -> 45 | N27: {=INDEX(AQ27:AQ35,MATCH(AK35,$AL27:$AL35,0))} -> -45 | U27: =IF(100*V8+W8>100*V9+W9,U8,IF(100*V8+W8<100*V9+W9,U9,CONCATENATE(U8," ou ",U9))) -> MimoJr. | V27: 15 | AI27: 1 | AJ27: =ROUND(AK27,0) -> 1 | AK27: =MIN(AL27:AL35) -> 0.95 | AL27: =SUM(BD27:BG27)+2.45 -> 0.95 | AM27: =D24 -> Maxtrak | AN27: =SUM(AR27:AU27) -> 9 | AO27: =E24+E27+F28 -> 45 | AP27: =F24+F27+E28 -> 5 | AQ27: =AO27-AP27 -> 40 | AR27: x | AS27: =IF(ISBLANK(E24),0,IF(E24>F24,3,IF(E24=F24,1,0))) -> 3 | AT27: =IF(ISBLANK(E27),0,IF(E27>F27,3,IF(E27=F27,1,0))) -> 3 | AU27: =IF(ISBLANK(F28),0,IF(F28>E28,3,IF(F28=E28,1,0))) -> 3 | AV27: x | AW27: =(10*(AQ27-AQ33)+AO27-AO33>0) -> TRUE | AX27: =10*(AQ27-AQ34)+AO27-AO34>0 -> TRUE | AY27: =10*(AQ27-AQ35)+AO27-AO35>0 -> TRUE | AZ27: =10000*(AS27+AT27)+(E27-F27+E24-F24)*100+(E27+E24) -> 62530 | BA27: =10000*(AS27+AU27)+(E24-F24+F28-E28)*100+(E24+F28) -> 62930 | BB27: =10000*(AT27+AU27)+(F28-E28+E27-F27)*100+(F28+E27) -> 62630 | BC27: x | BD27: x | BE27: =IF($AN27>$AN33,-0.5,IF($AN33>$AN27,0.5,IF(AW27,-0.5,IF(AV33,0.5,BU27)))) -> -0.5 | BF27: =IF($AN27>$AN34,-0.5,IF($AN34>$AN27,0.5,IF(AX27,-0.5,IF(AV34,0.5,BV27)))) -> -0.5 | BG27: =IF($AN27>$AN35,-0.5,IF($AN35>$AN27,0.5,IF(AY27,-0.5,IF(AV35,0.5,BW27)))) -> -0.5 | BH27: =AND(AND(AN27=AN33,AN33=AN34,AN34=AN35),AND(AO27=AO33,AO33=AO34,AO34=AO35),AND(AP27=AP33,AP33=AP34,AP34=AP35)) -> FALSE | BI27: =AND(NOT(BH27),AN27=AN33,AN27=AN34,AO27=AO33,AO27=AO34,AP27=AP33,AP27=AP34) -> FALSE | BJ27: =AND(NOT(BH27),AN27=AN33,AN27=AN35,AO27=AO33,AO27=AO35,AP27=AP33,AP27=AP35) -> FALSE | BK27: =AND(NOT(BH27),AN27=AN34,AN27=AN35,AO27=AO34,AO27=AO35,AP27=AP34,AP27=AP35) -> FALSE | BL27: =AND(NOT(BH27),AN33=AN34,AN33=AN35,AO33=AO34,AO33=AO35,AP33=AP34,AP33=AP35) -> FALSE | BM27: =AND(NOT(BH27),NOT(BI27),NOT(BJ27),AN27=AN33,AO27=AO33,AP27=AP33) -> FALSE | BN27: =AND(NOT(BH27),NOT(BI27),NOT(BK27),AN27=AN34,AO27=AO34,AP27=AP34) -> FALSE | BO27: =AND(NOT(BH27),NOT(BJ27),NOT(BK27),AN27=AN35,AO27=AO35,AP27=AP35) -> FALSE | BP27: =AND(NOT(BH27),NOT(BI27),NOT(BL27),AN33=AN34,AO33=AO34) -> FALSE | BQ27: =AND(NOT(BH27),NOT(BJ27),NOT(BL27),AN33=AN35,AO33=AO35,AP33=AP35) -> FALSE | BR27: =AND(NOT(BH27),NOT(BK27),NOT(BL27),AN34=AN35,AO34=AO35,AP34=AP35) -> FALSE | BS27: {=AND(NOT(BH27:BR27))} -> TRUE | BT27: x | BU27: =IF($BM27,IF(F24-E24<0,-0.5,IF(E24-F24<0,0.5,0)),IF($BI27,IF($AZ27>$AZ33,-0.5,IF($AZ27<$AZ33,0.5,0)),IF($BJ27,IF($BA27>$BA33,-0.5, IF($BA27<$BA33,0.5,0)),0))) -> 0 | BV27: =IF($BN27,IF(F27-E27<0,-0.5,IF(E27-F27<0,0.5,0)),IF($BI27,IF($AZ27>$AZ34,-0.5,IF($AZ27<$AZ34,0.5,0)),IF($BK27,IF($BB27>$BB34,-0.5,IF($BB27<$BB34,0.5,0)),0))) -> 0 | BW27: =IF($BO27,IF(E28-F28<0,-0.5,IF(F28-E28<0,0.5,0)),IF($BJ27,IF($BA27>$BA35,-0.5,IF($BA27<$BA35,0.5,0)),IF($BK27,IF($BB27>$BB35,-0.5, IF($BB27<$BB35,0.5,0)),0))) -> 0
B28: 45130 | C28: TIME | D28: =G25 -> - | E28: 0 | F28: 15 | G28: =D24 -> Maxtrak | J28: =IF(OR(I26<3,I25<2),"TIRAGE AU SORT !!!"," ") | S28: 45135 | T28: DNF RH3T | U28: =IF(100*V16+W16>100*V17+W17,U16,IF(100*V16+W16<100*V17+W17,U17,CONCATENATE(U16," ou ",U17))) -> Rh3torique | V28: 0
B29: 45130 | C29: TIME | D29: =G24 -> Dam_Pouleto | E29: 15 | F29: 3 | G29: =D25 -> Troulet27 | U29: =IF(100*V18+W18>100*V19+W19,U18,IF(100*V18+W18<100*V19+W19,U19,CONCATENATE(U18," ou ",U19))) -> iFreezeR_ | V29: 15
S30: 45135 | T30: DNF AZION | U30: =IF(100*V20+W20>100*V21+W21,U20,IF(100*V20+W20<100*V21+W21,U21,CONCATENATE(U20," ou ",U21))) -> Azion. | V30: 15
B31: GROUPE D | J31: Classement | K31: Pts | L31: PW | M31: PL | N31: ="+/-" -> +/- | U31: =IF(100*V22+W22>100*V23+W23,U22,IF(100*V22+W22<100*V23+W23,U23,CONCATENATE(U22," ou ",U23))) -> ShaDenis_ | V31: 10
B32: 45130 | C32: TIME | D32: =SEEDINGS!H6 -> MimoJr. | E32: 10 | F32: 14 | G32: =SEEDINGS!H15 -> FeedTM | I32: =AI45 -> 1 | J32: {=INDEX(AM45:AM48,MATCH(AK45,$AL45:$AL48,0))} -> FeedTM | K32: {=INDEX(AN45:AN48,MATCH(AK45,$AL45:$AL48,0))} -> 9 | L32: {=INDEX(AO45:AO48,MATCH(AK45,$AL45:$AL48,0))} -> 44 | M32: {=INDEX(AP45:AP48,MATCH(AK45,$AL45:$AL48,0))} -> 12 | N32: {=INDEX(AQ45:AQ48,MATCH(AK45,$AL45:$AL48,0))} -> 32 | S32: 45135 | T32: DNF PLOMB | U32: =IF(100*V12+W12>100*V13+W13,U12,IF(100*V12+W12<100*V13+W13,U13,CONCATENATE(U12," ou ",U13))) -> Plombz | V32: 15
B33: 45130 | C33: TIME | D33: =SEEDINGS!H22 -> lulubTM | E33: 15 | F33: 0 | G33: =SEEDINGS!H31 -> NBCM-TM | I33: =AI46 -> 2 | J33: {=INDEX(AM45:AM48,MATCH(AK46,$AL45:$AL48,0))} -> MimoJr. | K33: {=INDEX(AN45:AN48,MATCH(AK46,$AL45:$AL48,0))} -> 6 | L33: {=INDEX(AO45:AO48,MATCH(AK46,$AL45:$AL48,0))} -> 40 | M33: {=INDEX(AP45:AP48,MATCH(AK46,$AL45:$AL48,0))} -> 18 | N33: {=INDEX(AQ45:AQ48,MATCH(AK46,$AL45:$AL48,0))} -> 22 | U33: =IF(100*V14+W14>100*V15+W15,U14,IF(100*V14+W14<100*V15+W15,U15,CONCATENATE(U14," ou ",U15))) -> Dam_Pouleto | V33: 5 | AI33: =IF(ROUND(AK33,0)=ROUND(AK27,0),AI27,2) -> 2 | AJ33: =ROUND(AK33,0) -> 2 | AK33: =MAX(MIN(AL27:AL34),MIN(AL27,AL33,AL35),MIN(AL27,AL34,AL35),MIN(AL33:AL35)) -> 1.96 | AL33: =SUM(BD33:BG33)+2.46 -> 1.96 | AM33: =G24 -> Dam_Pouleto | AN33: =SUM(AR33:AU33) -> 6 | AO33: =F24+F26+E29 -> 31 | AP33: =E24+E26+F29 -> 18 | AQ33: =AO33-AP33 -> 13 | AR33: =IF(ISBLANK(F24),0,IF(AS27=3,0,IF(AS27=1,1,3))) -> 0 | AS33: x | AT33: =IF(ISBLANK(E29),0,IF(AS34=3,0,IF(AS34=1,1,3))) -> 3 | AU33: =IF(ISBLANK(F26),0,IF(F26>E26,3,IF(F26=E26,1,0))) -> 3 | AV33: =(10*(AQ27-AQ33)+AO27-AO33<0) -> FALSE | AW33: x | AX33: =10*(AQ33-AQ34)+AO33-AO34>0 -> TRUE | AY33: =10*(AQ33-AQ35)+AO33-AO35>0 -> TRUE | AZ33: =10000*(AR33+AT33)+(F24-E24+E29-F29)*100+(F24+E29) -> 29816 | BA33: =10000*(AR33+AU33)+(F24-E24+F26-E26)*100+(F24+F26) -> 30116 | BB33: x | BC33: =10000*(AT33+AU33)+(F26-E26+E29-F29)*100+(F26+E29) -> 62730 | BD33: =-BE27 -> 0.5 | BE33: x | BF33: =IF($AN33>$AN34,-0.5,IF($AN34>$AN33,0.5,IF(AX33,-0.5,IF(AW34,0.5,BV33)))) -> -0.5 | BG33: =IF($AN33>$AN35,-0.5,IF($AN35>$AN33,0.5,IF(AY33,-0.5,IF(AW35,0.5,BW33)))) -> -0.5 | BU33: x | BV33: =IF($BP27,IF(F29-E29<0,-0.5,IF(E29-F29<0,0.5,0)),IF($BI27,IF($AZ33>$AZ34,-0.5,IF($AZ33<$AZ34,0.5,0)),IF($BL27,IF($BC33>$BC34,-0.5,IF($BC33<$BC34,0.5,0)),0))) -> 0 | BW33: =IF($BQ27,IF(E26-F26<0,-0.5,IF(F26-E26<0,0.5,0)),IF($BJ27,IF($BA33>$BA35,-0.5,IF($BA33<$BA35,0.5,0)),IF($BL27,IF($BC33>$BC35,-0.5,IF($BC33<$BC35,0.5,0)),0))) -> 0
B34: 45130 | C34: TIME | D34: =D32 -> MimoJr. | E34: 15 | F34: 2 | G34: =D33 -> lulubTM | I34: =AI47 -> 3 | J34: {=INDEX(AM45:AM48,MATCH(AK47,$AL45:$AL48,0))} -> lulubTM | K34: {=INDEX(AN45:AN48,MATCH(AK47,$AL45:$AL48,0))} -> 3 | L34: {=INDEX(AO45:AO48,MATCH(AK47,$AL45:$AL48,0))} -> 17 | M34: {=INDEX(AP45:AP48,MATCH(AK47,$AL45:$AL48,0))} -> 30 | N34: {=INDEX(AQ45:AQ48,MATCH(AK47,$AL45:$AL48,0))} -> -13 | AI34: =IF(ROUND(AK34,0)=ROUND(AK33,0),AI33,3) -> 3 | AJ34: =ROUND(AK34,0) -> 3 | AK34: =MIN(MAX(AL27:AL34),MAX(AL27,AL33,AL35),MAX(AL27,AL34,AL35),MAX(AL33:AL35)) -> 2.97 | AL34: =SUM(BD34:BG34)+2.47 -> 2.97 | AM34: =D25 -> Troulet27 | AN34: =SUM(AR34:AU34) -> 3 | AO34: =E25+F27+F29 -> 22 | AP34: =F25+E27+E29 -> 30 | AQ34: =AO34-AP34 -> -8 | AR34: =IF(ISBLANK(F27),0,IF(AT27=3,0,IF(AT27=1,1,3))) -> 0 | AS34: =IF(ISBLANK(F29),0,IF(F29>E29,3,IF(F29=E29,1,0))) -> 0 | AT34: x | AU34: =IF(ISBLANK(E25),0,IF(E25>F25,3,IF(E25=F25,1,0))) -> 3 | AV34: =10*(AQ27-AQ34)+AO27-AO34<0 -> FALSE | AW34: =10*(AQ33-AQ34)+AO33-AO34<0 -> FALSE | AX34: x | AY34: =10*(AQ34-AQ35)+AO34-AO35>0 -> TRUE | AZ34: =10000*(AR34+AS34)+(F27-E27+F29-E29)*100+(F27+F29) -> -2293 | BA34: x | BB34: =10000*(AR34+AU34)+(E25-F25+F27-E27)*100+(E25+F27) -> 30419 | BC34: =10000*(AS34+AU34)+(E25-F25+F29-E29)*100+(E25+F29) -> 30318 | BD34: =-BF27 -> 0.5 | BE34: =-BF33 -> 0.5 | BF34: x | BG34: =IF($AN34>$AN35,-0.5,IF($AN35>$AN34,0.5,IF(AY34,-0.5,IF(AX35,0.5,BW34)))) -> -0.5 | BV34: x | BW34: =IF($BR27,IF(F25-E25<0,-0.5,IF(E25-F25<0,0.5,0)),IF($BK27,IF($BB34>$BB35,-0.5,IF($BB34<$BB35,0.5,0)),IF($BL27,IF($BC34>$BC35,-0.5,IF($BC34<$BC35,0.5,0)),0))) -> 0
B35: 45130 | C35: TIME | D35: =G33 -> NBCM-TM | E35: 2 | F35: 15 | G35: =G32 -> FeedTM | I35: =AI48 -> 4 | J35: {=INDEX(AM45:AM48,MATCH(AK48,$AL45:$AL48,0))} -> NBCM-TM | K35: {=INDEX(AN45:AN48,MATCH(AK48,$AL45:$AL48,0))} -> 0 | L35: {=INDEX(AO45:AO48,MATCH(AK48,$AL45:$AL48,0))} -> 4 | M35: {=INDEX(AP45:AP48,MATCH(AK48,$AL45:$AL48,0))} -> 45 | N35: {=INDEX(AQ45:AQ48,MATCH(AK48,$AL45:$AL48,0))} -> -41 | S35: Demi-finales | AI35: =IF(ROUND(AK35,0)=ROUND(AK34,0),AI34,4) -> 4 | AJ35: =ROUND(AK35,0) -> 4 | AK35: =MAX(AL27:AL35) -> 3.98 | AL35: =SUM(BD35:BG35)+2.48 -> 3.98 | AM35: =G25 -> - | AN35: =SUM(AR35:AU35) -> 0 | AO35: =F25+E26+E28 -> 0 | AP35: =E25+F26+F28 -> 45 | AQ35: =AO35-AP35 -> -45 | AR35: =IF(ISBLANK(E28),0,IF(AU27=3,0,IF(AU27=1,1,3))) -> 0 | AS35: =IF(ISBLANK(E26),0,IF(AU33=3,0,IF(AU33=1,1,3))) -> 0 | AT35: =IF(ISBLANK(F25),0,IF(AU34=3,0,IF(AU34=1,1,3))) -> 0 | AU35: x | AV35: =10*(AQ27-AQ35)+AO27-AO35<0 -> FALSE | AW35: =10*(AQ33-AQ35)+AO33-AO35<0 -> FALSE | AX35: =10*(AQ34-AQ35)+AO34-AO35<0 -> FALSE | AY35: x | AZ35: x | BA35: =10000*(AR35+AS35)+(E26-F26+E28-F28)*100+(E26+E28) -> -3000 | BB35: =10000*(AR35+AT35)+(E28-F28+F25-E25)*100+(E28+F25) -> -3000 | BC35: =10000*(AS35+AT35)+(E26-F26+F25-E25)*100+(E26+F25) -> -3000 | BD35: =-BG27 -> 0.5 | BE35: =-BG33 -> 0.5 | BF35: =-BG34 -> 0.5 | BG35: x | BW35: x
B36: 45130 | C36: TIME | D36: =G33 -> NBCM-TM | E36: 2 | F36: 15 | G36: =D32 -> MimoJr. | J36: =IF(OR(I34<3,I33<2),"TIRAGE AU SORT !!!"," ") | S36: 45136 | T36: 14h45 | U36: =IF(100*V27+W27>100*V28+W28,U27,IF(100*V27+W27<100*V28+W28,U26,IF(X34*X35=1,"-",CONCATENATE(U27," ou ",U26)))) -> MimoJr. | V36: 12
B37: 45130 | C37: TIME | D37: =G32 -> FeedTM | E37: 15 | F37: 0 | G37: =D33 -> lulubTM | U37: =IF(100*V28+W28>100*V29+W29,U28,IF(100*V28+W28<100*V29+W29,U29,IF(X35*X36=1,"-",CONCATENATE(U28," ou ",U29)))) -> iFreezeR_ | V37: 7
S38: 45136 | T38: 14h15 | U38: Dam_Pouleto | V38: 6
B39: GROUPE E | J39: Classement | K39: Pts | L39: PW | M39: PL | N39: ="+/-" -> +/- | U39: ShaDenis_ | V39: 15 | AL39: Rank | AM39: Team | AN39: Pts | AO39: GF | AP39: GA | AQ39: GD | AR39: Ag1 | AS39: Ag2 | AT39: Ag3 | AU39: Ag4 | AV39: Sp1 | AW39: Sp2 | AX39: Sp3 | AY39: Sp4 | AZ39: T123 | BA39: T124 | BB39: T134 | BC39: T234 | BD39: Rk1 | BE39: Rk2 | BF39: Rk3 | BG39: Rk4 | BH39: T1234 | BI39: T123 | BJ39: T124 | BK39: T134 | BL39: T234 | BM39: T12 | BN39: T13 | BO39: T14 | BP39: T23 | BQ39: T24 | BR39: T34 | BS39: NoT | BT39: sRk1 | BU39: sRk2 | BV39: sRk3 | BW39: sRk4
B40: 45130 | C40: TIME | D40: =SEEDINGS!H7 -> GLRS.Heav | E40: 0 | F40: 15 | G40: =SEEDINGS!H14 -> Rh3torique | I40: =AI57 -> 1 | J40: {=INDEX(AM57:AM60,MATCH(AK57,$AL57:$AL60,0))} -> Rh3torique | K40: {=INDEX(AN57:AN60,MATCH(AK57,$AL57:$AL60,0))} -> 9 | L40: {=INDEX(AO57:AO60,MATCH(AK57,$AL57:$AL60,0))} -> 45 | M40: {=INDEX(AP57:AP60,MATCH(AK57,$AL57:$AL60,0))} -> 5 | N40: {=INDEX(AQ57:AQ60,MATCH(AK57,$AL57:$AL60,0))} -> 40
B41: 45130 | C41: TIME | D41: =SEEDINGS!H23 -> Paynn_TM | E41: 15 | F41: 3 | G41: =SEEDINGS!H30 -> Kapy_TM | I41: =AI58 -> 2 | J41: {=INDEX(AM57:AM60,MATCH(AK58,$AL57:$AL60,0))} -> Paynn_TM | K41: {=INDEX(AN57:AN60,MATCH(AK58,$AL57:$AL60,0))} -> 6 | L41: {=INDEX(AO57:AO60,MATCH(AK58,$AL57:$AL60,0))} -> 30 | M41: {=INDEX(AP57:AP60,MATCH(AK58,$AL57:$AL60,0))} -> 18 | N41: {=INDEX(AQ57:AQ60,MATCH(AK58,$AL57:$AL60,0))} -> 12 | S41: 3ème place
B42: 45130 | C42: TIME | D42: =D41 -> Paynn_TM | E42: 15 | F42: 0 | G42: =D40 -> GLRS.Heav | I42: =AI59 -> 3 | J42: {=INDEX(AM57:AM60,MATCH(AK59,$AL57:$AL60,0))} -> Kapy_TM | K42: {=INDEX(AN57:AN60,MATCH(AK59,$AL57:$AL60,0))} -> 3 | L42: {=INDEX(AO57:AO60,MATCH(AK59,$AL57:$AL60,0))} -> 23 | M42: {=INDEX(AP57:AP60,MATCH(AK59,$AL57:$AL60,0))} -> 30 | N42: {=INDEX(AQ57:AQ60,MATCH(AK59,$AL57:$AL60,0))} -> -7
B43: 45130 | C43: TIME | D43: =G40 -> Rh3torique | E43: 15 | F43: 5 | G43: =G41 -> Kapy_TM | I43: =AI60 -> 4 | J43: {=INDEX(AM57:AM60,MATCH(AK60,$AL57:$AL60,0))} -> GLRS.Heav | K43: {=INDEX(AN57:AN60,MATCH(AK60,$AL57:$AL60,0))} -> 0 | L43: {=INDEX(AO57:AO60,MATCH(AK60,$AL57:$AL60,0))} -> 0 | M43: {=INDEX(AP57:AP60,MATCH(AK60,$AL57:$AL60,0))} -> 45 | N43: {=INDEX(AQ57:AQ60,MATCH(AK60,$AL57:$AL60,0))} -> -45 | S43: 45136 | T43: 15h30 | U43: =IF(100*V36+W36>100*V37+W37,U37,IF(100*V36+W36<100*V37+W37,U36," - ")) -> iFreezeR_ | V43: 15
B44: 45130 | C44: TIME | D44: =G40 -> Rh3torique | E44: 15 | F44: 0 | G44: =D41 -> Paynn_TM | J44: =IF(OR(I42<3,I41<2),"TIRAGE AU SORT !!!"," ") | U44: =IF(100*V38+W38>100*V39+W39,U39,IF(100*V38+W38<100*V39+W39,U38," - ")) -> Dam_Pouleto | V44: 3
B45: 45130 | C45: TIME | D45: =G41 -> Kapy_TM | E45: 15 | F45: 0 | G45: =D40 -> GLRS.Heav | AI45: 1 | AJ45: =ROUND(AK45,0) -> 1 | AK45: =MIN(AL45:AL48) -> 0.96 | AL45: =SUM(BD45:BG45)+2.45 -> 1.95 | AM45: =D32 -> MimoJr. | AN45: =SUM(AR45:AU45) -> 6 | AO45: =E32+E34+F36 -> 40 | AP45: =F32+F34+E36 -> 18 | AQ45: =AO45-AP45 -> 22 | AR45: x | AS45: =IF(ISBLANK(E32),0,IF(E32>F32,3,IF(E32=F32,1,0))) -> 0 | AT45: =IF(ISBLANK(E34),0,IF(E34>F34,3,IF(E34=F34,1,0))) -> 3 | AU45: =IF(ISBLANK(F36),0,IF(F36>E36,3,IF(F36=E36,1,0))) -> 3 | AV45: x | AW45: =(10*(AQ45-AQ46)+AO45-AO46>0) -> FALSE | AX45: =10*(AQ45-AQ47)+AO45-AO47>0 -> TRUE | AY45: =10*(AQ45-AQ48)+AO45-AO48>0 -> TRUE | AZ45: =10000*(AS45+AT45)+(E34-F34+E32-F32)*100+(E34+E32) -> 30925 | BA45: =10000*(AS45+AU45)+(E32-F32+F36-E36)*100+(E32+F36) -> 30925 | BB45: =10000*(AT45+AU45)+(F36-E36+E34-F34)*100+(F36+E34) -> 62630 | BC45: x | BD45: x | BE45: =IF($AN45>$AN46,-0.5,IF($AN46>$AN45,0.5,IF(AW45,-0.5,IF(AV46,0.5,BU45)))) -> 0.5 | BF45: =IF($AN45>$AN47,-0.5,IF($AN47>$AN45,0.5,IF(AX45,-0.5,IF(AV47,0.5,BV45)))) -> -0.5 | BG45: =IF($AN45>$AN48,-0.5,IF($AN48>$AN45,0.5,IF(AY45,-0.5,IF(AV48,0.5,BW45)))) -> -0.5 | BH45: =AND(AND(AN45=AN46,AN46=AN47,AN47=AN48),AND(AO45=AO46,AO46=AO47,AO47=AO48),AND(AP45=AP46,AP46=AP47,AP47=AP48)) -> FALSE | BI45: =AND(NOT(BH45),AN45=AN46,AN45=AN47,AO45=AO46,AO45=AO47,AP45=AP46,AP45=AP47) -> FALSE | BJ45: =AND(NOT(BH45),AN45=AN46,AN45=AN48,AO45=AO46,AO45=AO48,AP45=AP46,AP45=AP48) -> FALSE | BK45: =AND(NOT(BH45),AN45=AN47,AN45=AN48,AO45=AO47,AO45=AO48,AP45=AP47,AP45=AP48) -> FALSE | BL45: =AND(NOT(BH45),AN46=AN47,AN46=AN48,AO46=AO47,AO46=AO48,AP46=AP47,AP46=AP48) -> FALSE | BM45: =AND(NOT(BH45),NOT(BI45),NOT(BJ45),AN45=AN46,AO45=AO46,AP45=AP46) -> FALSE | BN45: =AND(NOT(BH45),NOT(BI45),NOT(BK45),AN45=AN47,AO45=AO47,AP45=AP47) -> FALSE | BO45: =AND(NOT(BH45),NOT(BJ45),NOT(BK45),AN45=AN48,AO45=AO48,AP45=AP48) -> FALSE | BP45: =AND(NOT(BH45),NOT(BI45),NOT(BL45),AN46=AN47,AO46=AO47) -> FALSE | BQ45: =AND(NOT(BH45),NOT(BJ45),NOT(BL45),AN46=AN48,AO46=AO48,AP46=AP48) -> FALSE | BR45: =AND(NOT(BH45),NOT(BK45),NOT(BL45),AN47=AN48,AO47=AO48,AP47=AP48) -> FALSE | BS45: {=AND(NOT(BH45:BR45))} -> TRUE | BT45: x | BU45: =IF($BM45,IF(F32-E32<0,-0.5,IF(E32-F32<0,0.5,0)),IF($BI45,IF($AZ45>$AZ46,-0.5,IF($AZ45<$AZ46,0.5,0)),IF($BJ45,IF($BA45>$BA46,-0.5, IF($BA45<$BA46,0.5,0)),0))) -> 0 | BV45: =IF($BN45,IF(F34-E34<0,-0.5,IF(E34-F34<0,0.5,0)),IF($BI45,IF($AZ45>$AZ47,-0.5,IF($AZ45<$AZ47,0.5,0)),IF($BK45,IF($BB45>$BB47,-0.5,IF($BB45<$BB47,0.5,0)),0))) -> 0 | BW45: =IF($BO45,IF(E36-F36<0,-0.5,IF(F36-E36<0,0.5,0)),IF($BJ45,IF($BA45>$BA48,-0.5,IF($BA45<$BA48,0.5,0)),IF($BK45,IF($BB45>$BB48,-0.5, IF($BB45<$BB48,0.5,0)),0))) -> 0
...

Sheet SEEDINGS
B2: SEEDING - 32 Players Remain | G2: CLASSEMENT SEEDINGS
B3: Start at 9:00 (21h00 Paris Time) - Finish Sunday 9th | G3: 1 | H3: Nayko.TM
B4: Match Format | G4: =G3+1 -> 2 | H4: Plombz
B5: 1 week of Time Attck on the Rex Servers | G5: =G4+1 -> 3 | H5: Maxtrak
B6: Mode Round | Point Repartition : | G6: =G5+1 -> 4 | H6: MimoJr.
B7: - | G7: =G6+1 -> 5 | H7: GLRS.Heav
G8: =G7+1 -> 6 | H8: Acide.
B9: Logins | G9: =G8+1 -> 7 | H9: iFreezeR_
B10: 1 | C10: Discord roles "RWC 2023" | G10: =G9+1 -> 8 | H10: ShaDenis_
B11: =B10+1 -> 2 | G11: =G10+1 -> 9 | H11: Aqueyas
B12: =B11+1 -> 3 | G12: =G11+1 -> 10 | H12: N0vux
B13: =B12+1 -> 4 | G13: =G12+1 -> 11 | H13: Azion.
B14: =B13+1 -> 5 | G14: =G13+1 -> 12 | H14: Rh3torique
B15: =B14+1 -> 6 | G15: =G14+1 -> 13 | H15: FeedTM
B16: =B15+1 -> 7 | G16: =G15+1 -> 14 | H16: Dam_Pouleto
B17: =B16+1 -> 8 | G17: =G16+1 -> 15 | H17: SnatiX.
B18: =B17+1 -> 9 | G18: =G17+1 -> 16 | H18: thoboom
B19: =B18+1 -> 10 | G19: =G18+1 -> 17 | H19: Walegen
B20: =B19+1 -> 11 | G20: =G19+1 -> 18 | H20: Gold.TM
B21: =B20+1 -> 12 | G21: =G20+1 -> 19 | H21: Troulet27
B22: =B21+1 -> 13 | G22: =G21+1 -> 20 | H22: lulubTM
... B34: =B33+1 -> 25 | G34: =G33+1 -> 32 | H34: -
B35: =B34+1 -> 26
B36: =B35+1 -> 27
B37: =B36+1 -> 28
B38: =B37+1 -> 29
B39: =B38+1 -> 30
B40: =B39+1 -> 31
B41: =B40+1 -> 32
