Workbook

Sheet DOSSIERS
A1: 354476 | B1: SAS 3BELLS | C1: 1066.354476@email.ami-compta.fr | D1: =SUBSTITUTE(C1,"content_copy","") -> 1066.354476@email.ami-compta.fr | E1: =VLOOKUP(A1,'n° SIRET'!A1:C2368,3,FALSE) -> 98427072800012
A2: 354465 | B2: SAS KUAILE | C2: 1066.354465@email.ami-compta.fr content_copy | D2: =SUBSTITUTE(C2,"content_copy","") -> 1066.354465@email.ami-compta.fr | E2: =VLOOKUP(A2,'n° SIRET'!A2:C2369,3,FALSE) -> 94942891600017
A3: 354457 | B3: EURL LJ COUVERTURE | C3: 1066.354457@email.ami-compta.fr content_copy | D3: =SUBSTITUTE(C3,"content_copy","") -> 1066.354457@email.ami-compta.fr | E3: =VLOOKUP(A3,'n° SIRET'!A3:C2370,3,FALSE) -> #N/A
A4: 354456 | B4: MR GUILLAUME Mathias | C4: 1066.354456@email.ami-compta.fr content_copy | D4: =SUBSTITUTE(C4,"content_copy","") -> 1066.354456@email.ami-compta.fr | E4: =VLOOKUP(A4,'n° SIRET'!A4:C2371,3,FALSE) -> #N/A
A5: 354455 | B5: EURL LD-METALLURGIE | C5: 1066.354455@email.ami-compta.fr content_copy | D5: =SUBSTITUTE(C5,"content_copy","") -> 1066.354455@email.ami-compta.fr | E5: =VLOOKUP(A5,'n° SIRET'!A5:C2372,3,FALSE) -> #N/A
A6: 354446 | B6: MME PETRUS IONA | C6: 1066.354446@email.ami-compta.fr content_copy | D6: =SUBSTITUTE(C6,"content_copy","") -> 1066.354446@email.ami-compta.fr | E6: =VLOOKUP(A6,'n° SIRET'!A6:C2373,3,FALSE) -> #N/A
A7: 354435 | B7: SARL PI CLIC | C7: 1066.354435@email.ami-compta.fr content_copy | D7: =SUBSTITUTE(C7,"content_copy","") -> 1066.354435@email.ami-compta.fr | E7: =VLOOKUP(A7,'n° SIRET'!A7:C2374,3,FALSE) -> #N/A
A8: 354434 | B8: MR ERNOU CEDRIC | C8: 1066.354434@email.ami-compta.fr content_copy | D8: =SUBSTITUTE(C8,"content_copy","") -> 1066.354434@email.ami-compta.fr | E8: =VLOOKUP(A8,'n° SIRET'!A8:C2375,3,FALSE) -> #N/A
A9: 354423 | B9: EURL GARAGE CEDRIC AUTO | C9: 1066.354423@email.ami-compta.fr content_copy | D9: =SUBSTITUTE(C9,"content_copy","") -> 1066.354423@email.ami-compta.fr | E9: =VLOOKUP(A9,'n° SIRET'!A9:C2376,3,FALSE) -> #N/A
A10: 354415 | B10: SAS DL COTENTIN MANAGEMENT | C10: 1066.354415@email.ami-compta.fr content_copy | D10: =SUBSTITUTE(C10,"content_copy","") -> 1066.354415@email.ami-compta.fr | E10: =VLOOKUP(A10,'n° SIRET'!A10:C2377,3,FALSE) -> #N/A
A11: 354412 | B11: SCI DELMA EN COTENTIN | C11: 1066.354412@email.ami-compta.fr content_copy | D11: =SUBSTITUTE(C11,"content_copy","") -> 1066.354412@email.ami-compta.fr | E11: =VLOOKUP(A11,'n° SIRET'!A11:C2378,3,FALSE) -> #N/A
A12: 354411 | B12: SCI LOQUET FAMILY | C12: 1066.354411@email.ami-compta.fr content_copy | D12: =SUBSTITUTE(C12,"content_copy","") -> 1066.354411@email.ami-compta.fr | E12: =VLOOKUP(A12,'n° SIRET'!A12:C2379,3,FALSE) -> #N/A
A13: 354410 | B13: SCI NAUDIN IMMOBILIER | C13: 1066.354410@email.ami-compta.fr content_copy | D13: =SUBSTITUTE(C13,"content_copy","") -> 1066.354410@email.ami-compta.fr
A14: 354405 | B14: SELAR MIRUSDENT | C14: 1066.354405@email.ami-compta.fr content_copy | D14: =SUBSTITUTE(C14,"content_copy","") -> 1066.354405@email.ami-compta.fr
A15: 354404 | B15: SAS LA BONNE ADRESSE | C15: 1066.354404@email.ami-compta.fr content_copy | D15: =SUBSTITUTE(C15,"content_copy","") -> 1066.354404@email.ami-compta.fr
A16: 354400 | B16: MR LEGASTELOIS GUILLAUME | C16: 1066.354400@email.ami-compta.fr content_copy | D16: =SUBSTITUTE(C16,"content_copy","") -> 1066.354400@email.ami-compta.fr
A17: 354393 | B17: SAS MAEDZAEL EN COTENTIN | C17: 1066.354393@email.ami-compta.fr content_copy | D17: =SUBSTITUTE(C17,"content_copy","") -> 1066.354393@email.ami-compta.fr
A18: 354392 | B18: SCI MAEDZAEL IMMOBILIER | C18: 1066.354392@email.ami-compta.fr content_copy | D18: =SUBSTITUTE(C18,"content_copy","") -> 1066.354392@email.ami-compta.fr
A19: 354391 | B19: SAS DL CHAUDRONNERIE INDUSTRIE | C19: 1066.354391@email.ami-compta.fr content_copy | D19: =SUBSTITUTE(C19,"content_copy","") -> 1066.354391@email.ami-compta.fr
A20: 354387 | B20: SARL VRV CONCEPT | C20: 1066.354387@email.ami-compta.fr content_copy | D20: =SUBSTITUTE(C20,"content_copy","") -> 1066.354387@email.ami-compta.fr
A21: 354381 | B21: SAS NAUDIN | C21: 1066.354381@email.ami-compta.fr content_copy | D21: =SUBSTITUTE(C21,"content_copy","") -> 1066.354381@email.ami-compta.fr
A22: 354380 | B22: SARL METEORE | C22: 1066.354380@email.ami-compta.fr content_copy | D22: =SUBSTITUTE(C22,"content_copy","") -> 1066.354380@email.ami-compta.fr
A23: 354379 | B23: SNC DHP | C23: 1066.354379@email.ami-compta.fr content_copy | D23: =SUBSTITUTE(C23,"content_copy","") -> 1066.354379@email.ami-compta.fr
A24: 354376 | B24: SARL DU'HOME CONCIERGERIE | C24: 1066.354376@email.ami-compta.fr content_copy | D24: =SUBSTITUTE(C24,"content_copy","") -> 1066.354376@email.ami-compta.fr
... A227: 34305 | B227: S.A.R.L. OPTIQUE CORDON | C227: 1066.034305@email.ami-compta.fr content_copy | D227: =SUBSTITUTE(C227,"content_copy","") -> 1066.034305@email.ami-compta.fr

Sheet n° SIRET
A1: 3003 | B1: SCI BELLAMY LA ROUSSERIE | C1: 90698004000016
A2: 31001 | B2: SARL CABINET LEBOUCHER LEFEVRE | C2: 34204421100064
A3: 31008 | B3: MR BOURGEADE CHARLES (DR)
A4: 31021 | B4: MME BLOT GENEVIEVE (DR)
A5: 31042 | B5: C.D.H.A.T. | C5: 32203126100033
A6: 31062 | B6: MR LETOURMY JEAN LOUIS | C6: 43444316400018
A7: 31065 | B7: MME LAMAZURE THERESE (DR)
A8: 31124 | B8: SARL ARTISANS DECORATEURS | C8: 31890847200026
A9: 031130 | B9: SARL PLESSIS A ET G | C9: 34315006600011
A10: 031143 | B10: MR THOURON DANIEL (DR) | C10: 32795830200017
A11: 031156 | B11: SARL CANISY CONTINU | C11: 32880334100010
A12: 031218 | B12: MR LEPRIEUR JEAN (DR) | C12: 30203029100041
A13: 031223 | B13: MR LEPOITTEVIN JACQUES (DR)
A14: 031227 | B14: SAS PMS | C14: 32775382800018
A15: 031230 | B15: MME MARIE FRANCOISE (DR) | C15: 32449388100019
A16: 031267 | B16: MR HERBERT ANDRE (DR) | C16: 31839861700031
A17: 031725 | B17: MR LECUIR Claude
A18: 032042 | B18: ASS CDHAT SECTEUR SOCIAL | C18: 32203126100017
A19: 033042 | B19: ASS CDHAT SECTEUR CONCURRENTIEL | C19: 32203126100017
A20: 034003 | B20: SCI BELLAMY SAINT VIGOR | C20: 35265743100016
A21: 034130 | B21: MR PLESSIS GILBERT | C21: 32088666600017
A22: 034229 | B22: SARL GARAGE DE L'OUEST | C22: 34032379900015
A23: 034256 | B23: SCI GAUDIN B | C23: 33851789900013
A24: 034260 | B24: MME DELANNOY CATHERINE (DR) | C24: 34021363600020
A25: 034305 | B25: SARL OPTIQUE CORDON | C25: 34404099300018
A26: 034332 | B26: MR CORMIER PHILIPPE (DR) | C26: 34439346700016
A27: 034336 | B27: SCI LECLERC 36 | C27: 33941370000016
A28: 034364 | B28: MME LECOT Marie-Line | C28: 42162709200016
A29: 034373 | B29: SCI 32 COURS JONVILLE | C29: 34469123300011
... A65: 351164 | B65: SARL TOCZE | C65: 41836712400025
A66: 351236 | B66: MR MARIE GEORGES (DR)
A67: 351257 | B67: SARL CLESI | C67: 42191291600028
A68: 351262 | B68: SARL DESS OPTIC | C68: 42237576600041
A69: 351279 | B69: SARL TOP DEPANN | C69: 42512447600010
A70: 351292 | B70: MME LOGEAIS ISABELLE | C70: 42411744800029
A71: 351294 | B71: MME BOSSEY GAUTIER DELPHINE | C71: 39853209300034
A72: 351331 | B72: MR L HOTELLIER BENOIT | C72: 41511534400012
A73: 351346 | B73: SCP Sté Civile Particulière JDMC | C73: 42485124400014
A74: 351350 | B74: EURL DENIS TOITURES DE A À ZINC | C74: 43018611400012
A75: 351420 | B75: SARL LCL CONSTRUCTION | C75: 43335533600028
...
