Workbook
Name CRITICITE: [1]TABLE!$E$2:$E$4
Name ORIGINE: [1]TABLE!$F$2:$F$9
Name PERSONNE: [1]TABLE!$D$2:$D$29
Name PROCESSUS: [1]TABLE!$B$2:$B$13
Name STATUT: [1]TABLE!$H$2:$H$5
Name SYSTEME: [1]TABLE!$A$2:$A$5
Name TYPE: [1]TABLE!$G$2:$G$3

Sheet Data
A1: N° NC SNDC | B1: Système | C1: Origine | D1: Processus | E1: Date Saisie | F1: Niveau de Criticité | G1: Description de la NC | H1: Analyse- Cause | I1: Curatif Préventif | J1: Responsable Traitement | K1: Action Curative Action Préventive | L1: Délai Action | M1: Responsable Vérification | N1: Statut action curative | O1: Date Statut A.Cu | P1: Action Corrective (Corriger la cause de la non-conformité pour éviter qu'elle ne se reproduise) | Q1: Délai Action | R1: Responsable Vérification | S1: Statut action corrective | T1: Date Statut A.Co | U1: Statut Final | V1: Vérifié par | W1: Date de clôture | X1: Clôture fictive | Y1: Durée de traitement | Z1: Commentaires
A2: 24-AI-33 | E2: 45460 | F2: 2 | W2: 45579 | X2: 45579 | Y2: =X2-E2 -> 119
A3: 24-AI-34 | E3: 45485 | F3: 3 | X3: 45597 | Y3: =X3-E3 -> 112
A4: 24-AI-35 | E4: 45498 | F4: 1 | X4: 45597 | Y4: =X4-E4 -> 99
A5: 24-AI-36 | E5: 45509 | F5: 2 | W5: 45592 | X5: 45592 | Y5: =X5-E5 -> 83
A6: 24-AI-37 | E6: 45565 | F6: 1 | X6: 45597 | Y6: =X6-E6 -> 32
A7: 24-AI-38 | E7: 45570 | F7: 3 | X7: 45597 | Y7: =X7-E7 -> 27

Sheet INDIC_Criticité3
B1: =DATE(YEAR(P1), MONTH(P1),DAY(P1)-1) -> 45596 | C1: =DATE(YEAR(P1), MONTH(P1)-1,DAY(P1)-1) -> 45565 | D1: =DATE(YEAR(P1), MONTH(P1)-2,DAY(P1)-1) -> 45535 | E1: =DATE(YEAR(P1), MONTH(P1)-3,DAY(P1)-1) -> 45504 | F1: =DATE(YEAR(P1), MONTH(P1)-4,DAY(P1)-1) -> 45473 | G1: =DATE(YEAR(P1), MONTH(P1)-5,DAY(P1)-1) -> 45443 | H1: =DATE(YEAR(P1), MONTH(P1)-6,DAY(P1)-1) -> 45412 | I1: =DATE(YEAR(P1), MONTH(P1)-7,DAY(P1)-1) -> 45382 | J1: =DATE(YEAR(P1), MONTH(P1)-8,DAY(P1)-1) -> 45351 | K1: =DATE(YEAR(P1), MONTH(P1)-9,DAY(P1)-1) -> 45322 | L1: =DATE(YEAR(P1), MONTH(P1)-10,DAY(P1)-1) -> 45291 | M1: =DATE(YEAR(P1), MONTH(P1)-11,DAY(P1)-1) -> 45260 | O1: Date calcul | P1: 45597
A2: Nbre en traitement ce mois | B2: =SUM(B3:B6) -> 2 | C2: =SUM(C3:C6) -> 1 | D2: =SUM(D3:D6) -> 1 | E2: =SUM(E3:E6) -> 1 | F2: =SUM(F3:F6) -> 0 | G2: =SUM(G3:G6) -> 0 | H2: =SUM(H3:H6) -> 1 | I2: =SUM(I3:I6) -> 1 | ... M2: =SUM(M3:M6) -> 5
A3: Supérieures à 12 Mois | B3: 0 | C3: 0 | D3: 0 | E3: 0 | F3: 0 | G3: 0 | H3: 1 | I3: 1 | J3: 1 | K3: 0 | L3: 0 | M3: 0
A4: Entre 6 et 12 Mois | B4: 0 | C4: 0 | D4: 0 | E4: 0 | F4: 0 | G4: 0 | H4: 0 | I4: 0 | J4: 1 | K4: 2 | L4: 2 | M4: 2
A5: Entre 3 et 6 Mois | B5: 0 | C5: 0 | D5: 0 | E5: 0 | F5: 0 | G5: 0 | H5: 0 | I5: 0 | J5: 0 | K5: 1 | L5: 1 | M5: 3
A6: Inférieures à 3 Mois | B6: 2 | C6: 1 | D6: 1 | E6: 1 | F6: 0 | G6: 0 | H6: 0 | I6: 0 | J6: 0 | K6: 0 | L6: 0 | M6: 0
A7: Nbre de clôture ce mois | B7: 0 | C7: 0 | D7: 0 | E7: 0 | F7: 0 | G7: 0 | H7: 0 | I7: 0 | J7: 0 | K7: 0 | L7: 3 | M7: 0
A8: Nbre d'Ouverture ce mois | B8: 1 | C8: 0 | D8: 0 | E8: 1 | F8: 0 | G8: 0 | H8: 0 | I8: 0 | J8: 0 | K8: 0 | L8: 0 | M8: 0

Sheet INDIC_Criticité2
B1: =INDIC_Criticité3!B1 -> 45596 | C1: =INDIC_Criticité3!C1 -> 45565 | D1: =INDIC_Criticité3!D1 -> 45535 | E1: =INDIC_Criticité3!E1 -> 45504 | F1: =INDIC_Criticité3!F1 -> 45473 | G1: =INDIC_Criticité3!G1 -> 45443 | H1: =INDIC_Criticité3!H1 -> 45412 | I1: =INDIC_Criticité3!I1 -> 45382 | ... M1: =INDIC_Criticité3!M1 -> 45260
A2: Nbre en traitement ce mois | B2: =SUM(B3:B6) -> 0 | C2: =SUM(C3:C6) -> 2 | D2: =SUM(D3:D6) -> 1 | E2: =SUM(E3:E6) -> 1 | F2: =SUM(F3:F6) -> 1 | G2: =SUM(G3:G6) -> 0 | H2: =SUM(H3:H6) -> 0 | I2: =SUM(I3:I6) -> 0 | ... M2: =SUM(M3:M6) -> 0
A3: Supérieures à 12 Mois | B3: 0 | C3: 0 | D3: 0 | E3: 0 | F3: 0 | G3: 0 | H3: 0 | I3: 0 | J3: 0 | K3: 0 | L3: 0 | M3: 0
A4: Entre 6 et 12 Mois | B4: 0 | C4: 0 | D4: 0 | E4: 0 | F4: 0 | G4: 0 | H4: 0 | I4: 0 | J4: 0 | K4: 0 | L4: 0 | M4: 0
A5: Entre 3 et 6 Mois | B5: 0 | C5: 0 | D5: 0 | E5: 0 | F5: 0 | G5: 0 | H5: 0 | I5: 0 | J5: 0 | K5: 0 | L5: 0 | M5: 0
A6: Inférieures à 3 Mois | B6: 0 | C6: 2 | D6: 1 | E6: 1 | F6: 1 | G6: 0 | H6: 0 | I6: 0 | J6: 0 | K6: 0 | L6: 0 | M6: 0
A7: Nbre de clôture ce mois | B7: 2 | C7: 0 | D7: 0 | E7: 0 | F7: 0 | G7: 0 | H7: 0 | I7: 0 | J7: 0 | K7: 0 | L7: 0 | M7: 0
A8: Nbre d'Ouverture ce mois | B8: 0 | C8: 0 | D8: 1 | E8: 0 | F8: 1 | G8: 0 | H8: 0 | I8: 0 | J8: 0 | K8: 0 | L8: 0 | M8: 0

Sheet INDIC_Criticité1
B1: =INDIC_Criticité3!B1 -> 45596 | C1: =INDIC_Criticité3!C1 -> 45565 | D1: =INDIC_Criticité3!D1 -> 45535 | E1: =INDIC_Criticité3!E1 -> 45504 | F1: =INDIC_Criticité3!F1 -> 45473 | G1: =INDIC_Criticité3!G1 -> 45443 | H1: =INDIC_Criticité3!H1 -> 45412 | I1: =INDIC_Criticité3!I1 -> 45382 | ... M1: =INDIC_Criticité3!M1 -> 45260
A2: Nbre en traitement ce mois | B2: =SUM(B3:B6) -> 2 | C2: =SUM(C3:C6) -> 2 | D2: =SUM(D3:D6) -> 1 | E2: =SUM(E3:E6) -> 1 | F2: =SUM(F3:F6) -> 0 | G2: =SUM(G3:G6) -> 0 | H2: =SUM(H3:H6) -> 0 | I2: =SUM(I3:I6) -> 0 | ... M2: =SUM(M3:M6) -> 0
A3: Supérieures à 12 Mois | B3: 0 | C3: 0 | D3: 0 | E3: 0 | F3: 0 | G3: 0 | H3: 0 | I3: 0 | J3: 0 | K3: 0 | L3: 0 | M3: 0
A4: Entre 6 et 12 Mois | B4: 0 | C4: 0 | D4: 0 | E4: 0 | F4: 0 | G4: 0 | H4: 0 | I4: 0 | J4: 0 | K4: 0 | L4: 0 | M4: 0
A5: Entre 3 et 6 Mois | B5: 0 | C5: 0 | D5: 0 | E5: 0 | F5: 0 | G5: 0 | H5: 0 | I5: 0 | J5: 0 | K5: 0 | L5: 0 | M5: 0
A6: Inférieures à 3 Mois | B6: 2 | C6: 2 | D6: 1 | E6: 1 | F6: 0 | G6: 0 | H6: 0 | I6: 0 | J6: 0 | K6: 0 | L6: 0 | M6: 0
A7: Nbre de clôture ce mois | B7: 0 | C7: 0 | D7: 0 | E7: 0 | F7: 0 | G7: 0 | H7: 0 | I7: 0 | J7: 0 | K7: 0 | L7: 0 | M7: 0
A8: Nbre d'Ouverture ce mois | B8: 0 | C8: 1 | D8: 0 | E8: 1 | F8: 0 | G8: 0 | H8: 0 | I8: 0 | J8: 0 | K8: 0 | L8: 0 | M8: 0
