Workbook

Sheet plage
C2: fg | D2: ghbn
A3: =DATE(2007, 1, 1) -> 39083 | C3: =RANDBETWEEN(2,40) -> 16 | D3: =RANDBETWEEN(100, 400) -> 281
A4: =EDATE(A3, 1) -> 39114 | C4: =RANDBETWEEN(2,40) -> 13 | D4: =RANDBETWEEN(100, 400) -> 288
A5: =EDATE(A4, 1) -> 39142 | C5: =RANDBETWEEN(2,40) -> 11 | D5: =RANDBETWEEN(100, 400) -> 360
A6: =EDATE(A5, 1) -> 39173 | C6: =RANDBETWEEN(2,40) -> 32 | D6: =RANDBETWEEN(100, 400) -> 383
A7: =EDATE(A6, 1) -> 39203 | C7: =RANDBETWEEN(2,40) -> 19 | D7: =RANDBETWEEN(100, 400) -> 364
A8: =EDATE(A7, 1) -> 39234 | C8: =RANDBETWEEN(2,40) -> 9 | D8: =RANDBETWEEN(100, 400) -> 356
A9: =EDATE(A8, 1) -> 39264 | C9: =RANDBETWEEN(2,40) -> 11 | D9: =RANDBETWEEN(100, 400) -> 264
A10: =EDATE(A9, 1) -> 39295 | C10: =RANDBETWEEN(2,40) -> 36 | D10: =RANDBETWEEN(100, 400) -> 392
A11: =EDATE(A10, 1) -> 39326 | C11: =RANDBETWEEN(2,40) -> 40 | D11: =RANDBETWEEN(100, 400) -> 371
A12: =EDATE(A11, 1) -> 39356 | C12: =RANDBETWEEN(2,40) -> 34 | D12: =RANDBETWEEN(100, 400) -> 117
A13: =EDATE(A12, 1) -> 39387 | C13: =RANDBETWEEN(2,40) -> 6 | D13: =RANDBETWEEN(100, 400) -> 391
A14: =EDATE(A13, 1) -> 39417 | C14: =RANDBETWEEN(2,40) -> 28 | D14: =RANDBETWEEN(100, 400) -> 356
A15: =EDATE(A14, 1) -> 39448 | C15: =RANDBETWEEN(2,40) -> 26 | D15: =RANDBETWEEN(100, 400) -> 176
... A110: =EDATE(A109, 1) -> 42339 | C110: =RANDBETWEEN(2,40) -> 37 | D110: =RANDBETWEEN(100, 400) -> 143

Sheet rechv
A1: année | B1: 2009
A4: =DATE(B1, 1, 1) -> 39814 | C4: =VLOOKUP(A4,plage!A3:D110,3,0) -> 38 | D4: =VLOOKUP(A4,plage!A3:D110,4,0) -> 293
A5: =EDATE(A4, 1) -> 39845 | C5: =VLOOKUP(A5,plage!A4:D111,3,0) -> 7 | D5: =VLOOKUP(A5,plage!A4:D111,4,0) -> 105
A6: =EDATE(A5, 1) -> 39873 | C6: =VLOOKUP(A6,plage!A5:D112,3,0) -> 19 | D6: =VLOOKUP(A6,plage!A5:D112,4,0) -> 192
A7: =EDATE(A6, 1) -> 39904 | C7: =VLOOKUP(A7,plage!A6:D113,3,0) -> 16 | D7: =VLOOKUP(A7,plage!A6:D113,4,0) -> 364
A8: =EDATE(A7, 1) -> 39934 | C8: =VLOOKUP(A8,plage!A7:D114,3,0) -> 17 | D8: =VLOOKUP(A8,plage!A7:D114,4,0) -> 230
A9: =EDATE(A8, 1) -> 39965 | C9: =VLOOKUP(A9,plage!A8:D115,3,0) -> 8 | D9: =VLOOKUP(A9,plage!A8:D115,4,0) -> 326
A10: =EDATE(A9, 1) -> 39995 | C10: =VLOOKUP(A10,plage!A9:D116,3,0) -> 35 | D10: =VLOOKUP(A10,plage!A9:D116,4,0) -> 148
A11: =EDATE(A10, 1) -> 40026 | C11: =VLOOKUP(A11,plage!A10:D117,3,0) -> 39 | D11: =VLOOKUP(A11,plage!A10:D117,4,0) -> 149
A12: =EDATE(A11, 1) -> 40057 | C12: =VLOOKUP(A12,plage!A11:D118,3,0) -> 6 | D12: =VLOOKUP(A12,plage!A11:D118,4,0) -> 235
A13: =EDATE(A12, 1) -> 40087 | C13: =VLOOKUP(A13,plage!A12:D119,3,0) -> 7 | D13: =VLOOKUP(A13,plage!A12:D119,4,0) -> 313
A14: =EDATE(A13, 1) -> 40118 | C14: =VLOOKUP(A14,plage!A13:D120,3,0) -> 19 | D14: =VLOOKUP(A14,plage!A13:D120,4,0) -> 179
A15: =EDATE(A14, 1) -> 40148 | C15: =VLOOKUP(A15,plage!A14:D121,3,0) -> 38 | D15: =VLOOKUP(A15,plage!A14:D121,4,0) -> 396
A16: =DATE(B1-1, 1, 1) -> 39448 | C16: =VLOOKUP(A16,plage!A15:D122,3,0) -> 26 | D16: =VLOOKUP(A16,plage!A15:D122,4,0) -> 176
A17: =EDATE(A16, 1) -> 39479 | C17: =VLOOKUP(A17,plage!A16:D123,3,0) -> 35 | D17: =VLOOKUP(A17,plage!A16:D123,4,0) -> 124
A18: =EDATE(A17, 1) -> 39508 | C18: =VLOOKUP(A18,plage!A17:D124,3,0) -> 28 | D18: =VLOOKUP(A18,plage!A17:D124,4,0) -> 228
A19: =EDATE(A18, 1) -> 39539 | C19: =VLOOKUP(A19,plage!A18:D125,3,0) -> 28 | D19: =VLOOKUP(A19,plage!A18:D125,4,0) -> 281
A20: =EDATE(A19, 1) -> 39569 | C20: =VLOOKUP(A20,plage!A19:D126,3,0) -> 22 | D20: =VLOOKUP(A20,plage!A19:D126,4,0) -> 309
A21: =EDATE(A20, 1) -> 39600 | C21: =VLOOKUP(A21,plage!A20:D127,3,0) -> 19 | D21: =VLOOKUP(A21,plage!A20:D127,4,0) -> 107
A22: =EDATE(A21, 1) -> 39630 | C22: =VLOOKUP(A22,plage!A21:D128,3,0) -> 19 | D22: =VLOOKUP(A22,plage!A21:D128,4,0) -> 174
A23: =EDATE(A22, 1) -> 39661 | C23: =VLOOKUP(A23,plage!A22:D129,3,0) -> 18 | D23: =VLOOKUP(A23,plage!A22:D129,4,0) -> 314
A24: =EDATE(A23, 1) -> 39692 | C24: =VLOOKUP(A24,plage!A23:D130,3,0) -> 16 | D24: =VLOOKUP(A24,plage!A23:D130,4,0) -> 218
A25: =EDATE(A24, 1) -> 39722 | C25: =VLOOKUP(A25,plage!A24:D131,3,0) -> 9 | D25: =VLOOKUP(A25,plage!A24:D131,4,0) -> 100
A26: =EDATE(A25, 1) -> 39753 | C26: =VLOOKUP(A26,plage!A25:D132,3,0) -> 26 | D26: =VLOOKUP(A26,plage!A25:D132,4,0) -> 341
A27: =EDATE(A26, 1) -> 39783 | C27: =VLOOKUP(A27,plage!A26:D133,3,0) -> 35 | D27: =VLOOKUP(A27,plage!A26:D133,4,0) -> 379

Sheet Feuil3
