Workbook

Sheet Feuil1
D2: Hairon | E2: belleF
A3: 39085 | B3: =IF(A3<=(DATE(2007, 1, 7)),"semaine1",IF(A3<=(DATE(2007, 1, 14)),"semaine2",IF(A3<=(DATE(2007, 1, 21)),"semaine3",IF(A3<=(DATE(2007, 1, 28)),"semaine4",IF(A3<=(DATE(2007, 2, 4)),"semaine5",IF(A3<=(DATE(2007, 2,11)),"semaine6",IF(A3<=(DATE(2007, 2, 18)),"semaine7",IF(A3<=(DATE(2007, 2, 25)),"semaine8",IF(A3<=(DATE(2007, 3, 4)),"semaine9",IF(A3<=(DATE(2007, 3, 11)),"semaine10",IF(A3<=(DATE(2007, 3, 18)),"semaine11",IF(A3<=(DATE(2007, 3, 25)),"semaine12",IF(A3<=(DATE(2007, 4, 1)),"semaine13",IF(A3<=(DATE(2007, 4, 8)),"semaine14",IF(A3<=(DATE(2007, 4, 15)),"semaine15",IF(A3<=(DATE(2007, 4, 22)),"semaine16",IF(A3<=(DATE(2007, 4, 29)),"semaine17",IF(A3<=(DATE(2007, 5, 6)),"semaine18",IF(A3<=(DATE(2007, 5, 13)),"semaine19",IF(A3<=(DATE(2007, 5, 20)),"semaine20",IF(A3<=(DATE(2007, 5, 27)),"semaine21",IF(A3<=(DATE(2007, 6, 3)),"semaine22",IF(A3<=(DATE(2007, 6, 10)),"semaine23",IF(A3<=(DATE(2007, 6, 17)),"semaine24",IF(A3<=(DATE(2007, 6, 24)),"semaine25",IF(A3<=(DATE(2007, 7, 1)),"semaine26",IF(A3<=(DATE(2007, 7, 8)),"semaine27",IF(A3<=(DATE(2007, 7, 15)),"semaine28",IF(A3<=(DATE(2007, 7, 22)),"semaine29",IF(A3<=(DATE(2007, 7, 29)),"semaine30",IF(A3<=(DATE(2007, 8, 5)),"semaine31",IF(A3<=(DATE(2007, 8, 12)),"semaine32",IF(A3<=(DATE(2007, 8, 19)),"semaine33",IF(A3<=(DATE(2007, 8, 26)),"semaine34",IF(A3<=(DATE(2007, 9, 2)),"semaine35",IF(A3<=(DATE(2007, 9, 9)),"semaine36",IF(A3<=(DATE(2007, 9, 16)),"semaine37",IF(A3<=(DATE(2007, 9, 23)),"semaine38",IF(A3<=(DATE(2007, 9, 30)),"semaine39",IF(A3<=(DATE(2007, 10, 7)),"semaine40",IF(A3<=(DATE(2007, 10, 14)),"semaine41",IF(A3<=(DATE(2007, 10, 21)),"semaine42",IF(A3<=(DATE(2007, 10, 28)),"semaine43",IF(A3<=(DATE(2007, 11, 4)),"semaine44",IF(A3<=(DATE(2007, 11, 11)),"semaine45",IF(A3<=(DATE(2007, 11, 18)),"semaine46",IF(A3<=(DATE(2007, 11, 25)),"semaine47",IF(A3<=(DATE(2007, 12, 2)),"semaine48",IF(A3<=(DATE(2007, 12, 9)),"semaine49",IF(A3<=(DATE(2007, 12, 16)),"semaine50",IF(A3<=(DATE(2007, 12, 23)),"semaine51",IF(A3<=(DATE(2007, 12, 30)),"semaine52",IF(A3<=(DATE(2007, 12, 31)),"semaine53",213))))))))))))))))))))))))))))))))))))))))))))))))))))) &" 2007" -> semaine1 2007 | D3: =RANDBETWEEN(2,40) -> 35 | E3: =RANDBETWEEN(100,400) -> 267
A4: =A3+7 -> 39092 | B4: =IF(A4<=(DATE(2007, 1, 7)),"semaine1",IF(A4<=(DATE(2007, 1, 14)),"semaine2",IF(A4<=(DATE(2007, 1, 21)),"semaine3",IF(A4<=(DATE(2007, 1, 28)),"semaine4",IF(A4<=(DATE(2007, 2, 4)),"semaine5",IF(A4<=(DATE(2007, 2,11)),"semaine6",IF(A4<=(DATE(2007, 2, 18)),"semaine7",IF(A4<=(DATE(2007, 2, 25)),"semaine8",IF(A4<=(DATE(2007, 3, 4)),"semaine9",IF(A4<=(DATE(2007, 3, 11)),"semaine10",IF(A4<=(DATE(2007, 3, 18)),"semaine11",IF(A4<=(DATE(2007, 3, 25)),"semaine12",IF(A4<=(DATE(2007, 4, 1)),"semaine13",IF(A4<=(DATE(2007, 4, 8)),"semaine14",IF(A4<=(DATE(2007, 4, 15)),"semaine15",IF(A4<=(DATE(2007, 4, 22)),"semaine16",IF(A4<=(DATE(2007, 4, 29)),"semaine17",IF(A4<=(DATE(2007, 5, 6)),"semaine18",IF(A4<=(DATE(2007, 5, 13)),"semaine19",IF(A4<=(DATE(2007, 5, 20)),"semaine20",IF(A4<=(DATE(2007, 5, 27)),"semaine21",IF(A4<=(DATE(2007, 6, 3)),"semaine22",IF(A4<=(DATE(2007, 6, 10)),"semaine23",IF(A4<=(DATE(2007, 6, 17)),"semaine24",IF(A4<=(DATE(2007, 6, 24)),"semaine25",IF(A4<=(DATE(2007, 7, 1)),"semaine26",IF(A4<=(DATE(2007, 7, 8)),"semaine27",IF(A4<=(DATE(2007, 7, 15)),"semaine28",IF(A4<=(DATE(2007, 7, 22)),"semaine29",IF(A4<=(DATE(2007, 7, 29)),"semaine30",IF(A4<=(DATE(2007, 8, 5)),"semaine31",IF(A4<=(DATE(2007, 8, 12)),"semaine32",IF(A4<=(DATE(2007, 8, 19)),"semaine33",IF(A4<=(DATE(2007, 8, 26)),"semaine34",IF(A4<=(DATE(2007, 9, 2)),"semaine35",IF(A4<=(DATE(2007, 9, 9)),"semaine36",IF(A4<=(DATE(2007, 9, 16)),"semaine37",IF(A4<=(DATE(2007, 9, 23)),"semaine38",IF(A4<=(DATE(2007, 9, 30)),"semaine39",IF(A4<=(DATE(2007, 10, 7)),"semaine40",IF(A4<=(DATE(2007, 10, 14)),"semaine41",IF(A4<=(DATE(2007, 10, 21)),"semaine42",IF(A4<=(DATE(2007, 10, 28)),"semaine43",IF(A4<=(DATE(2007, 11, 4)),"semaine44",IF(A4<=(DATE(2007, 11, 11)),"semaine45",IF(A4<=(DATE(2007, 11, 18)),"semaine46",IF(A4<=(DATE(2007, 11, 25)),"semaine47",IF(A4<=(DATE(2007, 12, 2)),"semaine48",IF(A4<=(DATE(2007, 12, 9)),"semaine49",IF(A4<=(DATE(2007, 12, 16)),"semaine50",IF(A4<=(DATE(2007, 12, 23)),"semaine51",IF(A4<=(DATE(2007, 12, 30)),"semaine52",IF(A4<=(DATE(2007, 12, 31)),"semaine53",213))))))))))))))))))))))))))))))))))))))))))))))))))))) &" 2007" -> semaine2 2007 | D4: =RANDBETWEEN(2,40) -> 21 | E4: =RANDBETWEEN(100,400) -> 339
A5: =A4+7 -> 39099 | B5: =IF(A5<=(DATE(2007, 1, 7)),"semaine1",IF(A5<=(DATE(2007, 1, 14)),"semaine2",IF(A5<=(DATE(2007, 1, 21)),"semaine3",IF(A5<=(DATE(2007, 1, 28)),"semaine4",IF(A5<=(DATE(2007, 2, 4)),"semaine5",IF(A5<=(DATE(2007, 2,11)),"semaine6",IF(A5<=(DATE(2007, 2, 18)),"semaine7",IF(A5<=(DATE(2007, 2, 25)),"semaine8",IF(A5<=(DATE(2007, 3, 4)),"semaine9",IF(A5<=(DATE(2007, 3, 11)),"semaine10",IF(A5<=(DATE(2007, 3, 18)),"semaine11",IF(A5<=(DATE(2007, 3, 25)),"semaine12",IF(A5<=(DATE(2007, 4, 1)),"semaine13",IF(A5<=(DATE(2007, 4, 8)),"semaine14",IF(A5<=(DATE(2007, 4, 15)),"semaine15",IF(A5<=(DATE(2007, 4, 22)),"semaine16",IF(A5<=(DATE(2007, 4, 29)),"semaine17",IF(A5<=(DATE(2007, 5, 6)),"semaine18",IF(A5<=(DATE(2007, 5, 13)),"semaine19",IF(A5<=(DATE(2007, 5, 20)),"semaine20",IF(A5<=(DATE(2007, 5, 27)),"semaine21",IF(A5<=(DATE(2007, 6, 3)),"semaine22",IF(A5<=(DATE(2007, 6, 10)),"semaine23",IF(A5<=(DATE(2007, 6, 17)),"semaine24",IF(A5<=(DATE(2007, 6, 24)),"semaine25",IF(A5<=(DATE(2007, 7, 1)),"semaine26",IF(A5<=(DATE(2007, 7, 8)),"semaine27",IF(A5<=(DATE(2007, 7, 15)),"semaine28",IF(A5<=(DATE(2007, 7, 22)),"semaine29",IF(A5<=(DATE(2007, 7, 29)),"semaine30",IF(A5<=(DATE(2007, 8, 5)),"semaine31",IF(A5<=(DATE(2007, 8, 12)),"semaine32",IF(A5<=(DATE(2007, 8, 19)),"semaine33",IF(A5<=(DATE(2007, 8, 26)),"semaine34",IF(A5<=(DATE(2007, 9, 2)),"semaine35",IF(A5<=(DATE(2007, 9, 9)),"semaine36",IF(A5<=(DATE(2007, 9, 16)),"semaine37",IF(A5<=(DATE(2007, 9, 23)),"semaine38",IF(A5<=(DATE(2007, 9, 30)),"semaine39",IF(A5<=(DATE(2007, 10, 7)),"semaine40",IF(A5<=(DATE(2007, 10, 14)),"semaine41",IF(A5<=(DATE(2007, 10, 21)),"semaine42",IF(A5<=(DATE(2007, 10, 28)),"semaine43",IF(A5<=(DATE(2007, 11, 4)),"semaine44",IF(A5<=(DATE(2007, 11, 11)),"semaine45",IF(A5<=(DATE(2007, 11, 18)),"semaine46",IF(A5<=(DATE(2007, 11, 25)),"semaine47",IF(A5<=(DATE(2007, 12, 2)),"semaine48",IF(A5<=(DATE(2007, 12, 9)),"semaine49",IF(A5<=(DATE(2007, 12, 16)),"semaine50",IF(A5<=(DATE(2007, 12, 23)),"semaine51",IF(A5<=(DATE(2007, 12, 30)),"semaine52",IF(A5<=(DATE(2007, 12, 31)),"semaine53",213))))))))))))))))))))))))))))))))))))))))))))))))))))) &" 2007" -> semaine3 2007 | D5: =RANDBETWEEN(2,40) -> 15 | E5: =RANDBETWEEN(100,400) -> 150
A6: =A5+7 -> 39106 | B6: =IF(A6<=(DATE(2007, 1, 7)),"semaine1",IF(A6<=(DATE(2007, 1, 14)),"semaine2",IF(A6<=(DATE(2007, 1, 21)),"semaine3",IF(A6<=(DATE(2007, 1, 28)),"semaine4",IF(A6<=(DATE(2007, 2, 4)),"semaine5",IF(A6<=(DATE(2007, 2,11)),"semaine6",IF(A6<=(DATE(2007, 2, 18)),"semaine7",IF(A6<=(DATE(2007, 2, 25)),"semaine8",IF(A6<=(DATE(2007, 3, 4)),"semaine9",IF(A6<=(DATE(2007, 3, 11)),"semaine10",IF(A6<=(DATE(2007, 3, 18)),"semaine11",IF(A6<=(DATE(2007, 3, 25)),"semaine12",IF(A6<=(DATE(2007, 4, 1)),"semaine13",IF(A6<=(DATE(2007, 4, 8)),"semaine14",IF(A6<=(DATE(2007, 4, 15)),"semaine15",IF(A6<=(DATE(2007, 4, 22)),"semaine16",IF(A6<=(DATE(2007, 4, 29)),"semaine17",IF(A6<=(DATE(2007, 5, 6)),"semaine18",IF(A6<=(DATE(2007, 5, 13)),"semaine19",IF(A6<=(DATE(2007, 5, 20)),"semaine20",IF(A6<=(DATE(2007, 5, 27)),"semaine21",IF(A6<=(DATE(2007, 6, 3)),"semaine22",IF(A6<=(DATE(2007, 6, 10)),"semaine23",IF(A6<=(DATE(2007, 6, 17)),"semaine24",IF(A6<=(DATE(2007, 6, 24)),"semaine25",IF(A6<=(DATE(2007, 7, 1)),"semaine26",IF(A6<=(DATE(2007, 7, 8)),"semaine27",IF(A6<=(DATE(2007, 7, 15)),"semaine28",IF(A6<=(DATE(2007, 7, 22)),"semaine29",IF(A6<=(DATE(2007, 7, 29)),"semaine30",IF(A6<=(DATE(2007, 8, 5)),"semaine31",IF(A6<=(DATE(2007, 8, 12)),"semaine32",IF(A6<=(DATE(2007, 8, 19)),"semaine33",IF(A6<=(DATE(2007, 8, 26)),"semaine34",IF(A6<=(DATE(2007, 9, 2)),"semaine35",IF(A6<=(DATE(2007, 9, 9)),"semaine36",IF(A6<=(DATE(2007, 9, 16)),"semaine37",IF(A6<=(DATE(2007, 9, 23)),"semaine38",IF(A6<=(DATE(2007, 9, 30)),"semaine39",IF(A6<=(DATE(2007, 10, 7)),"semaine40",IF(A6<=(DATE(2007, 10, 14)),"semaine41",IF(A6<=(DATE(2007, 10, 21)),"semaine42",IF(A6<=(DATE(2007, 10, 28)),"semaine43",IF(A6<=(DATE(2007, 11, 4)),"semaine44",IF(A6<=(DATE(2007, 11, 11)),"semaine45",IF(A6<=(DATE(2007, 11, 18)),"semaine46",IF(A6<=(DATE(2007, 11, 25)),"semaine47",IF(A6<=(DATE(2007, 12, 2)),"semaine48",IF(A6<=(DATE(2007, 12, 9)),"semaine49",IF(A6<=(DATE(2007, 12, 16)),"semaine50",IF(A6<=(DATE(2007, 12, 23)),"semaine51",IF(A6<=(DATE(2007, 12, 30)),"semaine52",IF(A6<=(DATE(2007, 12, 31)),"semaine53",213))))))))))))))))))))))))))))))))))))))))))))))))))))) &" 2007" -> semaine4 2007 | D6: =RANDBETWEEN(2,40) -> 35 | E6: =RANDBETWEEN(100,400) -> 296
A7: =A6+7 -> 39113 | B7: =IF(A7<=(DATE(2007, 1, 7)),"semaine1",IF(A7<=(DATE(2007, 1, 14)),"semaine2",IF(A7<=(DATE(2007, 1, 21)),"semaine3",IF(A7<=(DATE(2007, 1, 28)),"semaine4",IF(A7<=(DATE(2007, 2, 4)),"semaine5",IF(A7<=(DATE(2007, 2,11)),"semaine6",IF(A7<=(DATE(2007, 2, 18)),"semaine7",IF(A7<=(DATE(2007, 2, 25)),"semaine8",IF(A7<=(DATE(2007, 3, 4)),"semaine9",IF(A7<=(DATE(2007, 3, 11)),"semaine10",IF(A7<=(DATE(2007, 3, 18)),"semaine11",IF(A7<=(DATE(2007, 3, 25)),"semaine12",IF(A7<=(DATE(2007, 4, 1)),"semaine13",IF(A7<=(DATE(2007, 4, 8)),"semaine14",IF(A7<=(DATE(2007, 4, 15)),"semaine15",IF(A7<=(DATE(2007, 4, 22)),"semaine16",IF(A7<=(DATE(2007, 4, 29)),"semaine17",IF(A7<=(DATE(2007, 5, 6)),"semaine18",IF(A7<=(DATE(2007, 5, 13)),"semaine19",IF(A7<=(DATE(2007, 5, 20)),"semaine20",IF(A7<=(DATE(2007, 5, 27)),"semaine21",IF(A7<=(DATE(2007, 6, 3)),"semaine22",IF(A7<=(DATE(2007, 6, 10)),"semaine23",IF(A7<=(DATE(2007, 6, 17)),"semaine24",IF(A7<=(DATE(2007, 6, 24)),"semaine25",IF(A7<=(DATE(2007, 7, 1)),"semaine26",IF(A7<=(DATE(2007, 7, 8)),"semaine27",IF(A7<=(DATE(2007, 7, 15)),"semaine28",IF(A7<=(DATE(2007, 7, 22)),"semaine29",IF(A7<=(DATE(2007, 7, 29)),"semaine30",IF(A7<=(DATE(2007, 8, 5)),"semaine31",IF(A7<=(DATE(2007, 8, 12)),"semaine32",IF(A7<=(DATE(2007, 8, 19)),"semaine33",IF(A7<=(DATE(2007, 8, 26)),"semaine34",IF(A7<=(DATE(2007, 9, 2)),"semaine35",IF(A7<=(DATE(2007, 9, 9)),"semaine36",IF(A7<=(DATE(2007, 9, 16)),"semaine37",IF(A7<=(DATE(2007, 9, 23)),"semaine38",IF(A7<=(DATE(2007, 9, 30)),"semaine39",IF(A7<=(DATE(2007, 10, 7)),"semaine40",IF(A7<=(DATE(2007, 10, 14)),"semaine41",IF(A7<=(DATE(2007, 10, 21)),"semaine42",IF(A7<=(DATE(2007, 10, 28)),"semaine43",IF(A7<=(DATE(2007, 11, 4)),"semaine44",IF(A7<=(DATE(2007, 11, 11)),"semaine45",IF(A7<=(DATE(2007, 11, 18)),"semaine46",IF(A7<=(DATE(2007, 11, 25)),"semaine47",IF(A7<=(DATE(2007, 12, 2)),"semaine48",IF(A7<=(DATE(2007, 12, 9)),"semaine49",IF(A7<=(DATE(2007, 12, 16)),"semaine50",IF(A7<=(DATE(2007, 12, 23)),"semaine51",IF(A7<=(DATE(2007, 12, 30)),"semaine52",IF(A7<=(DATE(2007, 12, 31)),"semaine53",213))))))))))))))))))))))))))))))))))))))))))))))))))))) &" 2007" -> semaine5 2007 | D7: =RANDBETWEEN(2,40) -> 7 | E7: =RANDBETWEEN(100,400) -> 200
A8: =A7+7 -> 39120 | B8: =IF(A8<=(DATE(2007, 1, 7)),"semaine1",IF(A8<=(DATE(2007, 1, 14)),"semaine2",IF(A8<=(DATE(2007, 1, 21)),"semaine3",IF(A8<=(DATE(2007, 1, 28)),"semaine4",IF(A8<=(DATE(2007, 2, 4)),"semaine5",IF(A8<=(DATE(2007, 2,11)),"semaine6",IF(A8<=(DATE(2007, 2, 18)),"semaine7",IF(A8<=(DATE(2007, 2, 25)),"semaine8",IF(A8<=(DATE(2007, 3, 4)),"semaine9",IF(A8<=(DATE(2007, 3, 11)),"semaine10",IF(A8<=(DATE(2007, 3, 18)),"semaine11",IF(A8<=(DATE(2007, 3, 25)),"semaine12",IF(A8<=(DATE(2007, 4, 1)),"semaine13",IF(A8<=(DATE(2007, 4, 8)),"semaine14",IF(A8<=(DATE(2007, 4, 15)),"semaine15",IF(A8<=(DATE(2007, 4, 22)),"semaine16",IF(A8<=(DATE(2007, 4, 29)),"semaine17",IF(A8<=(DATE(2007, 5, 6)),"semaine18",IF(A8<=(DATE(2007, 5, 13)),"semaine19",IF(A8<=(DATE(2007, 5, 20)),"semaine20",IF(A8<=(DATE(2007, 5, 27)),"semaine21",IF(A8<=(DATE(2007, 6, 3)),"semaine22",IF(A8<=(DATE(2007, 6, 10)),"semaine23",IF(A8<=(DATE(2007, 6, 17)),"semaine24",IF(A8<=(DATE(2007, 6, 24)),"semaine25",IF(A8<=(DATE(2007, 7, 1)),"semaine26",IF(A8<=(DATE(2007, 7, 8)),"semaine27",IF(A8<=(DATE(2007, 7, 15)),"semaine28",IF(A8<=(DATE(2007, 7, 22)),"semaine29",IF(A8<=(DATE(2007, 7, 29)),"semaine30",IF(A8<=(DATE(2007, 8, 5)),"semaine31",IF(A8<=(DATE(2007, 8, 12)),"semaine32",IF(A8<=(DATE(2007, 8, 19)),"semaine33",IF(A8<=(DATE(2007, 8, 26)),"semaine34",IF(A8<=(DATE(2007, 9, 2)),"semaine35",IF(A8<=(DATE(2007, 9, 9)),"semaine36",IF(A8<=(DATE(2007, 9, 16)),"semaine37",IF(A8<=(DATE(2007, 9, 23)),"semaine38",IF(A8<=(DATE(2007, 9, 30)),"semaine39",IF(A8<=(DATE(2007, 10, 7)),"semaine40",IF(A8<=(DATE(2007, 10, 14)),"semaine41",IF(A8<=(DATE(2007, 10, 21)),"semaine42",IF(A8<=(DATE(2007, 10, 28)),"semaine43",IF(A8<=(DATE(2007, 11, 4)),"semaine44",IF(A8<=(DATE(2007, 11, 11)),"semaine45",IF(A8<=(DATE(2007, 11, 18)),"semaine46",IF(A8<=(DATE(2007, 11, 25)),"semaine47",IF(A8<=(DATE(2007, 12, 2)),"semaine48",IF(A8<=(DATE(2007, 12, 9)),"semaine49",IF(A8<=(DATE(2007, 12, 16)),"semaine50",IF(A8<=(DATE(2007, 12, 23)),"semaine51",IF(A8<=(DATE(2007, 12, 30)),"semaine52",IF(A8<=(DATE(2007, 12, 31)),"semaine53",213))))))))))))))))))))))))))))))))))))))))))))))))))))) &" 2007" -> semaine6 2007 | D8: =RANDBETWEEN(2,40) -> 20 | E8: =RANDBETWEEN(100,400) -> 156
A9: =A8+7 -> 39127 | B9: =IF(A9<=(DATE(2007, 1, 7)),"semaine1",IF(A9<=(DATE(2007, 1, 14)),"semaine2",IF(A9<=(DATE(2007, 1, 21)),"semaine3",IF(A9<=(DATE(2007, 1, 28)),"semaine4",IF(A9<=(DATE(2007, 2, 4)),"semaine5",IF(A9<=(DATE(2007, 2,11)),"semaine6",IF(A9<=(DATE(2007, 2, 18)),"semaine7",IF(A9<=(DATE(2007, 2, 25)),"semaine8",IF(A9<=(DATE(2007, 3, 4)),"semaine9",IF(A9<=(DATE(2007, 3, 11)),"semaine10",IF(A9<=(DATE(2007, 3, 18)),"semaine11",IF(A9<=(DATE(2007, 3, 25)),"semaine12",IF(A9<=(DATE(2007, 4, 1)),"semaine13",IF(A9<=(DATE(2007, 4, 8)),"semaine14",IF(A9<=(DATE(2007, 4, 15)),"semaine15",IF(A9<=(DATE(2007, 4, 22)),"semaine16",IF(A9<=(DATE(2007, 4, 29)),"semaine17",IF(A9<=(DATE(2007, 5, 6)),"semaine18",IF(A9<=(DATE(2007, 5, 13)),"semaine19",IF(A9<=(DATE(2007, 5, 20)),"semaine20",IF(A9<=(DATE(2007, 5, 27)),"semaine21",IF(A9<=(DATE(2007, 6, 3)),"semaine22",IF(A9<=(DATE(2007, 6, 10)),"semaine23",IF(A9<=(DATE(2007, 6, 17)),"semaine24",IF(A9<=(DATE(2007, 6, 24)),"semaine25",IF(A9<=(DATE(2007, 7, 1)),"semaine26",IF(A9<=(DATE(2007, 7, 8)),"semaine27",IF(A9<=(DATE(2007, 7, 15)),"semaine28",IF(A9<=(DATE(2007, 7, 22)),"semaine29",IF(A9<=(DATE(2007, 7, 29)),"semaine30",IF(A9<=(DATE(2007, 8, 5)),"semaine31",IF(A9<=(DATE(2007, 8, 12)),"semaine32",IF(A9<=(DATE(2007, 8, 19)),"semaine33",IF(A9<=(DATE(2007, 8, 26)),"semaine34",IF(A9<=(DATE(2007, 9, 2)),"semaine35",IF(A9<=(DATE(2007, 9, 9)),"semaine36",IF(A9<=(DATE(2007, 9, 16)),"semaine37",IF(A9<=(DATE(2007, 9, 23)),"semaine38",IF(A9<=(DATE(2007, 9, 30)),"semaine39",IF(A9<=(DATE(2007, 10, 7)),"semaine40",IF(A9<=(DATE(2007, 10, 14)),"semaine41",IF(A9<=(DATE(2007, 10, 21)),"semaine42",IF(A9<=(DATE(2007, 10, 28)),"semaine43",IF(A9<=(DATE(2007, 11, 4)),"semaine44",IF(A9<=(DATE(2007, 11, 11)),"semaine45",IF(A9<=(DATE(2007, 11, 18)),"semaine46",IF(A9<=(DATE(2007, 11, 25)),"semaine47",IF(A9<=(DATE(2007, 12, 2)),"semaine48",IF(A9<=(DATE(2007, 12, 9)),"semaine49",IF(A9<=(DATE(2007, 12, 16)),"semaine50",IF(A9<=(DATE(2007, 12, 23)),"semaine51",IF(A9<=(DATE(2007, 12, 30)),"semaine52",IF(A9<=(DATE(2007, 12, 31)),"semaine53",213))))))))))))))))))))))))))))))))))))))))))))))))))))) &" 2007" -> semaine7 2007 | D9: =RANDBETWEEN(2,40) -> 25 | E9: =RANDBETWEEN(100,400) -> 215
A10: =A9+7 -> 39134 | B10: =IF(A10<=(DATE(2007, 1, 7)),"semaine1",IF(A10<=(DATE(2007, 1, 14)),"semaine2",IF(A10<=(DATE(2007, 1, 21)),"semaine3",IF(A10<=(DATE(2007, 1, 28)),"semaine4",IF(A10<=(DATE(2007, 2, 4)),"semaine5",IF(A10<=(DATE(2007, 2,11)),"semaine6",IF(A10<=(DATE(2007, 2, 18)),"semaine7",IF(A10<=(DATE(2007, 2, 25)),"semaine8",IF(A10<=(DATE(2007, 3, 4)),"semaine9",IF(A10<=(DATE(2007, 3, 11)),"semaine10",IF(A10<=(DATE(2007, 3, 18)),"semaine11",IF(A10<=(DATE(2007, 3, 25)),"semaine12",IF(A10<=(DATE(2007, 4, 1)),"semaine13",IF(A10<=(DATE(2007, 4, 8)),"semaine14",IF(A10<=(DATE(2007, 4, 15)),"semaine15",IF(A10<=(DATE(2007, 4, 22)),"semaine16",IF(A10<=(DATE(2007, 4, 29)),"semaine17",IF(A10<=(DATE(2007, 5, 6)),"semaine18",IF(A10<=(DATE(2007, 5, 13)),"semaine19",IF(A10<=(DATE(2007, 5, 20)),"semaine20",IF(A10<=(DATE(2007, 5, 27)),"semaine21",IF(A10<=(DATE(2007, 6, 3)),"semaine22",IF(A10<=(DATE(2007, 6, 10)),"semaine23",IF(A10<=(DATE(2007, 6, 17)),"semaine24",IF(A10<=(DATE(2007, 6, 24)),"semaine25",IF(A10<=(DATE(2007, 7, 1)),"semaine26",IF(A10<=(DATE(2007, 7, 8)),"semaine27",IF(A10<=(DATE(2007, 7, 15)),"semaine28",IF(A10<=(DATE(2007, 7, 22)),"semaine29",IF(A10<=(DATE(2007, 7, 29)),"semaine30",IF(A10<=(DATE(2007, 8, 5)),"semaine31",IF(A10<=(DATE(2007, 8, 12)),"semaine32",IF(A10<=(DATE(2007, 8, 19)),"semaine33",IF(A10<=(DATE(2007, 8, 26)),"semaine34",IF(A10<=(DATE(2007, 9, 2)),"semaine35",IF(A10<=(DATE(2007, 9, 9)),"semaine36",IF(A10<=(DATE(2007, 9, 16)),"semaine37",IF(A10<=(DATE(2007, 9, 23)),"semaine38",IF(A10<=(DATE(2007, 9, 30)),"semaine39",IF(A10<=(DATE(2007, 10, 7)),"semaine40",IF(A10<=(DATE(2007, 10, 14)),"semaine41",IF(A10<=(DATE(2007, 10, 21)),"semaine42",IF(A10<=(DATE(2007, 10, 28)),"semaine43",IF(A10<=(DATE(2007, 11, 4)),"semaine44",IF(A10<=(DATE(2007, 11, 11)),"semaine45",IF(A10<=(DATE(2007, 11, 18)),"semaine46",IF(A10<=(DATE(2007, 11, 25)),"semaine47",IF(A10<=(DATE(2007, 12, 2)),"semaine48",IF(A10<=(DATE(2007, 12, 9)),"semaine49",IF(A10<=(DATE(2007, 12, 16)),"semaine50",IF(A10<=(DATE(2007, 12, 23)),"semaine51",IF(A10<=(DATE(2007, 12, 30)),"semaine52",IF(A10<=(DATE(2007, 12, 31)),"semaine53",213))))))))))))))))))))))))))))))))))))))))))))))))))))) &" 2007" -> semaine8 2007 | D10: =RANDBETWEEN(2,40) -> 31 | E10: =RANDBETWEEN(100,400) -> 138
A11: =A10+7 -> 39141 | B11: =IF(A11<=(DATE(2007, 1, 7)),"semaine1",IF(A11<=(DATE(2007, 1, 14)),"semaine2",IF(A11<=(DATE(2007, 1, 21)),"semaine3",IF(A11<=(DATE(2007, 1, 28)),"semaine4",IF(A11<=(DATE(2007, 2, 4)),"semaine5",IF(A11<=(DATE(2007, 2,11)),"semaine6",IF(A11<=(DATE(2007, 2, 18)),"semaine7",IF(A11<=(DATE(2007, 2, 25)),"semaine8",IF(A11<=(DATE(2007, 3, 4)),"semaine9",IF(A11<=(DATE(2007, 3, 11)),"semaine10",IF(A11<=(DATE(2007, 3, 18)),"semaine11",IF(A11<=(DATE(2007, 3, 25)),"semaine12",IF(A11<=(DATE(2007, 4, 1)),"semaine13",IF(A11<=(DATE(2007, 4, 8)),"semaine14",IF(A11<=(DATE(2007, 4, 15)),"semaine15",IF(A11<=(DATE(2007, 4, 22)),"semaine16",IF(A11<=(DATE(2007, 4, 29)),"semaine17",IF(A11<=(DATE(2007, 5, 6)),"semaine18",IF(A11<=(DATE(2007, 5, 13)),"semaine19",IF(A11<=(DATE(2007, 5, 20)),"semaine20",IF(A11<=(DATE(2007, 5, 27)),"semaine21",IF(A11<=(DATE(2007, 6, 3)),"semaine22",IF(A11<=(DATE(2007, 6, 10)),"semaine23",IF(A11<=(DATE(2007, 6, 17)),"semaine24",IF(A11<=(DATE(2007, 6, 24)),"semaine25",IF(A11<=(DATE(2007, 7, 1)),"semaine26",IF(A11<=(DATE(2007, 7, 8)),"semaine27",IF(A11<=(DATE(2007, 7, 15)),"semaine28",IF(A11<=(DATE(2007, 7, 22)),"semaine29",IF(A11<=(DATE(2007, 7, 29)),"semaine30",IF(A11<=(DATE(2007, 8, 5)),"semaine31",IF(A11<=(DATE(2007, 8, 12)),"semaine32",IF(A11<=(DATE(2007, 8, 19)),"semaine33",IF(A11<=(DATE(2007, 8, 26)),"semaine34",IF(A11<=(DATE(2007, 9, 2)),"semaine35",IF(A11<=(DATE(2007, 9, 9)),"semaine36",IF(A11<=(DATE(2007, 9, 16)),"semaine37",IF(A11<=(DATE(2007, 9, 23)),"semaine38",IF(A11<=(DATE(2007, 9, 30)),"semaine39",IF(A11<=(DATE(2007, 10, 7)),"semaine40",IF(A11<=(DATE(2007, 10, 14)),"semaine41",IF(A11<=(DATE(2007, 10, 21)),"semaine42",IF(A11<=(DATE(2007, 10, 28)),"semaine43",IF(A11<=(DATE(2007, 11, 4)),"semaine44",IF(A11<=(DATE(2007, 11, 11)),"semaine45",IF(A11<=(DATE(2007, 11, 18)),"semaine46",IF(A11<=(DATE(2007, 11, 25)),"semaine47",IF(A11<=(DATE(2007, 12, 2)),"semaine48",IF(A11<=(DATE(2007, 12, 9)),"semaine49",IF(A11<=(DATE(2007, 12, 16)),"semaine50",IF(A11<=(DATE(2007, 12, 23)),"semaine51",IF(A11<=(DATE(2007, 12, 30)),"semaine52",IF(A11<=(DATE(2007, 12, 31)),"semaine53",213))))))))))))))))))))))))))))))))))))))))))))))))))))) &" 2007" -> semaine9 2007 | D11: =RANDBETWEEN(2,40) -> 17 | E11: =RANDBETWEEN(100,400) -> 299
A12: =A11+7 -> 39148 | B12: =IF(A12<=(DATE(2007, 1, 7)),"semaine1",IF(A12<=(DATE(2007, 1, 14)),"semaine2",IF(A12<=(DATE(2007, 1, 21)),"semaine3",IF(A12<=(DATE(2007, 1, 28)),"semaine4",IF(A12<=(DATE(2007, 2, 4)),"semaine5",IF(A12<=(DATE(2007, 2,11)),"semaine6",IF(A12<=(DATE(2007, 2, 18)),"semaine7",IF(A12<=(DATE(2007, 2, 25)),"semaine8",IF(A12<=(DATE(2007, 3, 4)),"semaine9",IF(A12<=(DATE(2007, 3, 11)),"semaine10",IF(A12<=(DATE(2007, 3, 18)),"semaine11",IF(A12<=(DATE(2007, 3, 25)),"semaine12",IF(A12<=(DATE(2007, 4, 1)),"semaine13",IF(A12<=(DATE(2007, 4, 8)),"semaine14",IF(A12<=(DATE(2007, 4, 15)),"semaine15",IF(A12<=(DATE(2007, 4, 22)),"semaine16",IF(A12<=(DATE(2007, 4, 29)),"semaine17",IF(A12<=(DATE(2007, 5, 6)),"semaine18",IF(A12<=(DATE(2007, 5, 13)),"semaine19",IF(A12<=(DATE(2007, 5, 20)),"semaine20",IF(A12<=(DATE(2007, 5, 27)),"semaine21",IF(A12<=(DATE(2007, 6, 3)),"semaine22",IF(A12<=(DATE(2007, 6, 10)),"semaine23",IF(A12<=(DATE(2007, 6, 17)),"semaine24",IF(A12<=(DATE(2007, 6, 24)),"semaine25",IF(A12<=(DATE(2007, 7, 1)),"semaine26",IF(A12<=(DATE(2007, 7, 8)),"semaine27",IF(A12<=(DATE(2007, 7, 15)),"semaine28",IF(A12<=(DATE(2007, 7, 22)),"semaine29",IF(A12<=(DATE(2007, 7, 29)),"semaine30",IF(A12<=(DATE(2007, 8, 5)),"semaine31",IF(A12<=(DATE(2007, 8, 12)),"semaine32",IF(A12<=(DATE(2007, 8, 19)),"semaine33",IF(A12<=(DATE(2007, 8, 26)),"semaine34",IF(A12<=(DATE(2007, 9, 2)),"semaine35",IF(A12<=(DATE(2007, 9, 9)),"semaine36",IF(A12<=(DATE(2007, 9, 16)),"semaine37",IF(A12<=(DATE(2007, 9, 23)),"semaine38",IF(A12<=(DATE(2007, 9, 30)),"semaine39",IF(A12<=(DATE(2007, 10, 7)),"semaine40",IF(A12<=(DATE(2007, 10, 14)),"semaine41",IF(A12<=(DATE(2007, 10, 21)),"semaine42",IF(A12<=(DATE(2007, 10, 28)),"semaine43",IF(A12<=(DATE(2007, 11, 4)),"semaine44",IF(A12<=(DATE(2007, 11, 11)),"semaine45",IF(A12<=(DATE(2007, 11, 18)),"semaine46",IF(A12<=(DATE(2007, 11, 25)),"semaine47",IF(A12<=(DATE(2007, 12, 2)),"semaine48",IF(A12<=(DATE(2007, 12, 9)),"semaine49",IF(A12<=(DATE(2007, 12, 16)),"semaine50",IF(A12<=(DATE(2007, 12, 23)),"semaine51",IF(A12<=(DATE(2007, 12, 30)),"semaine52",IF(A12<=(DATE(2007, 12, 31)),"semaine53",213))))))))))))))))))))))))))))))))))))))))))))))))))))) &" 2007" -> semaine10 2007 | D12: =RANDBETWEEN(2,40) -> 26 | E12: =RANDBETWEEN(100,400) -> 363
A13: =A12+7 -> 39155 | B13: =IF(A13<=(DATE(2007, 1, 7)),"semaine1",IF(A13<=(DATE(2007, 1, 14)),"semaine2",IF(A13<=(DATE(2007, 1, 21)),"semaine3",IF(A13<=(DATE(2007, 1, 28)),"semaine4",IF(A13<=(DATE(2007, 2, 4)),"semaine5",IF(A13<=(DATE(2007, 2,11)),"semaine6",IF(A13<=(DATE(2007, 2, 18)),"semaine7",IF(A13<=(DATE(2007, 2, 25)),"semaine8",IF(A13<=(DATE(2007, 3, 4)),"semaine9",IF(A13<=(DATE(2007, 3, 11)),"semaine10",IF(A13<=(DATE(2007, 3, 18)),"semaine11",IF(A13<=(DATE(2007, 3, 25)),"semaine12",IF(A13<=(DATE(2007, 4, 1)),"semaine13",IF(A13<=(DATE(2007, 4, 8)),"semaine14",IF(A13<=(DATE(2007, 4, 15)),"semaine15",IF(A13<=(DATE(2007, 4, 22)),"semaine16",IF(A13<=(DATE(2007, 4, 29)),"semaine17",IF(A13<=(DATE(2007, 5, 6)),"semaine18",IF(A13<=(DATE(2007, 5, 13)),"semaine19",IF(A13<=(DATE(2007, 5, 20)),"semaine20",IF(A13<=(DATE(2007, 5, 27)),"semaine21",IF(A13<=(DATE(2007, 6, 3)),"semaine22",IF(A13<=(DATE(2007, 6, 10)),"semaine23",IF(A13<=(DATE(2007, 6, 17)),"semaine24",IF(A13<=(DATE(2007, 6, 24)),"semaine25",IF(A13<=(DATE(2007, 7, 1)),"semaine26",IF(A13<=(DATE(2007, 7, 8)),"semaine27",IF(A13<=(DATE(2007, 7, 15)),"semaine28",IF(A13<=(DATE(2007, 7, 22)),"semaine29",IF(A13<=(DATE(2007, 7, 29)),"semaine30",IF(A13<=(DATE(2007, 8, 5)),"semaine31",IF(A13<=(DATE(2007, 8, 12)),"semaine32",IF(A13<=(DATE(2007, 8, 19)),"semaine33",IF(A13<=(DATE(2007, 8, 26)),"semaine34",IF(A13<=(DATE(2007, 9, 2)),"semaine35",IF(A13<=(DATE(2007, 9, 9)),"semaine36",IF(A13<=(DATE(2007, 9, 16)),"semaine37",IF(A13<=(DATE(2007, 9, 23)),"semaine38",IF(A13<=(DATE(2007, 9, 30)),"semaine39",IF(A13<=(DATE(2007, 10, 7)),"semaine40",IF(A13<=(DATE(2007, 10, 14)),"semaine41",IF(A13<=(DATE(2007, 10, 21)),"semaine42",IF(A13<=(DATE(2007, 10, 28)),"semaine43",IF(A13<=(DATE(2007, 11, 4)),"semaine44",IF(A13<=(DATE(2007, 11, 11)),"semaine45",IF(A13<=(DATE(2007, 11, 18)),"semaine46",IF(A13<=(DATE(2007, 11, 25)),"semaine47",IF(A13<=(DATE(2007, 12, 2)),"semaine48",IF(A13<=(DATE(2007, 12, 9)),"semaine49",IF(A13<=(DATE(2007, 12, 16)),"semaine50",IF(A13<=(DATE(2007, 12, 23)),"semaine51",IF(A13<=(DATE(2007, 12, 30)),"semaine52",IF(A13<=(DATE(2007, 12, 31)),"semaine53",213))))))))))))))))))))))))))))))))))))))))))))))))))))) &" 2007" -> semaine11 2007 | D13: =RANDBETWEEN(2,40) -> 13 | E13: =RANDBETWEEN(100,400) -> 207
A14: =A13+7 -> 39162 | B14: =IF(A14<=(DATE(2007, 1, 7)),"semaine1",IF(A14<=(DATE(2007, 1, 14)),"semaine2",IF(A14<=(DATE(2007, 1, 21)),"semaine3",IF(A14<=(DATE(2007, 1, 28)),"semaine4",IF(A14<=(DATE(2007, 2, 4)),"semaine5",IF(A14<=(DATE(2007, 2,11)),"semaine6",IF(A14<=(DATE(2007, 2, 18)),"semaine7",IF(A14<=(DATE(2007, 2, 25)),"semaine8",IF(A14<=(DATE(2007, 3, 4)),"semaine9",IF(A14<=(DATE(2007, 3, 11)),"semaine10",IF(A14<=(DATE(2007, 3, 18)),"semaine11",IF(A14<=(DATE(2007, 3, 25)),"semaine12",IF(A14<=(DATE(2007, 4, 1)),"semaine13",IF(A14<=(DATE(2007, 4, 8)),"semaine14",IF(A14<=(DATE(2007, 4, 15)),"semaine15",IF(A14<=(DATE(2007, 4, 22)),"semaine16",IF(A14<=(DATE(2007, 4, 29)),"semaine17",IF(A14<=(DATE(2007, 5, 6)),"semaine18",IF(A14<=(DATE(2007, 5, 13)),"semaine19",IF(A14<=(DATE(2007, 5, 20)),"semaine20",IF(A14<=(DATE(2007, 5, 27)),"semaine21",IF(A14<=(DATE(2007, 6, 3)),"semaine22",IF(A14<=(DATE(2007, 6, 10)),"semaine23",IF(A14<=(DATE(2007, 6, 17)),"semaine24",IF(A14<=(DATE(2007, 6, 24)),"semaine25",IF(A14<=(DATE(2007, 7, 1)),"semaine26",IF(A14<=(DATE(2007, 7, 8)),"semaine27",IF(A14<=(DATE(2007, 7, 15)),"semaine28",IF(A14<=(DATE(2007, 7, 22)),"semaine29",IF(A14<=(DATE(2007, 7, 29)),"semaine30",IF(A14<=(DATE(2007, 8, 5)),"semaine31",IF(A14<=(DATE(2007, 8, 12)),"semaine32",IF(A14<=(DATE(2007, 8, 19)),"semaine33",IF(A14<=(DATE(2007, 8, 26)),"semaine34",IF(A14<=(DATE(2007, 9, 2)),"semaine35",IF(A14<=(DATE(2007, 9, 9)),"semaine36",IF(A14<=(DATE(2007, 9, 16)),"semaine37",IF(A14<=(DATE(2007, 9, 23)),"semaine38",IF(A14<=(DATE(2007, 9, 30)),"semaine39",IF(A14<=(DATE(2007, 10, 7)),"semaine40",IF(A14<=(DATE(2007, 10, 14)),"semaine41",IF(A14<=(DATE(2007, 10, 21)),"semaine42",IF(A14<=(DATE(2007, 10, 28)),"semaine43",IF(A14<=(DATE(2007, 11, 4)),"semaine44",IF(A14<=(DATE(2007, 11, 11)),"semaine45",IF(A14<=(DATE(2007, 11, 18)),"semaine46",IF(A14<=(DATE(2007, 11, 25)),"semaine47",IF(A14<=(DATE(2007, 12, 2)),"semaine48",IF(A14<=(DATE(2007, 12, 9)),"semaine49",IF(A14<=(DATE(2007, 12, 16)),"semaine50",IF(A14<=(DATE(2007, 12, 23)),"semaine51",IF(A14<=(DATE(2007, 12, 30)),"semaine52",IF(A14<=(DATE(2007, 12, 31)),"semaine53",213))))))))))))))))))))))))))))))))))))))))))))))))))))) &" 2007" -> semaine12 2007 | D14: =RANDBETWEEN(2,40) -> 36 | E14: =RANDBETWEEN(100,400) -> 132
A15: =A14+7 -> 39169 | B15: =IF(A15<=(DATE(2007, 1, 7)),"semaine1",IF(A15<=(DATE(2007, 1, 14)),"semaine2",IF(A15<=(DATE(2007, 1, 21)),"semaine3",IF(A15<=(DATE(2007, 1, 28)),"semaine4",IF(A15<=(DATE(2007, 2, 4)),"semaine5",IF(A15<=(DATE(2007, 2,11)),"semaine6",IF(A15<=(DATE(2007, 2, 18)),"semaine7",IF(A15<=(DATE(2007, 2, 25)),"semaine8",IF(A15<=(DATE(2007, 3, 4)),"semaine9",IF(A15<=(DATE(2007, 3, 11)),"semaine10",IF(A15<=(DATE(2007, 3, 18)),"semaine11",IF(A15<=(DATE(2007, 3, 25)),"semaine12",IF(A15<=(DATE(2007, 4, 1)),"semaine13",IF(A15<=(DATE(2007, 4, 8)),"semaine14",IF(A15<=(DATE(2007, 4, 15)),"semaine15",IF(A15<=(DATE(2007, 4, 22)),"semaine16",IF(A15<=(DATE(2007, 4, 29)),"semaine17",IF(A15<=(DATE(2007, 5, 6)),"semaine18",IF(A15<=(DATE(2007, 5, 13)),"semaine19",IF(A15<=(DATE(2007, 5, 20)),"semaine20",IF(A15<=(DATE(2007, 5, 27)),"semaine21",IF(A15<=(DATE(2007, 6, 3)),"semaine22",IF(A15<=(DATE(2007, 6, 10)),"semaine23",IF(A15<=(DATE(2007, 6, 17)),"semaine24",IF(A15<=(DATE(2007, 6, 24)),"semaine25",IF(A15<=(DATE(2007, 7, 1)),"semaine26",IF(A15<=(DATE(2007, 7, 8)),"semaine27",IF(A15<=(DATE(2007, 7, 15)),"semaine28",IF(A15<=(DATE(2007, 7, 22)),"semaine29",IF(A15<=(DATE(2007, 7, 29)),"semaine30",IF(A15<=(DATE(2007, 8, 5)),"semaine31",IF(A15<=(DATE(2007, 8, 12)),"semaine32",IF(A15<=(DATE(2007, 8, 19)),"semaine33",IF(A15<=(DATE(2007, 8, 26)),"semaine34",IF(A15<=(DATE(2007, 9, 2)),"semaine35",IF(A15<=(DATE(2007, 9, 9)),"semaine36",IF(A15<=(DATE(2007, 9, 16)),"semaine37",IF(A15<=(DATE(2007, 9, 23)),"semaine38",IF(A15<=(DATE(2007, 9, 30)),"semaine39",IF(A15<=(DATE(2007, 10, 7)),"semaine40",IF(A15<=(DATE(2007, 10, 14)),"semaine41",IF(A15<=(DATE(2007, 10, 21)),"semaine42",IF(A15<=(DATE(2007, 10, 28)),"semaine43",IF(A15<=(DATE(2007, 11, 4)),"semaine44",IF(A15<=(DATE(2007, 11, 11)),"semaine45",IF(A15<=(DATE(2007, 11, 18)),"semaine46",IF(A15<=(DATE(2007, 11, 25)),"semaine47",IF(A15<=(DATE(2007, 12, 2)),"semaine48",IF(A15<=(DATE(2007, 12, 9)),"semaine49",IF(A15<=(DATE(2007, 12, 16)),"semaine50",IF(A15<=(DATE(2007, 12, 23)),"semaine51",IF(A15<=(DATE(2007, 12, 30)),"semaine52",IF(A15<=(DATE(2007, 12, 31)),"semaine53",213))))))))))))))))))))))))))))))))))))))))))))))))))))) &" 2007" -> semaine13 2007 | D15: =RANDBETWEEN(2,40) -> 33 | E15: =RANDBETWEEN(100,400) -> 118 | F15: =IF(G6="x",G5,IF(H6="x",Feuil2!A5,IF(I6="x",Feuil2!B5,"")))
A16: =A15+7 -> 39176 | B16: =IF(A16<=(DATE(2007, 1, 7)),"semaine1",IF(A16<=(DATE(2007, 1, 14)),"semaine2",IF(A16<=(DATE(2007, 1, 21)),"semaine3",IF(A16<=(DATE(2007, 1, 28)),"semaine4",IF(A16<=(DATE(2007, 2, 4)),"semaine5",IF(A16<=(DATE(2007, 2,11)),"semaine6",IF(A16<=(DATE(2007, 2, 18)),"semaine7",IF(A16<=(DATE(2007, 2, 25)),"semaine8",IF(A16<=(DATE(2007, 3, 4)),"semaine9",IF(A16<=(DATE(2007, 3, 11)),"semaine10",IF(A16<=(DATE(2007, 3, 18)),"semaine11",IF(A16<=(DATE(2007, 3, 25)),"semaine12",IF(A16<=(DATE(2007, 4, 1)),"semaine13",IF(A16<=(DATE(2007, 4, 8)),"semaine14",IF(A16<=(DATE(2007, 4, 15)),"semaine15",IF(A16<=(DATE(2007, 4, 22)),"semaine16",IF(A16<=(DATE(2007, 4, 29)),"semaine17",IF(A16<=(DATE(2007, 5, 6)),"semaine18",IF(A16<=(DATE(2007, 5, 13)),"semaine19",IF(A16<=(DATE(2007, 5, 20)),"semaine20",IF(A16<=(DATE(2007, 5, 27)),"semaine21",IF(A16<=(DATE(2007, 6, 3)),"semaine22",IF(A16<=(DATE(2007, 6, 10)),"semaine23",IF(A16<=(DATE(2007, 6, 17)),"semaine24",IF(A16<=(DATE(2007, 6, 24)),"semaine25",IF(A16<=(DATE(2007, 7, 1)),"semaine26",IF(A16<=(DATE(2007, 7, 8)),"semaine27",IF(A16<=(DATE(2007, 7, 15)),"semaine28",IF(A16<=(DATE(2007, 7, 22)),"semaine29",IF(A16<=(DATE(2007, 7, 29)),"semaine30",IF(A16<=(DATE(2007, 8, 5)),"semaine31",IF(A16<=(DATE(2007, 8, 12)),"semaine32",IF(A16<=(DATE(2007, 8, 19)),"semaine33",IF(A16<=(DATE(2007, 8, 26)),"semaine34",IF(A16<=(DATE(2007, 9, 2)),"semaine35",IF(A16<=(DATE(2007, 9, 9)),"semaine36",IF(A16<=(DATE(2007, 9, 16)),"semaine37",IF(A16<=(DATE(2007, 9, 23)),"semaine38",IF(A16<=(DATE(2007, 9, 30)),"semaine39",IF(A16<=(DATE(2007, 10, 7)),"semaine40",IF(A16<=(DATE(2007, 10, 14)),"semaine41",IF(A16<=(DATE(2007, 10, 21)),"semaine42",IF(A16<=(DATE(2007, 10, 28)),"semaine43",IF(A16<=(DATE(2007, 11, 4)),"semaine44",IF(A16<=(DATE(2007, 11, 11)),"semaine45",IF(A16<=(DATE(2007, 11, 18)),"semaine46",IF(A16<=(DATE(2007, 11, 25)),"semaine47",IF(A16<=(DATE(2007, 12, 2)),"semaine48",IF(A16<=(DATE(2007, 12, 9)),"semaine49",IF(A16<=(DATE(2007, 12, 16)),"semaine50",IF(A16<=(DATE(2007, 12, 23)),"semaine51",IF(A16<=(DATE(2007, 12, 30)),"semaine52",IF(A16<=(DATE(2007, 12, 31)),"semaine53",213))))))))))))))))))))))))))))))))))))))))))))))))))))) &" 2007" -> semaine14 2007 | D16: =RANDBETWEEN(2,40) -> 33 | E16: =RANDBETWEEN(100,400) -> 222
A17: =A16+7 -> 39183 | B17: =IF(A17<=(DATE(2007, 1, 7)),"semaine1",IF(A17<=(DATE(2007, 1, 14)),"semaine2",IF(A17<=(DATE(2007, 1, 21)),"semaine3",IF(A17<=(DATE(2007, 1, 28)),"semaine4",IF(A17<=(DATE(2007, 2, 4)),"semaine5",IF(A17<=(DATE(2007, 2,11)),"semaine6",IF(A17<=(DATE(2007, 2, 18)),"semaine7",IF(A17<=(DATE(2007, 2, 25)),"semaine8",IF(A17<=(DATE(2007, 3, 4)),"semaine9",IF(A17<=(DATE(2007, 3, 11)),"semaine10",IF(A17<=(DATE(2007, 3, 18)),"semaine11",IF(A17<=(DATE(2007, 3, 25)),"semaine12",IF(A17<=(DATE(2007, 4, 1)),"semaine13",IF(A17<=(DATE(2007, 4, 8)),"semaine14",IF(A17<=(DATE(2007, 4, 15)),"semaine15",IF(A17<=(DATE(2007, 4, 22)),"semaine16",IF(A17<=(DATE(2007, 4, 29)),"semaine17",IF(A17<=(DATE(2007, 5, 6)),"semaine18",IF(A17<=(DATE(2007, 5, 13)),"semaine19",IF(A17<=(DATE(2007, 5, 20)),"semaine20",IF(A17<=(DATE(2007, 5, 27)),"semaine21",IF(A17<=(DATE(2007, 6, 3)),"semaine22",IF(A17<=(DATE(2007, 6, 10)),"semaine23",IF(A17<=(DATE(2007, 6, 17)),"semaine24",IF(A17<=(DATE(2007, 6, 24)),"semaine25",IF(A17<=(DATE(2007, 7, 1)),"semaine26",IF(A17<=(DATE(2007, 7, 8)),"semaine27",IF(A17<=(DATE(2007, 7, 15)),"semaine28",IF(A17<=(DATE(2007, 7, 22)),"semaine29",IF(A17<=(DATE(2007, 7, 29)),"semaine30",IF(A17<=(DATE(2007, 8, 5)),"semaine31",IF(A17<=(DATE(2007, 8, 12)),"semaine32",IF(A17<=(DATE(2007, 8, 19)),"semaine33",IF(A17<=(DATE(2007, 8, 26)),"semaine34",IF(A17<=(DATE(2007, 9, 2)),"semaine35",IF(A17<=(DATE(2007, 9, 9)),"semaine36",IF(A17<=(DATE(2007, 9, 16)),"semaine37",IF(A17<=(DATE(2007, 9, 23)),"semaine38",IF(A17<=(DATE(2007, 9, 30)),"semaine39",IF(A17<=(DATE(2007, 10, 7)),"semaine40",IF(A17<=(DATE(2007, 10, 14)),"semaine41",IF(A17<=(DATE(2007, 10, 21)),"semaine42",IF(A17<=(DATE(2007, 10, 28)),"semaine43",IF(A17<=(DATE(2007, 11, 4)),"semaine44",IF(A17<=(DATE(2007, 11, 11)),"semaine45",IF(A17<=(DATE(2007, 11, 18)),"semaine46",IF(A17<=(DATE(2007, 11, 25)),"semaine47",IF(A17<=(DATE(2007, 12, 2)),"semaine48",IF(A17<=(DATE(2007, 12, 9)),"semaine49",IF(A17<=(DATE(2007, 12, 16)),"semaine50",IF(A17<=(DATE(2007, 12, 23)),"semaine51",IF(A17<=(DATE(2007, 12, 30)),"semaine52",IF(A17<=(DATE(2007, 12, 31)),"semaine53",213))))))))))))))))))))))))))))))))))))))))))))))))))))) &" 2007" -> semaine15 2007 | D17: =RANDBETWEEN(2,40) -> 15 | E17: =RANDBETWEEN(100,400) -> 169
A18: =A17+7 -> 39190 | B18: =IF(A18<=(DATE(2007, 1, 7)),"semaine1",IF(A18<=(DATE(2007, 1, 14)),"semaine2",IF(A18<=(DATE(2007, 1, 21)),"semaine3",IF(A18<=(DATE(2007, 1, 28)),"semaine4",IF(A18<=(DATE(2007, 2, 4)),"semaine5",IF(A18<=(DATE(2007, 2,11)),"semaine6",IF(A18<=(DATE(2007, 2, 18)),"semaine7",IF(A18<=(DATE(2007, 2, 25)),"semaine8",IF(A18<=(DATE(2007, 3, 4)),"semaine9",IF(A18<=(DATE(2007, 3, 11)),"semaine10",IF(A18<=(DATE(2007, 3, 18)),"semaine11",IF(A18<=(DATE(2007, 3, 25)),"semaine12",IF(A18<=(DATE(2007, 4, 1)),"semaine13",IF(A18<=(DATE(2007, 4, 8)),"semaine14",IF(A18<=(DATE(2007, 4, 15)),"semaine15",IF(A18<=(DATE(2007, 4, 22)),"semaine16",IF(A18<=(DATE(2007, 4, 29)),"semaine17",IF(A18<=(DATE(2007, 5, 6)),"semaine18",IF(A18<=(DATE(2007, 5, 13)),"semaine19",IF(A18<=(DATE(2007, 5, 20)),"semaine20",IF(A18<=(DATE(2007, 5, 27)),"semaine21",IF(A18<=(DATE(2007, 6, 3)),"semaine22",IF(A18<=(DATE(2007, 6, 10)),"semaine23",IF(A18<=(DATE(2007, 6, 17)),"semaine24",IF(A18<=(DATE(2007, 6, 24)),"semaine25",IF(A18<=(DATE(2007, 7, 1)),"semaine26",IF(A18<=(DATE(2007, 7, 8)),"semaine27",IF(A18<=(DATE(2007, 7, 15)),"semaine28",IF(A18<=(DATE(2007, 7, 22)),"semaine29",IF(A18<=(DATE(2007, 7, 29)),"semaine30",IF(A18<=(DATE(2007, 8, 5)),"semaine31",IF(A18<=(DATE(2007, 8, 12)),"semaine32",IF(A18<=(DATE(2007, 8, 19)),"semaine33",IF(A18<=(DATE(2007, 8, 26)),"semaine34",IF(A18<=(DATE(2007, 9, 2)),"semaine35",IF(A18<=(DATE(2007, 9, 9)),"semaine36",IF(A18<=(DATE(2007, 9, 16)),"semaine37",IF(A18<=(DATE(2007, 9, 23)),"semaine38",IF(A18<=(DATE(2007, 9, 30)),"semaine39",IF(A18<=(DATE(2007, 10, 7)),"semaine40",IF(A18<=(DATE(2007, 10, 14)),"semaine41",IF(A18<=(DATE(2007, 10, 21)),"semaine42",IF(A18<=(DATE(2007, 10, 28)),"semaine43",IF(A18<=(DATE(2007, 11, 4)),"semaine44",IF(A18<=(DATE(2007, 11, 11)),"semaine45",IF(A18<=(DATE(2007, 11, 18)),"semaine46",IF(A18<=(DATE(2007, 11, 25)),"semaine47",IF(A18<=(DATE(2007, 12, 2)),"semaine48",IF(A18<=(DATE(2007, 12, 9)),"semaine49",IF(A18<=(DATE(2007, 12, 16)),"semaine50",IF(A18<=(DATE(2007, 12, 23)),"semaine51",IF(A18<=(DATE(2007, 12, 30)),"semaine52",IF(A18<=(DATE(2007, 12, 31)),"semaine53",213))))))))))))))))))))))))))))))))))))))))))))))))))))) &" 2007" -> semaine16 2007 | D18: =RANDBETWEEN(2,40) -> 8 | E18: =RANDBETWEEN(100,400) -> 143
A19: =A18+7 -> 39197 | B19: =IF(A19<=(DATE(2007, 1, 7)),"semaine1",IF(A19<=(DATE(2007, 1, 14)),"semaine2",IF(A19<=(DATE(2007, 1, 21)),"semaine3",IF(A19<=(DATE(2007, 1, 28)),"semaine4",IF(A19<=(DATE(2007, 2, 4)),"semaine5",IF(A19<=(DATE(2007, 2,11)),"semaine6",IF(A19<=(DATE(2007, 2, 18)),"semaine7",IF(A19<=(DATE(2007, 2, 25)),"semaine8",IF(A19<=(DATE(2007, 3, 4)),"semaine9",IF(A19<=(DATE(2007, 3, 11)),"semaine10",IF(A19<=(DATE(2007, 3, 18)),"semaine11",IF(A19<=(DATE(2007, 3, 25)),"semaine12",IF(A19<=(DATE(2007, 4, 1)),"semaine13",IF(A19<=(DATE(2007, 4, 8)),"semaine14",IF(A19<=(DATE(2007, 4, 15)),"semaine15",IF(A19<=(DATE(2007, 4, 22)),"semaine16",IF(A19<=(DATE(2007, 4, 29)),"semaine17",IF(A19<=(DATE(2007, 5, 6)),"semaine18",IF(A19<=(DATE(2007, 5, 13)),"semaine19",IF(A19<=(DATE(2007, 5, 20)),"semaine20",IF(A19<=(DATE(2007, 5, 27)),"semaine21",IF(A19<=(DATE(2007, 6, 3)),"semaine22",IF(A19<=(DATE(2007, 6, 10)),"semaine23",IF(A19<=(DATE(2007, 6, 17)),"semaine24",IF(A19<=(DATE(2007, 6, 24)),"semaine25",IF(A19<=(DATE(2007, 7, 1)),"semaine26",IF(A19<=(DATE(2007, 7, 8)),"semaine27",IF(A19<=(DATE(2007, 7, 15)),"semaine28",IF(A19<=(DATE(2007, 7, 22)),"semaine29",IF(A19<=(DATE(2007, 7, 29)),"semaine30",IF(A19<=(DATE(2007, 8, 5)),"semaine31",IF(A19<=(DATE(2007, 8, 12)),"semaine32",IF(A19<=(DATE(2007, 8, 19)),"semaine33",IF(A19<=(DATE(2007, 8, 26)),"semaine34",IF(A19<=(DATE(2007, 9, 2)),"semaine35",IF(A19<=(DATE(2007, 9, 9)),"semaine36",IF(A19<=(DATE(2007, 9, 16)),"semaine37",IF(A19<=(DATE(2007, 9, 23)),"semaine38",IF(A19<=(DATE(2007, 9, 30)),"semaine39",IF(A19<=(DATE(2007, 10, 7)),"semaine40",IF(A19<=(DATE(2007, 10, 14)),"semaine41",IF(A19<=(DATE(2007, 10, 21)),"semaine42",IF(A19<=(DATE(2007, 10, 28)),"semaine43",IF(A19<=(DATE(2007, 11, 4)),"semaine44",IF(A19<=(DATE(2007, 11, 11)),"semaine45",IF(A19<=(DATE(2007, 11, 18)),"semaine46",IF(A19<=(DATE(2007, 11, 25)),"semaine47",IF(A19<=(DATE(2007, 12, 2)),"semaine48",IF(A19<=(DATE(2007, 12, 9)),"semaine49",IF(A19<=(DATE(2007, 12, 16)),"semaine50",IF(A19<=(DATE(2007, 12, 23)),"semaine51",IF(A19<=(DATE(2007, 12, 30)),"semaine52",IF(A19<=(DATE(2007, 12, 31)),"semaine53",213))))))))))))))))))))))))))))))))))))))))))))))))))))) &" 2007" -> semaine17 2007 | D19: =RANDBETWEEN(2,40) -> 17 | E19: =RANDBETWEEN(100,400) -> 210
A20: =A19+7 -> 39204 | B20: =IF(A20<=(DATE(2007, 1, 7)),"semaine1",IF(A20<=(DATE(2007, 1, 14)),"semaine2",IF(A20<=(DATE(2007, 1, 21)),"semaine3",IF(A20<=(DATE(2007, 1, 28)),"semaine4",IF(A20<=(DATE(2007, 2, 4)),"semaine5",IF(A20<=(DATE(2007, 2,11)),"semaine6",IF(A20<=(DATE(2007, 2, 18)),"semaine7",IF(A20<=(DATE(2007, 2, 25)),"semaine8",IF(A20<=(DATE(2007, 3, 4)),"semaine9",IF(A20<=(DATE(2007, 3, 11)),"semaine10",IF(A20<=(DATE(2007, 3, 18)),"semaine11",IF(A20<=(DATE(2007, 3, 25)),"semaine12",IF(A20<=(DATE(2007, 4, 1)),"semaine13",IF(A20<=(DATE(2007, 4, 8)),"semaine14",IF(A20<=(DATE(2007, 4, 15)),"semaine15",IF(A20<=(DATE(2007, 4, 22)),"semaine16",IF(A20<=(DATE(2007, 4, 29)),"semaine17",IF(A20<=(DATE(2007, 5, 6)),"semaine18",IF(A20<=(DATE(2007, 5, 13)),"semaine19",IF(A20<=(DATE(2007, 5, 20)),"semaine20",IF(A20<=(DATE(2007, 5, 27)),"semaine21",IF(A20<=(DATE(2007, 6, 3)),"semaine22",IF(A20<=(DATE(2007, 6, 10)),"semaine23",IF(A20<=(DATE(2007, 6, 17)),"semaine24",IF(A20<=(DATE(2007, 6, 24)),"semaine25",IF(A20<=(DATE(2007, 7, 1)),"semaine26",IF(A20<=(DATE(2007, 7, 8)),"semaine27",IF(A20<=(DATE(2007, 7, 15)),"semaine28",IF(A20<=(DATE(2007, 7, 22)),"semaine29",IF(A20<=(DATE(2007, 7, 29)),"semaine30",IF(A20<=(DATE(2007, 8, 5)),"semaine31",IF(A20<=(DATE(2007, 8, 12)),"semaine32",IF(A20<=(DATE(2007, 8, 19)),"semaine33",IF(A20<=(DATE(2007, 8, 26)),"semaine34",IF(A20<=(DATE(2007, 9, 2)),"semaine35",IF(A20<=(DATE(2007, 9, 9)),"semaine36",IF(A20<=(DATE(2007, 9, 16)),"semaine37",IF(A20<=(DATE(2007, 9, 23)),"semaine38",IF(A20<=(DATE(2007, 9, 30)),"semaine39",IF(A20<=(DATE(2007, 10, 7)),"semaine40",IF(A20<=(DATE(2007, 10, 14)),"semaine41",IF(A20<=(DATE(2007, 10, 21)),"semaine42",IF(A20<=(DATE(2007, 10, 28)),"semaine43",IF(A20<=(DATE(2007, 11, 4)),"semaine44",IF(A20<=(DATE(2007, 11, 11)),"semaine45",IF(A20<=(DATE(2007, 11, 18)),"semaine46",IF(A20<=(DATE(2007, 11, 25)),"semaine47",IF(A20<=(DATE(2007, 12, 2)),"semaine48",IF(A20<=(DATE(2007, 12, 9)),"semaine49",IF(A20<=(DATE(2007, 12, 16)),"semaine50",IF(A20<=(DATE(2007, 12, 23)),"semaine51",IF(A20<=(DATE(2007, 12, 30)),"semaine52",IF(A20<=(DATE(2007, 12, 31)),"semaine53",213))))))))))))))))))))))))))))))))))))))))))))))))))))) &" 2007" -> semaine18 2007 | D20: =RANDBETWEEN(2,40) -> 28 | E20: =RANDBETWEEN(100,400) -> 202
A21: =A20+7 -> 39211 | B21: =IF(A21<=(DATE(2007, 1, 7)),"semaine1",IF(A21<=(DATE(2007, 1, 14)),"semaine2",IF(A21<=(DATE(2007, 1, 21)),"semaine3",IF(A21<=(DATE(2007, 1, 28)),"semaine4",IF(A21<=(DATE(2007, 2, 4)),"semaine5",IF(A21<=(DATE(2007, 2,11)),"semaine6",IF(A21<=(DATE(2007, 2, 18)),"semaine7",IF(A21<=(DATE(2007, 2, 25)),"semaine8",IF(A21<=(DATE(2007, 3, 4)),"semaine9",IF(A21<=(DATE(2007, 3, 11)),"semaine10",IF(A21<=(DATE(2007, 3, 18)),"semaine11",IF(A21<=(DATE(2007, 3, 25)),"semaine12",IF(A21<=(DATE(2007, 4, 1)),"semaine13",IF(A21<=(DATE(2007, 4, 8)),"semaine14",IF(A21<=(DATE(2007, 4, 15)),"semaine15",IF(A21<=(DATE(2007, 4, 22)),"semaine16",IF(A21<=(DATE(2007, 4, 29)),"semaine17",IF(A21<=(DATE(2007, 5, 6)),"semaine18",IF(A21<=(DATE(2007, 5, 13)),"semaine19",IF(A21<=(DATE(2007, 5, 20)),"semaine20",IF(A21<=(DATE(2007, 5, 27)),"semaine21",IF(A21<=(DATE(2007, 6, 3)),"semaine22",IF(A21<=(DATE(2007, 6, 10)),"semaine23",IF(A21<=(DATE(2007, 6, 17)),"semaine24",IF(A21<=(DATE(2007, 6, 24)),"semaine25",IF(A21<=(DATE(2007, 7, 1)),"semaine26",IF(A21<=(DATE(2007, 7, 8)),"semaine27",IF(A21<=(DATE(2007, 7, 15)),"semaine28",IF(A21<=(DATE(2007, 7, 22)),"semaine29",IF(A21<=(DATE(2007, 7, 29)),"semaine30",IF(A21<=(DATE(2007, 8, 5)),"semaine31",IF(A21<=(DATE(2007, 8, 12)),"semaine32",IF(A21<=(DATE(2007, 8, 19)),"semaine33",IF(A21<=(DATE(2007, 8, 26)),"semaine34",IF(A21<=(DATE(2007, 9, 2)),"semaine35",IF(A21<=(DATE(2007, 9, 9)),"semaine36",IF(A21<=(DATE(2007, 9, 16)),"semaine37",IF(A21<=(DATE(2007, 9, 23)),"semaine38",IF(A21<=(DATE(2007, 9, 30)),"semaine39",IF(A21<=(DATE(2007, 10, 7)),"semaine40",IF(A21<=(DATE(2007, 10, 14)),"semaine41",IF(A21<=(DATE(2007, 10, 21)),"semaine42",IF(A21<=(DATE(2007, 10, 28)),"semaine43",IF(A21<=(DATE(2007, 11, 4)),"semaine44",IF(A21<=(DATE(2007, 11, 11)),"semaine45",IF(A21<=(DATE(2007, 11, 18)),"semaine46",IF(A21<=(DATE(2007, 11, 25)),"semaine47",IF(A21<=(DATE(2007, 12, 2)),"semaine48",IF(A21<=(DATE(2007, 12, 9)),"semaine49",IF(A21<=(DATE(2007, 12, 16)),"semaine50",IF(A21<=(DATE(2007, 12, 23)),"semaine51",IF(A21<=(DATE(2007, 12, 30)),"semaine52",IF(A21<=(DATE(2007, 12, 31)),"semaine53",213))))))))))))))))))))))))))))))))))))))))))))))))))))) &" 2007" -> semaine19 2007 | D21: =RANDBETWEEN(2,40) -> 30 | E21: =RANDBETWEEN(100,400) -> 186
A22: =A21+7 -> 39218 | B22: =IF(A22<=(DATE(2007, 1, 7)),"semaine1",IF(A22<=(DATE(2007, 1, 14)),"semaine2",IF(A22<=(DATE(2007, 1, 21)),"semaine3",IF(A22<=(DATE(2007, 1, 28)),"semaine4",IF(A22<=(DATE(2007, 2, 4)),"semaine5",IF(A22<=(DATE(2007, 2,11)),"semaine6",IF(A22<=(DATE(2007, 2, 18)),"semaine7",IF(A22<=(DATE(2007, 2, 25)),"semaine8",IF(A22<=(DATE(2007, 3, 4)),"semaine9",IF(A22<=(DATE(2007, 3, 11)),"semaine10",IF(A22<=(DATE(2007, 3, 18)),"semaine11",IF(A22<=(DATE(2007, 3, 25)),"semaine12",IF(A22<=(DATE(2007, 4, 1)),"semaine13",IF(A22<=(DATE(2007, 4, 8)),"semaine14",IF(A22<=(DATE(2007, 4, 15)),"semaine15",IF(A22<=(DATE(2007, 4, 22)),"semaine16",IF(A22<=(DATE(2007, 4, 29)),"semaine17",IF(A22<=(DATE(2007, 5, 6)),"semaine18",IF(A22<=(DATE(2007, 5, 13)),"semaine19",IF(A22<=(DATE(2007, 5, 20)),"semaine20",IF(A22<=(DATE(2007, 5, 27)),"semaine21",IF(A22<=(DATE(2007, 6, 3)),"semaine22",IF(A22<=(DATE(2007, 6, 10)),"semaine23",IF(A22<=(DATE(2007, 6, 17)),"semaine24",IF(A22<=(DATE(2007, 6, 24)),"semaine25",IF(A22<=(DATE(2007, 7, 1)),"semaine26",IF(A22<=(DATE(2007, 7, 8)),"semaine27",IF(A22<=(DATE(2007, 7, 15)),"semaine28",IF(A22<=(DATE(2007, 7, 22)),"semaine29",IF(A22<=(DATE(2007, 7, 29)),"semaine30",IF(A22<=(DATE(2007, 8, 5)),"semaine31",IF(A22<=(DATE(2007, 8, 12)),"semaine32",IF(A22<=(DATE(2007, 8, 19)),"semaine33",IF(A22<=(DATE(2007, 8, 26)),"semaine34",IF(A22<=(DATE(2007, 9, 2)),"semaine35",IF(A22<=(DATE(2007, 9, 9)),"semaine36",IF(A22<=(DATE(2007, 9, 16)),"semaine37",IF(A22<=(DATE(2007, 9, 23)),"semaine38",IF(A22<=(DATE(2007, 9, 30)),"semaine39",IF(A22<=(DATE(2007, 10, 7)),"semaine40",IF(A22<=(DATE(2007, 10, 14)),"semaine41",IF(A22<=(DATE(2007, 10, 21)),"semaine42",IF(A22<=(DATE(2007, 10, 28)),"semaine43",IF(A22<=(DATE(2007, 11, 4)),"semaine44",IF(A22<=(DATE(2007, 11, 11)),"semaine45",IF(A22<=(DATE(2007, 11, 18)),"semaine46",IF(A22<=(DATE(2007, 11, 25)),"semaine47",IF(A22<=(DATE(2007, 12, 2)),"semaine48",IF(A22<=(DATE(2007, 12, 9)),"semaine49",IF(A22<=(DATE(2007, 12, 16)),"semaine50",IF(A22<=(DATE(2007, 12, 23)),"semaine51",IF(A22<=(DATE(2007, 12, 30)),"semaine52",IF(A22<=(DATE(2007, 12, 31)),"semaine53",213))))))))))))))))))))))))))))))))))))))))))))))))))))) &" 2007" -> semaine20 2007 | D22: =RANDBETWEEN(2,40) -> 8 | E22: =RANDBETWEEN(100,400) -> 233
A23: =A22+7 -> 39225 | B23: =IF(A23<=(DATE(2007, 1, 7)),"semaine1",IF(A23<=(DATE(2007, 1, 14)),"semaine2",IF(A23<=(DATE(2007, 1, 21)),"semaine3",IF(A23<=(DATE(2007, 1, 28)),"semaine4",IF(A23<=(DATE(2007, 2, 4)),"semaine5",IF(A23<=(DATE(2007, 2,11)),"semaine6",IF(A23<=(DATE(2007, 2, 18)),"semaine7",IF(A23<=(DATE(2007, 2, 25)),"semaine8",IF(A23<=(DATE(2007, 3, 4)),"semaine9",IF(A23<=(DATE(2007, 3, 11)),"semaine10",IF(A23<=(DATE(2007, 3, 18)),"semaine11",IF(A23<=(DATE(2007, 3, 25)),"semaine12",IF(A23<=(DATE(2007, 4, 1)),"semaine13",IF(A23<=(DATE(2007, 4, 8)),"semaine14",IF(A23<=(DATE(2007, 4, 15)),"semaine15",IF(A23<=(DATE(2007, 4, 22)),"semaine16",IF(A23<=(DATE(2007, 4, 29)),"semaine17",IF(A23<=(DATE(2007, 5, 6)),"semaine18",IF(A23<=(DATE(2007, 5, 13)),"semaine19",IF(A23<=(DATE(2007, 5, 20)),"semaine20",IF(A23<=(DATE(2007, 5, 27)),"semaine21",IF(A23<=(DATE(2007, 6, 3)),"semaine22",IF(A23<=(DATE(2007, 6, 10)),"semaine23",IF(A23<=(DATE(2007, 6, 17)),"semaine24",IF(A23<=(DATE(2007, 6, 24)),"semaine25",IF(A23<=(DATE(2007, 7, 1)),"semaine26",IF(A23<=(DATE(2007, 7, 8)),"semaine27",IF(A23<=(DATE(2007, 7, 15)),"semaine28",IF(A23<=(DATE(2007, 7, 22)),"semaine29",IF(A23<=(DATE(2007, 7, 29)),"semaine30",IF(A23<=(DATE(2007, 8, 5)),"semaine31",IF(A23<=(DATE(2007, 8, 12)),"semaine32",IF(A23<=(DATE(2007, 8, 19)),"semaine33",IF(A23<=(DATE(2007, 8, 26)),"semaine34",IF(A23<=(DATE(2007, 9, 2)),"semaine35",IF(A23<=(DATE(2007, 9, 9)),"semaine36",IF(A23<=(DATE(2007, 9, 16)),"semaine37",IF(A23<=(DATE(2007, 9, 23)),"semaine38",IF(A23<=(DATE(2007, 9, 30)),"semaine39",IF(A23<=(DATE(2007, 10, 7)),"semaine40",IF(A23<=(DATE(2007, 10, 14)),"semaine41",IF(A23<=(DATE(2007, 10, 21)),"semaine42",IF(A23<=(DATE(2007, 10, 28)),"semaine43",IF(A23<=(DATE(2007, 11, 4)),"semaine44",IF(A23<=(DATE(2007, 11, 11)),"semaine45",IF(A23<=(DATE(2007, 11, 18)),"semaine46",IF(A23<=(DATE(2007, 11, 25)),"semaine47",IF(A23<=(DATE(2007, 12, 2)),"semaine48",IF(A23<=(DATE(2007, 12, 9)),"semaine49",IF(A23<=(DATE(2007, 12, 16)),"semaine50",IF(A23<=(DATE(2007, 12, 23)),"semaine51",IF(A23<=(DATE(2007, 12, 30)),"semaine52",IF(A23<=(DATE(2007, 12, 31)),"semaine53",213))))))))))))))))))))))))))))))))))))))))))))))))))))) &" 2007" -> semaine21 2007 | D23: =RANDBETWEEN(2,40) -> 3 | E23: =RANDBETWEEN(100,400) -> 252
A24: =A23+7 -> 39232 | B24: =IF(A24<=(DATE(2007, 1, 7)),"semaine1",IF(A24<=(DATE(2007, 1, 14)),"semaine2",IF(A24<=(DATE(2007, 1, 21)),"semaine3",IF(A24<=(DATE(2007, 1, 28)),"semaine4",IF(A24<=(DATE(2007, 2, 4)),"semaine5",IF(A24<=(DATE(2007, 2,11)),"semaine6",IF(A24<=(DATE(2007, 2, 18)),"semaine7",IF(A24<=(DATE(2007, 2, 25)),"semaine8",IF(A24<=(DATE(2007, 3, 4)),"semaine9",IF(A24<=(DATE(2007, 3, 11)),"semaine10",IF(A24<=(DATE(2007, 3, 18)),"semaine11",IF(A24<=(DATE(2007, 3, 25)),"semaine12",IF(A24<=(DATE(2007, 4, 1)),"semaine13",IF(A24<=(DATE(2007, 4, 8)),"semaine14",IF(A24<=(DATE(2007, 4, 15)),"semaine15",IF(A24<=(DATE(2007, 4, 22)),"semaine16",IF(A24<=(DATE(2007, 4, 29)),"semaine17",IF(A24<=(DATE(2007, 5, 6)),"semaine18",IF(A24<=(DATE(2007, 5, 13)),"semaine19",IF(A24<=(DATE(2007, 5, 20)),"semaine20",IF(A24<=(DATE(2007, 5, 27)),"semaine21",IF(A24<=(DATE(2007, 6, 3)),"semaine22",IF(A24<=(DATE(2007, 6, 10)),"semaine23",IF(A24<=(DATE(2007, 6, 17)),"semaine24",IF(A24<=(DATE(2007, 6, 24)),"semaine25",IF(A24<=(DATE(2007, 7, 1)),"semaine26",IF(A24<=(DATE(2007, 7, 8)),"semaine27",IF(A24<=(DATE(2007, 7, 15)),"semaine28",IF(A24<=(DATE(2007, 7, 22)),"semaine29",IF(A24<=(DATE(2007, 7, 29)),"semaine30",IF(A24<=(DATE(2007, 8, 5)),"semaine31",IF(A24<=(DATE(2007, 8, 12)),"semaine32",IF(A24<=(DATE(2007, 8, 19)),"semaine33",IF(A24<=(DATE(2007, 8, 26)),"semaine34",IF(A24<=(DATE(2007, 9, 2)),"semaine35",IF(A24<=(DATE(2007, 9, 9)),"semaine36",IF(A24<=(DATE(2007, 9, 16)),"semaine37",IF(A24<=(DATE(2007, 9, 23)),"semaine38",IF(A24<=(DATE(2007, 9, 30)),"semaine39",IF(A24<=(DATE(2007, 10, 7)),"semaine40",IF(A24<=(DATE(2007, 10, 14)),"semaine41",IF(A24<=(DATE(2007, 10, 21)),"semaine42",IF(A24<=(DATE(2007, 10, 28)),"semaine43",IF(A24<=(DATE(2007, 11, 4)),"semaine44",IF(A24<=(DATE(2007, 11, 11)),"semaine45",IF(A24<=(DATE(2007, 11, 18)),"semaine46",IF(A24<=(DATE(2007, 11, 25)),"semaine47",IF(A24<=(DATE(2007, 12, 2)),"semaine48",IF(A24<=(DATE(2007, 12, 9)),"semaine49",IF(A24<=(DATE(2007, 12, 16)),"semaine50",IF(A24<=(DATE(2007, 12, 23)),"semaine51",IF(A24<=(DATE(2007, 12, 30)),"semaine52",IF(A24<=(DATE(2007, 12, 31)),"semaine53",213))))))))))))))))))))))))))))))))))))))))))))))))))))) &" 2007" -> semaine22 2007 | D24: =RANDBETWEEN(2,40) -> 33 | E24: =RANDBETWEEN(100,400) -> 134
A25: =A24+7 -> 39239 | B25: =IF(A25<=(DATE(2007, 1, 7)),"semaine1",IF(A25<=(DATE(2007, 1, 14)),"semaine2",IF(A25<=(DATE(2007, 1, 21)),"semaine3",IF(A25<=(DATE(2007, 1, 28)),"semaine4",IF(A25<=(DATE(2007, 2, 4)),"semaine5",IF(A25<=(DATE(2007, 2,11)),"semaine6",IF(A25<=(DATE(2007, 2, 18)),"semaine7",IF(A25<=(DATE(2007, 2, 25)),"semaine8",IF(A25<=(DATE(2007, 3, 4)),"semaine9",IF(A25<=(DATE(2007, 3, 11)),"semaine10",IF(A25<=(DATE(2007, 3, 18)),"semaine11",IF(A25<=(DATE(2007, 3, 25)),"semaine12",IF(A25<=(DATE(2007, 4, 1)),"semaine13",IF(A25<=(DATE(2007, 4, 8)),"semaine14",IF(A25<=(DATE(2007, 4, 15)),"semaine15",IF(A25<=(DATE(2007, 4, 22)),"semaine16",IF(A25<=(DATE(2007, 4, 29)),"semaine17",IF(A25<=(DATE(2007, 5, 6)),"semaine18",IF(A25<=(DATE(2007, 5, 13)),"semaine19",IF(A25<=(DATE(2007, 5, 20)),"semaine20",IF(A25<=(DATE(2007, 5, 27)),"semaine21",IF(A25<=(DATE(2007, 6, 3)),"semaine22",IF(A25<=(DATE(2007, 6, 10)),"semaine23",IF(A25<=(DATE(2007, 6, 17)),"semaine24",IF(A25<=(DATE(2007, 6, 24)),"semaine25",IF(A25<=(DATE(2007, 7, 1)),"semaine26",IF(A25<=(DATE(2007, 7, 8)),"semaine27",IF(A25<=(DATE(2007, 7, 15)),"semaine28",IF(A25<=(DATE(2007, 7, 22)),"semaine29",IF(A25<=(DATE(2007, 7, 29)),"semaine30",IF(A25<=(DATE(2007, 8, 5)),"semaine31",IF(A25<=(DATE(2007, 8, 12)),"semaine32",IF(A25<=(DATE(2007, 8, 19)),"semaine33",IF(A25<=(DATE(2007, 8, 26)),"semaine34",IF(A25<=(DATE(2007, 9, 2)),"semaine35",IF(A25<=(DATE(2007, 9, 9)),"semaine36",IF(A25<=(DATE(2007, 9, 16)),"semaine37",IF(A25<=(DATE(2007, 9, 23)),"semaine38",IF(A25<=(DATE(2007, 9, 30)),"semaine39",IF(A25<=(DATE(2007, 10, 7)),"semaine40",IF(A25<=(DATE(2007, 10, 14)),"semaine41",IF(A25<=(DATE(2007, 10, 21)),"semaine42",IF(A25<=(DATE(2007, 10, 28)),"semaine43",IF(A25<=(DATE(2007, 11, 4)),"semaine44",IF(A25<=(DATE(2007, 11, 11)),"semaine45",IF(A25<=(DATE(2007, 11, 18)),"semaine46",IF(A25<=(DATE(2007, 11, 25)),"semaine47",IF(A25<=(DATE(2007, 12, 2)),"semaine48",IF(A25<=(DATE(2007, 12, 9)),"semaine49",IF(A25<=(DATE(2007, 12, 16)),"semaine50",IF(A25<=(DATE(2007, 12, 23)),"semaine51",IF(A25<=(DATE(2007, 12, 30)),"semaine52",IF(A25<=(DATE(2007, 12, 31)),"semaine53",213))))))))))))))))))))))))))))))))))))))))))))))))))))) &" 2007" -> semaine23 2007 | D25: =RANDBETWEEN(2,40) -> 15 | E25: =RANDBETWEEN(100,400) -> 167
A26: =A25+7 -> 39246 | B26: =IF(A26<=(DATE(2007, 1, 7)),"semaine1",IF(A26<=(DATE(2007, 1, 14)),"semaine2",IF(A26<=(DATE(2007, 1, 21)),"semaine3",IF(A26<=(DATE(2007, 1, 28)),"semaine4",IF(A26<=(DATE(2007, 2, 4)),"semaine5",IF(A26<=(DATE(2007, 2,11)),"semaine6",IF(A26<=(DATE(2007, 2, 18)),"semaine7",IF(A26<=(DATE(2007, 2, 25)),"semaine8",IF(A26<=(DATE(2007, 3, 4)),"semaine9",IF(A26<=(DATE(2007, 3, 11)),"semaine10",IF(A26<=(DATE(2007, 3, 18)),"semaine11",IF(A26<=(DATE(2007, 3, 25)),"semaine12",IF(A26<=(DATE(2007, 4, 1)),"semaine13",IF(A26<=(DATE(2007, 4, 8)),"semaine14",IF(A26<=(DATE(2007, 4, 15)),"semaine15",IF(A26<=(DATE(2007, 4, 22)),"semaine16",IF(A26<=(DATE(2007, 4, 29)),"semaine17",IF(A26<=(DATE(2007, 5, 6)),"semaine18",IF(A26<=(DATE(2007, 5, 13)),"semaine19",IF(A26<=(DATE(2007, 5, 20)),"semaine20",IF(A26<=(DATE(2007, 5, 27)),"semaine21",IF(A26<=(DATE(2007, 6, 3)),"semaine22",IF(A26<=(DATE(2007, 6, 10)),"semaine23",IF(A26<=(DATE(2007, 6, 17)),"semaine24",IF(A26<=(DATE(2007, 6, 24)),"semaine25",IF(A26<=(DATE(2007, 7, 1)),"semaine26",IF(A26<=(DATE(2007, 7, 8)),"semaine27",IF(A26<=(DATE(2007, 7, 15)),"semaine28",IF(A26<=(DATE(2007, 7, 22)),"semaine29",IF(A26<=(DATE(2007, 7, 29)),"semaine30",IF(A26<=(DATE(2007, 8, 5)),"semaine31",IF(A26<=(DATE(2007, 8, 12)),"semaine32",IF(A26<=(DATE(2007, 8, 19)),"semaine33",IF(A26<=(DATE(2007, 8, 26)),"semaine34",IF(A26<=(DATE(2007, 9, 2)),"semaine35",IF(A26<=(DATE(2007, 9, 9)),"semaine36",IF(A26<=(DATE(2007, 9, 16)),"semaine37",IF(A26<=(DATE(2007, 9, 23)),"semaine38",IF(A26<=(DATE(2007, 9, 30)),"semaine39",IF(A26<=(DATE(2007, 10, 7)),"semaine40",IF(A26<=(DATE(2007, 10, 14)),"semaine41",IF(A26<=(DATE(2007, 10, 21)),"semaine42",IF(A26<=(DATE(2007, 10, 28)),"semaine43",IF(A26<=(DATE(2007, 11, 4)),"semaine44",IF(A26<=(DATE(2007, 11, 11)),"semaine45",IF(A26<=(DATE(2007, 11, 18)),"semaine46",IF(A26<=(DATE(2007, 11, 25)),"semaine47",IF(A26<=(DATE(2007, 12, 2)),"semaine48",IF(A26<=(DATE(2007, 12, 9)),"semaine49",IF(A26<=(DATE(2007, 12, 16)),"semaine50",IF(A26<=(DATE(2007, 12, 23)),"semaine51",IF(A26<=(DATE(2007, 12, 30)),"semaine52",IF(A26<=(DATE(2007, 12, 31)),"semaine53",213))))))))))))))))))))))))))))))))))))))))))))))))))))) &" 2007" -> semaine24 2007 | D26: =RANDBETWEEN(2,40) -> 9 | E26: =RANDBETWEEN(100,400) -> 231
A27: =A26+7 -> 39253 | B27: =IF(A27<=(DATE(2007, 1, 7)),"semaine1",IF(A27<=(DATE(2007, 1, 14)),"semaine2",IF(A27<=(DATE(2007, 1, 21)),"semaine3",IF(A27<=(DATE(2007, 1, 28)),"semaine4",IF(A27<=(DATE(2007, 2, 4)),"semaine5",IF(A27<=(DATE(2007, 2,11)),"semaine6",IF(A27<=(DATE(2007, 2, 18)),"semaine7",IF(A27<=(DATE(2007, 2, 25)),"semaine8",IF(A27<=(DATE(2007, 3, 4)),"semaine9",IF(A27<=(DATE(2007, 3, 11)),"semaine10",IF(A27<=(DATE(2007, 3, 18)),"semaine11",IF(A27<=(DATE(2007, 3, 25)),"semaine12",IF(A27<=(DATE(2007, 4, 1)),"semaine13",IF(A27<=(DATE(2007, 4, 8)),"semaine14",IF(A27<=(DATE(2007, 4, 15)),"semaine15",IF(A27<=(DATE(2007, 4, 22)),"semaine16",IF(A27<=(DATE(2007, 4, 29)),"semaine17",IF(A27<=(DATE(2007, 5, 6)),"semaine18",IF(A27<=(DATE(2007, 5, 13)),"semaine19",IF(A27<=(DATE(2007, 5, 20)),"semaine20",IF(A27<=(DATE(2007, 5, 27)),"semaine21",IF(A27<=(DATE(2007, 6, 3)),"semaine22",IF(A27<=(DATE(2007, 6, 10)),"semaine23",IF(A27<=(DATE(2007, 6, 17)),"semaine24",IF(A27<=(DATE(2007, 6, 24)),"semaine25",IF(A27<=(DATE(2007, 7, 1)),"semaine26",IF(A27<=(DATE(2007, 7, 8)),"semaine27",IF(A27<=(DATE(2007, 7, 15)),"semaine28",IF(A27<=(DATE(2007, 7, 22)),"semaine29",IF(A27<=(DATE(2007, 7, 29)),"semaine30",IF(A27<=(DATE(2007, 8, 5)),"semaine31",IF(A27<=(DATE(2007, 8, 12)),"semaine32",IF(A27<=(DATE(2007, 8, 19)),"semaine33",IF(A27<=(DATE(2007, 8, 26)),"semaine34",IF(A27<=(DATE(2007, 9, 2)),"semaine35",IF(A27<=(DATE(2007, 9, 9)),"semaine36",IF(A27<=(DATE(2007, 9, 16)),"semaine37",IF(A27<=(DATE(2007, 9, 23)),"semaine38",IF(A27<=(DATE(2007, 9, 30)),"semaine39",IF(A27<=(DATE(2007, 10, 7)),"semaine40",IF(A27<=(DATE(2007, 10, 14)),"semaine41",IF(A27<=(DATE(2007, 10, 21)),"semaine42",IF(A27<=(DATE(2007, 10, 28)),"semaine43",IF(A27<=(DATE(2007, 11, 4)),"semaine44",IF(A27<=(DATE(2007, 11, 11)),"semaine45",IF(A27<=(DATE(2007, 11, 18)),"semaine46",IF(A27<=(DATE(2007, 11, 25)),"semaine47",IF(A27<=(DATE(2007, 12, 2)),"semaine48",IF(A27<=(DATE(2007, 12, 9)),"semaine49",IF(A27<=(DATE(2007, 12, 16)),"semaine50",IF(A27<=(DATE(2007, 12, 23)),"semaine51",IF(A27<=(DATE(2007, 12, 30)),"semaine52",IF(A27<=(DATE(2007, 12, 31)),"semaine53",213))))))))))))))))))))))))))))))))))))))))))))))))))))) &" 2007" -> semaine25 2007 | D27: =RANDBETWEEN(2,40) -> 18 | E27: =RANDBETWEEN(100,400) -> 255
... A472: =A471+7 -> 42368 | B472: =IF(A472<=(DATE(2007, 1, 7)),"semaine1",IF(A472<=(DATE(2007, 1, 14)),"semaine2",IF(A472<=(DATE(2007, 1, 21)),"semaine3",IF(A472<=(DATE(2007, 1, 28)),"semaine4",IF(A472<=(DATE(2007, 2, 4)),"semaine5",IF(A472<=(DATE(2007, 2,11)),"semaine6",IF(A472<=(DATE(2007, 2, 18)),"semaine7",IF(A472<=(DATE(2007, 2, 25)),"semaine8",IF(A472<=(DATE(2007, 3, 4)),"semaine9",IF(A472<=(DATE(2007, 3, 11)),"semaine10",IF(A472<=(DATE(2007, 3, 18)),"semaine11",IF(A472<=(DATE(2007, 3, 25)),"semaine12",IF(A472<=(DATE(2007, 4, 1)),"semaine13",IF(A472<=(DATE(2007, 4, 8)),"semaine14",IF(A472<=(DATE(2007, 4, 15)),"semaine15",IF(A472<=(DATE(2007, 4, 22)),"semaine16",IF(A472<=(DATE(2007, 4, 29)),"semaine17",IF(A472<=(DATE(2007, 5, 6)),"semaine18",IF(A472<=(DATE(2007, 5, 13)),"semaine19",IF(A472<=(DATE(2007, 5, 20)),"semaine20",IF(A472<=(DATE(2007, 5, 27)),"semaine21",IF(A472<=(DATE(2007, 6, 3)),"semaine22",IF(A472<=(DATE(2007, 6, 10)),"semaine23",IF(A472<=(DATE(2007, 6, 17)),"semaine24",IF(A472<=(DATE(2007, 6, 24)),"semaine25",IF(A472<=(DATE(2007, 7, 1)),"semaine26",IF(A472<=(DATE(2007, 7, 8)),"semaine27",IF(A472<=(DATE(2007, 7, 15)),"semaine28",IF(A472<=(DATE(2007, 7, 22)),"semaine29",IF(A472<=(DATE(2007, 7, 29)),"semaine30",IF(A472<=(DATE(2007, 8, 5)),"semaine31",IF(A472<=(DATE(2007, 8, 12)),"semaine32",IF(A472<=(DATE(2007, 8, 19)),"semaine33",IF(A472<=(DATE(2007, 8, 26)),"semaine34",IF(A472<=(DATE(2007, 9, 2)),"semaine35",IF(A472<=(DATE(2007, 9, 9)),"semaine36",IF(A472<=(DATE(2007, 9, 16)),"semaine37",IF(A472<=(DATE(2007, 9, 23)),"semaine38",IF(A472<=(DATE(2007, 9, 30)),"semaine39",IF(A472<=(DATE(2007, 10, 7)),"semaine40",IF(A472<=(DATE(2007, 10, 14)),"semaine41",IF(A472<=(DATE(2007, 10, 21)),"semaine42",IF(A472<=(DATE(2007, 10, 28)),"semaine43",IF(A472<=(DATE(2007, 11, 4)),"semaine44",IF(A472<=(DATE(2007, 11, 11)),"semaine45",IF(A472<=(DATE(2007, 11, 18)),"semaine46",IF(A472<=(DATE(2007, 11, 25)),"semaine47",IF(A472<=(DATE(2007, 12, 2)),"semaine48",IF(A472<=(DATE(2007, 12, 9)),"semaine49",IF(A472<=(DATE(2007, 12, 16)),"semaine50",IF(A472<=(DATE(2007, 12, 23)),"semaine51",IF(A472<=(DATE(2007, 12, 30)),"semaine52",IF(A472<=(DATE(2007, 12, 31)),"semaine53",213))))))))))))))))))))))))))))))))))))))))))))))))))))) &" 2007" -> 213 2007 | D472: =RANDBETWEEN(2,40) -> 12 | E472: =RANDBETWEEN(100,400) -> 121

Sheet Feuil2
A1: année | B1: 2007
C2: Hairon | D2: belleF
A3: ="semaine1 "& Feuil2!$B$1 -> semaine1 2007 | C3: =VLOOKUP(A3,Feuil1!B3:E472,3,0) -> 35 | D3: =VLOOKUP(A3,Feuil1!B3:E472,4,0) -> 267
A4: ="semaine2 "& Feuil2!$B$1 -> semaine2 2007 | C4: =VLOOKUP(A4,Feuil1!B4:E473,3,0) -> 21 | D4: =VLOOKUP(A4,Feuil1!B4:E473,4,0) -> 339
A5: ="semaine3 "& Feuil2!$B$1 -> semaine3 2007 | C5: =VLOOKUP(A5,Feuil1!B5:E474,3,0) -> 15 | D5: =VLOOKUP(A5,Feuil1!B5:E474,4,0) -> 150
A6: ="semaine4 "& Feuil2!$B$1 -> semaine4 2007 | C6: =VLOOKUP(A6,Feuil1!B6:E475,3,0) -> 35 | D6: =VLOOKUP(A6,Feuil1!B6:E475,4,0) -> 296
A7: ="semaine5 "& Feuil2!$B$1 -> semaine5 2007 | C7: =VLOOKUP(A7,Feuil1!B7:E476,3,0) -> 7 | D7: =VLOOKUP(A7,Feuil1!B7:E476,4,0) -> 200
