Workbook

Sheet Général
B2: mot de passe : | C2: azerty
B4: Il est mis en place pour éviter tout problème
B5: de fausse manipulation,
B6: il permet de modifier les formules
B7: et la mise en page.
B9: Pour déverrouiller une feuille:
B10: Clic doit sur l'onglet de la feuille -> Ôter la protection
B15: Les onglets " Données xx " contiennent les tableaux de valeures à saisir.
B16: Les onglets " Analyses xx " contiennent les exploitations des valeurs
B17: avec l'année séléctionnée, l' année précédente et les graphiques de suivi.
B19: ED: Eau Distribuée
B20: C-F: Captages – Forages

Sheet Données ED
B2: Données à compléter
B3: Les Pieux | K3: Grosville | T3: Teurthéville
B4: TAC | C4: TH | D4: pH | E4: Turbidité | F4: Nitrates | G4: Conductivité | H4: C org | I4: B 22°C/68h | J4: B 36°C/44h | K4: TAC | L4: TH | M4: pH | N4: Turbidité | O4: Nitrates | P4: Conductivité | Q4: C org | R4: B 22°C/68h | S4: B 36°C/44h | T4: TAC | U4: TH | V4: pH | W4: Turbidité | X4: Nitrates | Y4: Conductivité | Z4: C org | AA4: B 22°C/68h | AB4: B 36°C/44h
B5: (°F) | C5: (°F) | D5: 1 | E5: (NFU) | F5: (mg/L) | G5: (?S/cm) | H5: (mgC/L) | I5: (n/mL) | J5: (n/mL) | K5: (°F) | L5: (°F) | M5: 1 | N5: (NFU) | O5: (mg/L) | P5: (?S/cm) | Q5: (mgC/L) | R5: (n/mL) | S5: (n/mL) | T5: (°F) | U5: (°F) | V5: 1 | W5: (NFU) | X5: (mg/L) | Y5: (?S/cm) | Z5: (mgC/L) | AA5: (n/mL) | AB5: (n/mL)
A6: 39467 | B6: 10.55 | C6: 14 | D6: 7.8 | E6: 0.1 | F6: 17.1 | G6: 407.5 | H6: 0.35 | I6: 30 | J6: 35 | K6: 16 | L6: 20.4 | M6: 7.8 | N6: 0.15 | O6: 27.6 | P6: 470 | Q6: 0.5 | R6: 66 | S6: 0 | T6: 10.9 | U6: 13.9 | V6: 7.6 | W6: 0.2 | X6: 12.4 | Y6: 375 | Z6: 0.4 | AA6: 0 | AB6: 25
A7: =EDATE(A6, 1) -> 39498 | B7: 10.3 | C7: 13.2 | D7: 7.9 | E7: 0.2 | F7: 16.5 | G7: 405 | H7: x | I7: 1 | J7: 4 | K7: 14.35 | L7: 17.7 | M7: 7.35 | N7: 0.1 | O7: 26.1 | P7: 452.5 | Q7: 0.35 | R7: 3 | S7: 11 | T7: 10.1 | U7: 12.8 | V7: 7.6 | W7: 0.25 | X7: 11 | Y7: 365 | Z7: 0.3 | AA7: 0 | AB7: 13
A8: =EDATE(A7, 1) -> 39527 | B8: 9.7 | C8: 14.4 | D8: 8 | E8: 0.2 | F8: 17.9 | G8: 400 | H8: 0.3 | I8: 18 | J8: 7 | K8: 14.4 | L8: 18.4 | M8: 7.8 | N8: 0.1 | O8: 27.2 | P8: 455 | Q8: 0.5 | R8: 0 | S8: 1 | T8: 9.7 | U8: 14 | V8: 7.25 | W8: 0.15 | X8: 11.45 | Y8: 357.5 | Z8: 0.3 | AA8: 2 | AB8: 1
A9: =EDATE(A8, 1) -> 39558 | B9: 11.2 | C9: 13.7 | D9: 7.7 | E9: 0.35 | F9: 17.9 | G9: 425 | H9: 0.3 | I9: 0 | J9: 0 | K9: 17 | L9: 22.1 | M9: 7.6 | N9: 0.15 | O9: 27.2 | P9: 500 | Q9: 0.4 | R9: 0 | S9: 0 | T9: =NA() -> #N/A | U9: =NA() -> #N/A | V9: =NA() -> #N/A | W9: =NA() -> #N/A | X9: =NA() -> #N/A | Y9: =NA() -> #N/A | Z9: =NA() -> #N/A | AA9: =NA() -> #N/A | AB9: =NA() -> #N/A
A10: =EDATE(A9, 1) -> 39588 | B10: 10.5 | C10: 13.5 | D10: 7.8 | E10: 0.15 | F10: 17 | G10: 415 | H10: 0.4 | I10: 0 | J10: 0 | K10: 17.6 | L10: 21.5 | M10: 7.6 | N10: 0.15 | O10: 25.6 | P10: 515 | Q10: 0.5 | R10: 6 | S10: 1 | T10: 11.5 | U10: 13.7 | V10: 7.7 | W10: 0.1 | X10: 10.6 | Y10: 395 | Z10: 0.4 | AA10: 0 | AB10: 0
A11: =EDATE(A10, 1) -> 39619 | B11: 10.6 | C11: 13.5 | D11: 7.8 | E11: 0.1 | F11: 16.6 | G11: 405 | H11: 0.5 | I11: 6 | J11: 3 | K11: 17.2 | L11: 20.5 | M11: 7.4 | N11: 0.15 | O11: 29.4 | P11: 500 | Q11: 0.4 | R11: 0 | S11: 0 | T11: 12.1 | U11: 16.2 | V11: 7.6 | W11: 0.15 | X11: 10.5 | Y11: 395 | Z11: 0.4 | AA11: 180 | AB11: 300
A12: =EDATE(A11, 1) -> 39649 | B12: =NA() -> #N/A | C12: =NA() -> #N/A | D12: =NA() -> #N/A | E12: =NA() -> #N/A | F12: =NA() -> #N/A | G12: =NA() -> #N/A | H12: =NA() -> #N/A | I12: =NA() -> #N/A | J12: =NA() -> #N/A | K12: 16.15 | L12: 18.85 | M12: 7.63 | N12: 0.23 | O12: 28.2 | P12: 495 | Q12: 0.5 | R12: 0 | S12: 0 | T12: 10.6 | U12: 13 | V12: 7.4 | W12: 0.3 | X12: 12.9 | Y12: 370 | Z12: 0.5 | AA12: 0 | AB12: 1
A13: =EDATE(A12, 1) -> 39680 | B13: 10.7 | C13: 13.85 | D13: 7.675 | E13: 0.125 | F13: 18.5 | G13: 412.5 | H13: 0.35 | I13: 0.5 | J13: 0 | K13: 15.1 | L13: 18.6 | M13: 7.3 | N13: 0.1 | O13: 29.7 | P13: 475 | Q13: 0.5 | R13: 11 | S13: 14 | T13: 11.2 | U13: 14.3 | V13: 7.3 | W13: 0.1 | X13: 13.6 | Y13: 390 | Z13: 0.4 | AA13: 0 | AB13: 0
A14: =EDATE(A13, 1) -> 39711 | B14: 10.4 | C14: 13.3 | D14: 7.5 | E14: 0.5 | F14: 17.6 | G14: 405 | H14: 0.3 | I14: 0 | J14: 0 | K14: 16.8 | L14: 20.4 | M14: 7.55 | N14: 0.125 | O14: 28.75 | P14: 500 | Q14: 0.45 | R14: 2.5 | S14: 1 | T14: 10.4 | U14: 13.4 | V14: 7.5 | W14: 0.1 | X14: 13 | Y14: 375 | Z14: 0.3 | AA14: 1 | AB14: 2
A15: =EDATE(A14, 1) -> 39741 | B15: 10.6 | C15: 13.6 | D15: 7.8 | E15: 0.1 | F15: 15.9 | G15: 405 | H15: 0.4 | I15: 6 | J15: 0 | K15: =NA() -> #N/A | L15: =NA() -> #N/A | M15: =NA() -> #N/A | N15: =NA() -> #N/A | O15: =NA() -> #N/A | P15: =NA() -> #N/A | Q15: =NA() -> #N/A | R15: =NA() -> #N/A | S15: =NA() -> #N/A | T15: 11.3 | U15: 14.2 | V15: 7.7 | W15: 0.1 | X15: 11.5 | Y15: 390 | Z15: 0.3 | AA15: 0 | AB15: 2
A16: =EDATE(A15, 1) -> 39772 | B16: 10 | C16: 12.9 | D16: 8 | E16: 0.15 | F16: 17.8 | G16: 415 | H16: 0.3 | I16: 3 | J16: 2 | K16: 15.5 | L16: 18 | M16: 7.3 | N16: 0.1 | O16: 26.6 | P16: 480 | Q16: 0.5 | R16: 0 | S16: 0 | T16: =NA() -> #N/A | U16: =NA() -> #N/A | V16: =NA() -> #N/A | W16: =NA() -> #N/A | X16: =NA() -> #N/A | Y16: =NA() -> #N/A | Z16: =NA() -> #N/A | AA16: =NA() -> #N/A | AB16: =NA() -> #N/A
A17: =EDATE(A16, 1) -> 39802 | B17: 10.8 | C17: 14.4 | D17: 7.7 | E17: 0.125 | F17: 17.35 | G17: 422.5 | H17: 0.65 | I17: 0.5 | J17: 0 | K17: 17.9 | L17: 21.1 | M17: 7.475 | N17: 0.125 | O17: 25.5 | P17: 515 | Q17: 0.7 | R17: 0 | S17: 2.5 | T17: 10.5 | U17: 12.9 | V17: 7.7 | W17: 0.1 | X17: 10.8 | Y17: 375 | Z17: 0.5 | AA17: 0 | AB17: 0
A18: =EDATE(A17, 1) -> 39833 | B18: 10.1 | C18: 13.8 | D18: 7.9 | E18: 0.1 | F18: 17.8 | G18: 405 | H18: 0.3 | I18: 11 | J18: 7 | K18: 16.8 | L18: 20.1 | M18: 7.7 | N18: 0.15 | O18: 27 | P18: 495 | Q18: 0.4 | R18: 0 | S18: 0 | T18: 9.4 | U18: 12.2 | V18: 7.4 | W18: 0.1 | X18: 11.5 | Y18: 355 | Z18: 0.3 | AA18: 0 | AB18: 0
A19: =EDATE(A18, 1) -> 39864 | B19: 10.65 | C19: 14.35 | D19: 7.25 | E19: 0.1 | F19: 18.1 | G19: 420 | H19: 0.4 | I19: 0.5 | J19: 2.5 | K19: 17.05 | L19: 20.6 | M19: 7.525 | N19: 0.175 | O19: 26.15 | P19: 495 | Q19: 0.55 | R19: 1 | S19: 0 | T19: 11.35 | U19: 14.3 | V19: 7.45 | W19: 0.125 | X19: 11.9 | Y19: 390 | Z19: 0.4 | AA19: 0 | AB19: 0
A20: =EDATE(A19, 1) -> 39892 | B20: 10.4 | C20: 13.7 | D20: 7.85 | E20: 0.1 | F20: 18.9 | G20: 415 | H20: 0.4 | I20: 0 | J20: 0 | K20: 16.1 | L20: 21.1 | M20: 7.75 | N20: 0.1 | O20: 27.6 | P20: 490 | Q20: 0.5 | R20: 2 | S20: 0 | T20: 12.7 | U20: 15.4 | V20: 7.9 | W20: 0.15 | X20: 12.5 | Y20: 410 | Z20: 0.5 | AA20: 0 | AB20: 0
A21: =EDATE(A20, 1) -> 39923 | B21: 10.6 | C21: 14.05 | D21: 7.7 | E21: 0.125 | F21: 19.5 | G21: 422.5 | H21: 0.3 | I21: 21 | J21: 2.5 | K21: 15.4 | L21: 19.05 | M21: 7.625 | N21: 0.125 | O21: 29.05 | P21: 480 | Q21: 0.4 | R21: 0 | S21: 1 | T21: 10.4 | U21: 13 | V21: 7.5 | W21: 0.15 | X21: 13.1 | Y21: 380 | Z21: 0.3 | AA21: 0 | AB21: 0
A22: =EDATE(A21, 1) -> 39953 | B22: 13 | C22: 15.8 | D22: 7.7 | E22: 0.2 | F22: 21 | G22: 450 | H22: 0.4 | I22: 2 | J22: 2 | K22: 17.9 | L22: 21.5 | M22: 7.8 | N22: 0.2 | O22: 27.6 | P22: 515 | Q22: 0.5 | R22: 1 | S22: 1 | T22: 12.3 | U22: 14.9 | V22: 7.6 | W22: 0.25 | X22: 12.5 | Y22: 400 | Z22: 0.4 | AA22: 0 | AB22: 0
A23: =EDATE(A22, 1) -> 39984 | B23: 10.6 | C23: 14.2 | D23: 7.8 | E23: 7.9 | F23: 15 | G23: 420 | H23: 0.3 | I23: 0 | J23: 0 | K23: 17 | L23: 21.4 | M23: 7.75 | N23: 0.15 | O23: 27.6 | P23: 505 | Q23: 0.4 | R23: 1 | S23: 0 | T23: 13.4 | U23: 15.6 | V23: 8 | W23: 0.2 | X23: 12 | Y23: 425 | Z23: 0.5 | AA23: 0 | AB23: 0
A24: =EDATE(A23, 1) -> 40014 | B24: 10.8 | C24: 13.3 | D24: 7.6 | E24: 0.2 | F24: 17.8 | G24: 415 | H24: 0.5 | I24: 0 | J24: 0 | K24: 17.9 | L24: 20.1 | M24: 7.7 | N24: 0.2 | O24: 27.6 | P24: 520 | Q24: 0.6 | R24: 0 | S24: 0 | T24: 11.7 | U24: 13.6 | V24: 7.5 | W24: 0.15 | X24: 13.2 | Y24: 400 | Z24: 0.4 | AA24: 0 | AB24: 0
A25: =EDATE(A24, 1) -> 40045 | B25: 11.2 | C25: 14.7 | D25: 7.75 | E25: 0.1 | F25: 18.3 | G25: 420 | H25: 0.4 | I25: 6 | J25: 10 | K25: 16.7 | L25: 21.7 | M25: 7.7 | N25: 0.2 | O25: 28.7 | P25: 500 | Q25: 0.3 | R25: 0 | S25: 0 | T25: 12.3 | U25: 15.6 | V25: 7.7 | W25: 0.1 | X25: 13.7 | Y25: 410 | Z25: 0.3 | AA25: 1 | AB25: 0
A26: =EDATE(A25, 1) -> 40076 | B26: 10.95 | C26: 14.25 | D26: 7.8 | E26: 0.125 | F26: 18.05 | G26: 417.5 | H26: 0.35 | I26: 2.5 | J26: 3 | K26: 17.15 | L26: 21.1 | M26: 7.6 | N26: 0.175 | O26: 28.3 | P26: 505 | Q26: 0.4 | R26: 0 | S26: 0 | T26: 12.1 | U26: 14.9 | V26: 7.8 | W26: 0.1 | X26: 13.6 | Y26: 405 | Z26: 0.3 | AA26: 0 | AB26: 2
A27: =EDATE(A26, 1) -> 40106 | B27: 11.2 | C27: 14 | D27: 7.7 | E27: 0.1 | F27: 17.6 | G27: 415 | H27: 0.3 | I27: 0 | J27: 0 | K27: =NA() -> #N/A | L27: =NA() -> #N/A | M27: =NA() -> #N/A | N27: =NA() -> #N/A | O27: =NA() -> #N/A | P27: =NA() -> #N/A | Q27: =NA() -> #N/A | R27: =NA() -> #N/A | S27: =NA() -> #N/A | T27: 11.3 | U27: 13.9 | V27: 7.6 | W27: 0.1 | X27: 13.5 | Y27: 390 | Z27: 0.4 | AA27: 1 | AB27: 3
A28: =EDATE(A27, 1) -> 40137 | B28: 10.05 | C28: 14 | D28: 7.8 | E28: 0.2 | F28: 18.2 | G28: 397.5 | H28: 0.35 | I28: 10 | J28: 0 | K28: 17.5 | L28: 21.15 | M28: 7.6 | N28: 0.2 | O28: 28.85 | P28: 515 | Q28: 0.55 | R28: 0 | S28: 0 | T28: 10.65 | U28: 14.55 | V28: 7.35 | W28: 0.125 | X28: 13.4 | Y28: 382.5 | Z28: 0.35 | AA28: 13.5 | AB28: 15.5
A29: =EDATE(A28, 1) -> 40167 | B29: 10.1 | C29: 13.1 | D29: 8 | E29: 0.25 | F29: 18.1 | G29: 395 | H29: 0.4 | I29: 0 | J29: 0 | K29: =NA() -> #N/A | L29: =NA() -> #N/A | M29: =NA() -> #N/A | N29: =NA() -> #N/A | O29: =NA() -> #N/A | P29: =NA() -> #N/A | Q29: =NA() -> #N/A | R29: =NA() -> #N/A | ... AB29: =NA() -> #N/A
A30: =EDATE(A29, 1) -> 40198 | B30: 10.9 | C30: 13.4 | D30: 8 | E30: 0.1 | F30: 27.9 | G30: 405 | H30: 0.6 | I30: 0 | J30: 3 | K30: 14.4 | L30: 17.2 | M30: 7.55 | N30: 0.1 | O30: 16.6 | P30: 455 | Q30: 0.6 | R30: 0 | S30: 4 | T30: 11.6 | U30: 13.7 | V30: 7.9 | W30: 0.125 | X30: 15.35 | Y30: 387.5 | Z30: 0.35 | AA30: 1 | AB30: 1.5
A31: =EDATE(A30, 1) -> 40229 | B31: 10.5 | C31: 12.9 | D31: 8.1 | E31: 0.1 | F31: 19 | G31: 395 | H31: 0.3 | I31: 2 | J31: 1 | K31: 16.9 | L31: 18.3 | M31: 7.85 | N31: 0.15 | O31: 28.9 | P31: 480 | Q31: 0.4 | R31: 0 | S31: 3 | T31: =NA() -> #N/A | U31: =NA() -> #N/A | V31: =NA() -> #N/A | W31: =NA() -> #N/A | X31: =NA() -> #N/A | Y31: =NA() -> #N/A | Z31: =NA() -> #N/A | AA31: =NA() -> #N/A | AB31: =NA() -> #N/A
A32: =EDATE(A31, 1) -> 40257 | B32: 10.65 | C32: 13.1 | D32: 7.85 | E32: 0.125 | F32: 19.55 | G32: 410 | H32: 0.3 | I32: 0.5 | J32: 0.5 | K32: 18.15 | L32: 20.95 | M32: 7.75 | N32: 0.2 | O32: 28.5 | P32: 517.5 | Q32: 0.5 | R32: 1 | S32: 1 | T32: 11.85 | U32: 12.5 | V32: 7.7 | W32: 0.125 | X32: 12.7 | Y32: 395 | Z32: 0.3 | AA32: 0 | AB32: 0
A33: =EDATE(A32, 1) -> 40288 | B33: 10.8 | C33: 13.6 | D33: 7.825 | E33: 0.1 | F33: 17.8 | G33: 410 | H33: 0.3 | I33: 2.5 | J33: 4 | K33: 17.95 | L33: 20.2 | M33: 7.925 | N33: 0.15 | O33: 27.65 | P33: 520 | Q33: 0.45 | R33: 0.5 | S33: 0.5 | T33: 12.2 | U33: 14.5 | V33: 8 | W33: 0.1 | X33: 11.2 | Y33: 400 | Z33: 0.3 | AA33: 20 | AB33: 22
A34: =EDATE(A33, 1) -> 40318 | B34: 11.4 | C34: 14.2 | D34: 7.95 | E34: 0.1 | F34: 19.1 | G34: 420 | H34: 0.5 | I34: 0 | J34: 0 | K34: 17.9 | L34: 20 | M34: 7.6 | N34: 0.4 | O34: 26.8 | P34: 520 | Q34: 0.4 | R34: 0 | S34: 0 | T34: 12 | U34: 14.7 | V34: 7.9 | W34: 0.1 | X34: 12.7 | Y34: 400 | Z34: 0.5 | AA34: 0 | AB34: 0
A35: =EDATE(A34, 1) -> 40349 | B35: 11.8 | C35: 14.6 | D35: 8 | E35: 0.1 | F35: 18.7 | G35: 435 | H35: 0.4 | I35: 0 | J35: 0 | K35: 18.4 | L35: 21 | M35: 7.9 | N35: 0.2 | O35: 26.4 | P35: 540 | Q35: 0.4 | R35: 0 | S35: 32 | T35: 13.2 | U35: 15.6 | V35: 8.1 | W35: 0.1 | X35: 12 | Y35: 430 | Z35: 0.3 | AA35: 0 | AB35: 2
A36: =EDATE(A35, 1) -> 40379 | B36: 10.95 | C36: 12.6 | D36: 7.875 | E36: 0.1 | F36: 18.55 | G36: 415 | H36: 0.5 | I36: 0 | J36: 3.5 | K36: 16.4 | L36: 18.7 | M36: 7.675 | N36: 0.175 | O36: 28.35 | P36: 497.5 | Q36: 0.5 | R36: 0 | S36: 0 | T36: 13.2 | U36: 14.5 | V36: 8.1 | W36: 0.15 | X36: 13 | Y36: 425 | Z36: 0.5 | AA36: 0 | AB36: 2
A37: =EDATE(A36, 1) -> 40410 | B37: 11.2 | C37: 13.7 | D37: 7.9 | E37: 0.1 | F37: 18.4 | G37: 415 | H37: 0.5 | I37: 0 | J37: 1 | K37: 19.1 | L37: 21.5 | M37: 7.95 | N37: 0.2 | O37: 27.1 | P37: 535 | Q37: 0.4 | R37: 0 | S37: 87 | T37: 12 | U37: 14.4 | V37: 7.8 | W37: 0.1 | X37: 12.9 | Y37: 400 | Z37: 0.3 | AA37: 0 | AB37: 0
A38: =EDATE(A37, 1) -> 40441 | B38: 11.05 | C38: 13.35 | D38: 7.775 | E38: 0.1 | F38: 17.45 | G38: 410 | H38: 0.25 | I38: 4.5 | J38: 5 | K38: 17.45 | L38: 18.65 | M38: 7.85 | N38: 0.9975 | O38: 23.15 | P38: 505 | Q38: 0.35 | R38: 0 | S38: 15 | T38: 11.5 | U38: 13.4 | V38: 7.48 | W38: 0.1 | X38: 12.87 | Y38: 390 | Z38: 0.3 | AA38: 2.33 | AB38: 4.67
A39: =EDATE(A38, 1) -> 40471 | B39: 11 | C39: 13.3 | D39: 8.05 | E39: 0.2 | F39: 17.7 | G39: 405 | H39: 0.5 | I39: 89 | J39: 13 | K39: =NA() -> #N/A | L39: =NA() -> #N/A | M39: =NA() -> #N/A | N39: =NA() -> #N/A | O39: =NA() -> #N/A | P39: =NA() -> #N/A | Q39: =NA() -> #N/A | R39: =NA() -> #N/A | ... AB39: =NA() -> #N/A
A40: =EDATE(A39, 1) -> 40502 | B40: =NA() -> #N/A | C40: =NA() -> #N/A | D40: =NA() -> #N/A | E40: =NA() -> #N/A | F40: =NA() -> #N/A | G40: =NA() -> #N/A | H40: =NA() -> #N/A | I40: =NA() -> #N/A | ... S40: =NA() -> #N/A | T40: 12.6 | U40: 14.5 | V40: 7.9 | W40: 0.1 | X40: 12.9 | Y40: 390 | Z40: 0.4 | AA40: 2 | AB40: 14
A41: =EDATE(A40, 1) -> 40532 | B41: =NA() -> #N/A | C41: =NA() -> #N/A | D41: =NA() -> #N/A | E41: =NA() -> #N/A | F41: =NA() -> #N/A | G41: =NA() -> #N/A | H41: =NA() -> #N/A | I41: =NA() -> #N/A | ... AB41: =NA() -> #N/A
A42: =EDATE(A41, 1) -> 40563
A43: =EDATE(A42, 1) -> 40594
A44: =EDATE(A43, 1) -> 40622
A45: =EDATE(A44, 1) -> 40653
A46: =EDATE(A45, 1) -> 40683
A47: =EDATE(A46, 1) -> 40714
A48: =EDATE(A47, 1) -> 40744
A49: =EDATE(A48, 1) -> 40775
A50: =EDATE(A49, 1) -> 40806
A51: =EDATE(A50, 1) -> 40836
A52: =EDATE(A51, 1) -> 40867
A53: =EDATE(A52, 1) -> 40897
... A101: =EDATE(A100, 1) -> 42358

Sheet Analyses ED
B1: Séléctionner une année: | J1: 2010
B2: ="Analyses " &J1 -> Analyses 2010
B3: Les Pieux | K3: Grosville | T3: Teurthéville | AC3: GLOBAL | AM3: =B4& " Année précédente " -> TAC Année précédente
B4: TAC | C4: TH | D4: pH | E4: Turbidité | F4: Nitrates | G4: Conductivité | H4: C org | I4: B 22°C/68h | J4: B 36°C/44h | K4: TAC | L4: TH | M4: pH | N4: Turbidité | O4: Nitrates | P4: Conductivité | Q4: C org | R4: B 22°C/68h | S4: B 36°C/44h | T4: TAC | U4: TH | V4: pH | W4: Turbidité | X4: Nitrates | Y4: Conductivité | Z4: C org | AA4: B 22°C/68h | AB4: B 36°C/44h | AC4: TAC | AD4: TH | AE4: pH | AF4: Turbidité | AG4: Nitrates | AH4: Conductivité | AI4: C org | AJ4: B 22°C/68h | AK4: B 36°C/44h
B5: (°F) | C5: (°F) | D5: 1 | E5: (NFU) | F5: (mg/L) | G5: (?S/cm) | H5: (mgC/L) | I5: (n/mL) | J5: (n/mL) | K5: (°F) | L5: (°F) | M5: 1 | N5: (NFU) | O5: (mg/L) | P5: (?S/cm) | Q5: (mgC/L) | R5: (n/mL) | S5: (n/mL) | T5: (°F) | U5: (°F) | V5: 1 | W5: (NFU) | X5: (mg/L) | Y5: (?S/cm) | Z5: (mgC/L) | AA5: (n/mL) | AB5: (n/mL) | AC5: (°F) | AD5: (°F) | AE5: 1 | AF5: (NFU) | AG5: (mg/L) | AH5: (?S/cm) | AI5: (mgC/L) | AJ5: (n/mL) | AK5: (n/mL) | AM5: Les pieux année précédente
A6: =DATE(J1, 1, 20) -> 40198 | B6: =VLOOKUP(A6,'Données ED'!$A$6:$AB$101,2,0) -> 10.9 | C6: =VLOOKUP(A6,'Données ED'!$A$6:$AB$101,3,0) -> 13.4 | D6: =VLOOKUP(A6,'Données ED'!$A$6:$AB$101,4,0) -> 8 | E6: =VLOOKUP(A6,'Données ED'!$A$6:$AB$101,5,0) -> 0.1 | F6: =VLOOKUP(A6,'Données ED'!$A$6:$AB$101,6,0) -> 27.9 | G6: =VLOOKUP(A6,'Données ED'!$A$6:$AB$101,7,0) -> 405 | H6: =VLOOKUP(A6,'Données ED'!$A$6:$AB$101,8,0) -> 0.6 | I6: =VLOOKUP(A6,'Données ED'!$A$6:$AB$101,9,0) -> 0 | J6: =VLOOKUP(A6,'Données ED'!$A$6:$AB$101,10,0) -> 3 | K6: =VLOOKUP(A6,'Données ED'!$A$6:$AB$101,11,0) -> 14.4 | L6: =VLOOKUP(A6,'Données ED'!$A$6:$AB$101,12,0) -> 17.2 | M6: =VLOOKUP(A6,'Données ED'!$A$6:$AB$101,13,0) -> 7.55 | N6: =VLOOKUP(A6,'Données ED'!$A$6:$AB$101,14,0) -> 0.1 | O6: =VLOOKUP(A6,'Données ED'!$A$6:$AB$101,15,0) -> 16.6 | P6: =VLOOKUP(A6,'Données ED'!$A$6:$AB$101,16,0) -> 455 | Q6: =VLOOKUP(A6,'Données ED'!$A$6:$AB$101,17,0) -> 0.6 | R6: =VLOOKUP(A6,'Données ED'!$A$6:$AB$101,18,0) -> 0 | S6: =VLOOKUP(A6,'Données ED'!$A$6:$AB$101,19,0) -> 4 | T6: =VLOOKUP(A6,'Données ED'!$A$6:$AB$101,20,0) -> 11.6 | U6: =VLOOKUP(A6,'Données ED'!$A$6:$AB$101,21,0) -> 13.7 | V6: =VLOOKUP(A6,'Données ED'!$A$6:$AB$101,22,0) -> 7.9 | W6: =VLOOKUP(A6,'Données ED'!$A$6:$AB$101,23,0) -> 0.125 | X6: =VLOOKUP(A6,'Données ED'!$A$6:$AB$101,24,0) -> 15.35 | Y6: =VLOOKUP(A6,'Données ED'!$A$6:$AB$101,25,0) -> 387.5 | Z6: =VLOOKUP(A6,'Données ED'!$A$6:$AB$101,26,0) -> 0.35 | AA6: =VLOOKUP(A6,'Données ED'!$A$6:$AB$101,27,0) -> 1 | AB6: =VLOOKUP(A6,'Données ED'!$A$6:$AB$101,28,0) -> 1.5 | AC6: =AVERAGE(B6,K6,T6) -> 12.3 | AD6: =AVERAGE(C6,L6,U6) -> 14.766667 | AE6: =AVERAGE(D6,M6,V6) -> 7.8166667 | AF6: =AVERAGE(E6,N6,W6) -> 0.10833333 | AG6: =AVERAGE(F6,O6,X6) -> 19.95 | AH6: =AVERAGE(G6,P6,Y6) -> 415.83333 | AI6: =AVERAGE(H6,Q6,Z6) -> 0.51666667 | AJ6: =AVERAGE(I6,R6,AA6) -> 0.33333333 | AK6: =AVERAGE(J6,S6,AB6) -> 2.8333333 | AM6: =D4& " Année précédente " -> pH Année précédente
A7: =EDATE(A6, 1) -> 40229 | B7: =VLOOKUP(A7,'Données ED'!$A$6:$AB$101,2,0) -> 10.5 | C7: =VLOOKUP(A7,'Données ED'!$A$6:$AB$101,3,0) -> 12.9 | D7: =VLOOKUP(A7,'Données ED'!$A$6:$AB$101,4,0) -> 8.1 | E7: =VLOOKUP(A7,'Données ED'!$A$6:$AB$101,5,0) -> 0.1 | F7: =VLOOKUP(A7,'Données ED'!$A$6:$AB$101,6,0) -> 19 | G7: =VLOOKUP(A7,'Données ED'!$A$6:$AB$101,7,0) -> 395 | H7: =VLOOKUP(A7,'Données ED'!$A$6:$AB$101,8,0) -> 0.3 | I7: =VLOOKUP(A7,'Données ED'!$A$6:$AB$101,9,0) -> 2 | J7: =VLOOKUP(A7,'Données ED'!$A$6:$AB$101,10,0) -> 1 | K7: =VLOOKUP(A7,'Données ED'!$A$6:$AB$101,11,0) -> 16.9 | L7: =VLOOKUP(A7,'Données ED'!$A$6:$AB$101,12,0) -> 18.3 | M7: =VLOOKUP(A7,'Données ED'!$A$6:$AB$101,13,0) -> 7.85 | N7: =VLOOKUP(A7,'Données ED'!$A$6:$AB$101,14,0) -> 0.15 | O7: =VLOOKUP(A7,'Données ED'!$A$6:$AB$101,15,0) -> 28.9 | P7: =VLOOKUP(A7,'Données ED'!$A$6:$AB$101,16,0) -> 480 | Q7: =VLOOKUP(A7,'Données ED'!$A$6:$AB$101,17,0) -> 0.4 | R7: =VLOOKUP(A7,'Données ED'!$A$6:$AB$101,18,0) -> 0 | S7: =VLOOKUP(A7,'Données ED'!$A$6:$AB$101,19,0) -> 3 | T7: =VLOOKUP(A7,'Données ED'!$A$6:$AB$101,20,0) -> #N/A | U7: =VLOOKUP(A7,'Données ED'!$A$6:$AB$101,21,0) -> #N/A | V7: =VLOOKUP(A7,'Données ED'!$A$6:$AB$101,22,0) -> #N/A | W7: =VLOOKUP(A7,'Données ED'!$A$6:$AB$101,23,0) -> #N/A | X7: =VLOOKUP(A7,'Données ED'!$A$6:$AB$101,24,0) -> #N/A | Y7: =VLOOKUP(A7,'Données ED'!$A$6:$AB$101,25,0) -> #N/A | Z7: =VLOOKUP(A7,'Données ED'!$A$6:$AB$101,26,0) -> #N/A | AA7: =VLOOKUP(A7,'Données ED'!$A$6:$AB$101,27,0) -> #N/A | AB7: =VLOOKUP(A7,'Données ED'!$A$6:$AB$101,28,0) -> #N/A | AC7: =AVERAGE(B7,K7,T7) -> #N/A | AD7: =AVERAGE(C7,L7,U7) -> #N/A | AE7: =AVERAGE(D7,M7,V7) -> #N/A | AF7: =AVERAGE(E7,N7,W7) -> #N/A | AG7: =AVERAGE(F7,O7,X7) -> #N/A | AH7: =AVERAGE(G7,P7,Y7) -> #N/A | AI7: =AVERAGE(H7,Q7,Z7) -> #N/A | AJ7: =AVERAGE(I7,R7,AA7) -> #N/A | AK7: =AVERAGE(J7,S7,AB7) -> #N/A | AM7: =G4& " Année précédente " -> Conductivité Année précédente
A8: =EDATE(A7, 1) -> 40257 | B8: =VLOOKUP(A8,'Données ED'!$A$6:$AB$101,2,0) -> 10.65 | C8: =VLOOKUP(A8,'Données ED'!$A$6:$AB$101,3,0) -> 13.1 | D8: =VLOOKUP(A8,'Données ED'!$A$6:$AB$101,4,0) -> 7.85 | E8: =VLOOKUP(A8,'Données ED'!$A$6:$AB$101,5,0) -> 0.125 | F8: =VLOOKUP(A8,'Données ED'!$A$6:$AB$101,6,0) -> 19.55 | G8: =VLOOKUP(A8,'Données ED'!$A$6:$AB$101,7,0) -> 410 | H8: =VLOOKUP(A8,'Données ED'!$A$6:$AB$101,8,0) -> 0.3 | I8: =VLOOKUP(A8,'Données ED'!$A$6:$AB$101,9,0) -> 0.5 | J8: =VLOOKUP(A8,'Données ED'!$A$6:$AB$101,10,0) -> 0.5 | K8: =VLOOKUP(A8,'Données ED'!$A$6:$AB$101,11,0) -> 18.15 | L8: =VLOOKUP(A8,'Données ED'!$A$6:$AB$101,12,0) -> 20.95 | M8: =VLOOKUP(A8,'Données ED'!$A$6:$AB$101,13,0) -> 7.75 | N8: =VLOOKUP(A8,'Données ED'!$A$6:$AB$101,14,0) -> 0.2 | O8: =VLOOKUP(A8,'Données ED'!$A$6:$AB$101,15,0) -> 28.5 | P8: =VLOOKUP(A8,'Données ED'!$A$6:$AB$101,16,0) -> 517.5 | Q8: =VLOOKUP(A8,'Données ED'!$A$6:$AB$101,17,0) -> 0.5 | R8: =VLOOKUP(A8,'Données ED'!$A$6:$AB$101,18,0) -> 1 | S8: =VLOOKUP(A8,'Données ED'!$A$6:$AB$101,19,0) -> 1 | T8: =VLOOKUP(A8,'Données ED'!$A$6:$AB$101,20,0) -> 11.85 | U8: =VLOOKUP(A8,'Données ED'!$A$6:$AB$101,21,0) -> 12.5 | V8: =VLOOKUP(A8,'Données ED'!$A$6:$AB$101,22,0) -> 7.7 | W8: =VLOOKUP(A8,'Données ED'!$A$6:$AB$101,23,0) -> 0.125 | X8: =VLOOKUP(A8,'Données ED'!$A$6:$AB$101,24,0) -> 12.7 | Y8: =VLOOKUP(A8,'Données ED'!$A$6:$AB$101,25,0) -> 395 | Z8: =VLOOKUP(A8,'Données ED'!$A$6:$AB$101,26,0) -> 0.3 | AA8: =VLOOKUP(A8,'Données ED'!$A$6:$AB$101,27,0) -> 0 | AB8: =VLOOKUP(A8,'Données ED'!$A$6:$AB$101,28,0) -> 0 | AC8: =AVERAGE(B8,K8,T8) -> 13.55 | AD8: =AVERAGE(C8,L8,U8) -> 15.516667 | AE8: =AVERAGE(D8,M8,V8) -> 7.7666667 | AF8: =AVERAGE(E8,N8,W8) -> 0.15 | AG8: =AVERAGE(F8,O8,X8) -> 20.25 | AH8: =AVERAGE(G8,P8,Y8) -> 440.83333 | AI8: =AVERAGE(H8,Q8,Z8) -> 0.36666667 | AJ8: =AVERAGE(I8,R8,AA8) -> 0.5 | AK8: =AVERAGE(J8,S8,AB8) -> 0.5 | AM8: =C4& " Année précédente " -> TH Année précédente
A9: =EDATE(A8, 1) -> 40288 | B9: =VLOOKUP(A9,'Données ED'!$A$6:$AB$101,2,0) -> 10.8 | C9: =VLOOKUP(A9,'Données ED'!$A$6:$AB$101,3,0) -> 13.6 | D9: =VLOOKUP(A9,'Données ED'!$A$6:$AB$101,4,0) -> 7.825 | E9: =VLOOKUP(A9,'Données ED'!$A$6:$AB$101,5,0) -> 0.1 | F9: =VLOOKUP(A9,'Données ED'!$A$6:$AB$101,6,0) -> 17.8 | G9: =VLOOKUP(A9,'Données ED'!$A$6:$AB$101,7,0) -> 410 | H9: =VLOOKUP(A9,'Données ED'!$A$6:$AB$101,8,0) -> 0.3 | I9: =VLOOKUP(A9,'Données ED'!$A$6:$AB$101,9,0) -> 2.5 | J9: =VLOOKUP(A9,'Données ED'!$A$6:$AB$101,10,0) -> 4 | K9: =VLOOKUP(A9,'Données ED'!$A$6:$AB$101,11,0) -> 17.95 | L9: =VLOOKUP(A9,'Données ED'!$A$6:$AB$101,12,0) -> 20.2 | M9: =VLOOKUP(A9,'Données ED'!$A$6:$AB$101,13,0) -> 7.925 | N9: =VLOOKUP(A9,'Données ED'!$A$6:$AB$101,14,0) -> 0.15 | O9: =VLOOKUP(A9,'Données ED'!$A$6:$AB$101,15,0) -> 27.65 | P9: =VLOOKUP(A9,'Données ED'!$A$6:$AB$101,16,0) -> 520 | Q9: =VLOOKUP(A9,'Données ED'!$A$6:$AB$101,17,0) -> 0.45 | R9: =VLOOKUP(A9,'Données ED'!$A$6:$AB$101,18,0) -> 0.5 | S9: =VLOOKUP(A9,'Données ED'!$A$6:$AB$101,19,0) -> 0.5 | T9: =VLOOKUP(A9,'Données ED'!$A$6:$AB$101,20,0) -> 12.2 | U9: =VLOOKUP(A9,'Données ED'!$A$6:$AB$101,21,0) -> 14.5 | V9: =VLOOKUP(A9,'Données ED'!$A$6:$AB$101,22,0) -> 8 | W9: =VLOOKUP(A9,'Données ED'!$A$6:$AB$101,23,0) -> 0.1 | X9: =VLOOKUP(A9,'Données ED'!$A$6:$AB$101,24,0) -> 11.2 | Y9: =VLOOKUP(A9,'Données ED'!$A$6:$AB$101,25,0) -> 400 | Z9: =VLOOKUP(A9,'Données ED'!$A$6:$AB$101,26,0) -> 0.3 | AA9: =VLOOKUP(A9,'Données ED'!$A$6:$AB$101,27,0) -> 20 | AB9: =VLOOKUP(A9,'Données ED'!$A$6:$AB$101,28,0) -> 22 | AC9: =AVERAGE(B9,K9,T9) -> 13.65 | AD9: =AVERAGE(C9,L9,U9) -> 16.1 | AE9: =AVERAGE(D9,M9,V9) -> 7.9166667 | AF9: =AVERAGE(E9,N9,W9) -> 0.11666667 | AG9: =AVERAGE(F9,O9,X9) -> 18.883333 | AH9: =AVERAGE(G9,P9,Y9) -> 443.33333 | AI9: =AVERAGE(H9,Q9,Z9) -> 0.35 | AJ9: =AVERAGE(I9,R9,AA9) -> 7.6666667 | AK9: =AVERAGE(J9,S9,AB9) -> 8.8333333
A10: =EDATE(A9, 1) -> 40318 | B10: =VLOOKUP(A10,'Données ED'!$A$6:$AB$101,2,0) -> 11.4 | C10: =VLOOKUP(A10,'Données ED'!$A$6:$AB$101,3,0) -> 14.2 | D10: =VLOOKUP(A10,'Données ED'!$A$6:$AB$101,4,0) -> 7.95 | E10: =VLOOKUP(A10,'Données ED'!$A$6:$AB$101,5,0) -> 0.1 | F10: =VLOOKUP(A10,'Données ED'!$A$6:$AB$101,6,0) -> 19.1 | G10: =VLOOKUP(A10,'Données ED'!$A$6:$AB$101,7,0) -> 420 | H10: =VLOOKUP(A10,'Données ED'!$A$6:$AB$101,8,0) -> 0.5 | I10: =VLOOKUP(A10,'Données ED'!$A$6:$AB$101,9,0) -> 0 | J10: =VLOOKUP(A10,'Données ED'!$A$6:$AB$101,10,0) -> 0 | K10: =VLOOKUP(A10,'Données ED'!$A$6:$AB$101,11,0) -> 17.9 | L10: =VLOOKUP(A10,'Données ED'!$A$6:$AB$101,12,0) -> 20 | M10: =VLOOKUP(A10,'Données ED'!$A$6:$AB$101,13,0) -> 7.6 | N10: =VLOOKUP(A10,'Données ED'!$A$6:$AB$101,14,0) -> 0.4 | O10: =VLOOKUP(A10,'Données ED'!$A$6:$AB$101,15,0) -> 26.8 | P10: =VLOOKUP(A10,'Données ED'!$A$6:$AB$101,16,0) -> 520 | Q10: =VLOOKUP(A10,'Données ED'!$A$6:$AB$101,17,0) -> 0.4 | R10: =VLOOKUP(A10,'Données ED'!$A$6:$AB$101,18,0) -> 0 | S10: =VLOOKUP(A10,'Données ED'!$A$6:$AB$101,19,0) -> 0 | T10: =VLOOKUP(A10,'Données ED'!$A$6:$AB$101,20,0) -> 12 | U10: =VLOOKUP(A10,'Données ED'!$A$6:$AB$101,21,0) -> 14.7 | V10: =VLOOKUP(A10,'Données ED'!$A$6:$AB$101,22,0) -> 7.9 | W10: =VLOOKUP(A10,'Données ED'!$A$6:$AB$101,23,0) -> 0.1 | X10: =VLOOKUP(A10,'Données ED'!$A$6:$AB$101,24,0) -> 12.7 | Y10: =VLOOKUP(A10,'Données ED'!$A$6:$AB$101,25,0) -> 400 | Z10: =VLOOKUP(A10,'Données ED'!$A$6:$AB$101,26,0) -> 0.5 | AA10: =VLOOKUP(A10,'Données ED'!$A$6:$AB$101,27,0) -> 0 | AB10: =VLOOKUP(A10,'Données ED'!$A$6:$AB$101,28,0) -> 0 | AC10: =AVERAGE(B10,K10,T10) -> 13.766667 | AD10: =AVERAGE(C10,L10,U10) -> 16.3 | AE10: =AVERAGE(D10,M10,V10) -> 7.8166667 | AF10: =AVERAGE(E10,N10,W10) -> 0.2 | AG10: =AVERAGE(F10,O10,X10) -> 19.533333 | AH10: =AVERAGE(G10,P10,Y10) -> 446.66667 | AI10: =AVERAGE(H10,Q10,Z10) -> 0.46666667 | AJ10: =AVERAGE(I10,R10,AA10) -> 0 | AK10: =AVERAGE(J10,S10,AB10) -> 0 | AM10: Grosville année précédente
A11: =EDATE(A10, 1) -> 40349 | B11: =VLOOKUP(A11,'Données ED'!$A$6:$AB$101,2,0) -> 11.8 | C11: =VLOOKUP(A11,'Données ED'!$A$6:$AB$101,3,0) -> 14.6 | D11: =VLOOKUP(A11,'Données ED'!$A$6:$AB$101,4,0) -> 8 | E11: =VLOOKUP(A11,'Données ED'!$A$6:$AB$101,5,0) -> 0.1 | F11: =VLOOKUP(A11,'Données ED'!$A$6:$AB$101,6,0) -> 18.7 | G11: =VLOOKUP(A11,'Données ED'!$A$6:$AB$101,7,0) -> 435 | H11: =VLOOKUP(A11,'Données ED'!$A$6:$AB$101,8,0) -> 0.4 | I11: =VLOOKUP(A11,'Données ED'!$A$6:$AB$101,9,0) -> 0 | J11: =VLOOKUP(A11,'Données ED'!$A$6:$AB$101,10,0) -> 0 | K11: =VLOOKUP(A11,'Données ED'!$A$6:$AB$101,11,0) -> 18.4 | L11: =VLOOKUP(A11,'Données ED'!$A$6:$AB$101,12,0) -> 21 | M11: =VLOOKUP(A11,'Données ED'!$A$6:$AB$101,13,0) -> 7.9 | N11: =VLOOKUP(A11,'Données ED'!$A$6:$AB$101,14,0) -> 0.2 | O11: =VLOOKUP(A11,'Données ED'!$A$6:$AB$101,15,0) -> 26.4 | P11: =VLOOKUP(A11,'Données ED'!$A$6:$AB$101,16,0) -> 540 | Q11: =VLOOKUP(A11,'Données ED'!$A$6:$AB$101,17,0) -> 0.4 | R11: =VLOOKUP(A11,'Données ED'!$A$6:$AB$101,18,0) -> 0 | S11: =VLOOKUP(A11,'Données ED'!$A$6:$AB$101,19,0) -> 32 | T11: =VLOOKUP(A11,'Données ED'!$A$6:$AB$101,20,0) -> 13.2 | U11: =VLOOKUP(A11,'Données ED'!$A$6:$AB$101,21,0) -> 15.6 | V11: =VLOOKUP(A11,'Données ED'!$A$6:$AB$101,22,0) -> 8.1 | W11: =VLOOKUP(A11,'Données ED'!$A$6:$AB$101,23,0) -> 0.1 | X11: =VLOOKUP(A11,'Données ED'!$A$6:$AB$101,24,0) -> 12 | Y11: =VLOOKUP(A11,'Données ED'!$A$6:$AB$101,25,0) -> 430 | Z11: =VLOOKUP(A11,'Données ED'!$A$6:$AB$101,26,0) -> 0.3 | AA11: =VLOOKUP(A11,'Données ED'!$A$6:$AB$101,27,0) -> 0 | AB11: =VLOOKUP(A11,'Données ED'!$A$6:$AB$101,28,0) -> 2 | AC11: =AVERAGE(B11,K11,T11) -> 14.466667 | AD11: =AVERAGE(C11,L11,U11) -> 17.066667 | AE11: =AVERAGE(D11,M11,V11) -> 8 | AF11: =AVERAGE(E11,N11,W11) -> 0.13333333 | AG11: =AVERAGE(F11,O11,X11) -> 19.033333 | AH11: =AVERAGE(G11,P11,Y11) -> 468.33333 | AI11: =AVERAGE(H11,Q11,Z11) -> 0.36666667 | AJ11: =AVERAGE(I11,R11,AA11) -> 0 | AK11: =AVERAGE(J11,S11,AB11) -> 11.333333 | AM11: =E4& " Année précédente " -> Turbidité Année précédente
A12: =EDATE(A11, 1) -> 40379 | B12: =VLOOKUP(A12,'Données ED'!$A$6:$AB$101,2,0) -> 10.95 | C12: =VLOOKUP(A12,'Données ED'!$A$6:$AB$101,3,0) -> 12.6 | D12: =VLOOKUP(A12,'Données ED'!$A$6:$AB$101,4,0) -> 7.875 | E12: =VLOOKUP(A12,'Données ED'!$A$6:$AB$101,5,0) -> 0.1 | F12: =VLOOKUP(A12,'Données ED'!$A$6:$AB$101,6,0) -> 18.55 | G12: =VLOOKUP(A12,'Données ED'!$A$6:$AB$101,7,0) -> 415 | H12: =VLOOKUP(A12,'Données ED'!$A$6:$AB$101,8,0) -> 0.5 | I12: =VLOOKUP(A12,'Données ED'!$A$6:$AB$101,9,0) -> 0 | J12: =VLOOKUP(A12,'Données ED'!$A$6:$AB$101,10,0) -> 3.5 | K12: =VLOOKUP(A12,'Données ED'!$A$6:$AB$101,11,0) -> 16.4 | L12: =VLOOKUP(A12,'Données ED'!$A$6:$AB$101,12,0) -> 18.7 | M12: =VLOOKUP(A12,'Données ED'!$A$6:$AB$101,13,0) -> 7.675 | N12: =VLOOKUP(A12,'Données ED'!$A$6:$AB$101,14,0) -> 0.175 | O12: =VLOOKUP(A12,'Données ED'!$A$6:$AB$101,15,0) -> 28.35 | P12: =VLOOKUP(A12,'Données ED'!$A$6:$AB$101,16,0) -> 497.5 | Q12: =VLOOKUP(A12,'Données ED'!$A$6:$AB$101,17,0) -> 0.5 | R12: =VLOOKUP(A12,'Données ED'!$A$6:$AB$101,18,0) -> 0 | S12: =VLOOKUP(A12,'Données ED'!$A$6:$AB$101,19,0) -> 0 | T12: =VLOOKUP(A12,'Données ED'!$A$6:$AB$101,20,0) -> 13.2 | U12: =VLOOKUP(A12,'Données ED'!$A$6:$AB$101,21,0) -> 14.5 | V12: =VLOOKUP(A12,'Données ED'!$A$6:$AB$101,22,0) -> 8.1 | W12: =VLOOKUP(A12,'Données ED'!$A$6:$AB$101,23,0) -> 0.15 | X12: =VLOOKUP(A12,'Données ED'!$A$6:$AB$101,24,0) -> 13 | Y12: =VLOOKUP(A12,'Données ED'!$A$6:$AB$101,25,0) -> 425 | Z12: =VLOOKUP(A12,'Données ED'!$A$6:$AB$101,26,0) -> 0.5 | AA12: =VLOOKUP(A12,'Données ED'!$A$6:$AB$101,27,0) -> 0 | AB12: =VLOOKUP(A12,'Données ED'!$A$6:$AB$101,28,0) -> 2 | AC12: =AVERAGE(B12,K12,T12) -> 13.516667 | AD12: =AVERAGE(C12,L12,U12) -> 15.266667 | AE12: =AVERAGE(D12,M12,V12) -> 7.8833333 | AF12: =AVERAGE(E12,N12,W12) -> 0.14166667 | AG12: =AVERAGE(F12,O12,X12) -> 19.966667 | AH12: =AVERAGE(G12,P12,Y12) -> 445.83333 | AI12: =AVERAGE(H12,Q12,Z12) -> 0.5 | AJ12: =AVERAGE(I12,R12,AA12) -> 0 | AK12: =AVERAGE(J12,S12,AB12) -> 1.8333333 | AM12: =H4& " Année précédente " -> C org Année précédente
A13: =EDATE(A12, 1) -> 40410 | B13: =VLOOKUP(A13,'Données ED'!$A$6:$AB$101,2,0) -> 11.2 | C13: =VLOOKUP(A13,'Données ED'!$A$6:$AB$101,3,0) -> 13.7 | D13: =VLOOKUP(A13,'Données ED'!$A$6:$AB$101,4,0) -> 7.9 | E13: =VLOOKUP(A13,'Données ED'!$A$6:$AB$101,5,0) -> 0.1 | F13: =VLOOKUP(A13,'Données ED'!$A$6:$AB$101,6,0) -> 18.4 | G13: =VLOOKUP(A13,'Données ED'!$A$6:$AB$101,7,0) -> 415 | H13: =VLOOKUP(A13,'Données ED'!$A$6:$AB$101,8,0) -> 0.5 | I13: =VLOOKUP(A13,'Données ED'!$A$6:$AB$101,9,0) -> 0 | J13: =VLOOKUP(A13,'Données ED'!$A$6:$AB$101,10,0) -> 1 | K13: =VLOOKUP(A13,'Données ED'!$A$6:$AB$101,11,0) -> 19.1 | L13: =VLOOKUP(A13,'Données ED'!$A$6:$AB$101,12,0) -> 21.5 | M13: =VLOOKUP(A13,'Données ED'!$A$6:$AB$101,13,0) -> 7.95 | N13: =VLOOKUP(A13,'Données ED'!$A$6:$AB$101,14,0) -> 0.2 | O13: =VLOOKUP(A13,'Données ED'!$A$6:$AB$101,15,0) -> 27.1 | P13: =VLOOKUP(A13,'Données ED'!$A$6:$AB$101,16,0) -> 535 | Q13: =VLOOKUP(A13,'Données ED'!$A$6:$AB$101,17,0) -> 0.4 | R13: =VLOOKUP(A13,'Données ED'!$A$6:$AB$101,18,0) -> 0 | S13: =VLOOKUP(A13,'Données ED'!$A$6:$AB$101,19,0) -> 87 | T13: =VLOOKUP(A13,'Données ED'!$A$6:$AB$101,20,0) -> 12 | U13: =VLOOKUP(A13,'Données ED'!$A$6:$AB$101,21,0) -> 14.4 | V13: =VLOOKUP(A13,'Données ED'!$A$6:$AB$101,22,0) -> 7.8 | W13: =VLOOKUP(A13,'Données ED'!$A$6:$AB$101,23,0) -> 0.1 | X13: =VLOOKUP(A13,'Données ED'!$A$6:$AB$101,24,0) -> 12.9 | Y13: =VLOOKUP(A13,'Données ED'!$A$6:$AB$101,25,0) -> 400 | Z13: =VLOOKUP(A13,'Données ED'!$A$6:$AB$101,26,0) -> 0.3 | AA13: =VLOOKUP(A13,'Données ED'!$A$6:$AB$101,27,0) -> 0 | AB13: =VLOOKUP(A13,'Données ED'!$A$6:$AB$101,28,0) -> 0 | AC13: =AVERAGE(B13,K13,T13) -> 14.1 | AD13: =AVERAGE(C13,L13,U13) -> 16.533333 | AE13: =AVERAGE(D13,M13,V13) -> 7.8833333 | AF13: =AVERAGE(E13,N13,W13) -> 0.13333333 | AG13: =AVERAGE(F13,O13,X13) -> 19.466667 | AH13: =AVERAGE(G13,P13,Y13) -> 450 | AI13: =AVERAGE(H13,Q13,Z13) -> 0.4 | AJ13: =AVERAGE(I13,R13,AA13) -> 0 | AK13: =AVERAGE(J13,S13,AB13) -> 29.333333 | AM13: Teurthéville année précédente
A14: =EDATE(A13, 1) -> 40441 | B14: =VLOOKUP(A14,'Données ED'!$A$6:$AB$101,2,0) -> 11.05 | C14: =VLOOKUP(A14,'Données ED'!$A$6:$AB$101,3,0) -> 13.35 | D14: =VLOOKUP(A14,'Données ED'!$A$6:$AB$101,4,0) -> 7.775 | E14: =VLOOKUP(A14,'Données ED'!$A$6:$AB$101,5,0) -> 0.1 | F14: =VLOOKUP(A14,'Données ED'!$A$6:$AB$101,6,0) -> 17.45 | G14: =VLOOKUP(A14,'Données ED'!$A$6:$AB$101,7,0) -> 410 | H14: =VLOOKUP(A14,'Données ED'!$A$6:$AB$101,8,0) -> 0.25 | I14: =VLOOKUP(A14,'Données ED'!$A$6:$AB$101,9,0) -> 4.5 | J14: =VLOOKUP(A14,'Données ED'!$A$6:$AB$101,10,0) -> 5 | K14: =VLOOKUP(A14,'Données ED'!$A$6:$AB$101,11,0) -> 17.45 | L14: =VLOOKUP(A14,'Données ED'!$A$6:$AB$101,12,0) -> 18.65 | M14: =VLOOKUP(A14,'Données ED'!$A$6:$AB$101,13,0) -> 7.85 | N14: =VLOOKUP(A14,'Données ED'!$A$6:$AB$101,14,0) -> 0.9975 | O14: =VLOOKUP(A14,'Données ED'!$A$6:$AB$101,15,0) -> 23.15 | P14: =VLOOKUP(A14,'Données ED'!$A$6:$AB$101,16,0) -> 505 | Q14: =VLOOKUP(A14,'Données ED'!$A$6:$AB$101,17,0) -> 0.35 | R14: =VLOOKUP(A14,'Données ED'!$A$6:$AB$101,18,0) -> 0 | S14: =VLOOKUP(A14,'Données ED'!$A$6:$AB$101,19,0) -> 15 | T14: =VLOOKUP(A14,'Données ED'!$A$6:$AB$101,20,0) -> 11.5 | U14: =VLOOKUP(A14,'Données ED'!$A$6:$AB$101,21,0) -> 13.4 | V14: =VLOOKUP(A14,'Données ED'!$A$6:$AB$101,22,0) -> 7.48 | W14: =VLOOKUP(A14,'Données ED'!$A$6:$AB$101,23,0) -> 0.1 | X14: =VLOOKUP(A14,'Données ED'!$A$6:$AB$101,24,0) -> 12.87 | Y14: =VLOOKUP(A14,'Données ED'!$A$6:$AB$101,25,0) -> 390 | Z14: =VLOOKUP(A14,'Données ED'!$A$6:$AB$101,26,0) -> 0.3 | AA14: =VLOOKUP(A14,'Données ED'!$A$6:$AB$101,27,0) -> 2.33 | AB14: =VLOOKUP(A14,'Données ED'!$A$6:$AB$101,28,0) -> 4.67 | AC14: =AVERAGE(B14,K14,T14) -> 13.333333 | AD14: =AVERAGE(C14,L14,U14) -> 15.133333 | AE14: =AVERAGE(D14,M14,V14) -> 7.7016667 | AF14: =AVERAGE(E14,N14,W14) -> 0.39916667 | AG14: =AVERAGE(F14,O14,X14) -> 17.823333 | AH14: =AVERAGE(G14,P14,Y14) -> 435 | AI14: =AVERAGE(H14,Q14,Z14) -> 0.3 | AJ14: =AVERAGE(I14,R14,AA14) -> 2.2766667 | AK14: =AVERAGE(J14,S14,AB14) -> 8.2233333 | AM14: =F4& " Année précédente " -> Nitrates Année précédente
A15: =EDATE(A14, 1) -> 40471 | B15: =VLOOKUP(A15,'Données ED'!$A$6:$AB$101,2,0) -> 11 | C15: =VLOOKUP(A15,'Données ED'!$A$6:$AB$101,3,0) -> 13.3 | D15: =VLOOKUP(A15,'Données ED'!$A$6:$AB$101,4,0) -> 8.05 | E15: =VLOOKUP(A15,'Données ED'!$A$6:$AB$101,5,0) -> 0.2 | F15: =VLOOKUP(A15,'Données ED'!$A$6:$AB$101,6,0) -> 17.7 | G15: =VLOOKUP(A15,'Données ED'!$A$6:$AB$101,7,0) -> 405 | H15: =VLOOKUP(A15,'Données ED'!$A$6:$AB$101,8,0) -> 0.5 | I15: =VLOOKUP(A15,'Données ED'!$A$6:$AB$101,9,0) -> 89 | J15: =VLOOKUP(A15,'Données ED'!$A$6:$AB$101,10,0) -> 13 | K15: =VLOOKUP(A15,'Données ED'!$A$6:$AB$101,11,0) -> #N/A | L15: =VLOOKUP(A15,'Données ED'!$A$6:$AB$101,12,0) -> #N/A | M15: =VLOOKUP(A15,'Données ED'!$A$6:$AB$101,13,0) -> #N/A | N15: =VLOOKUP(A15,'Données ED'!$A$6:$AB$101,14,0) -> #N/A | O15: =VLOOKUP(A15,'Données ED'!$A$6:$AB$101,15,0) -> #N/A | P15: =VLOOKUP(A15,'Données ED'!$A$6:$AB$101,16,0) -> #N/A | Q15: =VLOOKUP(A15,'Données ED'!$A$6:$AB$101,17,0) -> #N/A | R15: =VLOOKUP(A15,'Données ED'!$A$6:$AB$101,18,0) -> #N/A | S15: =VLOOKUP(A15,'Données ED'!$A$6:$AB$101,19,0) -> #N/A | T15: =VLOOKUP(A15,'Données ED'!$A$6:$AB$101,20,0) -> #N/A | U15: =VLOOKUP(A15,'Données ED'!$A$6:$AB$101,21,0) -> #N/A | V15: =VLOOKUP(A15,'Données ED'!$A$6:$AB$101,22,0) -> #N/A | W15: =VLOOKUP(A15,'Données ED'!$A$6:$AB$101,23,0) -> #N/A | X15: =VLOOKUP(A15,'Données ED'!$A$6:$AB$101,24,0) -> #N/A | Y15: =VLOOKUP(A15,'Données ED'!$A$6:$AB$101,25,0) -> #N/A | Z15: =VLOOKUP(A15,'Données ED'!$A$6:$AB$101,26,0) -> #N/A | AA15: =VLOOKUP(A15,'Données ED'!$A$6:$AB$101,27,0) -> #N/A | AB15: =VLOOKUP(A15,'Données ED'!$A$6:$AB$101,28,0) -> #N/A | AC15: =AVERAGE(B15,K15,T15) -> #N/A | AD15: =AVERAGE(C15,L15,U15) -> #N/A | AE15: =AVERAGE(D15,M15,V15) -> #N/A | AF15: =AVERAGE(E15,N15,W15) -> #N/A | AG15: =AVERAGE(F15,O15,X15) -> #N/A | AH15: =AVERAGE(G15,P15,Y15) -> #N/A | AI15: =AVERAGE(H15,Q15,Z15) -> #N/A | AJ15: =AVERAGE(I15,R15,AA15) -> #N/A | AK15: =AVERAGE(J15,S15,AB15) -> #N/A | AM15: =I4& " Année précédente " -> B 22°C/68h Année précédente
A16: =EDATE(A15, 1) -> 40502 | B16: =VLOOKUP(A16,'Données ED'!$A$6:$AB$101,2,0) -> #N/A | C16: =VLOOKUP(A16,'Données ED'!$A$6:$AB$101,3,0) -> #N/A | D16: =VLOOKUP(A16,'Données ED'!$A$6:$AB$101,4,0) -> #N/A | E16: =VLOOKUP(A16,'Données ED'!$A$6:$AB$101,5,0) -> #N/A | F16: =VLOOKUP(A16,'Données ED'!$A$6:$AB$101,6,0) -> #N/A | G16: =VLOOKUP(A16,'Données ED'!$A$6:$AB$101,7,0) -> #N/A | H16: =VLOOKUP(A16,'Données ED'!$A$6:$AB$101,8,0) -> #N/A | I16: =VLOOKUP(A16,'Données ED'!$A$6:$AB$101,9,0) -> #N/A | J16: =VLOOKUP(A16,'Données ED'!$A$6:$AB$101,10,0) -> #N/A | K16: =VLOOKUP(A16,'Données ED'!$A$6:$AB$101,11,0) -> #N/A | L16: =VLOOKUP(A16,'Données ED'!$A$6:$AB$101,12,0) -> #N/A | M16: =VLOOKUP(A16,'Données ED'!$A$6:$AB$101,13,0) -> #N/A | N16: =VLOOKUP(A16,'Données ED'!$A$6:$AB$101,14,0) -> #N/A | O16: =VLOOKUP(A16,'Données ED'!$A$6:$AB$101,15,0) -> #N/A | P16: =VLOOKUP(A16,'Données ED'!$A$6:$AB$101,16,0) -> #N/A | Q16: =VLOOKUP(A16,'Données ED'!$A$6:$AB$101,17,0) -> #N/A | R16: =VLOOKUP(A16,'Données ED'!$A$6:$AB$101,18,0) -> #N/A | S16: =VLOOKUP(A16,'Données ED'!$A$6:$AB$101,19,0) -> #N/A | T16: =VLOOKUP(A16,'Données ED'!$A$6:$AB$101,20,0) -> 12.6 | U16: =VLOOKUP(A16,'Données ED'!$A$6:$AB$101,21,0) -> 14.5 | V16: =VLOOKUP(A16,'Données ED'!$A$6:$AB$101,22,0) -> 7.9 | W16: =VLOOKUP(A16,'Données ED'!$A$6:$AB$101,23,0) -> 0.1 | X16: =VLOOKUP(A16,'Données ED'!$A$6:$AB$101,24,0) -> 12.9 | Y16: =VLOOKUP(A16,'Données ED'!$A$6:$AB$101,25,0) -> 390 | Z16: =VLOOKUP(A16,'Données ED'!$A$6:$AB$101,26,0) -> 0.4 | AA16: =VLOOKUP(A16,'Données ED'!$A$6:$AB$101,27,0) -> 2 | AB16: =VLOOKUP(A16,'Données ED'!$A$6:$AB$101,28,0) -> 14 | AC16: =AVERAGE(B16,K16,T16) -> #N/A | AD16: =AVERAGE(C16,L16,U16) -> #N/A | AE16: =AVERAGE(D16,M16,V16) -> #N/A | AF16: =AVERAGE(E16,N16,W16) -> #N/A | AG16: =AVERAGE(F16,O16,X16) -> #N/A | AH16: =AVERAGE(G16,P16,Y16) -> #N/A | AI16: =AVERAGE(H16,Q16,Z16) -> #N/A | AJ16: =AVERAGE(I16,R16,AA16) -> #N/A | AK16: =AVERAGE(J16,S16,AB16) -> #N/A | AM16: =J4& " Année précédente " -> B 36°C/44h Année précédente
A17: =EDATE(A16, 1) -> 40532 | B17: =VLOOKUP(A17,'Données ED'!$A$6:$AB$101,2,0) -> #N/A | C17: =VLOOKUP(A17,'Données ED'!$A$6:$AB$101,3,0) -> #N/A | D17: =VLOOKUP(A17,'Données ED'!$A$6:$AB$101,4,0) -> #N/A | E17: =VLOOKUP(A17,'Données ED'!$A$6:$AB$101,5,0) -> #N/A | F17: =VLOOKUP(A17,'Données ED'!$A$6:$AB$101,6,0) -> #N/A | G17: =VLOOKUP(A17,'Données ED'!$A$6:$AB$101,7,0) -> #N/A | H17: =VLOOKUP(A17,'Données ED'!$A$6:$AB$101,8,0) -> #N/A | I17: =VLOOKUP(A17,'Données ED'!$A$6:$AB$101,9,0) -> #N/A | J17: =VLOOKUP(A17,'Données ED'!$A$6:$AB$101,10,0) -> #N/A | K17: =VLOOKUP(A17,'Données ED'!$A$6:$AB$101,11,0) -> #N/A | L17: =VLOOKUP(A17,'Données ED'!$A$6:$AB$101,12,0) -> #N/A | M17: =VLOOKUP(A17,'Données ED'!$A$6:$AB$101,13,0) -> #N/A | N17: =VLOOKUP(A17,'Données ED'!$A$6:$AB$101,14,0) -> #N/A | O17: =VLOOKUP(A17,'Données ED'!$A$6:$AB$101,15,0) -> #N/A | P17: =VLOOKUP(A17,'Données ED'!$A$6:$AB$101,16,0) -> #N/A | Q17: =VLOOKUP(A17,'Données ED'!$A$6:$AB$101,17,0) -> #N/A | R17: =VLOOKUP(A17,'Données ED'!$A$6:$AB$101,18,0) -> #N/A | S17: =VLOOKUP(A17,'Données ED'!$A$6:$AB$101,19,0) -> #N/A | T17: =VLOOKUP(A17,'Données ED'!$A$6:$AB$101,20,0) -> #N/A | U17: =VLOOKUP(A17,'Données ED'!$A$6:$AB$101,21,0) -> #N/A | V17: =VLOOKUP(A17,'Données ED'!$A$6:$AB$101,22,0) -> #N/A | W17: =VLOOKUP(A17,'Données ED'!$A$6:$AB$101,23,0) -> #N/A | X17: =VLOOKUP(A17,'Données ED'!$A$6:$AB$101,24,0) -> #N/A | Y17: =VLOOKUP(A17,'Données ED'!$A$6:$AB$101,25,0) -> #N/A | Z17: =VLOOKUP(A17,'Données ED'!$A$6:$AB$101,26,0) -> #N/A | AA17: =VLOOKUP(A17,'Données ED'!$A$6:$AB$101,27,0) -> #N/A | AB17: =VLOOKUP(A17,'Données ED'!$A$6:$AB$101,28,0) -> #N/A | AC17: =AVERAGE(B17,K17,T17) -> #N/A | AD17: =AVERAGE(C17,L17,U17) -> #N/A | AE17: =AVERAGE(D17,M17,V17) -> #N/A | AF17: =AVERAGE(E17,N17,W17) -> #N/A | AG17: =AVERAGE(F17,O17,X17) -> #N/A | AH17: =AVERAGE(G17,P17,Y17) -> #N/A | AI17: =AVERAGE(H17,Q17,Z17) -> #N/A | AJ17: =AVERAGE(I17,R17,AA17) -> #N/A | AK17: =AVERAGE(J17,S17,AB17) -> #N/A | AM17: GLOBAL Année précédente
A18: ="Moyenne " &J1 -> Moyenne 2010 | B18: {=AVERAGE(IF(ISNUMBER(B6:B17),B6:B17))} -> 11.025 | C18: {=AVERAGE(IF(ISNUMBER(C6:C17),C6:C17))} -> 13.475 | D18: {=AVERAGE(IF(ISNUMBER(D6:D17),D6:D17))} -> 7.9325 | E18: {=AVERAGE(IF(ISNUMBER(E6:E17),E6:E17))} -> 0.1125 | F18: {=AVERAGE(IF(ISNUMBER(F6:F17),F6:F17))} -> 19.415 | G18: {=AVERAGE(IF(ISNUMBER(G6:G17),G6:G17))} -> 412 | H18: {=AVERAGE(IF(ISNUMBER(H6:H17),H6:H17))} -> 0.415 | I18: {=AVERAGE(IF(ISNUMBER(I6:I17),I6:I17))} -> 9.85 | ... AK18: {=AVERAGE(IF(ISNUMBER(AK6:AK17),AK6:AK17))} -> 7.86125
A19: =DATE(J1-1, 1, 20) -> 39833 | B19: =VLOOKUP(A19,'Données ED'!$A$6:$AB$101,2,0) -> 10.1 | C19: =VLOOKUP(A19,'Données ED'!$A$6:$AB$101,3,0) -> 13.8 | D19: =VLOOKUP(A19,'Données ED'!$A$6:$AB$101,4,0) -> 7.9 | E19: =VLOOKUP(A19,'Données ED'!$A$6:$AB$101,5,0) -> 0.1 | F19: =VLOOKUP(A19,'Données ED'!$A$6:$AB$101,6,0) -> 17.8 | G19: =VLOOKUP(A19,'Données ED'!$A$6:$AB$101,7,0) -> 405 | H19: =VLOOKUP(A19,'Données ED'!$A$6:$AB$101,8,0) -> 0.3 | I19: =VLOOKUP(A19,'Données ED'!$A$6:$AB$101,9,0) -> 11 | J19: =VLOOKUP(A19,'Données ED'!$A$6:$AB$101,10,0) -> 7 | K19: =VLOOKUP(A19,'Données ED'!$A$6:$AB$101,11,0) -> 16.8 | L19: =VLOOKUP(A19,'Données ED'!$A$6:$AB$101,12,0) -> 20.1 | M19: =VLOOKUP(A19,'Données ED'!$A$6:$AB$101,13,0) -> 7.7 | N19: =VLOOKUP(A19,'Données ED'!$A$6:$AB$101,14,0) -> 0.15 | O19: =VLOOKUP(A19,'Données ED'!$A$6:$AB$101,15,0) -> 27 | P19: =VLOOKUP(A19,'Données ED'!$A$6:$AB$101,16,0) -> 495 | Q19: =VLOOKUP(A19,'Données ED'!$A$6:$AB$101,17,0) -> 0.4 | R19: =VLOOKUP(A19,'Données ED'!$A$6:$AB$101,18,0) -> 0 | S19: =VLOOKUP(A19,'Données ED'!$A$6:$AB$101,19,0) -> 0 | T19: =VLOOKUP(A19,'Données ED'!$A$6:$AB$101,20,0) -> 9.4 | U19: =VLOOKUP(A19,'Données ED'!$A$6:$AB$101,21,0) -> 12.2 | V19: =VLOOKUP(A19,'Données ED'!$A$6:$AB$101,22,0) -> 7.4 | W19: =VLOOKUP(A19,'Données ED'!$A$6:$AB$101,23,0) -> 0.1 | X19: =VLOOKUP(A19,'Données ED'!$A$6:$AB$101,24,0) -> 11.5 | Y19: =VLOOKUP(A19,'Données ED'!$A$6:$AB$101,25,0) -> 355 | Z19: =VLOOKUP(A19,'Données ED'!$A$6:$AB$101,26,0) -> 0.3 | AA19: =VLOOKUP(A19,'Données ED'!$A$6:$AB$101,27,0) -> 0 | AB19: =VLOOKUP(A19,'Données ED'!$A$6:$AB$101,28,0) -> 0 | AC19: =AVERAGE(B19,K19,T19) -> 12.1 | AD19: =AVERAGE(C19,L19,U19) -> 15.366667 | AE19: =AVERAGE(D19,M19,V19) -> 7.6666667 | AF19: =AVERAGE(E19,N19,W19) -> 0.11666667 | AG19: =AVERAGE(F19,O19,X19) -> 18.766667 | AH19: =AVERAGE(G19,P19,Y19) -> 418.33333 | AI19: =AVERAGE(H19,Q19,Z19) -> 0.33333333 | AJ19: =AVERAGE(I19,R19,AA19) -> 3.6666667 | AK19: =AVERAGE(J19,S19,AB19) -> 2.3333333
A20: =EDATE(A19, 1) -> 39864 | B20: =VLOOKUP(A20,'Données ED'!$A$6:$AB$101,2,0) -> 10.65 | C20: =VLOOKUP(A20,'Données ED'!$A$6:$AB$101,3,0) -> 14.35 | D20: =VLOOKUP(A20,'Données ED'!$A$6:$AB$101,4,0) -> 7.25 | E20: =VLOOKUP(A20,'Données ED'!$A$6:$AB$101,5,0) -> 0.1 | F20: =VLOOKUP(A20,'Données ED'!$A$6:$AB$101,6,0) -> 18.1 | G20: =VLOOKUP(A20,'Données ED'!$A$6:$AB$101,7,0) -> 420 | H20: =VLOOKUP(A20,'Données ED'!$A$6:$AB$101,8,0) -> 0.4 | I20: =VLOOKUP(A20,'Données ED'!$A$6:$AB$101,9,0) -> 0.5 | J20: =VLOOKUP(A20,'Données ED'!$A$6:$AB$101,10,0) -> 2.5 | K20: =VLOOKUP(A20,'Données ED'!$A$6:$AB$101,11,0) -> 17.05 | L20: =VLOOKUP(A20,'Données ED'!$A$6:$AB$101,12,0) -> 20.6 | M20: =VLOOKUP(A20,'Données ED'!$A$6:$AB$101,13,0) -> 7.525 | N20: =VLOOKUP(A20,'Données ED'!$A$6:$AB$101,14,0) -> 0.175 | O20: =VLOOKUP(A20,'Données ED'!$A$6:$AB$101,15,0) -> 26.15 | P20: =VLOOKUP(A20,'Données ED'!$A$6:$AB$101,16,0) -> 495 | Q20: =VLOOKUP(A20,'Données ED'!$A$6:$AB$101,17,0) -> 0.55 | R20: =VLOOKUP(A20,'Données ED'!$A$6:$AB$101,18,0) -> 1 | S20: =VLOOKUP(A20,'Données ED'!$A$6:$AB$101,19,0) -> 0 | T20: =VLOOKUP(A20,'Données ED'!$A$6:$AB$101,20,0) -> 11.35 | U20: =VLOOKUP(A20,'Données ED'!$A$6:$AB$101,21,0) -> 14.3 | V20: =VLOOKUP(A20,'Données ED'!$A$6:$AB$101,22,0) -> 7.45 | W20: =VLOOKUP(A20,'Données ED'!$A$6:$AB$101,23,0) -> 0.125 | X20: =VLOOKUP(A20,'Données ED'!$A$6:$AB$101,24,0) -> 11.9 | Y20: =VLOOKUP(A20,'Données ED'!$A$6:$AB$101,25,0) -> 390 | Z20: =VLOOKUP(A20,'Données ED'!$A$6:$AB$101,26,0) -> 0.4 | AA20: =VLOOKUP(A20,'Données ED'!$A$6:$AB$101,27,0) -> 0 | AB20: =VLOOKUP(A20,'Données ED'!$A$6:$AB$101,28,0) -> 0 | AC20: =AVERAGE(B20,K20,T20) -> 13.016667 | AD20: =AVERAGE(C20,L20,U20) -> 16.416667 | AE20: =AVERAGE(D20,M20,V20) -> 7.4083333 | AF20: =AVERAGE(E20,N20,W20) -> 0.13333333 | AG20: =AVERAGE(F20,O20,X20) -> 18.716667 | AH20: =AVERAGE(G20,P20,Y20) -> 435 | AI20: =AVERAGE(H20,Q20,Z20) -> 0.45 | AJ20: =AVERAGE(I20,R20,AA20) -> 0.5 | AK20: =AVERAGE(J20,S20,AB20) -> 0.83333333
A21: =EDATE(A20, 1) -> 39892 | B21: =VLOOKUP(A21,'Données ED'!$A$6:$AB$101,2,0) -> 10.4 | C21: =VLOOKUP(A21,'Données ED'!$A$6:$AB$101,3,0) -> 13.7 | D21: =VLOOKUP(A21,'Données ED'!$A$6:$AB$101,4,0) -> 7.85 | E21: =VLOOKUP(A21,'Données ED'!$A$6:$AB$101,5,0) -> 0.1 | F21: =VLOOKUP(A21,'Données ED'!$A$6:$AB$101,6,0) -> 18.9 | G21: =VLOOKUP(A21,'Données ED'!$A$6:$AB$101,7,0) -> 415 | H21: =VLOOKUP(A21,'Données ED'!$A$6:$AB$101,8,0) -> 0.4 | I21: =VLOOKUP(A21,'Données ED'!$A$6:$AB$101,9,0) -> 0 | J21: =VLOOKUP(A21,'Données ED'!$A$6:$AB$101,10,0) -> 0 | K21: =VLOOKUP(A21,'Données ED'!$A$6:$AB$101,11,0) -> 16.1 | L21: =VLOOKUP(A21,'Données ED'!$A$6:$AB$101,12,0) -> 21.1 | M21: =VLOOKUP(A21,'Données ED'!$A$6:$AB$101,13,0) -> 7.75 | N21: =VLOOKUP(A21,'Données ED'!$A$6:$AB$101,14,0) -> 0.1 | O21: =VLOOKUP(A21,'Données ED'!$A$6:$AB$101,15,0) -> 27.6 | P21: =VLOOKUP(A21,'Données ED'!$A$6:$AB$101,16,0) -> 490 | Q21: =VLOOKUP(A21,'Données ED'!$A$6:$AB$101,17,0) -> 0.5 | R21: =VLOOKUP(A21,'Données ED'!$A$6:$AB$101,18,0) -> 2 | S21: =VLOOKUP(A21,'Données ED'!$A$6:$AB$101,19,0) -> 0 | T21: =VLOOKUP(A21,'Données ED'!$A$6:$AB$101,20,0) -> 12.7 | U21: =VLOOKUP(A21,'Données ED'!$A$6:$AB$101,21,0) -> 15.4 | V21: =VLOOKUP(A21,'Données ED'!$A$6:$AB$101,22,0) -> 7.9 | W21: =VLOOKUP(A21,'Données ED'!$A$6:$AB$101,23,0) -> 0.15 | X21: =VLOOKUP(A21,'Données ED'!$A$6:$AB$101,24,0) -> 12.5 | Y21: =VLOOKUP(A21,'Données ED'!$A$6:$AB$101,25,0) -> 410 | Z21: =VLOOKUP(A21,'Données ED'!$A$6:$AB$101,26,0) -> 0.5 | AA21: =VLOOKUP(A21,'Données ED'!$A$6:$AB$101,27,0) -> 0 | AB21: =VLOOKUP(A21,'Données ED'!$A$6:$AB$101,28,0) -> 0 | AC21: =AVERAGE(B21,K21,T21) -> 13.066667 | AD21: =AVERAGE(C21,L21,U21) -> 16.733333 | AE21: =AVERAGE(D21,M21,V21) -> 7.8333333 | AF21: =AVERAGE(E21,N21,W21) -> 0.11666667 | AG21: =AVERAGE(F21,O21,X21) -> 19.666667 | AH21: =AVERAGE(G21,P21,Y21) -> 438.33333 | AI21: =AVERAGE(H21,Q21,Z21) -> 0.46666667 | AJ21: =AVERAGE(I21,R21,AA21) -> 0.66666667 | AK21: =AVERAGE(J21,S21,AB21) -> 0
A22: =EDATE(A21, 1) -> 39923 | B22: =VLOOKUP(A22,'Données ED'!$A$6:$AB$101,2,0) -> 10.6 | C22: =VLOOKUP(A22,'Données ED'!$A$6:$AB$101,3,0) -> 14.05 | D22: =VLOOKUP(A22,'Données ED'!$A$6:$AB$101,4,0) -> 7.7 | E22: =VLOOKUP(A22,'Données ED'!$A$6:$AB$101,5,0) -> 0.125 | F22: =VLOOKUP(A22,'Données ED'!$A$6:$AB$101,6,0) -> 19.5 | G22: =VLOOKUP(A22,'Données ED'!$A$6:$AB$101,7,0) -> 422.5 | H22: =VLOOKUP(A22,'Données ED'!$A$6:$AB$101,8,0) -> 0.3 | I22: =VLOOKUP(A22,'Données ED'!$A$6:$AB$101,9,0) -> 21 | J22: =VLOOKUP(A22,'Données ED'!$A$6:$AB$101,10,0) -> 2.5 | K22: =VLOOKUP(A22,'Données ED'!$A$6:$AB$101,11,0) -> 15.4 | L22: =VLOOKUP(A22,'Données ED'!$A$6:$AB$101,12,0) -> 19.05 | M22: =VLOOKUP(A22,'Données ED'!$A$6:$AB$101,13,0) -> 7.625 | N22: =VLOOKUP(A22,'Données ED'!$A$6:$AB$101,14,0) -> 0.125 | O22: =VLOOKUP(A22,'Données ED'!$A$6:$AB$101,15,0) -> 29.05 | P22: =VLOOKUP(A22,'Données ED'!$A$6:$AB$101,16,0) -> 480 | Q22: =VLOOKUP(A22,'Données ED'!$A$6:$AB$101,17,0) -> 0.4 | R22: =VLOOKUP(A22,'Données ED'!$A$6:$AB$101,18,0) -> 0 | S22: =VLOOKUP(A22,'Données ED'!$A$6:$AB$101,19,0) -> 1 | T22: =VLOOKUP(A22,'Données ED'!$A$6:$AB$101,20,0) -> 10.4 | U22: =VLOOKUP(A22,'Données ED'!$A$6:$AB$101,21,0) -> 13 | V22: =VLOOKUP(A22,'Données ED'!$A$6:$AB$101,22,0) -> 7.5 | W22: =VLOOKUP(A22,'Données ED'!$A$6:$AB$101,23,0) -> 0.15 | X22: =VLOOKUP(A22,'Données ED'!$A$6:$AB$101,24,0) -> 13.1 | Y22: =VLOOKUP(A22,'Données ED'!$A$6:$AB$101,25,0) -> 380 | Z22: =VLOOKUP(A22,'Données ED'!$A$6:$AB$101,26,0) -> 0.3 | AA22: =VLOOKUP(A22,'Données ED'!$A$6:$AB$101,27,0) -> 0 | AB22: =VLOOKUP(A22,'Données ED'!$A$6:$AB$101,28,0) -> 0 | AC22: =AVERAGE(B22,K22,T22) -> 12.133333 | AD22: =AVERAGE(C22,L22,U22) -> 15.366667 | AE22: =AVERAGE(D22,M22,V22) -> 7.6083333 | AF22: =AVERAGE(E22,N22,W22) -> 0.13333333 | AG22: =AVERAGE(F22,O22,X22) -> 20.55 | AH22: =AVERAGE(G22,P22,Y22) -> 427.5 | AI22: =AVERAGE(H22,Q22,Z22) -> 0.33333333 | AJ22: =AVERAGE(I22,R22,AA22) -> 7 | AK22: =AVERAGE(J22,S22,AB22) -> 1.1666667
A23: =EDATE(A22, 1) -> 39953 | B23: =VLOOKUP(A23,'Données ED'!$A$6:$AB$101,2,0) -> 13 | C23: =VLOOKUP(A23,'Données ED'!$A$6:$AB$101,3,0) -> 15.8 | D23: =VLOOKUP(A23,'Données ED'!$A$6:$AB$101,4,0) -> 7.7 | E23: =VLOOKUP(A23,'Données ED'!$A$6:$AB$101,5,0) -> 0.2 | F23: =VLOOKUP(A23,'Données ED'!$A$6:$AB$101,6,0) -> 21 | G23: =VLOOKUP(A23,'Données ED'!$A$6:$AB$101,7,0) -> 450 | H23: =VLOOKUP(A23,'Données ED'!$A$6:$AB$101,8,0) -> 0.4 | I23: =VLOOKUP(A23,'Données ED'!$A$6:$AB$101,9,0) -> 2 | J23: =VLOOKUP(A23,'Données ED'!$A$6:$AB$101,10,0) -> 2 | K23: =VLOOKUP(A23,'Données ED'!$A$6:$AB$101,11,0) -> 17.9 | L23: =VLOOKUP(A23,'Données ED'!$A$6:$AB$101,12,0) -> 21.5 | M23: =VLOOKUP(A23,'Données ED'!$A$6:$AB$101,13,0) -> 7.8 | N23: =VLOOKUP(A23,'Données ED'!$A$6:$AB$101,14,0) -> 0.2 | O23: =VLOOKUP(A23,'Données ED'!$A$6:$AB$101,15,0) -> 27.6 | P23: =VLOOKUP(A23,'Données ED'!$A$6:$AB$101,16,0) -> 515 | Q23: =VLOOKUP(A23,'Données ED'!$A$6:$AB$101,17,0) -> 0.5 | R23: =VLOOKUP(A23,'Données ED'!$A$6:$AB$101,18,0) -> 1 | S23: =VLOOKUP(A23,'Données ED'!$A$6:$AB$101,19,0) -> 1 | T23: =VLOOKUP(A23,'Données ED'!$A$6:$AB$101,20,0) -> 12.3 | U23: =VLOOKUP(A23,'Données ED'!$A$6:$AB$101,21,0) -> 14.9 | V23: =VLOOKUP(A23,'Données ED'!$A$6:$AB$101,22,0) -> 7.6 | W23: =VLOOKUP(A23,'Données ED'!$A$6:$AB$101,23,0) -> 0.25 | X23: =VLOOKUP(A23,'Données ED'!$A$6:$AB$101,24,0) -> 12.5 | Y23: =VLOOKUP(A23,'Données ED'!$A$6:$AB$101,25,0) -> 400 | Z23: =VLOOKUP(A23,'Données ED'!$A$6:$AB$101,26,0) -> 0.4 | AA23: =VLOOKUP(A23,'Données ED'!$A$6:$AB$101,27,0) -> 0 | AB23: =VLOOKUP(A23,'Données ED'!$A$6:$AB$101,28,0) -> 0 | AC23: =AVERAGE(B23,K23,T23) -> 14.4 | AD23: =AVERAGE(C23,L23,U23) -> 17.4 | AE23: =AVERAGE(D23,M23,V23) -> 7.7 | AF23: =AVERAGE(E23,N23,W23) -> 0.21666667 | AG23: =AVERAGE(F23,O23,X23) -> 20.366667 | AH23: =AVERAGE(G23,P23,Y23) -> 455 | AI23: =AVERAGE(H23,Q23,Z23) -> 0.43333333 | AJ23: =AVERAGE(I23,R23,AA23) -> 1 | AK23: =AVERAGE(J23,S23,AB23) -> 1
A24: =EDATE(A23, 1) -> 39984 | B24: =VLOOKUP(A24,'Données ED'!$A$6:$AB$101,2,0) -> 10.6 | C24: =VLOOKUP(A24,'Données ED'!$A$6:$AB$101,3,0) -> 14.2 | D24: =VLOOKUP(A24,'Données ED'!$A$6:$AB$101,4,0) -> 7.8 | E24: =VLOOKUP(A24,'Données ED'!$A$6:$AB$101,5,0) -> 7.9 | F24: =VLOOKUP(A24,'Données ED'!$A$6:$AB$101,6,0) -> 15 | G24: =VLOOKUP(A24,'Données ED'!$A$6:$AB$101,7,0) -> 420 | H24: =VLOOKUP(A24,'Données ED'!$A$6:$AB$101,8,0) -> 0.3 | I24: =VLOOKUP(A24,'Données ED'!$A$6:$AB$101,9,0) -> 0 | J24: =VLOOKUP(A24,'Données ED'!$A$6:$AB$101,10,0) -> 0 | K24: =VLOOKUP(A24,'Données ED'!$A$6:$AB$101,11,0) -> 17 | L24: =VLOOKUP(A24,'Données ED'!$A$6:$AB$101,12,0) -> 21.4 | M24: =VLOOKUP(A24,'Données ED'!$A$6:$AB$101,13,0) -> 7.75 | N24: =VLOOKUP(A24,'Données ED'!$A$6:$AB$101,14,0) -> 0.15 | O24: =VLOOKUP(A24,'Données ED'!$A$6:$AB$101,15,0) -> 27.6 | P24: =VLOOKUP(A24,'Données ED'!$A$6:$AB$101,16,0) -> 505 | Q24: =VLOOKUP(A24,'Données ED'!$A$6:$AB$101,17,0) -> 0.4 | R24: =VLOOKUP(A24,'Données ED'!$A$6:$AB$101,18,0) -> 1 | S24: =VLOOKUP(A24,'Données ED'!$A$6:$AB$101,19,0) -> 0 | T24: =VLOOKUP(A24,'Données ED'!$A$6:$AB$101,20,0) -> 13.4 | U24: =VLOOKUP(A24,'Données ED'!$A$6:$AB$101,21,0) -> 15.6 | V24: =VLOOKUP(A24,'Données ED'!$A$6:$AB$101,22,0) -> 8 | W24: =VLOOKUP(A24,'Données ED'!$A$6:$AB$101,23,0) -> 0.2 | X24: =VLOOKUP(A24,'Données ED'!$A$6:$AB$101,24,0) -> 12 | Y24: =VLOOKUP(A24,'Données ED'!$A$6:$AB$101,25,0) -> 425 | Z24: =VLOOKUP(A24,'Données ED'!$A$6:$AB$101,26,0) -> 0.5 | AA24: =VLOOKUP(A24,'Données ED'!$A$6:$AB$101,27,0) -> 0 | AB24: =VLOOKUP(A24,'Données ED'!$A$6:$AB$101,28,0) -> 0 | AC24: =AVERAGE(B24,K24,T24) -> 13.666667 | AD24: =AVERAGE(C24,L24,U24) -> 17.066667 | AE24: =AVERAGE(D24,M24,V24) -> 7.85 | AF24: =AVERAGE(E24,N24,W24) -> 2.75 | AG24: =AVERAGE(F24,O24,X24) -> 18.2 | AH24: =AVERAGE(G24,P24,Y24) -> 450 | AI24: =AVERAGE(H24,Q24,Z24) -> 0.4 | AJ24: =AVERAGE(I24,R24,AA24) -> 0.33333333 | AK24: =AVERAGE(J24,S24,AB24) -> 0
A25: =EDATE(A24, 1) -> 40014 | B25: =VLOOKUP(A25,'Données ED'!$A$6:$AB$101,2,0) -> 10.8 | C25: =VLOOKUP(A25,'Données ED'!$A$6:$AB$101,3,0) -> 13.3 | D25: =VLOOKUP(A25,'Données ED'!$A$6:$AB$101,4,0) -> 7.6 | E25: =VLOOKUP(A25,'Données ED'!$A$6:$AB$101,5,0) -> 0.2 | F25: =VLOOKUP(A25,'Données ED'!$A$6:$AB$101,6,0) -> 17.8 | G25: =VLOOKUP(A25,'Données ED'!$A$6:$AB$101,7,0) -> 415 | H25: =VLOOKUP(A25,'Données ED'!$A$6:$AB$101,8,0) -> 0.5 | I25: =VLOOKUP(A25,'Données ED'!$A$6:$AB$101,9,0) -> 0 | J25: =VLOOKUP(A25,'Données ED'!$A$6:$AB$101,10,0) -> 0 | K25: =VLOOKUP(A25,'Données ED'!$A$6:$AB$101,11,0) -> 17.9 | L25: =VLOOKUP(A25,'Données ED'!$A$6:$AB$101,12,0) -> 20.1 | M25: =VLOOKUP(A25,'Données ED'!$A$6:$AB$101,13,0) -> 7.7 | N25: =VLOOKUP(A25,'Données ED'!$A$6:$AB$101,14,0) -> 0.2 | O25: =VLOOKUP(A25,'Données ED'!$A$6:$AB$101,15,0) -> 27.6 | P25: =VLOOKUP(A25,'Données ED'!$A$6:$AB$101,16,0) -> 520 | Q25: =VLOOKUP(A25,'Données ED'!$A$6:$AB$101,17,0) -> 0.6 | R25: =VLOOKUP(A25,'Données ED'!$A$6:$AB$101,18,0) -> 0 | S25: =VLOOKUP(A25,'Données ED'!$A$6:$AB$101,19,0) -> 0 | T25: =VLOOKUP(A25,'Données ED'!$A$6:$AB$101,20,0) -> 11.7 | U25: =VLOOKUP(A25,'Données ED'!$A$6:$AB$101,21,0) -> 13.6 | V25: =VLOOKUP(A25,'Données ED'!$A$6:$AB$101,22,0) -> 7.5 | W25: =VLOOKUP(A25,'Données ED'!$A$6:$AB$101,23,0) -> 0.15 | X25: =VLOOKUP(A25,'Données ED'!$A$6:$AB$101,24,0) -> 13.2 | Y25: =VLOOKUP(A25,'Données ED'!$A$6:$AB$101,25,0) -> 400 | Z25: =VLOOKUP(A25,'Données ED'!$A$6:$AB$101,26,0) -> 0.4 | AA25: =VLOOKUP(A25,'Données ED'!$A$6:$AB$101,27,0) -> 0 | AB25: =VLOOKUP(A25,'Données ED'!$A$6:$AB$101,28,0) -> 0 | AC25: =AVERAGE(B25,K25,T25) -> 13.466667 | AD25: =AVERAGE(C25,L25,U25) -> 15.666667 | AE25: =AVERAGE(D25,M25,V25) -> 7.6 | AF25: =AVERAGE(E25,N25,W25) -> 0.18333333 | AG25: =AVERAGE(F25,O25,X25) -> 19.533333 | AH25: =AVERAGE(G25,P25,Y25) -> 445 | AI25: =AVERAGE(H25,Q25,Z25) -> 0.5 | AJ25: =AVERAGE(I25,R25,AA25) -> 0 | AK25: =AVERAGE(J25,S25,AB25) -> 0
A26: =EDATE(A25, 1) -> 40045 | B26: =VLOOKUP(A26,'Données ED'!$A$6:$AB$101,2,0) -> 11.2 | C26: =VLOOKUP(A26,'Données ED'!$A$6:$AB$101,3,0) -> 14.7 | D26: =VLOOKUP(A26,'Données ED'!$A$6:$AB$101,4,0) -> 7.75 | E26: =VLOOKUP(A26,'Données ED'!$A$6:$AB$101,5,0) -> 0.1 | F26: =VLOOKUP(A26,'Données ED'!$A$6:$AB$101,6,0) -> 18.3 | G26: =VLOOKUP(A26,'Données ED'!$A$6:$AB$101,7,0) -> 420 | H26: =VLOOKUP(A26,'Données ED'!$A$6:$AB$101,8,0) -> 0.4 | I26: =VLOOKUP(A26,'Données ED'!$A$6:$AB$101,9,0) -> 6 | J26: =VLOOKUP(A26,'Données ED'!$A$6:$AB$101,10,0) -> 10 | K26: =VLOOKUP(A26,'Données ED'!$A$6:$AB$101,11,0) -> 16.7 | L26: =VLOOKUP(A26,'Données ED'!$A$6:$AB$101,12,0) -> 21.7 | M26: =VLOOKUP(A26,'Données ED'!$A$6:$AB$101,13,0) -> 7.7 | N26: =VLOOKUP(A26,'Données ED'!$A$6:$AB$101,14,0) -> 0.2 | O26: =VLOOKUP(A26,'Données ED'!$A$6:$AB$101,15,0) -> 28.7 | P26: =VLOOKUP(A26,'Données ED'!$A$6:$AB$101,16,0) -> 500 | Q26: =VLOOKUP(A26,'Données ED'!$A$6:$AB$101,17,0) -> 0.3 | R26: =VLOOKUP(A26,'Données ED'!$A$6:$AB$101,18,0) -> 0 | S26: =VLOOKUP(A26,'Données ED'!$A$6:$AB$101,19,0) -> 0 | T26: =VLOOKUP(A26,'Données ED'!$A$6:$AB$101,20,0) -> 12.3 | U26: =VLOOKUP(A26,'Données ED'!$A$6:$AB$101,21,0) -> 15.6 | V26: =VLOOKUP(A26,'Données ED'!$A$6:$AB$101,22,0) -> 7.7 | W26: =VLOOKUP(A26,'Données ED'!$A$6:$AB$101,23,0) -> 0.1 | X26: =VLOOKUP(A26,'Données ED'!$A$6:$AB$101,24,0) -> 13.7 | Y26: =VLOOKUP(A26,'Données ED'!$A$6:$AB$101,25,0) -> 410 | Z26: =VLOOKUP(A26,'Données ED'!$A$6:$AB$101,26,0) -> 0.3 | AA26: =VLOOKUP(A26,'Données ED'!$A$6:$AB$101,27,0) -> 1 | AB26: =VLOOKUP(A26,'Données ED'!$A$6:$AB$101,28,0) -> 0 | AC26: =AVERAGE(B26,K26,T26) -> 13.4 | AD26: =AVERAGE(C26,L26,U26) -> 17.333333 | AE26: =AVERAGE(D26,M26,V26) -> 7.7166667 | AF26: =AVERAGE(E26,N26,W26) -> 0.13333333 | AG26: =AVERAGE(F26,O26,X26) -> 20.233333 | AH26: =AVERAGE(G26,P26,Y26) -> 443.33333 | AI26: =AVERAGE(H26,Q26,Z26) -> 0.33333333 | AJ26: =AVERAGE(I26,R26,AA26) -> 2.3333333 | AK26: =AVERAGE(J26,S26,AB26) -> 3.3333333
A27: =EDATE(A26, 1) -> 40076 | B27: =VLOOKUP(A27,'Données ED'!$A$6:$AB$101,2,0) -> 10.95 | C27: =VLOOKUP(A27,'Données ED'!$A$6:$AB$101,3,0) -> 14.25 | D27: =VLOOKUP(A27,'Données ED'!$A$6:$AB$101,4,0) -> 7.8 | E27: =VLOOKUP(A27,'Données ED'!$A$6:$AB$101,5,0) -> 0.125 | F27: =VLOOKUP(A27,'Données ED'!$A$6:$AB$101,6,0) -> 18.05 | G27: =VLOOKUP(A27,'Données ED'!$A$6:$AB$101,7,0) -> 417.5 | H27: =VLOOKUP(A27,'Données ED'!$A$6:$AB$101,8,0) -> 0.35 | I27: =VLOOKUP(A27,'Données ED'!$A$6:$AB$101,9,0) -> 2.5 | J27: =VLOOKUP(A27,'Données ED'!$A$6:$AB$101,10,0) -> 3 | K27: =VLOOKUP(A27,'Données ED'!$A$6:$AB$101,11,0) -> 17.15 | L27: =VLOOKUP(A27,'Données ED'!$A$6:$AB$101,12,0) -> 21.1 | M27: =VLOOKUP(A27,'Données ED'!$A$6:$AB$101,13,0) -> 7.6 | N27: =VLOOKUP(A27,'Données ED'!$A$6:$AB$101,14,0) -> 0.175 | O27: =VLOOKUP(A27,'Données ED'!$A$6:$AB$101,15,0) -> 28.3 | P27: =VLOOKUP(A27,'Données ED'!$A$6:$AB$101,16,0) -> 505 | Q27: =VLOOKUP(A27,'Données ED'!$A$6:$AB$101,17,0) -> 0.4 | R27: =VLOOKUP(A27,'Données ED'!$A$6:$AB$101,18,0) -> 0 | S27: =VLOOKUP(A27,'Données ED'!$A$6:$AB$101,19,0) -> 0 | T27: =VLOOKUP(A27,'Données ED'!$A$6:$AB$101,20,0) -> 12.1 | U27: =VLOOKUP(A27,'Données ED'!$A$6:$AB$101,21,0) -> 14.9 | V27: =VLOOKUP(A27,'Données ED'!$A$6:$AB$101,22,0) -> 7.8 | W27: =VLOOKUP(A27,'Données ED'!$A$6:$AB$101,23,0) -> 0.1 | X27: =VLOOKUP(A27,'Données ED'!$A$6:$AB$101,24,0) -> 13.6 | Y27: =VLOOKUP(A27,'Données ED'!$A$6:$AB$101,25,0) -> 405 | Z27: =VLOOKUP(A27,'Données ED'!$A$6:$AB$101,26,0) -> 0.3 | AA27: =VLOOKUP(A27,'Données ED'!$A$6:$AB$101,27,0) -> 0 | AB27: =VLOOKUP(A27,'Données ED'!$A$6:$AB$101,28,0) -> 2 | AC27: =AVERAGE(B27,K27,T27) -> 13.4 | AD27: =AVERAGE(C27,L27,U27) -> 16.75 | AE27: =AVERAGE(D27,M27,V27) -> 7.7333333 | AF27: =AVERAGE(E27,N27,W27) -> 0.13333333 | AG27: =AVERAGE(F27,O27,X27) -> 19.983333 | AH27: =AVERAGE(G27,P27,Y27) -> 442.5 | AI27: =AVERAGE(H27,Q27,Z27) -> 0.35 | AJ27: =AVERAGE(I27,R27,AA27) -> 0.83333333 | AK27: =AVERAGE(J27,S27,AB27) -> 1.6666667
A28: =EDATE(A27, 1) -> 40106 | B28: =VLOOKUP(A28,'Données ED'!$A$6:$AB$101,2,0) -> 11.2 | C28: =VLOOKUP(A28,'Données ED'!$A$6:$AB$101,3,0) -> 14 | D28: =VLOOKUP(A28,'Données ED'!$A$6:$AB$101,4,0) -> 7.7 | E28: =VLOOKUP(A28,'Données ED'!$A$6:$AB$101,5,0) -> 0.1 | F28: =VLOOKUP(A28,'Données ED'!$A$6:$AB$101,6,0) -> 17.6 | G28: =VLOOKUP(A28,'Données ED'!$A$6:$AB$101,7,0) -> 415 | H28: =VLOOKUP(A28,'Données ED'!$A$6:$AB$101,8,0) -> 0.3 | I28: =VLOOKUP(A28,'Données ED'!$A$6:$AB$101,9,0) -> 0 | J28: =VLOOKUP(A28,'Données ED'!$A$6:$AB$101,10,0) -> 0 | K28: =VLOOKUP(A28,'Données ED'!$A$6:$AB$101,11,0) -> #N/A | L28: =VLOOKUP(A28,'Données ED'!$A$6:$AB$101,12,0) -> #N/A | M28: =VLOOKUP(A28,'Données ED'!$A$6:$AB$101,13,0) -> #N/A | N28: =VLOOKUP(A28,'Données ED'!$A$6:$AB$101,14,0) -> #N/A | O28: =VLOOKUP(A28,'Données ED'!$A$6:$AB$101,15,0) -> #N/A | P28: =VLOOKUP(A28,'Données ED'!$A$6:$AB$101,16,0) -> #N/A | Q28: =VLOOKUP(A28,'Données ED'!$A$6:$AB$101,17,0) -> #N/A | R28: =VLOOKUP(A28,'Données ED'!$A$6:$AB$101,18,0) -> #N/A | S28: =VLOOKUP(A28,'Données ED'!$A$6:$AB$101,19,0) -> #N/A | T28: =VLOOKUP(A28,'Données ED'!$A$6:$AB$101,20,0) -> 11.3 | U28: =VLOOKUP(A28,'Données ED'!$A$6:$AB$101,21,0) -> 13.9 | V28: =VLOOKUP(A28,'Données ED'!$A$6:$AB$101,22,0) -> 7.6 | W28: =VLOOKUP(A28,'Données ED'!$A$6:$AB$101,23,0) -> 0.1 | X28: =VLOOKUP(A28,'Données ED'!$A$6:$AB$101,24,0) -> 13.5 | Y28: =VLOOKUP(A28,'Données ED'!$A$6:$AB$101,25,0) -> 390 | Z28: =VLOOKUP(A28,'Données ED'!$A$6:$AB$101,26,0) -> 0.4 | AA28: =VLOOKUP(A28,'Données ED'!$A$6:$AB$101,27,0) -> 1 | AB28: =VLOOKUP(A28,'Données ED'!$A$6:$AB$101,28,0) -> 3 | AC28: =AVERAGE(B28,K28,T28) -> #N/A | AD28: =AVERAGE(C28,L28,U28) -> #N/A | AE28: =AVERAGE(D28,M28,V28) -> #N/A | AF28: =AVERAGE(E28,N28,W28) -> #N/A | AG28: =AVERAGE(F28,O28,X28) -> #N/A | AH28: =AVERAGE(G28,P28,Y28) -> #N/A | AI28: =AVERAGE(H28,Q28,Z28) -> #N/A | AJ28: =AVERAGE(I28,R28,AA28) -> #N/A | AK28: =AVERAGE(J28,S28,AB28) -> #N/A
A29: =EDATE(A28, 1) -> 40137 | B29: =VLOOKUP(A29,'Données ED'!$A$6:$AB$101,2,0) -> 10.05 | C29: =VLOOKUP(A29,'Données ED'!$A$6:$AB$101,3,0) -> 14 | D29: =VLOOKUP(A29,'Données ED'!$A$6:$AB$101,4,0) -> 7.8 | E29: =VLOOKUP(A29,'Données ED'!$A$6:$AB$101,5,0) -> 0.2 | F29: =VLOOKUP(A29,'Données ED'!$A$6:$AB$101,6,0) -> 18.2 | G29: =VLOOKUP(A29,'Données ED'!$A$6:$AB$101,7,0) -> 397.5 | H29: =VLOOKUP(A29,'Données ED'!$A$6:$AB$101,8,0) -> 0.35 | I29: =VLOOKUP(A29,'Données ED'!$A$6:$AB$101,9,0) -> 10 | J29: =VLOOKUP(A29,'Données ED'!$A$6:$AB$101,10,0) -> 0 | K29: =VLOOKUP(A29,'Données ED'!$A$6:$AB$101,11,0) -> 17.5 | L29: =VLOOKUP(A29,'Données ED'!$A$6:$AB$101,12,0) -> 21.15 | M29: =VLOOKUP(A29,'Données ED'!$A$6:$AB$101,13,0) -> 7.6 | N29: =VLOOKUP(A29,'Données ED'!$A$6:$AB$101,14,0) -> 0.2 | O29: =VLOOKUP(A29,'Données ED'!$A$6:$AB$101,15,0) -> 28.85 | P29: =VLOOKUP(A29,'Données ED'!$A$6:$AB$101,16,0) -> 515 | Q29: =VLOOKUP(A29,'Données ED'!$A$6:$AB$101,17,0) -> 0.55 | R29: =VLOOKUP(A29,'Données ED'!$A$6:$AB$101,18,0) -> 0 | S29: =VLOOKUP(A29,'Données ED'!$A$6:$AB$101,19,0) -> 0 | T29: =VLOOKUP(A29,'Données ED'!$A$6:$AB$101,20,0) -> 10.65 | U29: =VLOOKUP(A29,'Données ED'!$A$6:$AB$101,21,0) -> 14.55 | V29: =VLOOKUP(A29,'Données ED'!$A$6:$AB$101,22,0) -> 7.35 | W29: =VLOOKUP(A29,'Données ED'!$A$6:$AB$101,23,0) -> 0.125 | X29: =VLOOKUP(A29,'Données ED'!$A$6:$AB$101,24,0) -> 13.4 | Y29: =VLOOKUP(A29,'Données ED'!$A$6:$AB$101,25,0) -> 382.5 | Z29: =VLOOKUP(A29,'Données ED'!$A$6:$AB$101,26,0) -> 0.35 | AA29: =VLOOKUP(A29,'Données ED'!$A$6:$AB$101,27,0) -> 13.5 | AB29: =VLOOKUP(A29,'Données ED'!$A$6:$AB$101,28,0) -> 15.5 | AC29: =AVERAGE(B29,K29,T29) -> 12.733333 | AD29: =AVERAGE(C29,L29,U29) -> 16.566667 | AE29: =AVERAGE(D29,M29,V29) -> 7.5833333 | AF29: =AVERAGE(E29,N29,W29) -> 0.175 | AG29: =AVERAGE(F29,O29,X29) -> 20.15 | AH29: =AVERAGE(G29,P29,Y29) -> 431.66667 | AI29: =AVERAGE(H29,Q29,Z29) -> 0.41666667 | AJ29: =AVERAGE(I29,R29,AA29) -> 7.8333333 | AK29: =AVERAGE(J29,S29,AB29) -> 5.1666667
A30: =EDATE(A29, 1) -> 40167 | B30: =VLOOKUP(A30,'Données ED'!$A$6:$AB$101,2,0) -> 10.1 | C30: =VLOOKUP(A30,'Données ED'!$A$6:$AB$101,3,0) -> 13.1 | D30: =VLOOKUP(A30,'Données ED'!$A$6:$AB$101,4,0) -> 8 | E30: =VLOOKUP(A30,'Données ED'!$A$6:$AB$101,5,0) -> 0.25 | F30: =VLOOKUP(A30,'Données ED'!$A$6:$AB$101,6,0) -> 18.1 | G30: =VLOOKUP(A30,'Données ED'!$A$6:$AB$101,7,0) -> 395 | H30: =VLOOKUP(A30,'Données ED'!$A$6:$AB$101,8,0) -> 0.4 | I30: =VLOOKUP(A30,'Données ED'!$A$6:$AB$101,9,0) -> 0 | J30: =IF(VLOOKUP(A30,'Données ED'!$A$6:$AB$101,10,0)="x","",VLOOKUP(A30,'Données ED'!$A$6:$AB$101,10,0)) -> 0 | K30: =VLOOKUP(A30,'Données ED'!$A$6:$AB$101,11,0) -> #N/A | L30: =VLOOKUP(A30,'Données ED'!$A$6:$AB$101,12,0) -> #N/A | M30: =VLOOKUP(A30,'Données ED'!$A$6:$AB$101,13,0) -> #N/A | N30: =VLOOKUP(A30,'Données ED'!$A$6:$AB$101,14,0) -> #N/A | O30: =VLOOKUP(A30,'Données ED'!$A$6:$AB$101,15,0) -> #N/A | P30: =VLOOKUP(A30,'Données ED'!$A$6:$AB$101,16,0) -> #N/A | Q30: =IF(VLOOKUP(A30,'Données ED'!$A$6:$AB$101,17,0)="x","",VLOOKUP(A30,'Données ED'!$A$6:$AB$101,17,0)) -> #N/A | R30: =VLOOKUP(A30,'Données ED'!$A$6:$AB$101,18,0) -> #N/A | S30: =VLOOKUP(A30,'Données ED'!$A$6:$AB$101,19,0) -> #N/A | T30: =VLOOKUP(A30,'Données ED'!$A$6:$AB$101,20,0) -> #N/A | U30: =VLOOKUP(A30,'Données ED'!$A$6:$AB$101,21,0) -> #N/A | V30: =VLOOKUP(A30,'Données ED'!$A$6:$AB$101,22,0) -> #N/A | W30: =VLOOKUP(A30,'Données ED'!$A$6:$AB$101,23,0) -> #N/A | X30: =VLOOKUP(A30,'Données ED'!$A$6:$AB$101,24,0) -> #N/A | Y30: =VLOOKUP(A30,'Données ED'!$A$6:$AB$101,25,0) -> #N/A | Z30: =VLOOKUP(A30,'Données ED'!$A$6:$AB$101,26,0) -> #N/A | AA30: =VLOOKUP(A30,'Données ED'!$A$6:$AB$101,27,0) -> #N/A | AB30: =VLOOKUP(A30,'Données ED'!$A$6:$AB$101,28,0) -> #N/A | AC30: =AVERAGE(B30,K30,T30) -> #N/A | AD30: =AVERAGE(C30,L30,U30) -> #N/A | AE30: =AVERAGE(D30,M30,V30) -> #N/A | AF30: =AVERAGE(E30,N30,W30) -> #N/A | AG30: =AVERAGE(F30,O30,X30) -> #N/A | AH30: =AVERAGE(G30,P30,Y30) -> #N/A | AI30: =AVERAGE(H30,Q30,Z30) -> #N/A | AJ30: =AVERAGE(I30,R30,AA30) -> #N/A | AK30: =AVERAGE(J30,S30,AB30) -> #N/A
A31: ="Moyenne " &J1-1 -> Moyenne 2009 | B31: {=AVERAGE(IF(ISNUMBER(B19:B30),B19:B30))} -> 10.804167 | C31: {=AVERAGE(IF(ISNUMBER(C19:C30),C19:C30))} -> 14.104167 | D31: {=AVERAGE(IF(ISNUMBER(D19:D30),D19:D30))} -> 7.7375 | E31: {=AVERAGE(IF(ISNUMBER(E19:E30),E19:E30))} -> 0.79166667 | F31: {=AVERAGE(IF(ISNUMBER(F19:F30),F19:F30))} -> 18.195833 | G31: {=AVERAGE(IF(ISNUMBER(G19:G30),G19:G30))} -> 416.04167 | H31: {=AVERAGE(IF(ISNUMBER(H19:H30),H19:H30))} -> 0.36666667 | I31: {=AVERAGE(IF(ISNUMBER(I19:I30),I19:I30))} -> 4.4166667 | ... AK31: {=AVERAGE(IF(ISNUMBER(AK19:AK30),AK19:AK30))} -> 1.55

Sheet Données C-F
B1: Les Pieux
B2: Haut [C] | G2: Les Friquets [F] | L2: Rue Brulée [F] | Q2: La Malaiserie [F] | V2: La Motterie [F]
B3: TAC | C3: TH | D3: pH | E3: Turbidité | F3: Nitrates | G3: TAC | H3: TH | I3: pH | J3: Turbidité | K3: Nitrates | L3: TAC | M3: TH | N3: pH | O3: Turbidité | P3: Nitrates | Q3: TAC | R3: TH | S3: pH | T3: Turbidité | U3: Nitrates | V3: TAC | W3: TH | X3: pH | Y3: Turbidité | Z3: Nitrates
B4: (°F) | C4: (°F) | D4: 1 | E4: (NFU) | F4: (mg/L) | G4: (°F) | H4: (°F) | I4: 1 | J4: (NFU) | K4: (mg/L) | L4: (°F) | M4: (°F) | N4: 1 | O4: (NFU) | P4: (mg/L) | Q4: (°F) | R4: (°F) | S4: 1 | T4: (NFU) | U4: (mg/L) | V4: (°F) | W4: (°F) | X4: 1 | Y4: (NFU) | Z4: (mg/L)
A5: 2008 | B5: 2 | C5: 7.7 | D5: 5.7 | E5: 0.15 | F5: 21 | G5: 4.2 | H5: 6.8 | I5: 6.2 | J5: 0.2 | K5: 17.5 | L5: 3 | M5: 5.2 | N5: 6.1 | O5: 0.15 | P5: 13.6 | Q5: 3.1 | R5: 6.2 | S5: 6 | T5: 0.2 | U5: 15.7 | V5: 3.5 | W5: 6.2 | X5: 6.1 | Y5: 0.15 | Z5: 13.8
A6: 2009 | B6: 2 | C6: 8.3 | D6: 5.65 | E6: 0.2 | F6: 21.4 | G6: 4.1 | H6: 7.8 | I6: 6 | J6: 0.1 | K6: 21.3 | L6: 2.8 | M6: 6.5 | N6: 5.8 | O6: 0.3 | P6: 17.2 | Q6: 3.1 | R6: 6.7 | S6: 5.75 | T6: 0.3 | U6: 17.6 | V6: 4.1 | W6: 8.1 | X6: 6 | Y6: 0.15 | Z6: 17.9
A7: 2010 | B7: 2 | C7: 7.2 | D7: 5.6 | E7: 0.35 | F7: 21.8 | G7: 4.1 | H7: 6.6 | I7: 6 | J7: 0.15 | K7: 23.6 | L7: 2.9 | M7: 5 | N7: 5.95 | O7: 0.2 | P7: 18.4 | Q7: 3.1 | R7: 5.9 | S7: 5.75 | T7: 0.1 | U7: 18 | V7: 4 | W7: 6.5 | X7: 5.85 | Y7: 8.4 | Z7: 17.3
A8: 2011
A9: 2012
A10: 2013
A11: 2014
A12: 2015
B14: Grosville
B15: La Durelle [C] | G15: La Dielette [C] | L15: Belle Fontaine [C] | Q15: Les Fontaines [F] | V15: Hameau Hairon [F]
B16: TAC | C16: TH | D16: pH | E16: Turbidité | F16: Nitrates | G16: TAC | H16: TH | I16: pH | J16: Turbidité | K16: Nitrates | L16: TAC | M16: TH | N16: pH | O16: Turbidité | P16: Nitrates | Q16: TAC | R16: TH | S16: pH | T16: Turbidité | U16: Nitrates | V16: TAC | W16: TH | X16: pH | Y16: Turbidité | Z16: Nitrates
B17: (°F) | C17: (°F) | D17: 1 | E17: (NFU) | F17: (mg/L) | G17: (°F) | H17: (°F) | I17: 1 | J17: (NFU) | K17: (mg/L) | L17: (°F) | M17: (°F) | N17: 1 | O17: (NFU) | P17: (mg/L) | Q17: (°F) | R17: (°F) | S17: 1 | T17: (NFU) | U17: (mg/L) | V17: (°F) | W17: (°F) | X17: 1 | Y17: (NFU) | Z17: (mg/L)
A18: 2008 | B18: 3.8 | C18: 7.9 | D18: 5.9 | E18: 0.15 | F18: 24.6 | G18: 6.2 | H18: 11.5 | I18: 6.3 | J18: 0.1 | K18: 28.2 | L18: 6.1 | M18: 9.7 | N18: 6.3 | O18: 0.5 | P18: 27.8 | Q18: 5.1 | R18: 9.7 | S18: 6.4 | T18: 0.1 | U18: 30.1 | V18: 7.2 | W18: 11.3 | X18: 6.2 | Y18: 0.25 | Z18: 20.1
A19: 2009 | B19: 3.8 | C19: 6.5 | D19: 5.9 | E19: 0.1 | F19: 26.3 | G19: 6.1 | H19: 9.1 | I19: 6.3 | J19: 0.1 | K19: 29.5 | L19: 6.1 | M19: 9.2 | N19: 6.4 | O19: 0.15 | P19: 29 | Q19: 5.2 | R19: 8.9 | S19: 6.2 | T19: 0.35 | U19: 32.2 | V19: 7.3 | W19: 9.1 | X19: 6.4 | Y19: 0.2 | Z19: 21.9
A20: 2010 | B20: 3.9 | C20: 5.3 | D20: 5.7 | E20: 0.1 | F20: 24.7 | G20: 6.1 | H20: 9 | I20: 5.9 | J20: 0.15 | K20: 27.9 | L20: 6.1 | M20: 9.3 | N20: 6.1 | O20: 0.4 | P20: 26.7 | Q20: 5.2 | R20: 8.8 | S20: 6.1 | T20: 0.1 | U20: 29.9 | V20: 7.3 | W20: 9 | X20: 6.1 | Y20: 0.1 | Z20: 20.3
A21: 2011
A22: 2012
A23: 2013
A24: 2014
A25: 2015
B27: Teurthéville
B28: La Tourelle [C] | G28: Les Coutours [F]
B29: TAC | C29: TH | D29: pH | E29: Turbidité | F29: Nitrates | G29: TAC | H29: TH | I29: pH | J29: Turbidité | K29: Nitrates
B30: (°F) | C30: (°F) | D30: 1 | E30: (NFU) | F30: (mg/L) | G30: (°F) | H30: (°F) | I30: 1 | J30: (NFU) | K30: (mg/L)
A31: 2008 | B31: 3.1 | C31: 8.9 | D31: 0.1 | E31: 0.1 | F31: 13.6 | G31: 2.1 | H31: 7 | I31: 10.8 | J31: 0.1 | K31: 7.3
A32: 2009 | B32: 3.2 | C32: 6.5 | D32: 6.2 | E32: 0.4 | F32: 15.2 | G32: 2.1 | H32: 5 | I32: 5.7 | J32: 0.55 | K32: 7.8
A33: 2010 | B33: 3 | C33: 5.6 | D33: 5.95 | E33: 0.1 | F33: 16.7 | G33: 2.1 | H33: 3.9 | I33: 5.65 | J33: 0.1 | K33: 8
A34: 2011
A35: 2012
A36: 2013
A37: 2014
A38: 2015

Sheet Analyses C-F
B1: Données Calculées
B2: Général
B3: TAC | D3: TH | F3: pH | H3: Turbidité | J3: Nitrates | M3: =B16& " Captages " -> TAC Captages | N3: =D16& " Captages " -> TH Captages | O3: =F16& " Captages " -> pH Captages | P3: =H16& " Captages " -> Turbidité Captages | Q3: =J16& " Captages " -> Nitrates Captages
B4: Capt | C4: For | D4: Capt | E4: For | F4: Capt | G4: For | H4: Capt | I4: For | J4: Capt | K4: For | M4: TAC Forages | N4: TH Forages | O4: pH Forages | P4: Turbidité Forages | Q4: Nitrates Forages
A5: 2008 | B5: =AVERAGE('Données C-F'!B18,'Données C-F'!G18,'Données C-F'!L18,'Données C-F'!B5,'Données C-F'!B31) -> 4.24 | C5: =AVERAGE('Données C-F'!Q18,'Données C-F'!V18,'Données C-F'!G5,'Données C-F'!L5,'Données C-F'!Q5,'Données C-F'!V5,'Données C-F'!G31) -> 4.0285714 | D5: =AVERAGE('Données C-F'!C18,'Données C-F'!H18,'Données C-F'!M18,'Données C-F'!C5,'Données C-F'!C31) -> 9.14 | E5: =AVERAGE('Données C-F'!R18,'Données C-F'!W18,'Données C-F'!H5,'Données C-F'!M5,'Données C-F'!R5,'Données C-F'!W5,'Données C-F'!H31) -> 7.4857143 | F5: =AVERAGE('Données C-F'!D18,'Données C-F'!I18,'Données C-F'!N18,'Données C-F'!D5,'Données C-F'!I5,'Données C-F'!D31) -> 5.0833333 | G5: =AVERAGE('Données C-F'!S18,'Données C-F'!X18,'Données C-F'!I5,'Données C-F'!N5,'Données C-F'!S5,'Données C-F'!X5,'Données C-F'!I31) -> 6.8285714 | H5: =AVERAGE('Données C-F'!E18,'Données C-F'!J18,'Données C-F'!O18,'Données C-F'!E5,'Données C-F'!J5,'Données C-F'!E31) -> 0.2 | I5: =AVERAGE('Données C-F'!T18,'Données C-F'!Y18,'Données C-F'!J5,'Données C-F'!O5,'Données C-F'!T5,'Données C-F'!Y5,'Données C-F'!J31) -> 0.16428571 | J5: =AVERAGE('Données C-F'!F18,'Données C-F'!K18,'Données C-F'!P18,'Données C-F'!F5,'Données C-F'!F31) -> 23.04 | K5: =AVERAGE('Données C-F'!U18,'Données C-F'!Z18,'Données C-F'!K5,'Données C-F'!P5,'Données C-F'!U5,'Données C-F'!Z5,'Données C-F'!K31) -> 16.871429
A6: 2009 | B6: =AVERAGE('Données C-F'!B19,'Données C-F'!G19,'Données C-F'!L19,'Données C-F'!B6,'Données C-F'!B32) -> 4.24 | C6: =AVERAGE('Données C-F'!Q19,'Données C-F'!V19,'Données C-F'!G6,'Données C-F'!L6,'Données C-F'!Q6,'Données C-F'!V6,'Données C-F'!G32) -> 4.1 | D6: =AVERAGE('Données C-F'!C19,'Données C-F'!H19,'Données C-F'!M19,'Données C-F'!C6,'Données C-F'!C32) -> 7.92 | E6: =AVERAGE('Données C-F'!R19,'Données C-F'!W19,'Données C-F'!H6,'Données C-F'!M6,'Données C-F'!R6,'Données C-F'!W6,'Données C-F'!H32) -> 7.4428571 | F6: =AVERAGE('Données C-F'!D19,'Données C-F'!I19,'Données C-F'!N19,'Données C-F'!D6,'Données C-F'!I6,'Données C-F'!D32) -> 6.075 | G6: =AVERAGE('Données C-F'!S19,'Données C-F'!X19,'Données C-F'!I6,'Données C-F'!N6,'Données C-F'!S6,'Données C-F'!X6,'Données C-F'!I32) -> 5.9785714 | H6: =AVERAGE('Données C-F'!E19,'Données C-F'!J19,'Données C-F'!O19,'Données C-F'!E6,'Données C-F'!J6,'Données C-F'!E32) -> 0.175 | I6: =AVERAGE('Données C-F'!T19,'Données C-F'!Y19,'Données C-F'!J6,'Données C-F'!O6,'Données C-F'!T6,'Données C-F'!Y6,'Données C-F'!J32) -> 0.27857143 | J6: =AVERAGE('Données C-F'!F19,'Données C-F'!K19,'Données C-F'!P19,'Données C-F'!F6,'Données C-F'!F32) -> 24.28 | K6: =AVERAGE('Données C-F'!U19,'Données C-F'!Z19,'Données C-F'!K6,'Données C-F'!P6,'Données C-F'!U6,'Données C-F'!Z6,'Données C-F'!K32) -> 19.414286
A7: 2010 | B7: =AVERAGE('Données C-F'!B20,'Données C-F'!G20,'Données C-F'!L20,'Données C-F'!B7,'Données C-F'!B33) -> 4.22 | C7: =AVERAGE('Données C-F'!Q20,'Données C-F'!V20,'Données C-F'!G7,'Données C-F'!L7,'Données C-F'!Q7,'Données C-F'!V7,'Données C-F'!G33) -> 4.1 | D7: =AVERAGE('Données C-F'!C20,'Données C-F'!H20,'Données C-F'!M20,'Données C-F'!C7,'Données C-F'!C33) -> 7.28 | E7: =AVERAGE('Données C-F'!R20,'Données C-F'!W20,'Données C-F'!H7,'Données C-F'!M7,'Données C-F'!R7,'Données C-F'!W7,'Données C-F'!H33) -> 6.5285714 | F7: =AVERAGE('Données C-F'!D20,'Données C-F'!I20,'Données C-F'!N20,'Données C-F'!D7,'Données C-F'!I7,'Données C-F'!D33) -> 5.875 | G7: =AVERAGE('Données C-F'!S20,'Données C-F'!X20,'Données C-F'!I7,'Données C-F'!N7,'Données C-F'!S7,'Données C-F'!X7,'Données C-F'!I33) -> 5.9142857 | H7: =AVERAGE('Données C-F'!E20,'Données C-F'!J20,'Données C-F'!O20,'Données C-F'!E7,'Données C-F'!J7,'Données C-F'!E33) -> 0.20833333 | I7: =AVERAGE('Données C-F'!T20,'Données C-F'!Y20,'Données C-F'!J7,'Données C-F'!O7,'Données C-F'!T7,'Données C-F'!Y7,'Données C-F'!J33) -> 1.3071429 | J7: =AVERAGE('Données C-F'!F20,'Données C-F'!K20,'Données C-F'!P20,'Données C-F'!F7,'Données C-F'!F33) -> 23.56 | K7: =AVERAGE('Données C-F'!U20,'Données C-F'!Z20,'Données C-F'!K7,'Données C-F'!P7,'Données C-F'!U7,'Données C-F'!Z7,'Données C-F'!K33) -> 19.357143
A8: 2011 | B8: =AVERAGE('Données C-F'!B21,'Données C-F'!G21,'Données C-F'!L21,'Données C-F'!B8,'Données C-F'!B34) -> #DIV/0! | C8: =AVERAGE('Données C-F'!Q21,'Données C-F'!V21,'Données C-F'!G8,'Données C-F'!L8,'Données C-F'!Q8,'Données C-F'!V8,'Données C-F'!G34) -> #DIV/0! | D8: =AVERAGE('Données C-F'!C21,'Données C-F'!H21,'Données C-F'!M21,'Données C-F'!C8,'Données C-F'!C34) -> #DIV/0! | E8: =AVERAGE('Données C-F'!R21,'Données C-F'!W21,'Données C-F'!H8,'Données C-F'!M8,'Données C-F'!R8,'Données C-F'!W8,'Données C-F'!H34) -> #DIV/0! | F8: =AVERAGE('Données C-F'!D21,'Données C-F'!I21,'Données C-F'!N21,'Données C-F'!D8,'Données C-F'!I8,'Données C-F'!D34) -> #DIV/0! | G8: =AVERAGE('Données C-F'!S21,'Données C-F'!X21,'Données C-F'!I8,'Données C-F'!N8,'Données C-F'!S8,'Données C-F'!X8,'Données C-F'!I34) -> #DIV/0! | H8: =AVERAGE('Données C-F'!E21,'Données C-F'!J21,'Données C-F'!O21,'Données C-F'!E8,'Données C-F'!J8,'Données C-F'!E34) -> #DIV/0! | I8: =AVERAGE('Données C-F'!T21,'Données C-F'!Y21,'Données C-F'!J8,'Données C-F'!O8,'Données C-F'!T8,'Données C-F'!Y8,'Données C-F'!J34) -> #DIV/0! | J8: =AVERAGE('Données C-F'!F21,'Données C-F'!K21,'Données C-F'!P21,'Données C-F'!F8,'Données C-F'!F34) -> #DIV/0! | K8: =AVERAGE('Données C-F'!U21,'Données C-F'!Z21,'Données C-F'!K8,'Données C-F'!P8,'Données C-F'!U8,'Données C-F'!Z8,'Données C-F'!K34) -> #DIV/0!
A9: 2012 | B9: =AVERAGE('Données C-F'!B22,'Données C-F'!G22,'Données C-F'!L22,'Données C-F'!B9,'Données C-F'!B35) -> #DIV/0! | C9: =AVERAGE('Données C-F'!Q22,'Données C-F'!V22,'Données C-F'!G9,'Données C-F'!L9,'Données C-F'!Q9,'Données C-F'!V9,'Données C-F'!G35) -> #DIV/0! | D9: =AVERAGE('Données C-F'!C22,'Données C-F'!H22,'Données C-F'!M22,'Données C-F'!C9,'Données C-F'!C35) -> #DIV/0! | E9: =AVERAGE('Données C-F'!R22,'Données C-F'!W22,'Données C-F'!H9,'Données C-F'!M9,'Données C-F'!R9,'Données C-F'!W9,'Données C-F'!H35) -> #DIV/0! | F9: =AVERAGE('Données C-F'!D22,'Données C-F'!I22,'Données C-F'!N22,'Données C-F'!D9,'Données C-F'!I9,'Données C-F'!D35) -> #DIV/0! | G9: =AVERAGE('Données C-F'!S22,'Données C-F'!X22,'Données C-F'!I9,'Données C-F'!N9,'Données C-F'!S9,'Données C-F'!X9,'Données C-F'!I35) -> #DIV/0! | H9: =AVERAGE('Données C-F'!E22,'Données C-F'!J22,'Données C-F'!O22,'Données C-F'!E9,'Données C-F'!J9,'Données C-F'!E35) -> #DIV/0! | I9: =AVERAGE('Données C-F'!T22,'Données C-F'!Y22,'Données C-F'!J9,'Données C-F'!O9,'Données C-F'!T9,'Données C-F'!Y9,'Données C-F'!J35) -> #DIV/0! | J9: =AVERAGE('Données C-F'!F22,'Données C-F'!K22,'Données C-F'!P22,'Données C-F'!F9,'Données C-F'!F35) -> #DIV/0! | K9: =AVERAGE('Données C-F'!U22,'Données C-F'!Z22,'Données C-F'!K9,'Données C-F'!P9,'Données C-F'!U9,'Données C-F'!Z9,'Données C-F'!K35) -> #DIV/0!
A10: 2013 | B10: =AVERAGE('Données C-F'!B23,'Données C-F'!G23,'Données C-F'!L23,'Données C-F'!B10,'Données C-F'!B36) -> #DIV/0! | C10: =AVERAGE('Données C-F'!Q23,'Données C-F'!V23,'Données C-F'!G10,'Données C-F'!L10,'Données C-F'!Q10,'Données C-F'!V10,'Données C-F'!G36) -> #DIV/0! | D10: =AVERAGE('Données C-F'!C23,'Données C-F'!H23,'Données C-F'!M23,'Données C-F'!C10,'Données C-F'!C36) -> #DIV/0! | E10: =AVERAGE('Données C-F'!R23,'Données C-F'!W23,'Données C-F'!H10,'Données C-F'!M10,'Données C-F'!R10,'Données C-F'!W10,'Données C-F'!H36) -> #DIV/0! | F10: =AVERAGE('Données C-F'!D23,'Données C-F'!I23,'Données C-F'!N23,'Données C-F'!D10,'Données C-F'!I10,'Données C-F'!D36) -> #DIV/0! | G10: =AVERAGE('Données C-F'!S23,'Données C-F'!X23,'Données C-F'!I10,'Données C-F'!N10,'Données C-F'!S10,'Données C-F'!X10,'Données C-F'!I36) -> #DIV/0! | H10: =AVERAGE('Données C-F'!E23,'Données C-F'!J23,'Données C-F'!O23,'Données C-F'!E10,'Données C-F'!J10,'Données C-F'!E36) -> #DIV/0! | I10: =AVERAGE('Données C-F'!T23,'Données C-F'!Y23,'Données C-F'!J10,'Données C-F'!O10,'Données C-F'!T10,'Données C-F'!Y10,'Données C-F'!J36) -> #DIV/0! | J10: =AVERAGE('Données C-F'!F23,'Données C-F'!K23,'Données C-F'!P23,'Données C-F'!F10,'Données C-F'!F36) -> #DIV/0! | K10: =AVERAGE('Données C-F'!U23,'Données C-F'!Z23,'Données C-F'!K10,'Données C-F'!P10,'Données C-F'!U10,'Données C-F'!Z10,'Données C-F'!K36) -> #DIV/0!
A11: 2014 | B11: =AVERAGE('Données C-F'!B24,'Données C-F'!G24,'Données C-F'!L24,'Données C-F'!B11,'Données C-F'!B37) -> #DIV/0! | C11: =AVERAGE('Données C-F'!Q24,'Données C-F'!V24,'Données C-F'!G11,'Données C-F'!L11,'Données C-F'!Q11,'Données C-F'!V11,'Données C-F'!G37) -> #DIV/0! | D11: =AVERAGE('Données C-F'!C24,'Données C-F'!H24,'Données C-F'!M24,'Données C-F'!C11,'Données C-F'!C37) -> #DIV/0! | E11: =AVERAGE('Données C-F'!R24,'Données C-F'!W24,'Données C-F'!H11,'Données C-F'!M11,'Données C-F'!R11,'Données C-F'!W11,'Données C-F'!H37) -> #DIV/0! | F11: =AVERAGE('Données C-F'!D24,'Données C-F'!I24,'Données C-F'!N24,'Données C-F'!D11,'Données C-F'!I11,'Données C-F'!D37) -> #DIV/0! | G11: =AVERAGE('Données C-F'!S24,'Données C-F'!X24,'Données C-F'!I11,'Données C-F'!N11,'Données C-F'!S11,'Données C-F'!X11,'Données C-F'!I37) -> #DIV/0! | H11: =AVERAGE('Données C-F'!E24,'Données C-F'!J24,'Données C-F'!O24,'Données C-F'!E11,'Données C-F'!J11,'Données C-F'!E37) -> #DIV/0! | I11: =AVERAGE('Données C-F'!T24,'Données C-F'!Y24,'Données C-F'!J11,'Données C-F'!O11,'Données C-F'!T11,'Données C-F'!Y11,'Données C-F'!J37) -> #DIV/0! | J11: =AVERAGE('Données C-F'!F24,'Données C-F'!K24,'Données C-F'!P24,'Données C-F'!F11,'Données C-F'!F37) -> #DIV/0! | K11: =AVERAGE('Données C-F'!U24,'Données C-F'!Z24,'Données C-F'!K11,'Données C-F'!P11,'Données C-F'!U11,'Données C-F'!Z11,'Données C-F'!K37) -> #DIV/0!
A12: 2015 | B12: =AVERAGE('Données C-F'!B25,'Données C-F'!G25,'Données C-F'!L25,'Données C-F'!B12,'Données C-F'!B38) -> #DIV/0! | C12: =AVERAGE('Données C-F'!Q25,'Données C-F'!V25,'Données C-F'!G12,'Données C-F'!L12,'Données C-F'!Q12,'Données C-F'!V12,'Données C-F'!G38) -> #DIV/0! | D12: =AVERAGE('Données C-F'!C25,'Données C-F'!H25,'Données C-F'!M25,'Données C-F'!C12,'Données C-F'!C38) -> #DIV/0! | E12: =AVERAGE('Données C-F'!R25,'Données C-F'!W25,'Données C-F'!H12,'Données C-F'!M12,'Données C-F'!R12,'Données C-F'!W12,'Données C-F'!H38) -> #DIV/0! | F12: =AVERAGE('Données C-F'!D25,'Données C-F'!I25,'Données C-F'!N25,'Données C-F'!D12,'Données C-F'!I12,'Données C-F'!D38) -> #DIV/0! | G12: =AVERAGE('Données C-F'!S25,'Données C-F'!X25,'Données C-F'!I12,'Données C-F'!N12,'Données C-F'!S12,'Données C-F'!X12,'Données C-F'!I38) -> #DIV/0! | H12: =AVERAGE('Données C-F'!E25,'Données C-F'!J25,'Données C-F'!O25,'Données C-F'!E12,'Données C-F'!J12,'Données C-F'!E38) -> #DIV/0! | I12: =AVERAGE('Données C-F'!T25,'Données C-F'!Y25,'Données C-F'!J12,'Données C-F'!O12,'Données C-F'!T12,'Données C-F'!Y12,'Données C-F'!J38) -> #DIV/0! | J12: =AVERAGE('Données C-F'!F25,'Données C-F'!K25,'Données C-F'!P25,'Données C-F'!F12,'Données C-F'!F38) -> #DIV/0! | K12: =AVERAGE('Données C-F'!U25,'Données C-F'!Z25,'Données C-F'!K12,'Données C-F'!P12,'Données C-F'!U12,'Données C-F'!Z12,'Données C-F'!K38) -> #DIV/0!
B14: Séléctionner une Année: | K14: 2010
B15: ="Analyses " &K14 -> Analyses 2010
B16: TAC | D16: TH | F16: pH | H16: Turbidité | J16: Nitrates
B17: Capt | C17: For | D17: Capt | E17: For | F17: Capt | G17: For | H17: Capt | I17: For | J17: Capt | K17: For
A18: =K14 -> 2010 | B18: =VLOOKUP(A18,$A$5:$K$12,2,0) -> 4.22 | C18: =VLOOKUP(A18,$A$5:$K$12,3,0) -> 4.1 | D18: =VLOOKUP(A18,$A$5:$K$12,4,0) -> 7.28 | E18: =VLOOKUP(A18,$A$5:$K$12,5,0) -> 6.5285714 | F18: =VLOOKUP(A18,$A$5:$K$12,6,0) -> 5.875 | G18: =VLOOKUP(A18,$A$5:$K$12,7,0) -> 5.9142857 | H18: =VLOOKUP(A18,$A$5:$K$12,8,0) -> 0.20833333 | I18: =VLOOKUP(A18,$A$5:$K$12,9,0) -> 1.3071429 | J18: =VLOOKUP(A18,$A$5:$K$12,10,0) -> 23.56 | K18: =VLOOKUP(A18,$A$5:$K$12,11,0) -> 19.357143
A19: =K14-1 -> 2009 | B19: =VLOOKUP(A19,$A$5:$K$12,2,0) -> 4.24 | C19: =VLOOKUP(A19,$A$5:$K$12,3,0) -> 4.1 | D19: =VLOOKUP(A19,$A$5:$K$12,4,0) -> 7.92 | E19: =VLOOKUP(A19,$A$5:$K$12,5,0) -> 7.4428571 | F19: =VLOOKUP(A19,$A$5:$K$12,6,0) -> 6.075 | G19: =VLOOKUP(A19,$A$5:$K$12,7,0) -> 5.9785714 | H19: =VLOOKUP(A19,$A$5:$K$12,8,0) -> 0.175 | I19: =VLOOKUP(A19,$A$5:$K$12,9,0) -> 0.27857143 | J19: =VLOOKUP(A19,$A$5:$K$12,10,0) -> 24.28 | K19: =VLOOKUP(A19,$A$5:$K$12,11,0) -> 19.414286
A20: =K14-2 -> 2008 | B20: =VLOOKUP(A20,$A$5:$K$12,2,0) -> 4.24 | C20: =VLOOKUP(A20,$A$5:$K$12,3,0) -> 4.0285714 | D20: =VLOOKUP(A20,$A$5:$K$12,4,0) -> 9.14 | E20: =VLOOKUP(A20,$A$5:$K$12,5,0) -> 7.4857143 | F20: =VLOOKUP(A20,$A$5:$K$12,6,0) -> 5.0833333 | G20: =VLOOKUP(A20,$A$5:$K$12,7,0) -> 6.8285714 | H20: =VLOOKUP(A20,$A$5:$K$12,8,0) -> 0.2 | I20: =VLOOKUP(A20,$A$5:$K$12,9,0) -> 0.16428571 | J20: =VLOOKUP(A20,$A$5:$K$12,10,0) -> 23.04 | K20: =VLOOKUP(A20,$A$5:$K$12,11,0) -> 16.871429
