Workbook

Sheet aller
A1: Matchs aller
H2: classmt | I2: équipe | J2: pts | K2: G | L2: N | M2: P | N2: BP | O2: BC | P2: diff
A3: éq1 | B3: éq2 | C3: =RANDBETWEEN(0, 5) -> 0 | D3: =RANDBETWEEN(0, 5) -> 3 | E3: =IF(C3>D3,A3,IF(C3=D3,"nul",B3)) -> éq2
A4: éq1 | B4: éq3 | C4: =RANDBETWEEN(0, 5) -> 3 | D4: =RANDBETWEEN(0, 5) -> 0 | E4: =IF(C4>D4,A4,IF(C4=D4,"nul",B4)) -> éq1 | H4: 1 | I4: éq1 | J4: =3*COUNTIF($E$3:$E$21,"éq1")+COUNTIF($E$3:$E$21, "nul") -> 24 | K4: =COUNTIF($E$3:$E$21,"éq1") -> 7 | L4: =COUNTIF($E$3:$E$21,"nul") -> 3 | M4: =19-K4-L4 -> 9 | N4: =SUM(C3:C21) -> 38 | O4: =SUM(D3:D21) -> 45 | P4: =N4-O4 -> -7
A5: éq1 | B5: éq4 | C5: =RANDBETWEEN(0, 5) -> 2 | D5: =RANDBETWEEN(0, 5) -> 1 | E5: =IF(C5>D5,A5,IF(C5=D5,"nul",B5)) -> éq1 | H5: 2 | I5: éq2 | J5: =3*COUNTIF($E$23:$E$41,"éq2")+COUNTIF($E$23:$E$41, "nul") -> 33 | K5: =COUNTIF($E$23:$E$41,"éq2") -> 10 | L5: =COUNTIF($E$23:$E$41,"nul") -> 3 | M5: =19-K5-L5 -> 6 | N5: =SUM(C23:C41) -> 60 | O5: =SUM(D23:D41) -> 40 | P5: =N5-O5 -> 20
A6: éq1 | B6: éq5 | C6: =RANDBETWEEN(0, 5) -> 4 | D6: =RANDBETWEEN(0, 5) -> 3 | E6: =IF(C6>D6,A6,IF(C6=D6,"nul",B6)) -> éq1 | H6: 3 | I6: éq3 | J6: =3*COUNTIF($E$43:$E$61,"éq3")+COUNTIF($E$43:$E$61, "nul") -> 23 | K6: =COUNTIF($E$43:$E$61,"éq3") -> 6 | L6: =COUNTIF($E$43:$E$61,"nul") -> 5 | M6: =19-K6-L6 -> 8 | N6: =SUM(C43:C61) -> 50 | O6: =SUM(D43:D61) -> 54 | P6: =N6-O6 -> -4
A7: éq1 | B7: éq6 | C7: =RANDBETWEEN(0, 5) -> 0 | D7: =RANDBETWEEN(0, 5) -> 1 | E7: =IF(C7>D7,A7,IF(C7=D7,"nul",B7)) -> éq6 | H7: 4 | I7: éq4 | J7: =3*COUNTIF($E$63:$E$81,"éq4")+COUNTIF($E$63:$E$81, "nul") -> 22 | K7: =COUNTIF($E$63:$E$81,"éq4") -> 6 | L7: =COUNTIF($E$63:$E$81,"nul") -> 4 | M7: =19-K7-L7 -> 9 | N7: =SUM(C63:C81) -> 44 | O7: =SUM(D63:D81) -> 49 | P7: =N7-O7 -> -5
A8: éq1 | B8: éq7 | C8: =RANDBETWEEN(0, 5) -> 2 | D8: =RANDBETWEEN(0, 5) -> 4 | E8: =IF(C8>D8,A8,IF(C8=D8,"nul",B8)) -> éq7 | H8: 5 | I8: éq5 | J8: =3*COUNTIF($E$83:$E$101,"éq5")+COUNTIF($E$83:$E$101, "nul") -> 20 | K8: =COUNTIF($E$83:$E$101,"éq5") -> 5 | L8: =COUNTIF($E$83:$E$101,"nul") -> 5 | M8: =19-K8-L8 -> 9 | N8: =SUM(C83:C101) -> 48 | O8: =SUM(D83:D101) -> 56 | P8: =N8-O8 -> -8
A9: éq1 | B9: éq8 | C9: =RANDBETWEEN(0, 5) -> 3 | D9: =RANDBETWEEN(0, 5) -> 1 | E9: =IF(C9>D9,A9,IF(C9=D9,"nul",B9)) -> éq1 | H9: 6 | I9: éq6 | J9: =3*COUNTIF($E$103:$E$121,"éq6")+COUNTIF($E$103:$E$121, "nul") -> 32 | K9: =COUNTIF($E$103:$E$121,"éq6") -> 10 | L9: =COUNTIF($E$103:$E$121,"nul") -> 2 | M9: =19-K9-L9 -> 7 | N9: =SUM(C103:C121) -> 57 | O9: =SUM(D103:D121) -> 54 | P9: =N9-O9 -> 3
A10: éq1 | B10: éq9 | C10: =RANDBETWEEN(0, 5) -> 0 | D10: =RANDBETWEEN(0, 5) -> 5 | E10: =IF(C10>D10,A10,IF(C10=D10,"nul",B10)) -> éq9 | H10: 7 | I10: éq7 | J10: =3*COUNTIF($E$123:$E$141,"éq7")+COUNTIF($E$123:$E$141, "nul") -> 28 | K10: =COUNTIF($E$123:$E$141,"éq7") -> 8 | L10: =COUNTIF($E$123:$E$141,"nul") -> 4 | M10: =19-K10-L10 -> 7 | N10: =SUM(C123:C141) -> 44 | O10: =SUM(D123:D141) -> 42 | P10: =N10-O10 -> 2
A11: éq1 | B11: éq10 | C11: =RANDBETWEEN(0, 5) -> 0 | D11: =RANDBETWEEN(0, 5) -> 2 | E11: =IF(C11>D11,A11,IF(C11=D11,"nul",B11)) -> éq10 | H11: 8 | I11: éq8 | J11: =3*COUNTIF($E$143:$E$161,"éq8")+COUNTIF($E$143:$E$161, "nul") -> 28 | K11: =COUNTIF($E$143:$E$161,"éq8") -> 9 | L11: =COUNTIF($E$143:$E$161,"nul") -> 1 | M11: =19-K11-L11 -> 9 | N11: =SUM(C143:C161) -> 53 | O11: =SUM(D143:D161) -> 49 | P11: =N11-O11 -> 4
A12: éq1 | B12: éq11 | C12: =RANDBETWEEN(0, 5) -> 4 | D12: =RANDBETWEEN(0, 5) -> 4 | E12: =IF(C12>D12,A12,IF(C12=D12,"nul",B12)) -> nul | H12: 9 | I12: éq9 | J12: =3*COUNTIF($E$163:$E$181,"éq9")+COUNTIF($E$163:$E$181, "nul") -> 31 | K12: =COUNTIF($E$163:$E$181,"éq9") -> 10 | L12: =COUNTIF($E$163:$E$181,"nul") -> 1 | M12: =19-K12-L12 -> 8 | N12: =SUM(C163:C181) -> 58 | O12: =SUM(D163:D181) -> 52 | P12: =N12-O12 -> 6
A13: éq1 | B13: éq12 | C13: =RANDBETWEEN(0, 5) -> 3 | D13: =RANDBETWEEN(0, 5) -> 5 | E13: =IF(C13>D13,A13,IF(C13=D13,"nul",B13)) -> éq12 | H13: 10 | I13: éq10 | J13: =3*COUNTIF($E$183:$E$201,"éq10")+COUNTIF($E$183:$E$201, "nul") -> 40 | K13: =COUNTIF($E$183:$E$201,"éq10") -> 13 | L13: =COUNTIF($E$183:$E$201,"nul") -> 1 | M13: =19-K13-L13 -> 5 | N13: =SUM(C183:C201) -> 63 | O13: =SUM(D183:D201) -> 35 | P13: =N13-O13 -> 28
A14: éq1 | B14: éq13 | C14: =RANDBETWEEN(0, 5) -> 2 | D14: =RANDBETWEEN(0, 5) -> 0 | E14: =IF(C14>D14,A14,IF(C14=D14,"nul",B14)) -> éq1 | H14: 11 | I14: éq11 | J14: =3*COUNTIF($E$203:$E$221,"éq11")+COUNTIF($E$203:$E$221, "nul") -> 26 | K14: =COUNTIF($E$203:$E$221,"éq11") -> 8 | L14: =COUNTIF($E$203:$E$221,"nul") -> 2 | M14: =19-K14-L14 -> 9 | N14: =SUM(C203:C221) -> 45 | O14: =SUM(D203:D221) -> 52 | P14: =N14-O14 -> -7
A15: éq1 | B15: éq14 | C15: =RANDBETWEEN(0, 5) -> 1 | D15: =RANDBETWEEN(0, 5) -> 1 | E15: =IF(C15>D15,A15,IF(C15=D15,"nul",B15)) -> nul | H15: 12 | I15: éq12 | J15: =3*COUNTIF($E$223:$E$241,"éq12")+COUNTIF($E$223:$E$241, "nul") -> 30 | K15: =COUNTIF($E$223:$E$241,"éq12") -> 9 | L15: =COUNTIF($E$223:$E$241,"nul") -> 3 | M15: =19-K15-L15 -> 7 | N15: =SUM(C223:C241) -> 34 | O15: =SUM(D223:D241) -> 40 | P15: =N15-O15 -> -6
A16: éq1 | B16: éq15 | C16: =RANDBETWEEN(0, 5) -> 5 | D16: =RANDBETWEEN(0, 5) -> 2 | E16: =IF(C16>D16,A16,IF(C16=D16,"nul",B16)) -> éq1 | H16: 13 | I16: éq13 | J16: =3*COUNTIF($E$243:$E$261,"éq13")+COUNTIF($E$243:$E$261, "nul") -> 31 | K16: =COUNTIF($E$243:$E$261,"éq13") -> 10 | L16: =COUNTIF($E$243:$E$261,"nul") -> 1 | M16: =19-K16-L16 -> 8 | N16: =SUM(C243:C261) -> 51 | O16: =SUM(D243:D261) -> 49 | P16: =N16-O16 -> 2
A17: éq1 | B17: éq16 | C17: =RANDBETWEEN(0, 5) -> 0 | D17: =RANDBETWEEN(0, 5) -> 0 | E17: =IF(C17>D17,A17,IF(C17=D17,"nul",B17)) -> nul | H17: 14 | I17: éq14 | J17: =3*COUNTIF($E$263:$E$281,"éq14")+COUNTIF($E$263:$E$281, "nul") -> 25 | K17: =COUNTIF($E$263:$E$281,"éq14") -> 7 | L17: =COUNTIF($E$263:$E$281,"nul") -> 4 | M17: =19-K17-L17 -> 8 | N17: =SUM(C263:C281) -> 48 | O17: =SUM(D263:D281) -> 49 | P17: =N17-O17 -> -1
A18: éq1 | B18: éq17 | C18: =RANDBETWEEN(0, 5) -> 4 | D18: =RANDBETWEEN(0, 5) -> 3 | E18: =IF(C18>D18,A18,IF(C18=D18,"nul",B18)) -> éq1 | H18: 15 | I18: éq15 | J18: =3*COUNTIF($E$283:$E$301,"éq15")+COUNTIF($E$283:$E$301, "nul") -> 24 | K18: =COUNTIF($E$283:$E$301,"éq15") -> 7 | L18: =COUNTIF($E$283:$E$301,"nul") -> 3 | M18: =19-K18-L18 -> 9 | N18: =SUM(C283:C301) -> 48 | O18: =SUM(D283:D301) -> 46 | P18: =N18-O18 -> 2
A19: éq1 | B19: éq18 | C19: =RANDBETWEEN(0, 5) -> 0 | D19: =RANDBETWEEN(0, 5) -> 3 | E19: =IF(C19>D19,A19,IF(C19=D19,"nul",B19)) -> éq18 | H19: 16 | I19: éq16 | J19: =3*COUNTIF($E$303:$E$321,"éq16")+COUNTIF($E$303:$E$321, "nul") -> 32 | K19: =COUNTIF($E$303:$E$321,"éq16") -> 10 | L19: =COUNTIF($E$303:$E$321,"nul") -> 2 | M19: =19-K19-L19 -> 7 | N19: =SUM(C303:C321) -> 50 | O19: =SUM(D303:D321) -> 51 | P19: =N19-O19 -> -1
A20: éq1 | B20: éq19 | C20: =RANDBETWEEN(0, 5) -> 1 | D20: =RANDBETWEEN(0, 5) -> 2 | E20: =IF(C20>D20,A20,IF(C20=D20,"nul",B20)) -> éq19 | H20: 17 | I20: éq17 | J20: =3*COUNTIF($E$308:$E$341,"éq17")+COUNTIF($E$323:$E$341, "nul") -> 17 | K20: =COUNTIF($E$323:$E$341,"éq17") -> 5 | L20: =COUNTIF($E$321:$E$341,"nul") -> 2 | M20: =19-K20-L20 -> 12 | N20: =SUM(C323:C341) -> 38 | O20: =SUM(D323:D341) -> 55 | P20: =N20-O20 -> -17
A21: éq1 | B21: éq20 | C21: =RANDBETWEEN(0, 5) -> 4 | D21: =RANDBETWEEN(0, 5) -> 5 | E21: =IF(C21>D21,A21,IF(C21=D21,"nul",B21)) -> éq20 | H21: 18 | I21: éq18 | J21: =3*COUNTIF($E$308:$E$361,"éq18")+COUNTIF($E$343:$E$361, "nul") -> 28 | K21: =COUNTIF($E$343:$E$361,"éq18") -> 7 | L21: =COUNTIF($E$343:$E$361,"nul") -> 4 | M21: =19-K21-L21 -> 8 | N21: =SUM(C343:C361) -> 45 | O21: =SUM(D343:D361) -> 51 | P21: =N21-O21 -> -6
H22: 19 | I22: éq19 | J22: =3*COUNTIF($E$308:$E$381,"éq19")+COUNTIF($E$363:$E$381, "nul") -> 30 | K22: =COUNTIF($E$363:$E$381,"éq19") -> 7 | L22: =COUNTIF($E$363:$E$381,"nul") -> 6 | M22: =19-K22-L22 -> 6 | N22: =SUM(C363:C381) -> 44 | O22: =SUM(D363:D381) -> 48 | P22: =N22-O22 -> -4
A23: éq2 | B23: éq1 | C23: =D3 -> 3 | D23: =C3 -> 0 | E23: =IF(C23>D23,A23,IF(C23=D23,"nul",B23)) -> éq2 | H23: 20 | I23: éq20 | J23: =3*COUNTIF($E$308:$E$401,"éq20")+COUNTIF($E$383:$E$401, "nul") -> 31 | K23: =COUNTIF($E$383:$E$401,"éq20") -> 7 | L23: =COUNTIF($E$383:$E$401,"nul") -> 4 | M23: =19-K23-L23 -> 8 | N23: =SUM(C383:C401) -> 61 | O23: =SUM(D383:D401) -> 59 | P23: =N23-O23 -> 2
A24: éq2 | B24: éq3 | C24: =RANDBETWEEN(0, 5) -> 4 | D24: =RANDBETWEEN(0, 5) -> 3 | E24: =IF(C24>D24,A24,IF(C24=D24,"nul",B24)) -> éq2
A25: éq2 | B25: éq4 | C25: =RANDBETWEEN(0, 5) -> 4 | D25: =RANDBETWEEN(0, 5) -> 0 | E25: =IF(C25>D25,A25,IF(C25=D25,"nul",B25)) -> éq2
A26: éq2 | B26: éq5 | C26: =RANDBETWEEN(0, 5) -> 3 | D26: =RANDBETWEEN(0, 5) -> 3 | E26: =IF(C26>D26,A26,IF(C26=D26,"nul",B26)) -> nul
A27: éq2 | B27: éq6 | C27: =RANDBETWEEN(0, 5) -> 5 | D27: =RANDBETWEEN(0, 5) -> 5 | E27: =IF(C27>D27,A27,IF(C27=D27,"nul",B27)) -> nul
A28: éq2 | B28: éq7 | C28: =RANDBETWEEN(0, 5) -> 2 | D28: =RANDBETWEEN(0, 5) -> 3 | E28: =IF(C28>D28,A28,IF(C28=D28,"nul",B28)) -> éq7
A29: éq2 | B29: éq8 | C29: =RANDBETWEEN(0, 5) -> 5 | D29: =RANDBETWEEN(0, 5) -> 4 | E29: =IF(C29>D29,A29,IF(C29=D29,"nul",B29)) -> éq2
A30: éq2 | B30: éq9 | C30: =RANDBETWEEN(0, 5) -> 5 | D30: =RANDBETWEEN(0, 5) -> 0 | E30: =IF(C30>D30,A30,IF(C30=D30,"nul",B30)) -> éq2
A31: éq2 | B31: éq10 | C31: =RANDBETWEEN(0, 5) -> 2 | D31: =RANDBETWEEN(0, 5) -> 3 | E31: =IF(C31>D31,A31,IF(C31=D31,"nul",B31)) -> éq10
A32: éq2 | B32: éq11 | C32: =RANDBETWEEN(0, 5) -> 3 | D32: =RANDBETWEEN(0, 5) -> 4 | E32: =IF(C32>D32,A32,IF(C32=D32,"nul",B32)) -> éq11
A33: éq2 | B33: éq12 | C33: =RANDBETWEEN(0, 5) -> 1 | D33: =RANDBETWEEN(0, 5) -> 2 | E33: =IF(C33>D33,A33,IF(C33=D33,"nul",B33)) -> éq12
A34: éq2 | B34: éq13 | C34: =RANDBETWEEN(0, 5) -> 5 | D34: =RANDBETWEEN(0, 5) -> 1 | E34: =IF(C34>D34,A34,IF(C34=D34,"nul",B34)) -> éq2
A35: éq2 | B35: éq14 | C35: =RANDBETWEEN(0, 5) -> 4 | D35: =RANDBETWEEN(0, 5) -> 0 | E35: =IF(C35>D35,A35,IF(C35=D35,"nul",B35)) -> éq2
... A41: éq2 | B41: éq20 | C41: =RANDBETWEEN(0, 5) -> 4 | D41: =RANDBETWEEN(0, 5) -> 4 | E41: =IF(C41>D41,A41,IF(C41=D41,"nul",B41)) -> nul
A43: éq3 | B43: éq1 | C43: =D4 -> 0 | D43: =C4 -> 3 | E43: =IF(C43>D43,A43,IF(C43=D43,"nul",B43)) -> éq1
A44: éq3 | B44: éq2 | C44: =D24 -> 3 | D44: =C24 -> 4 | E44: =IF(C44>D44,A44,IF(C44=D44,"nul",B44)) -> éq2
A45: éq3 | B45: éq4 | C45: =RANDBETWEEN(0, 5) -> 2 | D45: =RANDBETWEEN(0, 5) -> 3 | E45: =IF(C45>D45,A45,IF(C45=D45,"nul",B45)) -> éq4
A46: éq3 | B46: éq5 | C46: =RANDBETWEEN(0, 5) -> 2 | D46: =RANDBETWEEN(0, 5) -> 4 | E46: =IF(C46>D46,A46,IF(C46=D46,"nul",B46)) -> éq5
...

Sheet retour
A1: Matchs retour
H2: classmt | I2: équipe | J2: pts | K2: G | L2: N | M2: P | N2: BP | O2: BC | P2: diff
A3: éq1 | B3: éq2 | C3: =RANDBETWEEN(0, 5) -> 3 | D3: =RANDBETWEEN(0, 5) -> 5 | E3: =IF(C3>D3,A3,IF(C3=D3,"nul",B3)) -> éq2
A4: éq1 | B4: éq3 | C4: =RANDBETWEEN(0, 5) -> 5 | D4: =RANDBETWEEN(0, 5) -> 5 | E4: =IF(C4>D4,A4,IF(C4=D4,"nul",B4)) -> nul | H4: 1 | I4: éq1 | J4: =3*COUNTIF($E$3:$E$21,"éq1")+COUNTIF($E$3:$E$21, "nul") -> 28 | K4: =COUNTIF($E$3:$E$21,"éq1") -> 8 | L4: =COUNTIF($E$3:$E$21,"nul") -> 4 | M4: =19-K4-L4 -> 7 | N4: =SUM(C3:C21) -> 52 | O4: =SUM(D3:D21) -> 50 | P4: =N4-O4 -> 2
A5: éq1 | B5: éq4 | C5: =RANDBETWEEN(0, 5) -> 0 | D5: =RANDBETWEEN(0, 5) -> 4 | E5: =IF(C5>D5,A5,IF(C5=D5,"nul",B5)) -> éq4 | H5: 2 | I5: éq2 | J5: =3*COUNTIF($E$23:$E$41,"éq2")+COUNTIF($E$23:$E$41, "nul") -> 24 | K5: =COUNTIF($E$23:$E$41,"éq2") -> 7 | L5: =COUNTIF($E$23:$E$41,"nul") -> 3 | M5: =19-K5-L5 -> 9 | N5: =SUM(C23:C41) -> 40 | O5: =SUM(D23:D41) -> 41 | P5: =N5-O5 -> -1
A6: éq1 | B6: éq5 | C6: =RANDBETWEEN(0, 5) -> 4 | D6: =RANDBETWEEN(0, 5) -> 3 | E6: =IF(C6>D6,A6,IF(C6=D6,"nul",B6)) -> éq1 | H6: 3 | I6: éq3 | J6: =3*COUNTIF($E$43:$E$61,"éq3")+COUNTIF($E$43:$E$61, "nul") -> 33 | K6: =COUNTIF($E$43:$E$61,"éq3") -> 10 | L6: =COUNTIF($E$43:$E$61,"nul") -> 3 | M6: =19-K6-L6 -> 6 | N6: =SUM(C43:C61) -> 52 | O6: =SUM(D43:D61) -> 45 | P6: =N6-O6 -> 7
A7: éq1 | B7: éq6 | C7: =RANDBETWEEN(0, 5) -> 4 | D7: =RANDBETWEEN(0, 5) -> 2 | E7: =IF(C7>D7,A7,IF(C7=D7,"nul",B7)) -> éq1 | H7: 4 | I7: éq4 | J7: =3*COUNTIF($E$63:$E$81,"éq4")+COUNTIF($E$63:$E$81, "nul") -> 31 | K7: =COUNTIF($E$63:$E$81,"éq4") -> 10 | L7: =COUNTIF($E$63:$E$81,"nul") -> 1 | M7: =19-K7-L7 -> 8 | N7: =SUM(C63:C81) -> 51 | O7: =SUM(D63:D81) -> 42 | P7: =N7-O7 -> 9
A8: éq1 | B8: éq7 | C8: =RANDBETWEEN(0, 5) -> 0 | D8: =RANDBETWEEN(0, 5) -> 2 | E8: =IF(C8>D8,A8,IF(C8=D8,"nul",B8)) -> éq7 | H8: 5 | I8: éq5 | J8: =3*COUNTIF($E$83:$E$101,"éq5")+COUNTIF($E$83:$E$101, "nul") -> 33 | K8: =COUNTIF($E$83:$E$101,"éq5") -> 10 | L8: =COUNTIF($E$83:$E$101,"nul") -> 3 | M8: =19-K8-L8 -> 6 | N8: =SUM(C83:C101) -> 58 | O8: =SUM(D83:D101) -> 39 | P8: =N8-O8 -> 19
A9: éq1 | B9: éq8 | C9: =RANDBETWEEN(0, 5) -> 3 | D9: =RANDBETWEEN(0, 5) -> 2 | E9: =IF(C9>D9,A9,IF(C9=D9,"nul",B9)) -> éq1 | H9: 6 | I9: éq6 | J9: =3*COUNTIF($E$103:$E$121,"éq6")+COUNTIF($E$103:$E$121, "nul") -> 26 | K9: =COUNTIF($E$103:$E$121,"éq6") -> 8 | L9: =COUNTIF($E$103:$E$121,"nul") -> 2 | M9: =19-K9-L9 -> 9 | N9: =SUM(C103:C121) -> 44 | O9: =SUM(D103:D121) -> 49 | P9: =N9-O9 -> -5
A10: éq1 | B10: éq9 | C10: =RANDBETWEEN(0, 5) -> 1 | D10: =RANDBETWEEN(0, 5) -> 0 | E10: =IF(C10>D10,A10,IF(C10=D10,"nul",B10)) -> éq1 | H10: 7 | I10: éq7 | J10: =3*COUNTIF($E$123:$E$141,"éq7")+COUNTIF($E$123:$E$141, "nul") -> 19 | K10: =COUNTIF($E$123:$E$141,"éq7") -> 4 | L10: =COUNTIF($E$123:$E$141,"nul") -> 7 | M10: =19-K10-L10 -> 8 | N10: =SUM(C123:C141) -> 42 | O10: =SUM(D123:D141) -> 51 | P10: =N10-O10 -> -9
A11: éq1 | B11: éq10 | C11: =RANDBETWEEN(0, 5) -> 4 | D11: =RANDBETWEEN(0, 5) -> 1 | E11: =IF(C11>D11,A11,IF(C11=D11,"nul",B11)) -> éq1 | H11: 8 | I11: éq8 | J11: =3*COUNTIF($E$143:$E$161,"éq8")+COUNTIF($E$143:$E$161, "nul") -> 23 | K11: =COUNTIF($E$143:$E$161,"éq8") -> 6 | L11: =COUNTIF($E$143:$E$161,"nul") -> 5 | M11: =19-K11-L11 -> 8 | N11: =SUM(C143:C161) -> 39 | O11: =SUM(D143:D161) -> 43 | P11: =N11-O11 -> -4
A12: éq1 | B12: éq11 | C12: =RANDBETWEEN(0, 5) -> 2 | D12: =RANDBETWEEN(0, 5) -> 2 | E12: =IF(C12>D12,A12,IF(C12=D12,"nul",B12)) -> nul | H12: 9 | I12: éq9 | J12: =3*COUNTIF($E$163:$E$181,"éq9")+COUNTIF($E$163:$E$181, "nul") -> 29 | K12: =COUNTIF($E$163:$E$181,"éq9") -> 9 | L12: =COUNTIF($E$163:$E$181,"nul") -> 2 | M12: =19-K12-L12 -> 8 | N12: =SUM(C163:C181) -> 40 | O12: =SUM(D163:D181) -> 41 | P12: =N12-O12 -> -1
A13: éq1 | B13: éq12 | C13: =RANDBETWEEN(0, 5) -> 3 | D13: =RANDBETWEEN(0, 5) -> 0 | E13: =IF(C13>D13,A13,IF(C13=D13,"nul",B13)) -> éq1 | H13: 10 | I13: éq10 | J13: =3*COUNTIF($E$183:$E$201,"éq10")+COUNTIF($E$183:$E$201, "nul") -> 17 | K13: =COUNTIF($E$183:$E$201,"éq10") -> 5 | L13: =COUNTIF($E$183:$E$201,"nul") -> 2 | M13: =19-K13-L13 -> 12 | N13: =SUM(C183:C201) -> 40 | O13: =SUM(D183:D201) -> 54 | P13: =N13-O13 -> -14
A14: éq1 | B14: éq13 | C14: =RANDBETWEEN(0, 5) -> 5 | D14: =RANDBETWEEN(0, 5) -> 4 | E14: =IF(C14>D14,A14,IF(C14=D14,"nul",B14)) -> éq1 | H14: 11 | I14: éq11 | J14: =3*COUNTIF($E$203:$E$221,"éq11")+COUNTIF($E$203:$E$221, "nul") -> 17 | K14: =COUNTIF($E$203:$E$221,"éq11") -> 4 | L14: =COUNTIF($E$203:$E$221,"nul") -> 5 | M14: =19-K14-L14 -> 10 | N14: =SUM(C203:C221) -> 47 | O14: =SUM(D203:D221) -> 50 | P14: =N14-O14 -> -3
A15: éq1 | B15: éq14 | C15: =RANDBETWEEN(0, 5) -> 5 | D15: =RANDBETWEEN(0, 5) -> 5 | E15: =IF(C15>D15,A15,IF(C15=D15,"nul",B15)) -> nul | H15: 12 | I15: éq12 | J15: =3*COUNTIF($E$223:$E$241,"éq12")+COUNTIF($E$223:$E$241, "nul") -> 26 | K15: =COUNTIF($E$223:$E$241,"éq12") -> 8 | L15: =COUNTIF($E$223:$E$241,"nul") -> 2 | M15: =19-K15-L15 -> 9 | N15: =SUM(C223:C241) -> 46 | O15: =SUM(D223:D241) -> 50 | P15: =N15-O15 -> -4
A16: éq1 | B16: éq15 | C16: =RANDBETWEEN(0, 5) -> 0 | D16: =RANDBETWEEN(0, 5) -> 2 | E16: =IF(C16>D16,A16,IF(C16=D16,"nul",B16)) -> éq15 | H16: 13 | I16: éq13 | J16: =3*COUNTIF($E$243:$E$261,"éq13")+COUNTIF($E$243:$E$261, "nul") -> 25 | K16: =COUNTIF($E$243:$E$261,"éq13") -> 7 | L16: =COUNTIF($E$243:$E$261,"nul") -> 4 | M16: =19-K16-L16 -> 8 | N16: =SUM(C243:C261) -> 50 | O16: =SUM(D243:D261) -> 48 | P16: =N16-O16 -> 2
A17: éq1 | B17: éq16 | C17: =RANDBETWEEN(0, 5) -> 3 | D17: =RANDBETWEEN(0, 5) -> 0 | E17: =IF(C17>D17,A17,IF(C17=D17,"nul",B17)) -> éq1 | H17: 14 | I17: éq14 | J17: =3*COUNTIF($E$263:$E$281,"éq14")+COUNTIF($E$263:$E$281, "nul") -> 27 | K17: =COUNTIF($E$263:$E$281,"éq14") -> 7 | L17: =COUNTIF($E$263:$E$281,"nul") -> 6 | M17: =19-K17-L17 -> 6 | N17: =SUM(C263:C281) -> 42 | O17: =SUM(D263:D281) -> 39 | P17: =N17-O17 -> 3
A18: éq1 | B18: éq17 | C18: =RANDBETWEEN(0, 5) -> 0 | D18: =RANDBETWEEN(0, 5) -> 1 | E18: =IF(C18>D18,A18,IF(C18=D18,"nul",B18)) -> éq17 | H18: 15 | I18: éq15 | J18: =3*COUNTIF($E$283:$E$301,"éq15")+COUNTIF($E$283:$E$301, "nul") -> 32 | K18: =COUNTIF($E$283:$E$301,"éq15") -> 10 | L18: =COUNTIF($E$283:$E$301,"nul") -> 2 | M18: =19-K18-L18 -> 7 | N18: =SUM(C283:C301) -> 44 | O18: =SUM(D283:D301) -> 36 | P18: =N18-O18 -> 8
A19: éq1 | B19: éq18 | C19: =RANDBETWEEN(0, 5) -> 5 | D19: =RANDBETWEEN(0, 5) -> 5 | E19: =IF(C19>D19,A19,IF(C19=D19,"nul",B19)) -> nul | H19: 16 | I19: éq16 | J19: =3*COUNTIF($E$303:$E$321,"éq16")+COUNTIF($E$303:$E$321, "nul") -> 26 | K19: =COUNTIF($E$303:$E$321,"éq16") -> 8 | L19: =COUNTIF($E$303:$E$321,"nul") -> 2 | M19: =19-K19-L19 -> 9 | N19: =SUM(C303:C321) -> 38 | O19: =SUM(D303:D321) -> 44 | P19: =N19-O19 -> -6
A20: éq1 | B20: éq19 | C20: =RANDBETWEEN(0, 5) -> 4 | D20: =RANDBETWEEN(0, 5) -> 5 | E20: =IF(C20>D20,A20,IF(C20=D20,"nul",B20)) -> éq19 | H20: 17 | I20: éq17 | J20: =3*COUNTIF($E$308:$E$341,"éq17")+COUNTIF($E$323:$E$341, "nul") -> 38 | K20: =COUNTIF($E$323:$E$341,"éq17") -> 11 | L20: =COUNTIF($E$321:$E$341,"nul") -> 2 | M20: =19-K20-L20 -> 6 | N20: =SUM(C323:C341) -> 49 | O20: =SUM(D323:D341) -> 45 | P20: =N20-O20 -> 4
A21: éq1 | B21: éq20 | C21: =RANDBETWEEN(0, 5) -> 1 | D21: =RANDBETWEEN(0, 5) -> 2 | E21: =IF(C21>D21,A21,IF(C21=D21,"nul",B21)) -> éq20 | H21: 18 | I21: éq18 | J21: =3*COUNTIF($E$308:$E$361,"éq18")+COUNTIF($E$343:$E$361, "nul") -> 27 | K21: =COUNTIF($E$343:$E$361,"éq18") -> 7 | L21: =COUNTIF($E$343:$E$361,"nul") -> 6 | M21: =19-K21-L21 -> 6 | N21: =SUM(C343:C361) -> 49 | O21: =SUM(D343:D361) -> 50 | P21: =N21-O21 -> -1
H22: 19 | I22: éq19 | J22: =3*COUNTIF($E$308:$E$381,"éq19")+COUNTIF($E$363:$E$381, "nul") -> 40 | K22: =COUNTIF($E$363:$E$381,"éq19") -> 10 | L22: =COUNTIF($E$363:$E$381,"nul") -> 1 | M22: =19-K22-L22 -> 8 | N22: =SUM(C363:C381) -> 38 | O22: =SUM(D363:D381) -> 42 | P22: =N22-O22 -> -4
A23: éq2 | B23: éq1 | C23: =D3 -> 5 | D23: =C3 -> 3 | E23: =IF(C23>D23,A23,IF(C23=D23,"nul",B23)) -> éq2 | H23: 20 | I23: éq20 | J23: =3*COUNTIF($E$308:$E$401,"éq20")+COUNTIF($E$383:$E$401, "nul") -> 32 | K23: =COUNTIF($E$383:$E$401,"éq20") -> 8 | L23: =COUNTIF($E$383:$E$401,"nul") -> 5 | M23: =19-K23-L23 -> 6 | N23: =SUM(C383:C401) -> 37 | O23: =SUM(D383:D401) -> 37 | P23: =N23-O23 -> 0
A24: éq2 | B24: éq3 | C24: =RANDBETWEEN(0, 5) -> 0 | D24: =RANDBETWEEN(0, 5) -> 3 | E24: =IF(C24>D24,A24,IF(C24=D24,"nul",B24)) -> éq3
A25: éq2 | B25: éq4 | C25: =RANDBETWEEN(0, 5) -> 4 | D25: =RANDBETWEEN(0, 5) -> 1 | E25: =IF(C25>D25,A25,IF(C25=D25,"nul",B25)) -> éq2
A26: éq2 | B26: éq5 | C26: =RANDBETWEEN(0, 5) -> 0 | D26: =RANDBETWEEN(0, 5) -> 4 | E26: =IF(C26>D26,A26,IF(C26=D26,"nul",B26)) -> éq5
A27: éq2 | B27: éq6 | C27: =RANDBETWEEN(0, 5) -> 1 | D27: =RANDBETWEEN(0, 5) -> 0 | E27: =IF(C27>D27,A27,IF(C27=D27,"nul",B27)) -> éq2
A28: éq2 | B28: éq7 | C28: =RANDBETWEEN(0, 5) -> 0 | D28: =RANDBETWEEN(0, 5) -> 1 | E28: =IF(C28>D28,A28,IF(C28=D28,"nul",B28)) -> éq7
A29: éq2 | B29: éq8 | C29: =RANDBETWEEN(0, 5) -> 4 | D29: =RANDBETWEEN(0, 5) -> 0 | E29: =IF(C29>D29,A29,IF(C29=D29,"nul",B29)) -> éq2
A30: éq2 | B30: éq9 | C30: =RANDBETWEEN(0, 5) -> 1 | D30: =RANDBETWEEN(0, 5) -> 1 | E30: =IF(C30>D30,A30,IF(C30=D30,"nul",B30)) -> nul
A31: éq2 | B31: éq10 | C31: =RANDBETWEEN(0, 5) -> 5 | D31: =RANDBETWEEN(0, 5) -> 1 | E31: =IF(C31>D31,A31,IF(C31=D31,"nul",B31)) -> éq2
A32: éq2 | B32: éq11 | C32: =RANDBETWEEN(0, 5) -> 4 | D32: =RANDBETWEEN(0, 5) -> 4 | E32: =IF(C32>D32,A32,IF(C32=D32,"nul",B32)) -> nul
A33: éq2 | B33: éq12 | C33: =RANDBETWEEN(0, 5) -> 0 | D33: =RANDBETWEEN(0, 5) -> 2 | E33: =IF(C33>D33,A33,IF(C33=D33,"nul",B33)) -> éq12
A34: éq2 | B34: éq13 | C34: =RANDBETWEEN(0, 5) -> 3 | D34: =RANDBETWEEN(0, 5) -> 4 | E34: =IF(C34>D34,A34,IF(C34=D34,"nul",B34)) -> éq13
A35: éq2 | B35: éq14 | C35: =RANDBETWEEN(0, 5) -> 3 | D35: =RANDBETWEEN(0, 5) -> 5 | E35: =IF(C35>D35,A35,IF(C35=D35,"nul",B35)) -> éq14
... A41: éq2 | B41: éq20 | C41: =RANDBETWEEN(0, 5) -> 4 | D41: =RANDBETWEEN(0, 5) -> 3 | E41: =IF(C41>D41,A41,IF(C41=D41,"nul",B41)) -> éq2
A43: éq3 | B43: éq1 | C43: =D4 -> 5 | D43: =C4 -> 5 | E43: =IF(C43>D43,A43,IF(C43=D43,"nul",B43)) -> nul
A44: éq3 | B44: éq2 | C44: =D24 -> 3 | D44: =C24 -> 0 | E44: =IF(C44>D44,A44,IF(C44=D44,"nul",B44)) -> éq3
A45: éq3 | B45: éq4 | C45: =RANDBETWEEN(0, 5) -> 0 | D45: =RANDBETWEEN(0, 5) -> 5 | E45: =IF(C45>D45,A45,IF(C45=D45,"nul",B45)) -> éq4
A46: éq3 | B46: éq5 | C46: =RANDBETWEEN(0, 5) -> 4 | D46: =RANDBETWEEN(0, 5) -> 1 | E46: =IF(C46>D46,A46,IF(C46=D46,"nul",B46)) -> éq3
...

Sheet total
B2: classmt | C2: équipe | D2: pts | E2: G | F2: N | G2: P | H2: BP | I2: BC | J2: diff
B4: 1 | C4: éq1 | D4: =retour!J4+aller!J4 -> 52 | E4: =retour!K4+aller!K4 -> 15 | F4: =retour!L4+aller!L4 -> 7 | G4: =retour!M4+aller!M4 -> 16 | H4: =retour!N4+aller!N4 -> 90 | I4: =retour!O4+aller!O4 -> 95 | J4: =H4-I4 -> -5
B5: 2 | C5: éq2 | D5: =retour!J5+aller!J5 -> 57 | E5: =retour!K5+aller!K5 -> 17 | F5: =retour!L5+aller!L5 -> 6 | G5: =retour!M5+aller!M5 -> 15 | H5: =retour!N5+aller!N5 -> 100 | I5: =retour!O5+aller!O5 -> 81 | J5: =H5-I5 -> 19
B6: 3 | C6: éq3 | D6: =retour!J6+aller!J6 -> 56 | E6: =retour!K6+aller!K6 -> 16 | F6: =retour!L6+aller!L6 -> 8 | G6: =retour!M6+aller!M6 -> 14 | H6: =retour!N6+aller!N6 -> 102 | I6: =retour!O6+aller!O6 -> 99 | J6: =H6-I6 -> 3
B7: 4 | C7: éq4 | D7: =retour!J7+aller!J7 -> 53 | E7: =retour!K7+aller!K7 -> 16 | F7: =retour!L7+aller!L7 -> 5 | G7: =retour!M7+aller!M7 -> 17 | H7: =retour!N7+aller!N7 -> 95 | I7: =retour!O7+aller!O7 -> 91 | J7: =H7-I7 -> 4
B8: 5 | C8: éq5 | D8: =retour!J8+aller!J8 -> 53 | E8: =retour!K8+aller!K8 -> 15 | F8: =retour!L8+aller!L8 -> 8 | G8: =retour!M8+aller!M8 -> 15 | H8: =retour!N8+aller!N8 -> 106 | I8: =retour!O8+aller!O8 -> 95 | J8: =H8-I8 -> 11
B9: 6 | C9: éq6 | D9: =retour!J9+aller!J9 -> 58 | E9: =retour!K9+aller!K9 -> 18 | F9: =retour!L9+aller!L9 -> 4 | G9: =retour!M9+aller!M9 -> 16 | H9: =retour!N9+aller!N9 -> 101 | I9: =retour!O9+aller!O9 -> 103 | J9: =H9-I9 -> -2
B10: 7 | C10: éq7 | D10: =retour!J10+aller!J10 -> 47 | E10: =retour!K10+aller!K10 -> 12 | F10: =retour!L10+aller!L10 -> 11 | G10: =retour!M10+aller!M10 -> 15 | H10: =retour!N10+aller!N10 -> 86 | I10: =retour!O10+aller!O10 -> 93 | J10: =H10-I10 -> -7
B11: 8 | C11: éq8 | D11: =retour!J11+aller!J11 -> 51 | E11: =retour!K11+aller!K11 -> 15 | F11: =retour!L11+aller!L11 -> 6 | G11: =retour!M11+aller!M11 -> 17 | H11: =retour!N11+aller!N11 -> 92 | I11: =retour!O11+aller!O11 -> 92 | J11: =H11-I11 -> 0
B12: 9 | C12: éq9 | D12: =retour!J12+aller!J12 -> 60 | E12: =retour!K12+aller!K12 -> 19 | F12: =retour!L12+aller!L12 -> 3 | G12: =retour!M12+aller!M12 -> 16 | H12: =retour!N12+aller!N12 -> 98 | I12: =retour!O12+aller!O12 -> 93 | J12: =H12-I12 -> 5
B13: 10 | C13: éq10 | D13: =retour!J13+aller!J13 -> 57 | E13: =retour!K13+aller!K13 -> 18 | F13: =retour!L13+aller!L13 -> 3 | G13: =retour!M13+aller!M13 -> 17 | H13: =retour!N13+aller!N13 -> 103 | I13: =retour!O13+aller!O13 -> 89 | J13: =H13-I13 -> 14
B14: 11 | C14: éq11 | D14: =retour!J14+aller!J14 -> 43 | E14: =retour!K14+aller!K14 -> 12 | F14: =retour!L14+aller!L14 -> 7 | G14: =retour!M14+aller!M14 -> 19 | H14: =retour!N14+aller!N14 -> 92 | I14: =retour!O14+aller!O14 -> 102 | J14: =H14-I14 -> -10
B15: 12 | C15: éq12 | D15: =retour!J15+aller!J15 -> 56 | E15: =retour!K15+aller!K15 -> 17 | F15: =retour!L15+aller!L15 -> 5 | G15: =retour!M15+aller!M15 -> 16 | H15: =retour!N15+aller!N15 -> 80 | I15: =retour!O15+aller!O15 -> 90 | J15: =H15-I15 -> -10
... B23: 20 | C23: éq20 | D23: =retour!J23+aller!J23 -> 63 | E23: =retour!K23+aller!K23 -> 15 | F23: =retour!L23+aller!L23 -> 9 | G23: =retour!M23+aller!M23 -> 14 | H23: =retour!N23+aller!N23 -> 98 | I23: =retour!O23+aller!O23 -> 96 | J23: =H23-I23 -> 2

Sheet Feuil3
