Workbook

Sheet Renseignements
A1: Date du jour : | B1: =TODAY() -> 40648
A2: Nom : | B2: G
A3: Prénom : | B3: D
A4: Né(e) le : | B4: 24917
A5: Âge : | B5: =YEAR(B1-B4)-1900 -> 43 | C5: an(s) | D5: =MONTH(B1-B4) -> 1 | E5: mois | F5: et | G5: =DAY(B1-B4) -> 25 | H5: jour(s)
A6: Sexe : | B6: 1
A7: Taille (cm) : | B7: 192
A8: Longueur de pas (m) : | B8: 0.94
A9: Début du suivi : | B9: 40644

Sheet Semaine n°1
C2: =Renseignements!B9+7 -> 40651 | AJ2: Sommeil | AL2: Durée nuit : | AV2: 0.43055556 | BH2: Lever : | BX2: Coucher : | CH2: 0.98958333 | CN2: Moyenne du | CP2: jour | CW2: Marche en ext. | CY2: Nb pas : | DN2: Matin | DP2: Perindopril 2 | EN2: Midi | EP2: Kardegic 160 | FN2: Soir | FP2: Previscan 20
C3: Âge : | I3: =YEAR(C2-Renseignements!B$4)-1900&"a" -> 43a | M3: =MONTH(C2-Renseignements!B$4)&"m" -> 1m | Q3: =DAY(C2-Renseignements!B$4)&"j" -> 28j | U3: TP : | Z3: 43.8 | AE3: % | AL3: Sieste | BH3: M1 | BL3: M2 | BP3: M3 | BT3: Moy | BX3: M1 | CB3: M2 | CF3: M3 | CJ3: Moy | CP3: Moy | CY3: Dist(km) : | DG3: =IF(DG2<>"",DG2*Renseignements!B8/1000,"") | DP3: 1 cp | EP3: 1 sachet
C4: Poids : | J4: 95 | P4: Kg | U4: INR : | Z4: 2.6 | AL4: Hdébut : | AT4: Hfin : | BC4: Sys : | BT4: =IF(BH4<>"",AVERAGE(BH4:BP4),"") | CJ4: =IF(BX4<>"",AVERAGE(BX4:CF4),"") | CP4: =IF(BT4<>"",AVERAGE(BT4,CJ4,GK30,#REF!,#REF!),"") | CY4: Durée : | DP4: Inexium 20 | EP4: Plavix 75 | FP4: Cardensiel 1,25
C5: Mgraisse : | M5: 15.6 | N5: 18 | S5: Kg | X5: =IF(J4<>"",(M5/J4)*100,"") -> 16.421053 | Z5: =IF(J4<>"",(N5/J4)*100,"") -> 18.947368 | AD5: % | AH5: % | BC5: Dias : | BD5: Diast : | BT5: =IF(BH5<>"",AVERAGE(BH5:BP5),"") | CJ5: =IF(BX5<>"",AVERAGE(BX5:CF5),"") | CP5: =IF(BT5<>"",AVERAGE(BP5,CJ5,GK31,#REF!,#REF!),"") | CY5: Vmoy : | DG5: =IF(DG4<>"",(DG3/((HOUR(DG4)*60)+(MINUTE(DG4))))*60,"") | DP5: 1 cp | EP5: 1 cp | FP5: 1 cp
C6: Mmaigre : | M6: =IF(J4<>"",J4-M5,"") -> 79.4 | N6: =IF(J4<>"",J4-N5,"") -> 77 | S6: Kg | X6: =IF(J4<>"",(N6/J4)*100,"") -> 81.052632 | AD6: % | AL6: Durée : | AT6: =IF(AND(AL5<>"",AT5<>""),AT5-AL5,0) -> 0 | AV6: 0.41666667 | BC6: Puls : | BD6: Pouls : | BT6: =IF(BH6<>"",AVERAGE(BH6:BP6),"") | CJ6: =IF(BX6<>"",AVERAGE(BX6:CF6),"") | CP6: =IF(BT6<>"",AVERAGE(BP6,CJ6,GK32,#REF!,#REF!),"") | CY6: Tps à Fc : | FP6: Crestor 10
C7: IMC : | I7: =IF(J4<>"",J4/(1.92*1.92),"") -> 25.770399 | S7: IMG : | Y7: =(1.2*I7)+(0.23*(YEAR(C2-Renseignements!B$4)-1900))-(10.8*Renseignements!B$6)-5.4 -> 24.614479 | AL7: Total : | AT7: =IF(BR2<>"",AV2+AT6,"") | AV7: 0.41666667 | BC7: Aryth : | BD7: Arythmie : | BT7: =IF(BR2<>"",SUM(BH7:BS7),0) -> 0 | CJ7: =IF(CH2<>"",SUM(BX7:CI7),0) -> 0 | CP7: =IF(BP7<>"",SUM(BT7,CJ7,GK33,#REF!,#REF!),0) -> 0 | CY7: Déniv. : | FP7: 1 cp
C8: Dernier contrôle TP/INR le : | Y8: 40638 | AI8: =IF((Y9-C2)=1,"Attention, contrôle TP/INR demain",IF((Y9-C2)=0,"Attention, contrôle TP/INR aujourd'hui",IF((Y9-C2)<0,"Attention, date de contrôle TP/INR dépassée de "&-(Y9-C2)&" jour(s)",""))) -> Attention, contrôle TP/INR demain | BP8: Calories dépensées (Kcal) : | CN8: =SUM(DG8,GJ20,#REF!,#REF!) -> #REF! | CY8: Kcal. : | DP8: Préparation Weleda C466 | FP8: Préparation Weleda C466
C9: Il y a : | J9: =C2-Y8 -> 13 | M9: jr | O9: Prochain le : | Y9: =Y8+Y10 -> 40652 | BP9: Temps d'activités physiques : | CN9: =SUM(DG4,CC11,#REF!,#REF!) -> #REF! | DP9: 15 gouttes | FP9: 15 gouttes
C10: Contrôle TP/INR tous les | Y10: 14 | AD10: jours | DP10: Préparation Weleda C472 | FP10: Préparation Weleda C472
C11: Séance de vélo d'entraînement à fréquence constante | AZ11: 100 | BE11: bpm et | BL11: 60 | BP11: rpm | BU11: pendant | CC11: =IF(F29<>"",(90-COUNTBLANK(H20:GE20)/2)*(1/(24*60)),"") -> 0.0625 | CI11: minutes. | DP11: 15 gouttes | FP11: 15 gouttes
G12: watts | GF12: watts
B13: =E14+30 -> 240 | H13: =IF(H20>=240,1,"") | I13: =IF(I20>=240,1,"") | J13: =IF(J20>=240,1,"") | K13: =IF(K20>=240,1,"") | L13: =IF(L20>=240,1,"") | M13: =IF(M20>=240,1,"") | N13: =IF(N20>=240,1,"") | O13: =IF(O20>=240,1,"") | ... GE13: =IF(GE20>=240,1,"") | GG13: =GG14+30 -> 240
B14: =B15+30 -> 210 | E14: =E15+30 -> 210 | H14: =IF(H20>=210,1,"") | I14: =IF(I20>=210,1,"") | J14: =IF(J20>=210,1,"") | K14: =IF(K20>=210,1,"") | L14: =IF(L20>=210,1,"") | M14: =IF(M20>=210,1,"") | N14: =IF(N20>=210,1,"") | O14: =IF(O20>=210,1,"") | ... GE14: =IF(GE20>=210,1,"") | GG14: =GG15+30 -> 210
B15: =B16+30 -> 180 | E15: =E16+30 -> 180 | H15: =IF(H20>=180,1,"") | I15: =IF(I20>=180,1,"") | J15: =IF(J20>=180,1,"") | K15: =IF(K20>=180,1,"") | L15: =IF(L20>=180,1,"") | M15: =IF(M20>=180,1,"") | N15: =IF(N20>=180,1,"") | O15: =IF(O20>=180,1,"") | ... GE15: =IF(GE20>=180,1,"") | GG15: =GG16+30 -> 180
B16: =B17+30 -> 150 | E16: =E17+30 -> 150 | H16: =IF(H20>=150,1,"") | I16: =IF(I20>=150,1,"") | J16: =IF(J20>=150,1,"") | K16: =IF(K20>=150,1,"") | L16: =IF(L20>=150,1,"") | M16: =IF(M20>=150,1,"") | N16: =IF(N20>=150,1,"") | O16: =IF(O20>=150,1,"") | ... GE16: =IF(GE20>=150,1,"") | GG16: =GG17+30 -> 150
B17: =B18+30 -> 120 | E17: =E18+30 -> 120 | H17: =IF(H20>=120,1,"") | I17: =IF(I20>=120,1,"") | J17: =IF(J20>=120,1,"") | K17: =IF(K20>=120,1,"") | L17: =IF(L20>=120,1,"") | M17: =IF(M20>=120,1,"") | N17: =IF(N20>=120,1,"") | O17: =IF(O20>=120,1,"") -> 1 | ... GE17: =IF(GE20>=120,1,"") | GG17: =GG18+30 -> 120
B18: =B19+30 -> 90 | E18: =E19+30 -> 90 | H18: =IF(H20>=90,1,"") | I18: =IF(I20>=90,1,"") | J18: =IF(J20>=90,1,"") | K18: =IF(K20>=90,1,"") | L18: =IF(L20>=90,1,"") -> 1 | M18: =IF(M20>=90,1,"") -> 1 | N18: =IF(N20>=90,1,"") -> 1 | O18: =IF(O20>=90,1,"") -> 1 | ... GE18: =IF(GE20>=90,1,"") | GG18: =GG19+30 -> 90 | GJ18: Kcal
B19: =B20+30 -> 60 | E19: =E20+30 -> 60 | H19: =IF(H20>=60,1,"") | I19: =IF(I20>=60,1,"") | J19: =IF(J20>=60,1,"") -> 1 | K19: =IF(K20>=60,1,"") -> 1 | L19: =IF(L20>=60,1,"") -> 1 | M19: =IF(M20>=60,1,"") -> 1 | N19: =IF(N20>=60,1,"") -> 1 | O19: =IF(O20>=60,1,"") -> 1 | ... GE19: =IF(GE20>=60,1,"") | GG19: =GG20+30 -> 60
B20: 30 | E20: 30 | H20: 36 | I20: 42 | J20: 63 | K20: 78 | L20: 92 | M20: 95 | N20: 110 | O20: 125 | P20: 125 | Q20: 125 | R20: 125 | S20: 125 | T20: 125 | U20: 125 | V20: 125 | W20: 125 | X20: 125 | Y20: 120 | Z20: 110 | AA20: 110 | AB20: 120 | AC20: 90 | AD20: 90 | AE20: 90 | AF20: 85 | AG20: 85 | AH20: 95 | AI20: 120 | AJ20: 135 | AK20: 136 | AL20: 125 | AM20: 120 | AN20: 145 | AO20: 145 | AP20: 125 | AQ20: 145 | AR20: 125 | AS20: 150 | AT20: 120 | AU20: 110 | AV20: 90 | AW20: 80 | AX20: 60 | AY20: 45 | AZ20: 50 | BA20: 45 | BB20: 10 | BC20: 10 | BD20: 10 | BE20: 10 | BF20: 10 | BG20: 1 | BH20: 1 | BI20: 1 | BJ20: 1 | BK20: 1 | BL20: 1 | BM20: 1 | BN20: 1 | BO20: 1 | BP20: 1 | BQ20: 1 | BR20: 1 | BS20: 1 | BT20: 1 | BU20: 1 | BV20: 1 | BW20: 1 | BX20: 1 | BY20: 1 | BZ20: 1 | CA20: 1 | CB20: 1 | CC20: 1 | CD20: 1 | CE20: 1 | CF20: 1 | CG20: 1 | CH20: 1 | CI20: 1 | CJ20: 1 | CK20: 111 | CL20: 1 | CM20: 1 | CN20: 1 | CO20: 1 | CP20: 1 | CQ20: 1 | CR20: 1 | CS20: 1 | CT20: 1 | CU20: 1 | CV20: 25 | CW20: 35 | CX20: 45 | CY20: 56 | CZ20: 61 | DA20: 111 | DB20: 50 | DC20: 65 | DD20: 95 | DE20: 125 | DF20: 135 | DG20: 140 | DH20: 150 | DI20: 180 | DJ20: 210 | DK20: 120 | DL20: 12 | DM20: 1 | DN20: 1 | DO20: 1 | DP20: 1 | DQ20: 1 | DR20: 1 | DS20: 1 | DT20: 41 | DU20: 1 | DV20: 1 | DW20: 1 | DX20: 1 | DY20: 1 | DZ20: 1 | EA20: 1 | EB20: 1 | EC20: 1 | ED20: 1 | EE20: 1 | EF20: 1 | EG20: 1 | EH20: 1 | EI20: 1 | EJ20: 1 | EK20: 111 | EL20: 14 | EM20: 1 | EN20: 1 | EO20: 1 | EP20: 1 | EQ20: 11 | ER20: 1 | ES20: 1 | ET20: 1 | EU20: 1 | EV20: 1 | EW20: 11 | EX20: 1 | EY20: 1 | EZ20: 1 | FA20: 1 | FB20: 1 | FC20: 1 | FD20: 1 | FE20: 1 | FF20: 1 | FG20: 1 | FH20: 1 | FI20: 1 | FJ20: 1 | FK20: 1 | FL20: 1 | FM20: 1 | FN20: 1 | FO20: 1 | FP20: 1 | FQ20: 1 | FR20: 1 | FS20: 1 | FT20: 1 | FU20: 1 | FV20: 1 | FW20: 1 | FX20: 1 | FY20: 1 | FZ20: 1 | GA20: 1 | GB20: 1 | GC20: 1 | GD20: 1 | GE20: 1 | GG20: 30
B21: 0 | H21: 0 | R21: =H21+5 -> 5 | AB21: =R21+5 -> 10 | AL21: =AB21+5 -> 15 | AV21: =AL21+5 -> 20 | BF21: =AV21+5 -> 25 | BP21: =BF21+5 -> 30 | BZ21: =BP21+5 -> 35 | CJ21: =BZ21+5 -> 40 | CT21: =CJ21+5 -> 45 | DD21: =CT21+5 -> 50 | DN21: =DD21+5 -> 55 | DX21: =DN21+5 -> 60 | EH21: =DX21+5 -> 65 | ER21: =EH21+5 -> 70 | FB21: =ER21+5 -> 75 | FL21: =FB21+5 -> 80 | FV21: =FL21+5 -> 85 | GF21: =FV21+5 -> 90
N23: =IF(X20<>"",M23+N20,M23) -> 110 | O23: =IF(Y20<>"",N23+O20,N23) -> 235 | P23: =IF(Z20<>"",O23+P20,O23) -> 360 | Q23: =IF(AA20<>"",P23+Q20,P23) -> 485 | R23: =IF(AB20<>"",Q23+R20,Q23) -> 610 | S23: =IF(AC20<>"",R23+S20,R23) -> 735 | T23: =IF(AD20<>"",S23+T20,S23) -> 860 | U23: =IF(AE20<>"",T23+U20,T23) -> 985 | ... FV23: =IF(GF20<>"",FU23+FV20,FU23) -> 6486 | FW23: =IF(GG20="",FV23+FW20,FV23) -> 6486 | FX23: =IF(GH20<>"",FW23+FX20,FW23) -> 6486 | FY23: =IF(GI20<>"",FX23+FY20,FX23) -> 6486 | FZ23: =IF(GJ20<>"",FY23+FZ20,FY23) -> 6486 | GA23: =IF(GK20<>"",FZ23+GA20,FZ23) -> 6486 | GB23: =IF(GL20<>"",GA23+GB20,GA23) -> 6486 | GC23: =IF(GM20<>"",GB23+GC20,GB23) -> 6486 | GD23: =IF(GN20<>"",GC23+GD20,GC23) -> 6486 | GE23: =IF(GO20<>"",GD23+GE20,GD23) -> 6486
N24: =IF(X20<>"",M24+1,M24) -> 1 | O24: =IF(Y20<>"",N24+1,N24) -> 2 | P24: =IF(Z20<>"",O24+1,O24) -> 3 | Q24: =IF(AA20<>"",P24+1,P24) -> 4 | R24: =IF(AB20<>"",Q24+1,Q24) -> 5 | S24: =IF(AC20<>"",R24+1,R24) -> 6 | T24: =IF(AD20<>"",S24+1,S24) -> 7 | U24: =IF(AE20<>"",T24+1,T24) -> 8 | ... FV24: =IF(GF20<>"",FU24+1,FU24) -> 164 | FW24: =IF(GG20="",FV24+1,FV24) -> 164 | FX24: =IF(GH20<>"",FW24+1,FW24) -> 164 | FY24: =IF(GI20<>"",FX24+1,FX24) -> 164 | FZ24: =IF(GJ20<>"",FY24+1,FY24) -> 164 | GA24: =IF(GK20<>"",FZ24+1,FZ24) -> 164 | GB24: =IF(GL20<>"",GA24+1,GA24) -> 164 | GC24: =IF(GM20<>"",GB24+1,GB24) -> 164 | GD24: =IF(GN20<>"",GC24+1,GC24) -> 164 | GE24: =IF(GO20<>"",GD24+1,GD24) -> 164
O25: =IF(O24=N24,"1","0") -> 0 | P25: =IF(P24=O24,"1","0") -> 0 | Q25: =IF(Q24=P24,"1","0") -> 0 | R25: =IF(R24=Q24,"1","0") -> 0 | S25: =IF(S24=R24,"1","0") -> 0 | T25: =IF(T24=S24,"1","0") -> 0 | U25: =IF(U24=T24,"1","0") -> 0 | V25: =IF(V24=U24,"1","0") -> 0 | ... GE25: =IF(GE24=GD24,"1","0") -> 1
O26: =IF(O20<>"","1","0") -> 1 | P26: =IF(P20<>"","1","0") -> 1 | Q26: =IF(Q20<>"","1","0") -> 1 | R26: =IF(R20<>"","1","0") -> 1 | S26: =IF(S20<>"","1","0") -> 1 | T26: =IF(T20<>"","1","0") -> 1 | U26: =IF(U20<>"","1","0") -> 1 | V26: =IF(V20<>"","1","0") -> 1 | ... GE26: =IF(GE20<>"","1","0") -> 1
O27: =O25+O26 -> 1 | P27: =P25+P26 -> 1 | Q27: =Q25+Q26 -> 1 | R27: =R25+R26 -> 1 | S27: =S25+S26 -> 1 | T27: =T25+T26 -> 1 | U27: =U25+U26 -> 1 | V27: =V25+V26 -> 1 | ... GE27: =GE25+GE26 -> 2
C29: Hd: | F29: 0.43333333 | M29: Pmax : | Y29: =IF(H20<>"",MAX(H20:GE20),"") -> 210 | AG29: T à P>=100w : | AS29: =IF(H20<>"",COUNTIF(H20:GE20,">=100")/2,"") -> 19 | BA29: H : | BD29: =IF(BF30<>"",F29+(25*(1/(24*60))),"") | BK29: H : | BN29: =IF(BP30<>"",$F29+(30*(1/(24*60))),"") | BU29: H : | BX29: =IF(BZ30<>"",$F29+(35*(1/(24*60))),"") | CE29: H : | CH29: =IF(CJ30<>"",$F29+(40*(1/(24*60))),"") | CO29: H : | CR29: =IF(CT30<>"",$F29+(45*(1/(24*60))),"") | CY29: H : | DB29: =IF(DD30<>"",$F29+(50*(1/(24*60))),"") | DI29: H : | DL29: =IF(DN30<>"",$F29+(55*(1/(24*60))),"") | DS29: H : | DV29: =IF(DX30<>"",$F29+(60*(1/(24*60))),"") | EC29: H : | EF29: =IF(EH30<>"",$F29+(65*(1/(24*60))),"") | EM29: H : | EP29: =IF(ER30<>"",$F29+(70*(1/(24*60))),"") | EW29: H : | EZ29: =IF(FB30<>"",$F29+(75*(1/(24*60))),"") | FG29: H : | FJ29: =IF(FL30<>"",$F29+(80*(1/(24*60))),"") | FQ29: H : | FT29: =IF(FV30<>"",$F29+(85*(1/(24*60))),"") | GA29: H : | GD29: =IF(GF30<>"",$F29+(90*(1/(24*60))),"") | GK29: Moy
C30: Sys : | M30: Pm/tps total : | Y30: =IF(H20<>"",AVERAGE(H20:GE20),"") -> 38.344444 | AG30: T à P>=110w : | AS30: =IF(H20<>"",COUNTIF(H20:GE20,">=110")/2,"") -> 19 | BA30: Sys : | BK30: Sys : | BU30: Sys : | CE30: Sys : | CO30: Sys : | CY30: Sys : | DI30: Sys : | DS30: Sys : | EC30: Sys : | EM30: Sys : | EW30: Sys : | FG30: Sys : | FQ30: Sys : | GA30: Sys : | GK30: =IF(H30<>"",AVERAGE(H30,BF30,BP30,BZ30,CJ30,CT30,DD30,DN30,DX30,EH30,ER30,FB30,FL30,FV30,GF30),"")
C31: Dias : | D31: Diast : | M31: Pm/tps effort : | Y31: =IF(X20<>"",FU23/FU24,"") -> 39.54878 | AG31: T à P>=120w : | AS31: =IF(H20<>"",COUNTIF(H20:GE20,">=120")/2,"") -> 15.5 | BA31: Dias : | BB31: Diast : | BK31: Dias : | BL31: Diast : | BU31: Dias : | BV31: Diast : | CE31: Dias : | CF31: Diast : | CO31: Dias : | CP31: Diast : | CY31: Dias : | CZ31: Diast : | DI31: Dias : | DJ31: Diast : | DS31: Dias : | DT31: Diast : | EC31: Dias : | ED31: Diast : | EM31: Dias : | EN31: Diast : | EW31: Dias : | EX31: Diast : | FG31: Dias : | FH31: Diast : | FQ31: Dias : | FR31: Diast : | GA31: Dias : | GB31: Diast : | GK31: =IF(H31<>"",AVERAGE(H31,BF31,BP31,BZ31,CJ31,CT31,DD31,DN31,DX31,EH31,ER31,FB31,FL31,FV31,GF31),"")
C32: Puls : | D32: Pouls : | M32: T à P>=80w : | Y32: =IF(H20<>"",COUNTIF(H20:GE20,">=80")/2,"") -> 24.5 | AG32: T à P>=130w : | AS32: =IF(H20<>"",COUNTIF(H20:GE20,">=130")/2,"") -> 5.5 | BA32: Puls : | BB32: Pouls : | BK32: Puls : | BL32: Pouls : | BU32: Puls : | BV32: Pouls : | CE32: Puls : | CF32: Pouls : | CO32: Puls : | CP32: Pouls : | CY32: Puls : | CZ32: Pouls : | DI32: Puls : | DJ32: Pouls : | DS32: Puls : | DT32: Pouls : | EC32: Puls : | ED32: Pouls : | EM32: Puls : | EN32: Pouls : | EW32: Puls : | EX32: Pouls : | FG32: Puls : | FH32: Pouls : | FQ32: Puls : | FR32: Pouls : | GA32: Puls : | GB32: Pouls : | GK32: =IF(H32<>"",AVERAGE(H32,BF32,BP32,BZ32,CJ32,CT32,DD32,DN32,DX32,EH32,ER32,FB32,FL32,FV32,GF32),"")
C33: Aryth : | D33: Arythmie : | M33: T à P>=90w : | Y33: =IF(H20<>"",COUNTIF(H20:GE20,">=90")/2,"") -> 23 | AG33: T à P>=140w : | AS33: =IF(H20<>"",COUNTIF(H20:GE20,">=140")/2,"") -> 4 | BA33: Aryth : | BB33: Arythmie : | BK33: Aryth : | BL33: Arythmie : | BU33: Aryth : | BV33: Arythmie : | CE33: Aryth : | CF33: Arythmie : | CO33: Aryth : | CP33: Arythmie : | CY33: Aryth : | CZ33: Arythmie : | DI33: Aryth : | DJ33: Arythmie : | DS33: Aryth : | DT33: Arythmie : | EC33: Aryth : | ED33: Arythmie : | EM33: Aryth : | EN33: Arythmie : | EW33: Aryth : | EX33: Arythmie : | FG33: Aryth : | FH33: Arythmie : | FQ33: Aryth : | FR33: Arythmie : | GA33: Aryth : | GB33: Arythmie : | GK33: =IF(H33<>"",SUM(H33,BF33,BP33,BZ33,CJ33,CT33,DD33,DN33,DX33,EH33,ER33,FB33,FL33,FV33,GF33,),0) -> 0
C36: =C2+1 -> 40652 | AJ36: Sommeil | AL36: Durée nuit : | AV36: =IF(BR36<>"",IF(CH2<0.5,BR36-CH2,BR36+(1-CH2)),"") -> 0.35069444 | BB36: =IF(AV36<>"",IF(AV36>AV2,"↗",IF(AV36=AV2,"→","↘")),"") -> ↘ | BH36: Lever : | BR36: 0.34027778 | BX36: Coucher : | CN36: Moyenne du | CP36: jour | CW36: Marche en ext. | CY36: Nb pas : | DN36: Matin | DP36: Perindopril 2 | EN36: Midi | EP36: Kardegic 160 | FN36: Soir | FP36: Previscan 20
C37: Âge : | I37: =YEAR(C36-Renseignements!B$4)-1900&"a" -> 43a | M37: =MONTH(C36-Renseignements!B$4)&"m" -> 1m | Q37: =DAY(C36-Renseignements!B$4)&"j" -> 29j | U37: TP : | Z37: =Z3 -> 43.8 | AE37: % | AG37: =IF(J38<>"",IF(Z37>Z3,"↗",IF(Z37=Z3,"→","↘")),"") -> → | AL37: Sieste | BH37: M1 | BL37: M2 | BP37: M3 | BT37: Moy | BX37: M1 | CB37: M2 | CF37: M3 | CJ37: Moy | CP37: Moy | CY37: Dist(km) : | DG37: =IF(DG36<>"",DG36*Renseignements!B99/1000,"") | DP37: 1 cp | EP37: 1 sachet
C38: Poids : | J38: 94 | P38: Kg | S38: =IF(J38<>"",IF(J38>J4,"↗",IF(J38=J4,"→","↘")),"") -> ↘ | U38: INR : | Z38: =Z4 -> 2.6 | AG38: =IF(J38<>"",IF(Z38>Z4,"↗",IF(Z38=Z4,"→","↘")),"") -> → | AL38: Hdébut : | AT38: Hfin : | BC38: Sys : | BT38: =IF(BH38<>"",AVERAGE(BH38:BP38),"") | CJ38: =IF(BX38<>"",AVERAGE(BX38:CF38),"") | CP38: =IF(BT38<>"",AVERAGE(BT38,CJ38,GK64,#REF!,#REF!),"") | CT38: =IF(CH36<>"",IF(CO38=CO4,"→",IF(CO38>CO4,"↗","↘")),"") | CY38: Durée : | DP38: Inexium 20 | EP38: Plavix 75 | FP38: Cardensiel 1,25
C39: Mgraisse : | M39: 15.7 | S39: Kg | V39: =IF(M39<>"",IF(M39>M5,"↗",IF(M39=M5,"→","↘")),"") -> ↗ | X39: =IF(M39<>"",IF(J38<>"",(M39/J38)*100,""),"") -> 16.702128 | Z39: =IF(J38<>"",(N39/J38)*100,"") -> 0 | AD39: % | AG39: =IF(M39<>"",IF(X39>X5,"↗",IF(X39=X5,"→","↘")),"") -> ↗ | BC39: Dias : | BD39: Diast : | BT39: =IF(BH39<>"",AVERAGE(BH39:BP39),"") | CJ39: =IF(BX39<>"",AVERAGE(BX39:CF39),"") | CP39: =IF(BT39<>"",AVERAGE(BP39,CJ39,GK65,#REF!,#REF!),"") | CT39: =IF(CH36<>"",IF(CO39=CO5,"→",IF(CO39>CO5,"↗","↘")),"") | CY39: Vmoy : | DG39: =IF(DG38<>"",(DG37/((HOUR(DG38)*60)+(MINUTE(DG38))))*60,"") | DP39: 1 cp | EP39: 1 cp | FP39: 1 cp
C40: Mmaigre : | M40: =IF(M39<>"",IF(J38<>"",J38-M39,""),"") -> 78.3 | N40: =IF(J38<>"",J38-N39,"") -> 94 | S40: Kg | V40: =IF(M39<>"",IF(M40>M6,"↗",IF(M40=M6,"→","↘")),"") -> ↘ | X40: =IF(M39<>"",(M40/J38)*100,"") -> 83.297872 | AD40: % | AG40: =IF(M39<>"",IF(X40>X6,"↗",IF(X40=X6,"→","↘")),"") -> ↗ | AL40: Durée : | AT40: =IF(AND(AL39<>"",AT39<>""),AT39-AL39,0) -> 0 | AV40: 0.41666667 | BC40: Puls : | BD40: Pouls : | BT40: =IF(BH40<>"",AVERAGE(BH40:BP40),"") | CJ40: =IF(BX40<>"",AVERAGE(BX40:CF40),"") | CP40: =IF(BT40<>"",AVERAGE(BP40,CJ40,GK66,#REF!,#REF!),"") | CT40: =IF(CH36<>"",IF(CO40=CO6,"→",IF(CO40>CO6,"↗","↘")),"") | CY40: Tps à Fc : | FP40: Crestor 10
C41: IMC : | I41: =IF(J38<>"",J38/(1.92*1.92),"") -> 25.499132 | O41: =IF(J38<>"",IF(I41>I7,"↗",IF(I41=I7,"→","↘")),"") -> ↘ | S41: IMG : | Y41: =IF(J38<>"",(1.2*I41)+(0.23*(YEAR(C36-Renseignements!B$4)-1900))-(10.8*Renseignements!B$6)-5.4,"") -> 24.288958 | AE41: =IF(J38<>"",IF(Y41>Y7,"↗",IF(Y41=Y7,"→","↘")),"") -> ↘ | AL41: Total : | AT41: =IF(BR36<>"",AV36+AT40,"") -> 0.35069444 | AV41: 0.41666667 | BC41: Aryth : | BD41: Arythmie : | BT41: =IF(BR36<>"",SUM(BH41:BS41),0) -> 0 | CJ41: =IF(CH36<>"",SUM(BX41:CI41),0) -> 0 | CP41: =IF(BP41<>"",SUM(BT41,CJ41,GK67,#REF!,#REF!),0) -> 0 | CT41: =IF(CH36<>"",IF(CO41=CO7,"→",IF(CO41>CO7,"↗","↘")),"") | CY41: Déniv. : | FP41: 1 cp
C42: Dernier contrôle TP/INR le : | Y42: =Y8 -> 40638 | AI42: =IF((Y43-C36)=1,"Attention, contrôle TP/INR demain",IF((Y43-C36)=0,"Attention, contrôle TP/INR aujourd'hui",IF((Y43-C36)<0,"Attention, date de contrôle TP/INR dépassée de "&-(Y43-C36)&" jour(s)",""))) -> Attention, contrôle TP/INR aujourd'hui | BP42: Calories dépensées (Kcal) : | CN42: =SUM(DG42,GJ54,#REF!,#REF!) -> #REF! | CT42: =IF(CH36<>"",IF(CO42=CO8,"→",IF(CO42>CO8,"↗","↘")),"") | CY42: Kcal. : | DP42: Préparation Weleda C466 | FP42: Préparation Weleda C466
C43: Il y a : | J43: =C36-Y42 -> 14 | M43: jr | O43: Prochain le : | Y43: =Y42+Y44 -> 40652 | BP43: Temps d'activités physiques : | CN43: =SUM(DG38,CC45,#REF!,#REF!) -> #REF! | CT43: =IF(CH36<>"",IF(CO43=CO9,"→",IF(CO43>CO9,"↗","↘")),"") | DP43: 15 gouttes | FP43: 15 gouttes
C44: Contrôle TP/INR tous les | Y44: 14 | AD44: jours | DP44: Préparation Weleda C472 | FP44: Préparation Weleda C472
C45: Séance de vélo d'entraînement à fréquence constante | AZ45: 100 | BE45: bpm et | BL45: 60 | BP45: rpm | BU45: pendant | CC45: =IF(F63<>"",(90-COUNTBLANK(H54:GE54)/2)*(1/(24*60)),"") | CI45: minutes. | DP45: 15 gouttes | FP45: 15 gouttes
G46: watts | GF46: watts
B47: =E48+30 -> 240 | H47: =IF(H54>=240,1,"") | I47: =IF(I54>=240,1,"") | J47: =IF(J54>=240,1,"") | K47: =IF(K54>=240,1,"") | L47: =IF(L54>=240,1,"") | M47: =IF(M54>=240,1,"") | N47: =IF(N54>=240,1,"") | O47: =IF(O54>=240,1,"") | ... GE47: =IF(GE54>=240,1,"") | GG47: =GG48+30 -> 240
B48: =B49+30 -> 210 | E48: =E49+30 -> 210 | H48: =IF(H54>=210,1,"") | I48: =IF(I54>=210,1,"") | J48: =IF(J54>=210,1,"") | K48: =IF(K54>=210,1,"") | L48: =IF(L54>=210,1,"") | M48: =IF(M54>=210,1,"") | N48: =IF(N54>=210,1,"") | O48: =IF(O54>=210,1,"") | ... GE48: =IF(GE54>=210,1,"") | GG48: =GG49+30 -> 210
B49: =B50+30 -> 180 | E49: =E50+30 -> 180 | H49: =IF(H54>=180,1,"") | I49: =IF(I54>=180,1,"") | J49: =IF(J54>=180,1,"") | K49: =IF(K54>=180,1,"") | L49: =IF(L54>=180,1,"") | M49: =IF(M54>=180,1,"") | N49: =IF(N54>=180,1,"") | O49: =IF(O54>=180,1,"") | ... GE49: =IF(GE54>=180,1,"") | GG49: =GG50+30 -> 180
B50: =B51+30 -> 150 | E50: =E51+30 -> 150 | H50: =IF(H54>=150,1,"") | I50: =IF(I54>=150,1,"") | J50: =IF(J54>=150,1,"") | K50: =IF(K54>=150,1,"") | L50: =IF(L54>=150,1,"") | M50: =IF(M54>=150,1,"") | N50: =IF(N54>=150,1,"") | O50: =IF(O54>=150,1,"") | ... GE50: =IF(GE54>=150,1,"") | GG50: =GG51+30 -> 150
B51: =B52+30 -> 120 | E51: =E52+30 -> 120 | H51: =IF(H54>=120,1,"") | I51: =IF(I54>=120,1,"") | J51: =IF(J54>=120,1,"") | K51: =IF(K54>=120,1,"") | L51: =IF(L54>=120,1,"") | M51: =IF(M54>=120,1,"") | N51: =IF(N54>=120,1,"") | O51: =IF(O54>=120,1,"") | ... GE51: =IF(GE54>=120,1,"") | GG51: =GG52+30 -> 120
B52: =B53+30 -> 90 | E52: =E53+30 -> 90 | H52: =IF(H54>=90,1,"") | I52: =IF(I54>=90,1,"") | J52: =IF(J54>=90,1,"") | K52: =IF(K54>=90,1,"") | L52: =IF(L54>=90,1,"") | M52: =IF(M54>=90,1,"") | N52: =IF(N54>=90,1,"") | O52: =IF(O54>=90,1,"") | ... GE52: =IF(GE54>=90,1,"") | GG52: =GG53+30 -> 90 | GJ52: Kcal
B53: =B54+30 -> 60 | E53: =E54+30 -> 60 | H53: =IF(H54>=60,1,"") | I53: =IF(I54>=60,1,"") | J53: =IF(J54>=60,1,"") | K53: =IF(K54>=60,1,"") | L53: =IF(L54>=60,1,"") | M53: =IF(M54>=60,1,"") | N53: =IF(N54>=60,1,"") | O53: =IF(O54>=60,1,"") | ... GE53: =IF(GE54>=60,1,"") | GG53: =GG54+30 -> 60
B54: 30 | E54: 30 | GG54: 30
B55: 0 | H55: 0 | R55: =H55+5 -> 5 | AB55: =R55+5 -> 10 | AL55: =AB55+5 -> 15 | AV55: =AL55+5 -> 20 | BF55: =AV55+5 -> 25 | BP55: =BF55+5 -> 30 | BZ55: =BP55+5 -> 35 | CJ55: =BZ55+5 -> 40 | CT55: =CJ55+5 -> 45 | DD55: =CT55+5 -> 50 | DN55: =DD55+5 -> 55 | DX55: =DN55+5 -> 60 | EH55: =DX55+5 -> 65 | ER55: =EH55+5 -> 70 | FB55: =ER55+5 -> 75 | FL55: =FB55+5 -> 80 | FV55: =FL55+5 -> 85 | GF55: =FV55+5 -> 90 | GK55: =IF(N54<>"",IF(GJ54=GJ20,"→",IF(GJ54>GJ345,"↗","↘")),"")
N57: =IF(X54<>"",M57+N54,M57) -> 0 | O57: =IF(Y54<>"",N57+O54,N57) -> 0 | P57: =IF(Z54<>"",O57+P54,O57) -> 0 | Q57: =IF(AA54<>"",P57+Q54,P57) -> 0 | R57: =IF(AB54<>"",Q57+R54,Q57) -> 0 | S57: =IF(AC54<>"",R57+S54,R57) -> 0 | T57: =IF(AD54<>"",S57+T54,S57) -> 0 | U57: =IF(AE54<>"",T57+U54,T57) -> 0 | ... FU57: =IF(GE54<>"",FT57+FU54,FT57) -> 0
N58: =IF(X54<>"",M58+1,M58) -> 0 | O58: =IF(Y54<>"",N58+1,N58) -> 0 | P58: =IF(Z54<>"",O58+1,O58) -> 0 | Q58: =IF(AA54<>"",P58+1,P58) -> 0 | R58: =IF(AB54<>"",Q58+1,Q58) -> 0 | S58: =IF(AC54<>"",R58+1,R58) -> 0 | T58: =IF(AD54<>"",S58+1,S58) -> 0 | U58: =IF(AE54<>"",T58+1,T58) -> 0 | ... FU58: =IF(GE54<>"",FT58+1,FT58) -> 0
O59: =IF(O58=N58,"1","0") -> 1 | P59: =IF(P58=O58,"1","0") -> 1 | Q59: =IF(Q58=P58,"1","0") -> 1 | R59: =IF(R58=Q58,"1","0") -> 1 | S59: =IF(S58=R58,"1","0") -> 1 | T59: =IF(T58=S58,"1","0") -> 1 | U59: =IF(U58=T58,"1","0") -> 1 | V59: =IF(V58=U58,"1","0") -> 1 | ... GE59: =IF(GE58=GD58,"1","0") -> 1
O60: =IF(O54<>"","1","0") -> 0 | P60: =IF(P54<>"","1","0") -> 0 | Q60: =IF(Q54<>"","1","0") -> 0 | R60: =IF(R54<>"","1","0") -> 0 | S60: =IF(S54<>"","1","0") -> 0 | T60: =IF(T54<>"","1","0") -> 0 | U60: =IF(U54<>"","1","0") -> 0 | V60: =IF(V54<>"","1","0") -> 0 | ... GE60: =IF(GE54<>"","1","0") -> 0
O61: =O59+O60 -> 1 | P61: =P59+P60 -> 1 | Q61: =Q59+Q60 -> 1 | R61: =R59+R60 -> 1 | S61: =S59+S60 -> 1 | T61: =T59+T60 -> 1 | U61: =U59+U60 -> 1 | V61: =V59+V60 -> 1 | ... GE61: =GE59+GE60 -> 1
C63: Hd: | M63: Pmax : | Y63: =IF(H54<>"",MAX(H54:GE54),"") | AD63: =IF(H54<>"",IF(Y63=Y29,"→",IF(Y63>Y29,"↗","↘")),"") | AG63: T à P>=100w : | AS63: =IF(H54<>"",COUNTIF(H54:GE54,">=100")/2,"") | AX63: =IF(H54<>"",IF(AS63=AS29,"→",IF(AS63>AS29,"↗","↘")),"") | BA63: H : | BD63: =IF(BF64<>"",F63+(25*(1/(24*60))),"") | BK63: H : | BN63: =IF(BP64<>"",$F63+(30*(1/(24*60))),"") | BU63: H : | BX63: =IF(BZ64<>"",$F63+(35*(1/(24*60))),"") | CE63: H : | CH63: =IF(CJ64<>"",$F63+(40*(1/(24*60))),"") | CO63: H : | CR63: =IF(CT64<>"",$F63+(45*(1/(24*60))),"") | CY63: H : | DB63: =IF(DD64<>"",$F63+(50*(1/(24*60))),"") | DI63: H : | DL63: =IF(DN64<>"",$F63+(55*(1/(24*60))),"") | DS63: H : | DV63: =IF(DX64<>"",$F63+(60*(1/(24*60))),"") | EC63: H : | EF63: =IF(EH64<>"",$F63+(65*(1/(24*60))),"") | EM63: H : | EP63: =IF(ER64<>"",$F63+(70*(1/(24*60))),"") | EW63: H : | EZ63: =IF(FB64<>"",$F63+(75*(1/(24*60))),"") | FG63: H : | FJ63: =IF(FL64<>"",$F63+(80*(1/(24*60))),"") | FQ63: H : | FT63: =IF(FV64<>"",$F63+(85*(1/(24*60))),"") | GA63: H : | GD63: =IF(GF64<>"",$F63+(90*(1/(24*60))),"") | GK63: Moy
C64: Sys : | M64: Pm/tps total : | Y64: =IF(H54<>"",AVERAGE(H54:GE54),"") | AD64: =IF(H54<>"",IF(Y64=Y30,"→",IF(Y64>Y30,"↗","↘")),"") | AG64: T à P>=110w : | AS64: =IF(H54<>"",COUNTIF(H54:GE54,">=110")/2,"") | AX64: =IF(H54<>"",IF(AS64=AS30,"→",IF(AS64>AS30,"↗","↘")),"") | BA64: Sys : | BK64: Sys : | BU64: Sys : | CE64: Sys : | CO64: Sys : | CY64: Sys : | DI64: Sys : | DS64: Sys : | EC64: Sys : | EM64: Sys : | EW64: Sys : | FG64: Sys : | FQ64: Sys : | GA64: Sys : | GK64: =IF(H64<>"",AVERAGE(H64,BF64,BP64,BZ64,CJ64,CT64,DD64,DN64,DX64,EH64,ER64,FB64,FL64,FV64,GF64),"")
C65: Dias : | D65: Diast : | M65: Pm/tps effort : | Y65: =IF(X54<>"",FU57/FU58,"") | AD65: =IF(H54<>"",IF(Y65=Y31,"→",IF(Y65>Y31,"↗","↘")),"") | AG65: T à P>=120w : | AS65: =IF(H54<>"",COUNTIF(H54:GE54,">=120")/2,"") | AX65: =IF(H54<>"",IF(AS65=AS31,"→",IF(AS65>AS31,"↗","↘")),"") | BA65: Dias : | BB65: Diast : | BK65: Dias : | BL65: Diast : | BU65: Dias : | BV65: Diast : | CE65: Dias : | CF65: Diast : | CO65: Dias : | CP65: Diast : | CY65: Dias : | CZ65: Diast : | DI65: Dias : | DJ65: Diast : | DS65: Dias : | DT65: Diast : | EC65: Dias : | ED65: Diast : | EM65: Dias : | EN65: Diast : | EW65: Dias : | EX65: Diast : | FG65: Dias : | FH65: Diast : | FQ65: Dias : | FR65: Diast : | GA65: Dias : | GB65: Diast : | GK65: =IF(H65<>"",AVERAGE(H65,BF65,BP65,BZ65,CJ65,CT65,DD65,DN65,DX65,EH65,ER65,FB65,FL65,FV65,GF65),"")
C66: Puls : | D66: Pouls : | M66: T à P>=80w : | Y66: =IF(H54<>"",COUNTIF(H54:GE54,">=80")/2,"") | AD66: =IF(H54<>"",IF(Y66=Y32,"→",IF(Y66>Y32,"↗","↘")),"") | AG66: T à P>=130w : | AS66: =IF(H54<>"",COUNTIF(H54:GE54,">=130")/2,"") | AX66: =IF(H54<>"",IF(AS66=AS32,"→",IF(AS66>AS32,"↗","↘")),"") | BA66: Puls : | BB66: Pouls : | BK66: Puls : | BL66: Pouls : | BU66: Puls : | BV66: Pouls : | CE66: Puls : | CF66: Pouls : | CO66: Puls : | CP66: Pouls : | CY66: Puls : | CZ66: Pouls : | DI66: Puls : | DJ66: Pouls : | DS66: Puls : | DT66: Pouls : | EC66: Puls : | ED66: Pouls : | EM66: Puls : | EN66: Pouls : | EW66: Puls : | EX66: Pouls : | FG66: Puls : | FH66: Pouls : | FQ66: Puls : | FR66: Pouls : | GA66: Puls : | GB66: Pouls : | GK66: =IF(H66<>"",AVERAGE(H66,BF66,BP66,BZ66,CJ66,CT66,DD66,DN66,DX66,EH66,ER66,FB66,FL66,FV66,GF66),"")
C67: Aryth : | D67: Arythmie : | M67: T à P>=90w : | Y67: =IF(H54<>"",COUNTIF(H54:GE54,">=90")/2,"") | AD67: =IF(H54<>"",IF(Y67=Y33,"→",IF(Y67>Y33,"↗","↘")),"") | AG67: T à P>=140w : | AS67: =IF(H54<>"",COUNTIF(H54:GE54,">=140")/2,"") | AX67: =IF(H54<>"",IF(AS67=AS33,"→",IF(AS67>AS33,"↗","↘")),"") | BA67: Aryth : | BB67: Arythmie : | BK67: Aryth : | BL67: Arythmie : | BU67: Aryth : | BV67: Arythmie : | CE67: Aryth : | CF67: Arythmie : | CO67: Aryth : | CP67: Arythmie : | CY67: Aryth : | CZ67: Arythmie : | DI67: Aryth : | DJ67: Arythmie : | DS67: Aryth : | DT67: Arythmie : | EC67: Aryth : | ED67: Arythmie : | EM67: Aryth : | EN67: Arythmie : | EW67: Aryth : | EX67: Arythmie : | FG67: Aryth : | FH67: Arythmie : | FQ67: Aryth : | FR67: Arythmie : | GA67: Aryth : | GB67: Arythmie : | GK67: =IF(H67<>"",SUM(H67,BF67,BP67,BZ67,CJ67,CT67,DD67,DN67,DX67,EH67,ER67,FB67,FL67,FV67,GF67,),0) -> 0

Sheet Semaine n°2
C2: ='Semaine n°1'!C2:AH2+7 -> 40658 | AJ2: Sommeil | AL2: Durée nuit : | AV2: 0.45138889 | BH2: Lever : | BX2: Coucher : | CH2: 0.98958333 | CN2: Moyenne du | CP2: jour | CW2: Marche en ext. | CY2: Nb pas : | DN2: Matin | DP2: Perindopril 2 | EN2: Midi | EP2: Kardegic 160 | FN2: Soir | FP2: Previscan 20
C3: Âge : | I3: =YEAR(C2-Renseignements!B$4)-1900&"a" -> 43a | M3: =MONTH(C2-Renseignements!B$4)&"m" -> 2m | Q3: =DAY(C2-Renseignements!B$4)&"j" -> 4j | U3: TP : | Z3: 43.8 | AE3: % | AL3: Sieste | BH3: M1 | BL3: M2 | BP3: M3 | BT3: Moy | BX3: M1 | CB3: M2 | CF3: M3 | CJ3: Moy | CP3: Moy | CY3: Dist(km) : | DG3: =IF(DG2<>"",DG2*Renseignements!B8/1000,"") | DP3: 1 cp | EP3: 1 sachet
C4: Poids : | J4: 95 | P4: Kg | U4: INR : | Z4: 2.6 | AL4: Hdébut : | AT4: Hfin : | BC4: Sys : | BT4: =IF(BH4<>"",AVERAGE(BH4:BP4),"") | CJ4: =IF(BX4<>"",AVERAGE(BX4:CF4),"") | CP4: =IF(BT4<>"",AVERAGE(BT4,CJ4,GK30,#REF!,#REF!),"") | CY4: Durée : | DP4: Inexium 20 | EP4: Plavix 75 | FP4: Cardensiel 1,25
C5: Mgraisse : | M5: 15.6 | N5: 18 | S5: Kg | X5: =IF(J4<>"",(M5/J4)*100,"") -> 16.421053 | Z5: =IF(J4<>"",(N5/J4)*100,"") -> 18.947368 | AD5: % | AH5: % | BC5: Dias : | BD5: Diast : | BT5: =IF(BH5<>"",AVERAGE(BH5:BP5),"") | CJ5: =IF(BX5<>"",AVERAGE(BX5:CF5),"") | CP5: =IF(BT5<>"",AVERAGE(BP5,CJ5,GK31,#REF!,#REF!),"") | CY5: Vmoy : | DG5: =IF(DG4<>"",(DG3/((HOUR(DG4)*60)+(MINUTE(DG4))))*60,"") | DP5: 1 cp | EP5: 1 cp | FP5: 1 cp
C6: Mmaigre : | M6: =IF(J4<>"",J4-M5,"") -> 79.4 | N6: =IF(J4<>"",J4-N5,"") -> 77 | S6: Kg | X6: =IF(J4<>"",(N6/J4)*100,"") -> 81.052632 | AD6: % | AL6: Durée : | AT6: =IF(AND(AL5<>"",AT5<>""),AT5-AL5,0) -> 0 | AV6: 0.41666667 | BC6: Puls : | BD6: Pouls : | BT6: =IF(BH6<>"",AVERAGE(BH6:BP6),"") | CJ6: =IF(BX6<>"",AVERAGE(BX6:CF6),"") | CP6: =IF(BT6<>"",AVERAGE(BP6,CJ6,GK32,#REF!,#REF!),"") | CY6: Tps à Fc : | FP6: Crestor 10
C7: IMC : | I7: =IF(J4<>"",J4/(1.92*1.92),"") -> 25.770399 | S7: IMG : | Y7: =(1.2*I7)+(0.23*(YEAR(C2-Renseignements!B$4)-1900))-(10.8*Renseignements!B$6)-5.4 -> 24.614479 | AL7: Total : | AT7: =IF(BR2<>"",AV2+AT6,"") | AV7: 0.41666667 | BC7: Aryth : | BD7: Arythmie : | BT7: =IF(BR2<>"",SUM(BH7:BS7),0) -> 0 | CJ7: =IF(CH2<>"",SUM(BX7:CI7),0) -> 0 | CP7: =IF(BP7<>"",SUM(BT7,CJ7,GK33,#REF!,#REF!),0) -> 0 | CY7: Déniv. : | FP7: 1 cp
C8: Dernier contrôle TP/INR le : | Y8: 40624 | AI8: =IF((Y9-C2)=1,"Attention, contrôle TP/INR demain",IF((Y9-C2)=0,"Attention, contrôle TP/INR aujourd'hui",IF((Y9-C2)<0,"Attention, date de contrôle TP/INR dépassée de "&-(Y9-C2)&" jour(s)",""))) -> Attention, date de contrôle TP/INR dépassée de 20 jour(s) | BP8: Calories dépensées (Kcal) : | CN8: =SUM(DG8,GJ20,#REF!,#REF!) -> #REF! | CY8: Kcal. : | DP8: Préparation Weleda C466 | FP8: Préparation Weleda C466
C9: Il y a : | J9: =C2-Y8 -> 34 | M9: jr | O9: Prochain le : | Y9: =Y8+Y10 -> 40638 | BP9: Temps d'activités physiques : | CN9: =SUM(DG4,CC11,#REF!,#REF!) -> #REF! | DP9: 15 gouttes | FP9: 15 gouttes
C10: Contrôle TP/INR tous les | Y10: 14 | AD10: jours | DP10: Préparation Weleda C472 | FP10: Préparation Weleda C472
C11: Séance de vélo d'entraînement à fréquence constante | AZ11: 100 | BE11: bpm et | BL11: 60 | BP11: rpm | BU11: pendant | CC11: =IF(F29<>"",(90-COUNTBLANK(H20:GE20)/2)*(1/(24*60)),"") -> 0.0625 | CI11: minutes. | DP11: 15 gouttes | FP11: 15 gouttes
G12: watts | GF12: watts
B13: =E14+30 -> 240 | H13: =IF(H20>=240,1,"") | I13: =IF(I20>=240,1,"") | J13: =IF(J20>=240,1,"") | K13: =IF(K20>=240,1,"") | L13: =IF(L20>=240,1,"") | M13: =IF(M20>=240,1,"") | N13: =IF(N20>=240,1,"") | O13: =IF(O20>=240,1,"") | ... GE13: =IF(GE20>=240,1,"") | GG13: =GG14+30 -> 240
B14: =B15+30 -> 210 | E14: =E15+30 -> 210 | H14: =IF(H20>=210,1,"") | I14: =IF(I20>=210,1,"") | J14: =IF(J20>=210,1,"") | K14: =IF(K20>=210,1,"") | L14: =IF(L20>=210,1,"") | M14: =IF(M20>=210,1,"") | N14: =IF(N20>=210,1,"") | O14: =IF(O20>=210,1,"") | ... GE14: =IF(GE20>=210,1,"") | GG14: =GG15+30 -> 210
B15: =B16+30 -> 180 | E15: =E16+30 -> 180 | H15: =IF(H20>=180,1,"") | I15: =IF(I20>=180,1,"") | J15: =IF(J20>=180,1,"") | K15: =IF(K20>=180,1,"") | L15: =IF(L20>=180,1,"") | M15: =IF(M20>=180,1,"") | N15: =IF(N20>=180,1,"") | O15: =IF(O20>=180,1,"") | ... GE15: =IF(GE20>=180,1,"") | GG15: =GG16+30 -> 180
B16: =B17+30 -> 150 | E16: =E17+30 -> 150 | H16: =IF(H20>=150,1,"") | I16: =IF(I20>=150,1,"") | J16: =IF(J20>=150,1,"") | K16: =IF(K20>=150,1,"") | L16: =IF(L20>=150,1,"") | M16: =IF(M20>=150,1,"") | N16: =IF(N20>=150,1,"") | O16: =IF(O20>=150,1,"") | ... GE16: =IF(GE20>=150,1,"") | GG16: =GG17+30 -> 150
B17: =B18+30 -> 120 | E17: =E18+30 -> 120 | H17: =IF(H20>=120,1,"") | I17: =IF(I20>=120,1,"") | J17: =IF(J20>=120,1,"") | K17: =IF(K20>=120,1,"") | L17: =IF(L20>=120,1,"") | M17: =IF(M20>=120,1,"") | N17: =IF(N20>=120,1,"") | O17: =IF(O20>=120,1,"") -> 1 | ... GE17: =IF(GE20>=120,1,"") | GG17: =GG18+30 -> 120
B18: =B19+30 -> 90 | E18: =E19+30 -> 90 | H18: =IF(H20>=90,1,"") | I18: =IF(I20>=90,1,"") | J18: =IF(J20>=90,1,"") | K18: =IF(K20>=90,1,"") | L18: =IF(L20>=90,1,"") -> 1 | M18: =IF(M20>=90,1,"") -> 1 | N18: =IF(N20>=90,1,"") -> 1 | O18: =IF(O20>=90,1,"") -> 1 | ... GE18: =IF(GE20>=90,1,"") | GG18: =GG19+30 -> 90 | GJ18: Kcal
B19: =B20+30 -> 60 | E19: =E20+30 -> 60 | H19: =IF(H20>=60,1,"") | I19: =IF(I20>=60,1,"") | J19: =IF(J20>=60,1,"") -> 1 | K19: =IF(K20>=60,1,"") -> 1 | L19: =IF(L20>=60,1,"") -> 1 | M19: =IF(M20>=60,1,"") -> 1 | N19: =IF(N20>=60,1,"") -> 1 | O19: =IF(O20>=60,1,"") -> 1 | ... GE19: =IF(GE20>=60,1,"") | GG19: =GG20+30 -> 60
B20: 30 | E20: 30 | H20: 36 | I20: 42 | J20: 63 | K20: 78 | L20: 92 | M20: 95 | N20: 110 | O20: 125 | P20: 125 | Q20: 125 | R20: 125 | S20: 125 | T20: 125 | U20: 125 | V20: 125 | W20: 125 | X20: 125 | Y20: 120 | Z20: 110 | AA20: 110 | AB20: 120 | AC20: 90 | AD20: 90 | AE20: 90 | AF20: 85 | AG20: 85 | AH20: 95 | AI20: 120 | AJ20: 135 | AK20: 136 | AL20: 125 | AM20: 120 | AN20: 145 | AO20: 145 | AP20: 125 | AQ20: 145 | AR20: 125 | AS20: 150 | AT20: 120 | AU20: 110 | AV20: 90 | AW20: 80 | AX20: 60 | AY20: 45 | AZ20: 50 | BA20: 45 | BB20: 10 | BC20: 10 | BD20: 10 | BE20: 10 | BF20: 10 | BG20: 1 | BH20: 1 | BI20: 1 | BJ20: 1 | BK20: 1 | BL20: 1 | BM20: 1 | BN20: 1 | BO20: 1 | BP20: 1 | BQ20: 1 | BR20: 1 | BS20: 1 | BT20: 1 | BU20: 1 | BV20: 1 | BW20: 1 | BX20: 1 | BY20: 1 | BZ20: 1 | CA20: 1 | CB20: 1 | CC20: 1 | CD20: 1 | CE20: 1 | CF20: 1 | CG20: 1 | CH20: 1 | CI20: 1 | CJ20: 1 | CK20: 111 | CL20: 1 | CM20: 1 | CN20: 1 | CO20: 1 | CP20: 1 | CQ20: 1 | CR20: 1 | CS20: 1 | CT20: 1 | CU20: 1 | CV20: 25 | CW20: 35 | CX20: 45 | CY20: 56 | CZ20: 61 | DA20: 111 | DB20: 50 | DC20: 65 | DD20: 95 | DE20: 125 | DF20: 135 | DG20: 140 | DH20: 150 | DI20: 180 | DJ20: 210 | DK20: 120 | DL20: 12 | DM20: 1 | DN20: 1 | DO20: 1 | DP20: 1 | DQ20: 1 | DR20: 1 | DS20: 1 | DT20: 41 | DU20: 1 | DV20: 1 | DW20: 1 | DX20: 1 | DY20: 1 | DZ20: 1 | EA20: 1 | EB20: 1 | EC20: 1 | ED20: 1 | EE20: 1 | EF20: 1 | EG20: 1 | EH20: 1 | EI20: 1 | EJ20: 1 | EK20: 111 | EL20: 14 | EM20: 1 | EN20: 1 | EO20: 1 | EP20: 1 | EQ20: 11 | ER20: 1 | ES20: 1 | ET20: 1 | EU20: 1 | EV20: 1 | EW20: 11 | EX20: 1 | EY20: 1 | EZ20: 1 | FA20: 1 | FB20: 1 | FC20: 1 | FD20: 1 | FE20: 1 | FF20: 1 | FG20: 1 | FH20: 1 | FI20: 1 | FJ20: 1 | FK20: 1 | FL20: 1 | FM20: 1 | FN20: 1 | FO20: 1 | FP20: 1 | FQ20: 1 | FR20: 1 | FS20: 1 | FT20: 1 | FU20: 1 | FV20: 1 | FW20: 1 | FX20: 1 | FY20: 1 | FZ20: 1 | GA20: 1 | GB20: 1 | GC20: 1 | GD20: 1 | GE20: 1 | GG20: 30
B21: 0 | H21: 0 | R21: =H21+5 -> 5 | AB21: =R21+5 -> 10 | AL21: =AB21+5 -> 15 | AV21: =AL21+5 -> 20 | BF21: =AV21+5 -> 25 | BP21: =BF21+5 -> 30 | BZ21: =BP21+5 -> 35 | CJ21: =BZ21+5 -> 40 | CT21: =CJ21+5 -> 45 | DD21: =CT21+5 -> 50 | DN21: =DD21+5 -> 55 | DX21: =DN21+5 -> 60 | EH21: =DX21+5 -> 65 | ER21: =EH21+5 -> 70 | FB21: =ER21+5 -> 75 | FL21: =FB21+5 -> 80 | FV21: =FL21+5 -> 85 | GF21: =FV21+5 -> 90
N23: =IF(X20<>"",M23+N20,M23) -> 110 | O23: =IF(Y20<>"",N23+O20,N23) -> 235 | P23: =IF(Z20<>"",O23+P20,O23) -> 360 | Q23: =IF(AA20<>"",P23+Q20,P23) -> 485 | R23: =IF(AB20<>"",Q23+R20,Q23) -> 610 | S23: =IF(AC20<>"",R23+S20,R23) -> 735 | T23: =IF(AD20<>"",S23+T20,S23) -> 860 | U23: =IF(AE20<>"",T23+U20,T23) -> 985 | ... FV23: =IF(GF20<>"",FU23+FV20,FU23) -> 6486 | FW23: =IF(GG20="",FV23+FW20,FV23) -> 6486 | FX23: =IF(GH20<>"",FW23+FX20,FW23) -> 6486 | FY23: =IF(GI20<>"",FX23+FY20,FX23) -> 6486 | FZ23: =IF(GJ20<>"",FY23+FZ20,FY23) -> 6486 | GA23: =IF(GK20<>"",FZ23+GA20,FZ23) -> 6486 | GB23: =IF(GL20<>"",GA23+GB20,GA23) -> 6486 | GC23: =IF(GM20<>"",GB23+GC20,GB23) -> 6486 | GD23: =IF(GN20<>"",GC23+GD20,GC23) -> 6486 | GE23: =IF(GO20<>"",GD23+GE20,GD23) -> 6486
N24: =IF(X20<>"",M24+1,M24) -> 1 | O24: =IF(Y20<>"",N24+1,N24) -> 2 | P24: =IF(Z20<>"",O24+1,O24) -> 3 | Q24: =IF(AA20<>"",P24+1,P24) -> 4 | R24: =IF(AB20<>"",Q24+1,Q24) -> 5 | S24: =IF(AC20<>"",R24+1,R24) -> 6 | T24: =IF(AD20<>"",S24+1,S24) -> 7 | U24: =IF(AE20<>"",T24+1,T24) -> 8 | ... FV24: =IF(GF20<>"",FU24+1,FU24) -> 164 | FW24: =IF(GG20="",FV24+1,FV24) -> 164 | FX24: =IF(GH20<>"",FW24+1,FW24) -> 164 | FY24: =IF(GI20<>"",FX24+1,FX24) -> 164 | FZ24: =IF(GJ20<>"",FY24+1,FY24) -> 164 | GA24: =IF(GK20<>"",FZ24+1,FZ24) -> 164 | GB24: =IF(GL20<>"",GA24+1,GA24) -> 164 | GC24: =IF(GM20<>"",GB24+1,GB24) -> 164 | GD24: =IF(GN20<>"",GC24+1,GC24) -> 164 | GE24: =IF(GO20<>"",GD24+1,GD24) -> 164
O25: =IF(O24=N24,"1","0") -> 0 | P25: =IF(P24=O24,"1","0") -> 0 | Q25: =IF(Q24=P24,"1","0") -> 0 | R25: =IF(R24=Q24,"1","0") -> 0 | S25: =IF(S24=R24,"1","0") -> 0 | T25: =IF(T24=S24,"1","0") -> 0 | U25: =IF(U24=T24,"1","0") -> 0 | V25: =IF(V24=U24,"1","0") -> 0 | ... GE25: =IF(GE24=GD24,"1","0") -> 1
O26: =IF(O20<>"","1","0") -> 1 | P26: =IF(P20<>"","1","0") -> 1 | Q26: =IF(Q20<>"","1","0") -> 1 | R26: =IF(R20<>"","1","0") -> 1 | S26: =IF(S20<>"","1","0") -> 1 | T26: =IF(T20<>"","1","0") -> 1 | U26: =IF(U20<>"","1","0") -> 1 | V26: =IF(V20<>"","1","0") -> 1 | ... GE26: =IF(GE20<>"","1","0") -> 1
O27: =O25+O26 -> 1 | P27: =P25+P26 -> 1 | Q27: =Q25+Q26 -> 1 | R27: =R25+R26 -> 1 | S27: =S25+S26 -> 1 | T27: =T25+T26 -> 1 | U27: =U25+U26 -> 1 | V27: =V25+V26 -> 1 | ... GE27: =GE25+GE26 -> 2
C29: Hd: | F29: 0.43333333 | M29: Pmax : | Y29: =IF(H20<>"",MAX(H20:GE20),"") -> 210 | AG29: T à P>=100w : | AS29: =IF(H20<>"",COUNTIF(H20:GE20,">=100")/2,"") -> 19 | BA29: H : | BD29: =IF(BF30<>"",F29+(25*(1/(24*60))),"") | BK29: H : | BN29: =IF(BP30<>"",$F29+(30*(1/(24*60))),"") | BU29: H : | BX29: =IF(BZ30<>"",$F29+(35*(1/(24*60))),"") | CE29: H : | CH29: =IF(CJ30<>"",$F29+(40*(1/(24*60))),"") | CO29: H : | CR29: =IF(CT30<>"",$F29+(45*(1/(24*60))),"") | CY29: H : | DB29: =IF(DD30<>"",$F29+(50*(1/(24*60))),"") | DI29: H : | DL29: =IF(DN30<>"",$F29+(55*(1/(24*60))),"") | DS29: H : | DV29: =IF(DX30<>"",$F29+(60*(1/(24*60))),"") | EC29: H : | EF29: =IF(EH30<>"",$F29+(65*(1/(24*60))),"") | EM29: H : | EP29: =IF(ER30<>"",$F29+(70*(1/(24*60))),"") | EW29: H : | EZ29: =IF(FB30<>"",$F29+(75*(1/(24*60))),"") | FG29: H : | FJ29: =IF(FL30<>"",$F29+(80*(1/(24*60))),"") | FQ29: H : | FT29: =IF(FV30<>"",$F29+(85*(1/(24*60))),"") | GA29: H : | GD29: =IF(GF30<>"",$F29+(90*(1/(24*60))),"") | GK29: Moy
C30: Sys : | M30: Pm/tps total : | Y30: =IF(H20<>"",AVERAGE(H20:GE20),"") -> 38.344444 | AG30: T à P>=110w : | AS30: =IF(H20<>"",COUNTIF(H20:GE20,">=110")/2,"") -> 19 | BA30: Sys : | BK30: Sys : | BU30: Sys : | CE30: Sys : | CO30: Sys : | CY30: Sys : | DI30: Sys : | DS30: Sys : | EC30: Sys : | EM30: Sys : | EW30: Sys : | FG30: Sys : | FQ30: Sys : | GA30: Sys : | GK30: =IF(H30<>"",AVERAGE(H30,BF30,BP30,BZ30,CJ30,CT30,DD30,DN30,DX30,EH30,ER30,FB30,FL30,FV30,GF30),"")
C31: Dias : | D31: Diast : | M31: Pm/tps effort : | Y31: =IF(X20<>"",FU23/FU24,"") -> 39.54878 | AG31: T à P>=120w : | AS31: =IF(H20<>"",COUNTIF(H20:GE20,">=120")/2,"") -> 15.5 | BA31: Dias : | BB31: Diast : | BK31: Dias : | BL31: Diast : | BU31: Dias : | BV31: Diast : | CE31: Dias : | CF31: Diast : | CO31: Dias : | CP31: Diast : | CY31: Dias : | CZ31: Diast : | DI31: Dias : | DJ31: Diast : | DS31: Dias : | DT31: Diast : | EC31: Dias : | ED31: Diast : | EM31: Dias : | EN31: Diast : | EW31: Dias : | EX31: Diast : | FG31: Dias : | FH31: Diast : | FQ31: Dias : | FR31: Diast : | GA31: Dias : | GB31: Diast : | GK31: =IF(H31<>"",AVERAGE(H31,BF31,BP31,BZ31,CJ31,CT31,DD31,DN31,DX31,EH31,ER31,FB31,FL31,FV31,GF31),"")
C32: Puls : | D32: Pouls : | M32: T à P>=80w : | Y32: =IF(H20<>"",COUNTIF(H20:GE20,">=80")/2,"") -> 24.5 | AG32: T à P>=130w : | AS32: =IF(H20<>"",COUNTIF(H20:GE20,">=130")/2,"") -> 5.5 | BA32: Puls : | BB32: Pouls : | BK32: Puls : | BL32: Pouls : | BU32: Puls : | BV32: Pouls : | CE32: Puls : | CF32: Pouls : | CO32: Puls : | CP32: Pouls : | CY32: Puls : | CZ32: Pouls : | DI32: Puls : | DJ32: Pouls : | DS32: Puls : | DT32: Pouls : | EC32: Puls : | ED32: Pouls : | EM32: Puls : | EN32: Pouls : | EW32: Puls : | EX32: Pouls : | FG32: Puls : | FH32: Pouls : | FQ32: Puls : | FR32: Pouls : | GA32: Puls : | GB32: Pouls : | GK32: =IF(H32<>"",AVERAGE(H32,BF32,BP32,BZ32,CJ32,CT32,DD32,DN32,DX32,EH32,ER32,FB32,FL32,FV32,GF32),"")
C33: Aryth : | D33: Arythmie : | M33: T à P>=90w : | Y33: =IF(H20<>"",COUNTIF(H20:GE20,">=90")/2,"") -> 23 | AG33: T à P>=140w : | AS33: =IF(H20<>"",COUNTIF(H20:GE20,">=140")/2,"") -> 4 | BA33: Aryth : | BB33: Arythmie : | BK33: Aryth : | BL33: Arythmie : | BU33: Aryth : | BV33: Arythmie : | CE33: Aryth : | CF33: Arythmie : | CO33: Aryth : | CP33: Arythmie : | CY33: Aryth : | CZ33: Arythmie : | DI33: Aryth : | DJ33: Arythmie : | DS33: Aryth : | DT33: Arythmie : | EC33: Aryth : | ED33: Arythmie : | EM33: Aryth : | EN33: Arythmie : | EW33: Aryth : | EX33: Arythmie : | FG33: Aryth : | FH33: Arythmie : | FQ33: Aryth : | FR33: Arythmie : | GA33: Aryth : | GB33: Arythmie : | GK33: =IF(H33<>"",SUM(H33,BF33,BP33,BZ33,CJ33,CT33,DD33,DN33,DX33,EH33,ER33,FB33,FL33,FV33,GF33,),0) -> 0
C36: =C2+1 -> 40659 | AJ36: Sommeil | AL36: Durée nuit : | AV36: =IF(BR36<>"",IF(CH2<0.5,BR36-CH2,BR36+(1-CH2)),"") -> 0.44375 | BB36: =IF(AV36<>"",IF(AV36>AV2,"↗",IF(AV36=AV2,"→","↘")),"") -> ↘ | BH36: Lever : | BR36: 0.43333333 | BX36: Coucher : | CN36: Moyenne du | CP36: jour | CW36: Marche en ext. | CY36: Nb pas : | DN36: Matin | DP36: Perindopril 2 | EN36: Midi | EP36: Kardegic 160 | FN36: Soir | FP36: Previscan 20
C37: Âge : | I37: =YEAR(C36-Renseignements!B$4)-1900&"a" -> 43a | M37: =MONTH(C36-Renseignements!B$4)&"m" -> 2m | Q37: =DAY(C36-Renseignements!B$4)&"j" -> 5j | U37: TP : | Z37: =Z3 -> 43.8 | AE37: % | AG37: =IF(J38<>"",IF(Z37>Z3,"↗",IF(Z37=Z3,"→","↘")),"") -> → | AL37: Sieste | BH37: M1 | BL37: M2 | BP37: M3 | BT37: Moy | BX37: M1 | CB37: M2 | CF37: M3 | CJ37: Moy | CP37: Moy | CY37: Dist(km) : | DG37: =IF(DG36<>"",DG36*Renseignements!B99/1000,"") | DP37: 1 cp | EP37: 1 sachet
C38: Poids : | J38: 94 | P38: Kg | S38: =IF(J38<>"",IF(J38>J4,"↗",IF(J38=J4,"→","↘")),"") -> ↘ | U38: INR : | Z38: =Z4 -> 2.6 | AG38: =IF(J38<>"",IF(Z38>Z4,"↗",IF(Z38=Z4,"→","↘")),"") -> → | AL38: Hdébut : | AT38: Hfin : | BC38: Sys : | BT38: =IF(BH38<>"",AVERAGE(BH38:BP38),"") | CJ38: =IF(BX38<>"",AVERAGE(BX38:CF38),"") | CP38: =IF(BT38<>"",AVERAGE(BT38,CJ38,GK64,#REF!,#REF!),"") | CT38: =IF(CH36<>"",IF(CO38=CO4,"→",IF(CO38>CO4,"↗","↘")),"") | CY38: Durée : | DP38: Inexium 20 | EP38: Plavix 75 | FP38: Cardensiel 1,25
C39: Mgraisse : | M39: 15.7 | S39: Kg | V39: =IF(M39<>"",IF(M39>M5,"↗",IF(M39=M5,"→","↘")),"") -> ↗ | X39: =IF(M39<>"",IF(J38<>"",(M39/J38)*100,""),"") -> 16.702128 | Z39: =IF(J38<>"",(N39/J38)*100,"") -> 0 | AD39: % | AG39: =IF(M39<>"",IF(X39>X5,"↗",IF(X39=X5,"→","↘")),"") -> ↗ | BC39: Dias : | BD39: Diast : | BT39: =IF(BH39<>"",AVERAGE(BH39:BP39),"") | CJ39: =IF(BX39<>"",AVERAGE(BX39:CF39),"") | CP39: =IF(BT39<>"",AVERAGE(BP39,CJ39,GK65,#REF!,#REF!),"") | CT39: =IF(CH36<>"",IF(CO39=CO5,"→",IF(CO39>CO5,"↗","↘")),"") | CY39: Vmoy : | DG39: =IF(DG38<>"",(DG37/((HOUR(DG38)*60)+(MINUTE(DG38))))*60,"") | DP39: 1 cp | EP39: 1 cp | FP39: 1 cp
C40: Mmaigre : | M40: =IF(M39<>"",IF(J38<>"",J38-M39,""),"") -> 78.3 | N40: =IF(J38<>"",J38-N39,"") -> 94 | S40: Kg | V40: =IF(M39<>"",IF(M40>M6,"↗",IF(M40=M6,"→","↘")),"") -> ↘ | X40: =IF(M39<>"",(M40/J38)*100,"") -> 83.297872 | AD40: % | AG40: =IF(M39<>"",IF(X40>X6,"↗",IF(X40=X6,"→","↘")),"") -> ↗ | AL40: Durée : | AT40: =IF(AND(AL39<>"",AT39<>""),AT39-AL39,0) -> 0 | AV40: 0.41666667 | BC40: Puls : | BD40: Pouls : | BT40: =IF(BH40<>"",AVERAGE(BH40:BP40),"") | CJ40: =IF(BX40<>"",AVERAGE(BX40:CF40),"") | CP40: =IF(BT40<>"",AVERAGE(BP40,CJ40,GK66,#REF!,#REF!),"") | CT40: =IF(CH36<>"",IF(CO40=CO6,"→",IF(CO40>CO6,"↗","↘")),"") | CY40: Tps à Fc : | FP40: Crestor 10
C41: IMC : | I41: =IF(J38<>"",J38/(1.92*1.92),"") -> 25.499132 | O41: =IF(J38<>"",IF(I41>I7,"↗",IF(I41=I7,"→","↘")),"") -> ↘ | S41: IMG : | Y41: =IF(J38<>"",(1.2*I41)+(0.23*(YEAR(C36-Renseignements!B$4)-1900))-(10.8*Renseignements!B$6)-5.4,"") -> 24.288958 | AE41: =IF(J38<>"",IF(Y41>Y7,"↗",IF(Y41=Y7,"→","↘")),"") -> ↘ | AL41: Total : | AT41: =IF(BR36<>"",AV36+AT40,"") -> 0.44375 | AV41: 0.41666667 | BC41: Aryth : | BD41: Arythmie : | BT41: =IF(BR36<>"",SUM(BH41:BS41),0) -> 0 | CJ41: =IF(CH36<>"",SUM(BX41:CI41),0) -> 0 | CP41: =IF(BP41<>"",SUM(BT41,CJ41,GK67,#REF!,#REF!),0) -> 0 | CT41: =IF(CH36<>"",IF(CO41=CO7,"→",IF(CO41>CO7,"↗","↘")),"") | CY41: Déniv. : | FP41: 1 cp
C42: Dernier contrôle TP/INR le : | Y42: =Y8 -> 40624 | AI42: =IF((Y43-C36)=1,"Attention, contrôle TP/INR demain",IF((Y43-C36)=0,"Attention, contrôle TP/INR aujourd'hui",IF((Y43-C36)<0,"Attention, date de contrôle TP/INR dépassée de "&-(Y43-C36)&" jour(s)",""))) -> Attention, date de contrôle TP/INR dépassée de 21 jour(s) | BP42: Calories dépensées (Kcal) : | CN42: =SUM(DG42,GJ54,#REF!,#REF!) -> #REF! | CT42: =IF(CH36<>"",IF(CO42=CO8,"→",IF(CO42>CO8,"↗","↘")),"") | CY42: Kcal. : | DP42: Préparation Weleda C466 | FP42: Préparation Weleda C466
C43: Il y a : | J43: =C36-Y42 -> 35 | M43: jr | O43: Prochain le : | Y43: =Y42+Y44 -> 40638 | BP43: Temps d'activités physiques : | CN43: =SUM(DG38,CC45,#REF!,#REF!) -> #REF! | CT43: =IF(CH36<>"",IF(CO43=CO9,"→",IF(CO43>CO9,"↗","↘")),"") | DP43: 15 gouttes | FP43: 15 gouttes
C44: Contrôle TP/INR tous les | Y44: 14 | AD44: jours | DP44: Préparation Weleda C472 | FP44: Préparation Weleda C472
C45: Séance de vélo d'entraînement à fréquence constante | AZ45: 100 | BE45: bpm et | BL45: 60 | BP45: rpm | BU45: pendant | CC45: =IF(F63<>"",(90-COUNTBLANK(H54:GE54)/2)*(1/(24*60)),"") | CI45: minutes. | DP45: 15 gouttes | FP45: 15 gouttes
G46: watts | GF46: watts
B47: =E48+30 -> 240 | H47: =IF(H54>=240,1,"") | I47: =IF(I54>=240,1,"") | J47: =IF(J54>=240,1,"") | K47: =IF(K54>=240,1,"") | L47: =IF(L54>=240,1,"") | M47: =IF(M54>=240,1,"") | N47: =IF(N54>=240,1,"") | O47: =IF(O54>=240,1,"") | ... GE47: =IF(GE54>=240,1,"") | GG47: =GG48+30 -> 240
B48: =B49+30 -> 210 | E48: =E49+30 -> 210 | H48: =IF(H54>=210,1,"") | I48: =IF(I54>=210,1,"") | J48: =IF(J54>=210,1,"") | K48: =IF(K54>=210,1,"") | L48: =IF(L54>=210,1,"") | M48: =IF(M54>=210,1,"") | N48: =IF(N54>=210,1,"") | O48: =IF(O54>=210,1,"") | ... GE48: =IF(GE54>=210,1,"") | GG48: =GG49+30 -> 210
B49: =B50+30 -> 180 | E49: =E50+30 -> 180 | H49: =IF(H54>=180,1,"") | I49: =IF(I54>=180,1,"") | J49: =IF(J54>=180,1,"") | K49: =IF(K54>=180,1,"") | L49: =IF(L54>=180,1,"") | M49: =IF(M54>=180,1,"") | N49: =IF(N54>=180,1,"") | O49: =IF(O54>=180,1,"") | ... GE49: =IF(GE54>=180,1,"") | GG49: =GG50+30 -> 180
B50: =B51+30 -> 150 | E50: =E51+30 -> 150 | H50: =IF(H54>=150,1,"") | I50: =IF(I54>=150,1,"") | J50: =IF(J54>=150,1,"") | K50: =IF(K54>=150,1,"") | L50: =IF(L54>=150,1,"") | M50: =IF(M54>=150,1,"") | N50: =IF(N54>=150,1,"") | O50: =IF(O54>=150,1,"") | ... GE50: =IF(GE54>=150,1,"") | GG50: =GG51+30 -> 150
B51: =B52+30 -> 120 | E51: =E52+30 -> 120 | H51: =IF(H54>=120,1,"") | I51: =IF(I54>=120,1,"") | J51: =IF(J54>=120,1,"") | K51: =IF(K54>=120,1,"") | L51: =IF(L54>=120,1,"") | M51: =IF(M54>=120,1,"") | N51: =IF(N54>=120,1,"") | O51: =IF(O54>=120,1,"") | ... GE51: =IF(GE54>=120,1,"") | GG51: =GG52+30 -> 120
B52: =B53+30 -> 90 | E52: =E53+30 -> 90 | H52: =IF(H54>=90,1,"") | I52: =IF(I54>=90,1,"") | J52: =IF(J54>=90,1,"") | K52: =IF(K54>=90,1,"") | L52: =IF(L54>=90,1,"") | M52: =IF(M54>=90,1,"") | N52: =IF(N54>=90,1,"") | O52: =IF(O54>=90,1,"") | ... GE52: =IF(GE54>=90,1,"") | GG52: =GG53+30 -> 90 | GJ52: Kcal
B53: =B54+30 -> 60 | E53: =E54+30 -> 60 | H53: =IF(H54>=60,1,"") | I53: =IF(I54>=60,1,"") | J53: =IF(J54>=60,1,"") | K53: =IF(K54>=60,1,"") | L53: =IF(L54>=60,1,"") | M53: =IF(M54>=60,1,"") | N53: =IF(N54>=60,1,"") | O53: =IF(O54>=60,1,"") | ... GE53: =IF(GE54>=60,1,"") | GG53: =GG54+30 -> 60
B54: 30 | E54: 30 | GG54: 30
B55: 0 | H55: 0 | R55: =H55+5 -> 5 | AB55: =R55+5 -> 10 | AL55: =AB55+5 -> 15 | AV55: =AL55+5 -> 20 | BF55: =AV55+5 -> 25 | BP55: =BF55+5 -> 30 | BZ55: =BP55+5 -> 35 | CJ55: =BZ55+5 -> 40 | CT55: =CJ55+5 -> 45 | DD55: =CT55+5 -> 50 | DN55: =DD55+5 -> 55 | DX55: =DN55+5 -> 60 | EH55: =DX55+5 -> 65 | ER55: =EH55+5 -> 70 | FB55: =ER55+5 -> 75 | FL55: =FB55+5 -> 80 | FV55: =FL55+5 -> 85 | GF55: =FV55+5 -> 90 | GK55: =IF(N54<>"",IF(GJ54=GJ20,"→",IF(GJ54>GJ345,"↗","↘")),"")
N57: =IF(X54<>"",M57+N54,M57) -> 0 | O57: =IF(Y54<>"",N57+O54,N57) -> 0 | P57: =IF(Z54<>"",O57+P54,O57) -> 0 | Q57: =IF(AA54<>"",P57+Q54,P57) -> 0 | R57: =IF(AB54<>"",Q57+R54,Q57) -> 0 | S57: =IF(AC54<>"",R57+S54,R57) -> 0 | T57: =IF(AD54<>"",S57+T54,S57) -> 0 | U57: =IF(AE54<>"",T57+U54,T57) -> 0 | ... FU57: =IF(GE54<>"",FT57+FU54,FT57) -> 0
N58: =IF(X54<>"",M58+1,M58) -> 0 | O58: =IF(Y54<>"",N58+1,N58) -> 0 | P58: =IF(Z54<>"",O58+1,O58) -> 0 | Q58: =IF(AA54<>"",P58+1,P58) -> 0 | R58: =IF(AB54<>"",Q58+1,Q58) -> 0 | S58: =IF(AC54<>"",R58+1,R58) -> 0 | T58: =IF(AD54<>"",S58+1,S58) -> 0 | U58: =IF(AE54<>"",T58+1,T58) -> 0 | ... FU58: =IF(GE54<>"",FT58+1,FT58) -> 0
O59: =IF(O58=N58,"1","0") -> 1 | P59: =IF(P58=O58,"1","0") -> 1 | Q59: =IF(Q58=P58,"1","0") -> 1 | R59: =IF(R58=Q58,"1","0") -> 1 | S59: =IF(S58=R58,"1","0") -> 1 | T59: =IF(T58=S58,"1","0") -> 1 | U59: =IF(U58=T58,"1","0") -> 1 | V59: =IF(V58=U58,"1","0") -> 1 | ... GE59: =IF(GE58=GD58,"1","0") -> 1
O60: =IF(O54<>"","1","0") -> 0 | P60: =IF(P54<>"","1","0") -> 0 | Q60: =IF(Q54<>"","1","0") -> 0 | R60: =IF(R54<>"","1","0") -> 0 | S60: =IF(S54<>"","1","0") -> 0 | T60: =IF(T54<>"","1","0") -> 0 | U60: =IF(U54<>"","1","0") -> 0 | V60: =IF(V54<>"","1","0") -> 0 | ... GE60: =IF(GE54<>"","1","0") -> 0
O61: =O59+O60 -> 1 | P61: =P59+P60 -> 1 | Q61: =Q59+Q60 -> 1 | R61: =R59+R60 -> 1 | S61: =S59+S60 -> 1 | T61: =T59+T60 -> 1 | U61: =U59+U60 -> 1 | V61: =V59+V60 -> 1 | ... GE61: =GE59+GE60 -> 1
C63: Hd: | M63: Pmax : | Y63: =IF(H54<>"",MAX(H54:GE54),"") | AD63: =IF(H54<>"",IF(Y63=Y29,"→",IF(Y63>Y29,"↗","↘")),"") | AG63: T à P>=100w : | AS63: =IF(H54<>"",COUNTIF(H54:GE54,">=100")/2,"") | AX63: =IF(H54<>"",IF(AS63=AS29,"→",IF(AS63>AS29,"↗","↘")),"") | BA63: H : | BD63: =IF(BF64<>"",F63+(25*(1/(24*60))),"") | BK63: H : | BN63: =IF(BP64<>"",$F63+(30*(1/(24*60))),"") | BU63: H : | BX63: =IF(BZ64<>"",$F63+(35*(1/(24*60))),"") | CE63: H : | CH63: =IF(CJ64<>"",$F63+(40*(1/(24*60))),"") | CO63: H : | CR63: =IF(CT64<>"",$F63+(45*(1/(24*60))),"") | CY63: H : | DB63: =IF(DD64<>"",$F63+(50*(1/(24*60))),"") | DI63: H : | DL63: =IF(DN64<>"",$F63+(55*(1/(24*60))),"") | DS63: H : | DV63: =IF(DX64<>"",$F63+(60*(1/(24*60))),"") | EC63: H : | EF63: =IF(EH64<>"",$F63+(65*(1/(24*60))),"") | EM63: H : | EP63: =IF(ER64<>"",$F63+(70*(1/(24*60))),"") | EW63: H : | EZ63: =IF(FB64<>"",$F63+(75*(1/(24*60))),"") | FG63: H : | FJ63: =IF(FL64<>"",$F63+(80*(1/(24*60))),"") | FQ63: H : | FT63: =IF(FV64<>"",$F63+(85*(1/(24*60))),"") | GA63: H : | GD63: =IF(GF64<>"",$F63+(90*(1/(24*60))),"") | GK63: Moy
C64: Sys : | M64: Pm/tps total : | Y64: =IF(H54<>"",AVERAGE(H54:GE54),"") | AD64: =IF(H54<>"",IF(Y64=Y30,"→",IF(Y64>Y30,"↗","↘")),"") | AG64: T à P>=110w : | AS64: =IF(H54<>"",COUNTIF(H54:GE54,">=110")/2,"") | AX64: =IF(H54<>"",IF(AS64=AS30,"→",IF(AS64>AS30,"↗","↘")),"") | BA64: Sys : | BK64: Sys : | BU64: Sys : | CE64: Sys : | CO64: Sys : | CY64: Sys : | DI64: Sys : | DS64: Sys : | EC64: Sys : | EM64: Sys : | EW64: Sys : | FG64: Sys : | FQ64: Sys : | GA64: Sys : | GK64: =IF(H64<>"",AVERAGE(H64,BF64,BP64,BZ64,CJ64,CT64,DD64,DN64,DX64,EH64,ER64,FB64,FL64,FV64,GF64),"")
C65: Dias : | D65: Diast : | M65: Pm/tps effort : | Y65: =IF(X54<>"",FU57/FU58,"") | AD65: =IF(H54<>"",IF(Y65=Y31,"→",IF(Y65>Y31,"↗","↘")),"") | AG65: T à P>=120w : | AS65: =IF(H54<>"",COUNTIF(H54:GE54,">=120")/2,"") | AX65: =IF(H54<>"",IF(AS65=AS31,"→",IF(AS65>AS31,"↗","↘")),"") | BA65: Dias : | BB65: Diast : | BK65: Dias : | BL65: Diast : | BU65: Dias : | BV65: Diast : | CE65: Dias : | CF65: Diast : | CO65: Dias : | CP65: Diast : | CY65: Dias : | CZ65: Diast : | DI65: Dias : | DJ65: Diast : | DS65: Dias : | DT65: Diast : | EC65: Dias : | ED65: Diast : | EM65: Dias : | EN65: Diast : | EW65: Dias : | EX65: Diast : | FG65: Dias : | FH65: Diast : | FQ65: Dias : | FR65: Diast : | GA65: Dias : | GB65: Diast : | GK65: =IF(H65<>"",AVERAGE(H65,BF65,BP65,BZ65,CJ65,CT65,DD65,DN65,DX65,EH65,ER65,FB65,FL65,FV65,GF65),"")
C66: Puls : | D66: Pouls : | M66: T à P>=80w : | Y66: =IF(H54<>"",COUNTIF(H54:GE54,">=80")/2,"") | AD66: =IF(H54<>"",IF(Y66=Y32,"→",IF(Y66>Y32,"↗","↘")),"") | AG66: T à P>=130w : | AS66: =IF(H54<>"",COUNTIF(H54:GE54,">=130")/2,"") | AX66: =IF(H54<>"",IF(AS66=AS32,"→",IF(AS66>AS32,"↗","↘")),"") | BA66: Puls : | BB66: Pouls : | BK66: Puls : | BL66: Pouls : | BU66: Puls : | BV66: Pouls : | CE66: Puls : | CF66: Pouls : | CO66: Puls : | CP66: Pouls : | CY66: Puls : | CZ66: Pouls : | DI66: Puls : | DJ66: Pouls : | DS66: Puls : | DT66: Pouls : | EC66: Puls : | ED66: Pouls : | EM66: Puls : | EN66: Pouls : | EW66: Puls : | EX66: Pouls : | FG66: Puls : | FH66: Pouls : | FQ66: Puls : | FR66: Pouls : | GA66: Puls : | GB66: Pouls : | GK66: =IF(H66<>"",AVERAGE(H66,BF66,BP66,BZ66,CJ66,CT66,DD66,DN66,DX66,EH66,ER66,FB66,FL66,FV66,GF66),"")
C67: Aryth : | D67: Arythmie : | M67: T à P>=90w : | Y67: =IF(H54<>"",COUNTIF(H54:GE54,">=90")/2,"") | AD67: =IF(H54<>"",IF(Y67=Y33,"→",IF(Y67>Y33,"↗","↘")),"") | AG67: T à P>=140w : | AS67: =IF(H54<>"",COUNTIF(H54:GE54,">=140")/2,"") | AX67: =IF(H54<>"",IF(AS67=AS33,"→",IF(AS67>AS33,"↗","↘")),"") | BA67: Aryth : | BB67: Arythmie : | BK67: Aryth : | BL67: Arythmie : | BU67: Aryth : | BV67: Arythmie : | CE67: Aryth : | CF67: Arythmie : | CO67: Aryth : | CP67: Arythmie : | CY67: Aryth : | CZ67: Arythmie : | DI67: Aryth : | DJ67: Arythmie : | DS67: Aryth : | DT67: Arythmie : | EC67: Aryth : | ED67: Arythmie : | EM67: Aryth : | EN67: Arythmie : | EW67: Aryth : | EX67: Arythmie : | FG67: Aryth : | FH67: Arythmie : | FQ67: Aryth : | FR67: Arythmie : | GA67: Aryth : | GB67: Arythmie : | GK67: =IF(H67<>"",SUM(H67,BF67,BP67,BZ67,CJ67,CT67,DD67,DN67,DX67,EH67,ER67,FB67,FL67,FV67,GF67,),0) -> 0
