Workbook
Name année: #REF!

Sheet planning
A1: 2013 | C1: =DATE($A$1,7,1) -> 41456 | AW1: =DATE($A$1,8,1) -> 41487 | CK1: =DATE($A$1,9,1) -> 41518
A2: SEMAINE | C2: 27 | M2: 28 | W2: 29 | AG2: 30 | AQ2: 31 | BA2: 32 | BK2: 33 | BU2: 34 | CE2: 35 | CO2: 36 | CY2: 37 | DI2: 38 | DS2: 38
A3: NOM | B3: CODE | C3: LUNDI | E3: MARDI | G3: MERCREDI | I3: JEUDI | K3: VEND | M3: LUNDI | O3: MARDI | Q3: MERCREDI | S3: JEUDI | U3: VEND | W3: LUNDI | Y3: MARDI | AA3: MERCREDI | AC3: JEUDI | AE3: VEND | AG3: LUNDI | AI3: MARDI | AK3: MERCREDI | AM3: JEUDI | AO3: VEND | AQ3: LUNDI | AS3: MARDI | AU3: MERCREDI | AW3: JEUDI | AY3: VEND | BA3: LUNDI | BC3: MARDI | BE3: MERCREDI | BG3: JEUDI | BI3: VEND | BK3: LUNDI | BM3: MARDI | BO3: MERCREDI | BQ3: JEUDI | BS3: VEND | BU3: LUNDI | BW3: MARDI | BY3: MERCREDI | CA3: JEUDI | CC3: VEND | CE3: LUNDI | CG3: MARDI | CI3: MERCREDI | CK3: JEUDI | CM3: VEND | CO3: LUNDI | CQ3: MARDI | CS3: MERCREDI | CU3: JEUDI | CW3: VEND | CY3: LUNDI | DA3: MARDI | DC3: MERCREDI | DE3: JEUDI | DG3: VEND | DI3: LUNDI | DK3: MARDI | DM3: MERCREDI | DO3: JEUDI | DQ3: VEND | DS3: LUNDI | DU3: MARDI | DW3: MERCREDI | DY3: JEUDI | EA3: VEND
C4: 1 | E4: =+C4+1 -> 2 | G4: =+E4+1 -> 3 | I4: =+G4+1 -> 4 | K4: =+I4+1 -> 5 | M4: =+K4+3 -> 8 | O4: =+M4+1 -> 9 | Q4: =+O4+1 -> 10 | S4: =+Q4+1 -> 11 | U4: =+S4+1 -> 12 | W4: =+U4+3 -> 15 | Y4: =+W4+1 -> 16 | AA4: =+Y4+1 -> 17 | AC4: =+AA4+1 -> 18 | AE4: =+AC4+1 -> 19 | AG4: =+AE4+3 -> 22 | AI4: =+AG4+1 -> 23 | AK4: =+AI4+1 -> 24 | AM4: =+AK4+1 -> 25 | AO4: =+AM4+1 -> 26 | AQ4: =+AO4+3 -> 29 | AS4: =+AQ4+1 -> 30 | AU4: =+AS4+1 -> 31 | AW4: 1 | AY4: =+AW4+1 -> 2 | BA4: =+AY4+3 -> 5 | BC4: =+BA4+1 -> 6 | BE4: =+BC4+1 -> 7 | BG4: =+BE4+1 -> 8 | BI4: =+BG4+1 -> 9 | BK4: =+BI4+3 -> 12 | BM4: =+W4+1 -> 16 | BO4: =+Y4+1 -> 17 | BQ4: =+AA4+1 -> 18 | BS4: =+AC4+1 -> 19 | BU4: =+BS4+3 -> 22 | BW4: =+BU4+1 -> 23 | BY4: =+BW4+1 -> 24 | CA4: =+BY4+1 -> 25 | CC4: =+CA4+1 -> 26 | CE4: =+CC4+3 -> 29 | CG4: =+CE4+1 -> 30 | CI4: =+CG4+1 -> 31 | CK4: 1 | CM4: =+CK4+1 -> 2 | CO4: =+CM4+3 -> 5 | CQ4: =+CO4+1 -> 6 | CS4: =+CQ4+1 -> 7 | CU4: =+CS4+1 -> 8 | CW4: =+CU4+1 -> 9 | CY4: =+CW4+3 -> 12 | DA4: =+CY4+1 -> 13 | DC4: =+DA4+1 -> 14 | DE4: =+DC4+1 -> 15 | DG4: =+DE4+1 -> 16 | DI4: =+DG4+3 -> 19 | DK4: =+DI4+1 -> 20 | DM4: =+DK4+1 -> 21 | DO4: =+DM4+1 -> 22 | DQ4: =+DO4+1 -> 23 | DS4: =+DQ4+3 -> 26 | DU4: =+DS4+1 -> 27 | DW4: =+DU4+1 -> 28 | DY4: =+DW4+1 -> 29 | EA4: =+DY4+1 -> 30
C5: M | D5: AP | E5: M | F5: AP | G5: M | H5: AP | I5: M | J5: AP | K5: M | L5: AP | M5: M | N5: AP | O5: M | P5: AP | Q5: M | R5: AP | S5: M | T5: AP | U5: M | V5: AP | W5: M | X5: AP | Y5: M | Z5: AP | AA5: M | AB5: AP | AC5: M | AD5: AP | AE5: M | AF5: AP | AG5: M | AH5: AP | AI5: M | AJ5: AP | AK5: M | AL5: AP | AM5: M | AN5: AP | AO5: M | AP5: AP | AQ5: M | AR5: AP | AS5: M | AT5: AP | AU5: M | AV5: AP | AW5: M | AX5: AP | AY5: M | AZ5: AP | BA5: M | BB5: AP | BC5: M | BD5: AP | BE5: M | BF5: AP | BG5: M | BH5: AP | BI5: M | BJ5: AP | BK5: M | BL5: AP | BM5: M | BN5: AP | BO5: M | BP5: AP | BQ5: M | BR5: AP | BS5: M | BT5: AP | BU5: M | BV5: AP | BW5: M | BX5: AP | BY5: M | BZ5: AP | CA5: M | CB5: AP | CC5: M | CD5: AP | CE5: M | CF5: AP | CG5: M | CH5: AP | CI5: M | CJ5: AP | CK5: M | CL5: AP | CM5: M | CN5: AP | CO5: M | CP5: AP | CQ5: M | CR5: AP | CS5: M | CT5: AP | CU5: M | CV5: AP | CW5: M | CX5: AP | CY5: M | CZ5: AP | DA5: M | DB5: AP | DC5: M | DD5: AP | DE5: M | DF5: AP | DG5: M | DH5: AP | DI5: M | DJ5: AP | DK5: M | DL5: AP | DM5: M | DN5: AP | DO5: M | DP5: AP | DQ5: M | DR5: AP | DS5: M | DT5: AP | DU5: M | DV5: AP | DW5: M | DX5: AP | DY5: M | DZ5: AP | EA5: M | EB5: AP
A6: FCO | B6: 1 | C6: c | D6: abs | E6: p | M6: abs
A7: ITB | B7: 2 | C7: p | D7: abs | E7: abs | L7: abs
A8: MB | B8: 3
A9: MZ | B9: 4 | E9: abs | F9: abs | G9: abs | H9: abs | I9: abs | J9: abs | K9: abs | L9: abs
A10: CLB | B10: 5
A11: BM | B11: 6
D13: P | F13: Présent
D14: Abs | F14: Autre Absence
D15: C | F15: cours/formation/recherche
D16: CA | F16: Congés payés
D17: M | F17: Maladie
D18: RTT | F18: RTT

Sheet macroscopie
A2: 2013 | C2: =DATE($A$2,7,1) -> 41456 | AW2: =DATE($A$2,8,1) -> 41487 | CK2: =DATE($A$2,9,1) -> 41518
A3: SEMAINE | C3: 27 | M3: 28 | W3: 29 | AG3: 30 | AQ3: 31 | BA3: 32 | BK3: 33 | BU3: 34 | CE3: 35 | CO3: 36 | CY3: 37 | DI3: 38 | DS3: 38
A4: NOM | B4: CODE | C4: LUNDI | E4: MARDI | G4: MERCREDI | I4: JEUDI | K4: VEND | M4: Lundi | O4: MARDI | Q4: MERCREDI | S4: JEUDI | U4: VEND | W4: LUNDI | Y4: MARDI | AA4: MERCREDI | AC4: JEUDI | AE4: VEND | AG4: LUNDI | AI4: MARDI | AK4: MERCREDI | AM4: JEUDI | AO4: VEND | AQ4: LUNDI | AS4: MARDI | AU4: MERCREDI | AW4: JEUDI | AY4: VEND | BA4: LUNDI | BC4: MARDI | BE4: MERCREDI | BG4: JEUDI | BI4: VEND | BK4: LUNDI | BM4: MARDI | BO4: MERCREDI | BQ4: JEUDI | BS4: VEND | BU4: LUNDI | BW4: MARDI | BY4: MERCREDI | CA4: JEUDI | CC4: VEND | CE4: LUNDI | CG4: MARDI | CI4: MERCREDI | CK4: JEUDI | CM4: VEND | CO4: LUNDI | CQ4: MARDI | CS4: MERCREDI | CU4: JEUDI | CW4: VEND | CY4: LUNDI | DA4: MARDI | DC4: MERCREDI | DE4: JEUDI | DG4: VEND | DI4: LUNDI | DK4: MARDI | DM4: MERCREDI | DO4: JEUDI | DQ4: VEND | DS4: LUNDI | DU4: MARDI | DW4: MERCREDI | DY4: JEUDI | EA4: VEND
C5: lundi | D5: lundi | E5: mardi | F5: mardi | G5: mercredi | H5: mercredi | I5: JEUDI | J5: jeudi | K5: vend | L5: vend | M5: lundi | N5: lundi | O5: mardi | P5: mardi | Q5: mercredi | R5: mercredi | S5: JEUDI | T5: jeudi | U5: vend | V5: vend | W5: lundi | X5: lundi | Y5: mardi | Z5: mardi | AA5: mercredi | AB5: mercredi | AC5: JEUDI | AD5: jeudi | AE5: vend | AF5: vend | AG5: lundi | AH5: lundi | AI5: mardi | AJ5: mardi | AK5: mercredi | AL5: mercredi | AM5: JEUDI | AN5: jeudi | AO5: vend | AP5: vend | AQ5: lundi | AR5: lundi | AS5: mardi | AT5: mardi | AU5: mercredi | AV5: mercredi | AW5: JEUDI | AX5: jeudi | AY5: vend | AZ5: vend | BA5: lundi | BB5: lundi | BC5: mardi | BD5: mardi | BE5: mercredi | BF5: mercredi | BG5: JEUDI | BH5: jeudi | BI5: vend | BJ5: vend | BK5: lundi | BL5: lundi | BM5: mardi | BN5: mardi | BO5: mercredi | BP5: mercredi | BQ5: JEUDI | BR5: jeudi | BS5: vend | BT5: vend | BU5: lundi | BV5: lundi | BW5: mardi | BX5: mardi | BY5: mercredi | BZ5: mercredi | CA5: JEUDI | CB5: jeudi | CC5: vend | CD5: vend | CE5: lundi | CF5: lundi | CG5: mardi | CH5: mardi | CI5: mercredi | CJ5: mercredi | CK5: JEUDI | CL5: jeudi | CM5: vend | CN5: vend | CO5: lundi | CP5: lundi | CQ5: mardi | CR5: mardi | CS5: mercredi | CT5: mercredi | CU5: JEUDI | CV5: jeudi | CW5: vend | CX5: vend | CY5: lundi | CZ5: lundi | DA5: mardi | DB5: mardi | DC5: mercredi | DD5: mercredi | DE5: JEUDI | DF5: jeudi | DG5: vend | DH5: vend | DI5: lundi | DJ5: lundi | DK5: mardi | DL5: mardi | DM5: mercredi | DN5: mercredi | DO5: JEUDI | DP5: jeudi | DQ5: vend | DR5: vend | DS5: lundi | DT5: lundi | DU5: mardi | DV5: mardi | DW5: mercredi | DX5: mercredi | DY5: JEUDI | DZ5: jeudi | EA5: vend | EB5: vend
C6: 1 | E6: =+C6+1 -> 2 | G6: =+E6+1 -> 3 | I6: =+G6+1 -> 4 | K6: =+I6+1 -> 5 | M6: =+K6+3 -> 8 | O6: =+M6+1 -> 9 | Q6: =+O6+1 -> 10 | S6: =+Q6+1 -> 11 | U6: =+S6+1 -> 12 | W6: =+U6+3 -> 15 | Y6: =+W6+1 -> 16 | AA6: =+Y6+1 -> 17 | AC6: =+AA6+1 -> 18 | AE6: =+AC6+1 -> 19 | AG6: =+AE6+3 -> 22 | AI6: =+AG6+1 -> 23 | AK6: =+AI6+1 -> 24 | AM6: =+AK6+1 -> 25 | AO6: =+AM6+1 -> 26 | AQ6: =+AO6+3 -> 29 | AS6: =+AQ6+1 -> 30 | AU6: =+AS6+1 -> 31 | AW6: 1 | AY6: =+AW6+1 -> 2 | BA6: =+AY6+3 -> 5 | BC6: =+BA6+1 -> 6 | BE6: =+BC6+1 -> 7 | BG6: =+BE6+1 -> 8 | BI6: =+BG6+1 -> 9 | BK6: =+BI6+3 -> 12 | BM6: =+W6+1 -> 16 | BO6: =+Y6+1 -> 17 | BQ6: =+AA6+1 -> 18 | BS6: =+AC6+1 -> 19 | BU6: =+BS6+3 -> 22 | BW6: =+BU6+1 -> 23 | BY6: =+BW6+1 -> 24 | CA6: =+BY6+1 -> 25 | CC6: =+CA6+1 -> 26 | CE6: =+CC6+3 -> 29 | CG6: =+CE6+1 -> 30 | CI6: =+CG6+1 -> 31 | CK6: 1 | CM6: =+CK6+1 -> 2 | CO6: =+CM6+3 -> 5 | CQ6: =+CO6+1 -> 6 | CS6: =+CQ6+1 -> 7 | CU6: =+CS6+1 -> 8 | CW6: =+CU6+1 -> 9 | CY6: =+CW6+3 -> 12 | DA6: =+CY6+1 -> 13 | DC6: =+DA6+1 -> 14 | DE6: =+DC6+1 -> 15 | DG6: =+DE6+1 -> 16 | DI6: =+DG6+3 -> 19 | DK6: =+DI6+1 -> 20 | DM6: =+DK6+1 -> 21 | DO6: =+DM6+1 -> 22 | DQ6: =+DO6+1 -> 23 | DS6: =+DQ6+3 -> 26 | DU6: =+DS6+1 -> 27 | DW6: =+DU6+1 -> 28 | DY6: =+DW6+1 -> 29 | EA6: =+DY6+1 -> 30
C7: M | D7: AP | E7: M | F7: AP | G7: M | H7: AP | I7: M | J7: AP | K7: M | L7: AP | M7: M | N7: AP | O7: M | P7: AP | Q7: M | R7: AP | S7: M | T7: AP | U7: M | V7: AP | W7: M | X7: AP | Y7: M | Z7: AP | AA7: M | AB7: AP | AC7: M | AD7: AP | AE7: M | AF7: AP | AG7: M | AH7: AP | AI7: M | AJ7: AP | AK7: M | AL7: AP | AM7: M | AN7: AP | AO7: M | AP7: AP | AQ7: M | AR7: AP | AS7: M | AT7: AP | AU7: M | AV7: AP | AW7: M | AX7: AP | AY7: M | AZ7: AP | BA7: M | BB7: AP | BC7: M | BD7: AP | BE7: M | BF7: AP | BG7: M | BH7: AP | BI7: M | BJ7: AP | BK7: M | BL7: AP | BM7: M | BN7: AP | BO7: M | BP7: AP | BQ7: M | BR7: AP | BS7: M | BT7: AP | BU7: M | BV7: AP | BW7: M | BX7: AP | BY7: M | BZ7: AP | CA7: M | CB7: AP | CC7: M | CD7: AP | CE7: M | CF7: AP | CG7: M | CH7: AP | CI7: M | CJ7: AP | CK7: M | CL7: AP | CM7: M | CN7: AP | CO7: M | CP7: AP | CQ7: M | CR7: AP | CS7: M | CT7: AP | CU7: M | CV7: AP | CW7: M | CX7: AP | CY7: M | CZ7: AP | DA7: M | DB7: AP | DC7: M | DD7: AP | DE7: M | DF7: AP | DG7: M | DH7: AP | DI7: M | DJ7: AP | DK7: M | DL7: AP | DM7: M | DN7: AP | DO7: M | DP7: AP | DQ7: M | DR7: AP | DS7: M | DT7: AP | DU7: M | DV7: AP | DW7: M | DX7: AP | DY7: M | DZ7: AP | EA7: M | EB7: AP
A8: P.Gynéco basse | B8: 1 | C8: =IF(planning!C6="Abs","?",IF(planning!C6="c","?",IF(planning!C6="M","?",IF(planning!C6="CA","?",IF(planning!C6="RTT","?",IF(planning!C6="P",planning!$A$6,IF(planning!C6="",""))))))) -> ? | D8: =IF(planning!D6="Abs","?",IF(planning!D6="c","?",IF(planning!D6="M","?",IF(planning!D6="CA","?",IF(planning!D6="RTT","?",IF(planning!D6="P",planning!$A$6,IF(planning!D6="",""))))))) -> ? | E8: =IF(planning!E6="Abs","?",IF(planning!E6="c","?",IF(planning!E6="M","?",IF(planning!E6="CA","?",IF(planning!E6="RTT","?",IF(planning!E6="P",planning!$A$6,IF(planning!E6="",""))))))) -> FCO | F8: =IF(planning!F6="Abs","?",IF(planning!F6="c","?",IF(planning!F6="M","?",IF(planning!F6="CA","?",IF(planning!F6="RTT","?",IF(planning!F6="P",planning!$A$6,IF(planning!F6="",""))))))) | G8: =IF(planning!G6="Abs","?",IF(planning!G6="c","?",IF(planning!G6="M","?",IF(planning!G6="CA","?",IF(planning!G6="RTT","?",IF(planning!G6="P",planning!$A$6,IF(planning!G6="",""))))))) | H8: =IF(planning!H6="Abs","?",IF(planning!H6="c","?",IF(planning!H6="M","?",IF(planning!H6="CA","?",IF(planning!H6="RTT","?",IF(planning!H6="P",planning!$A$6,IF(planning!H6="",""))))))) | I8: =IF(planning!I6="Abs","?",IF(planning!I6="c","?",IF(planning!I6="M","?",IF(planning!I6="CA","?",IF(planning!I6="RTT","?",IF(planning!I6="P",planning!$A$6,IF(planning!I6="",""))))))) | J8: =IF(planning!J6="Abs","?",IF(planning!J6="c","?",IF(planning!J6="M","?",IF(planning!J6="CA","?",IF(planning!J6="RTT","?",IF(planning!J6="P",planning!$A$6,IF(planning!J6="",""))))))) | ... EB8: =IF(planning!EB6="Abs","?",IF(planning!EB6="c","?",IF(planning!EB6="M","?",IF(planning!EB6="CA","?",IF(planning!EB6="RTT","?",IF(planning!EB6="P",planning!$A$6,IF(planning!EB6="","")))))))
A9: Placentas | B9: 1 | C9: =IF(planning!C6="Abs","?",IF(planning!C6="c","?",IF(planning!C6="M","?",IF(planning!C6="CA","?",IF(planning!C6="RTT","?",IF(planning!C6="P",planning!$A$6,IF(planning!C6="",""))))))) -> ? | D9: =IF(planning!D6="Abs","?",IF(planning!D6="c","?",IF(planning!D6="M","?",IF(planning!D6="CA","?",IF(planning!D6="RTT","?",IF(planning!D6="P",planning!$A$6,IF(planning!D6="",""))))))) -> ? | E9: =IF(planning!E6="Abs","?",IF(planning!E6="c","?",IF(planning!E6="M","?",IF(planning!E6="CA","?",IF(planning!E6="RTT","?",IF(planning!E6="P",planning!$A$6,IF(planning!E6="",""))))))) -> FCO | F9: =IF(planning!F6="Abs","?",IF(planning!F6="c","?",IF(planning!F6="M","?",IF(planning!F6="CA","?",IF(planning!F6="RTT","?",IF(planning!F6="P",planning!$A$6,IF(planning!F6="",""))))))) | G9: =IF(planning!G6="Abs","?",IF(planning!G6="c","?",IF(planning!G6="M","?",IF(planning!G6="CA","?",IF(planning!G6="RTT","?",IF(planning!G6="P",planning!$A$6,IF(planning!G6="",""))))))) | H9: =IF(planning!H6="Abs","?",IF(planning!H6="c","?",IF(planning!H6="M","?",IF(planning!H6="CA","?",IF(planning!H6="RTT","?",IF(planning!H6="P",planning!$A$6,IF(planning!H6="",""))))))) | I9: =IF(planning!I6="Abs","?",IF(planning!I6="c","?",IF(planning!I6="M","?",IF(planning!I6="CA","?",IF(planning!I6="RTT","?",IF(planning!I6="P",planning!$A$6,IF(planning!I6="",""))))))) | J9: =IF(planning!J6="Abs","?",IF(planning!J6="c","?",IF(planning!J6="M","?",IF(planning!J6="CA","?",IF(planning!J6="RTT","?",IF(planning!J6="P",planning!$A$6,IF(planning!J6="",""))))))) | ... EB9: =IF(planning!EB6="Abs","?",IF(planning!EB6="c","?",IF(planning!EB6="M","?",IF(planning!EB6="CA","?",IF(planning!EB6="RTT","?",IF(planning!EB6="P",planning!$A$6,IF(planning!EB6="","")))))))
A10: P. Mammaire | B10: 2 | C10: =IF(planning!C7="Abs","?",IF(planning!C7="c","?",IF(planning!C7="M","?",IF(planning!C7="CA","?",IF(planning!C7="RTT","?",IF(planning!C7="P",planning!$A$7,IF(planning!C7="",""))))))) -> ITB | D10: =IF(planning!D7="Abs","?",IF(planning!D7="c","?",IF(planning!D7="M","?",IF(planning!D7="CA","?",IF(planning!D7="RTT","?",IF(planning!D7="P",planning!$A$7,IF(planning!D7="",""))))))) -> ? | E10: =IF(planning!E7="Abs","?",IF(planning!E7="c","?",IF(planning!E7="M","?",IF(planning!E7="CA","?",IF(planning!E7="RTT","?",IF(planning!E7="P",planning!$A$7,IF(planning!E7="",""))))))) -> ? | F10: =IF(planning!F7="Abs","?",IF(planning!F7="c","?",IF(planning!F7="M","?",IF(planning!F7="CA","?",IF(planning!F7="RTT","?",IF(planning!F7="P",planning!$A$7,IF(planning!F7="",""))))))) | G10: =IF(planning!G7="Abs","?",IF(planning!G7="c","?",IF(planning!G7="M","?",IF(planning!G7="CA","?",IF(planning!G7="RTT","?",IF(planning!G7="P",planning!$A$7,IF(planning!G7="",""))))))) | H10: =IF(planning!H7="Abs","?",IF(planning!H7="c","?",IF(planning!H7="M","?",IF(planning!H7="CA","?",IF(planning!H7="RTT","?",IF(planning!H7="P",planning!$A$7,IF(planning!H7="",""))))))) | I10: =IF(planning!I7="Abs","?",IF(planning!I7="c","?",IF(planning!I7="M","?",IF(planning!I7="CA","?",IF(planning!I7="RTT","?",IF(planning!I7="P",planning!$A$7,IF(planning!I7="",""))))))) | J10: =IF(planning!J7="Abs","?",IF(planning!J7="c","?",IF(planning!J7="M","?",IF(planning!J7="CA","?",IF(planning!J7="RTT","?",IF(planning!J7="P",planning!$A$7,IF(planning!J7="",""))))))) | ... EB10: =IF(planning!EB7="Abs","?",IF(planning!EB7="c","?",IF(planning!EB7="M","?",IF(planning!EB7="CA","?",IF(planning!EB7="RTT","?",IF(planning!EB7="P",planning!$A$7,IF(planning!EB7="","")))))))
A11: Endocrina | B11: 2 | C11: =IF(planning!C7="Abs","?",IF(planning!C7="c","?",IF(planning!C7="M","?",IF(planning!C7="CA","?",IF(planning!C7="RTT","?",IF(planning!C7="P",planning!$A$7,IF(planning!C7="",""))))))) -> ITB | D11: =IF(planning!D7="Abs","?",IF(planning!D7="c","?",IF(planning!D7="M","?",IF(planning!D7="CA","?",IF(planning!D7="RTT","?",IF(planning!D7="P",planning!$A$7,IF(planning!D7="",""))))))) -> ? | E11: =IF(planning!E7="Abs","?",IF(planning!E7="c","?",IF(planning!E7="M","?",IF(planning!E7="CA","?",IF(planning!E7="RTT","?",IF(planning!E7="P",planning!$A$7,IF(planning!E7="",""))))))) -> ? | F11: =IF(planning!F7="Abs","?",IF(planning!F7="c","?",IF(planning!F7="M","?",IF(planning!F7="CA","?",IF(planning!F7="RTT","?",IF(planning!F7="P",planning!$A$7,IF(planning!F7="",""))))))) | G11: =IF(planning!G7="Abs","?",IF(planning!G7="c","?",IF(planning!G7="M","?",IF(planning!G7="CA","?",IF(planning!G7="RTT","?",IF(planning!G7="P",planning!$A$7,IF(planning!G7="",""))))))) | H11: =IF(planning!H7="Abs","?",IF(planning!H7="c","?",IF(planning!H7="M","?",IF(planning!H7="CA","?",IF(planning!H7="RTT","?",IF(planning!H7="P",planning!$A$7,IF(planning!H7="",""))))))) | I11: =IF(planning!I7="Abs","?",IF(planning!I7="c","?",IF(planning!I7="M","?",IF(planning!I7="CA","?",IF(planning!I7="RTT","?",IF(planning!I7="P",planning!$A$7,IF(planning!I7="",""))))))) | J11: =IF(planning!J7="Abs","?",IF(planning!J7="c","?",IF(planning!J7="M","?",IF(planning!J7="CA","?",IF(planning!J7="RTT","?",IF(planning!J7="P",planning!$A$7,IF(planning!J7="",""))))))) | ... EB11: =IF(planning!EB7="Abs","?",IF(planning!EB7="c","?",IF(planning!EB7="M","?",IF(planning!EB7="CA","?",IF(planning!EB7="RTT","?",IF(planning!EB7="P",planning!$A$7,IF(planning!EB7="","")))))))
A12: P.cutinés | B12: 2 | C12: =IF(planning!C7="Abs","?",IF(planning!C7="c","?",IF(planning!C7="M","?",IF(planning!C7="CA","?",IF(planning!C7="RTT","?",IF(planning!C7="P",planning!$A$7,IF(planning!C7="",""))))))) -> ITB | D12: =IF(planning!D7="Abs","?",IF(planning!D7="c","?",IF(planning!D7="M","?",IF(planning!D7="CA","?",IF(planning!D7="RTT","?",IF(planning!D7="P",planning!$A$7,IF(planning!D7="",""))))))) -> ? | E12: =IF(planning!E7="Abs","?",IF(planning!E7="c","?",IF(planning!E7="M","?",IF(planning!E7="CA","?",IF(planning!E7="RTT","?",IF(planning!E7="P",planning!$A$7,IF(planning!E7="",""))))))) -> ? | F12: =IF(planning!F7="Abs","?",IF(planning!F7="c","?",IF(planning!F7="M","?",IF(planning!F7="CA","?",IF(planning!F7="RTT","?",IF(planning!F7="P",planning!$A$7,IF(planning!F7="",""))))))) | G12: =IF(planning!G7="Abs","?",IF(planning!G7="c","?",IF(planning!G7="M","?",IF(planning!G7="CA","?",IF(planning!G7="RTT","?",IF(planning!G7="P",planning!$A$7,IF(planning!G7="",""))))))) | H12: =IF(planning!H7="Abs","?",IF(planning!H7="c","?",IF(planning!H7="M","?",IF(planning!H7="CA","?",IF(planning!H7="RTT","?",IF(planning!H7="P",planning!$A$7,IF(planning!H7="",""))))))) | I12: =IF(planning!I7="Abs","?",IF(planning!I7="c","?",IF(planning!I7="M","?",IF(planning!I7="CA","?",IF(planning!I7="RTT","?",IF(planning!I7="P",planning!$A$7,IF(planning!I7="",""))))))) | J12: =IF(planning!J7="Abs","?",IF(planning!J7="c","?",IF(planning!J7="M","?",IF(planning!J7="CA","?",IF(planning!J7="RTT","?",IF(planning!J7="P",planning!$A$7,IF(planning!J7="",""))))))) | ... EB12: =IF(planning!EB7="Abs","?",IF(planning!EB7="c","?",IF(planning!EB7="M","?",IF(planning!EB7="CA","?",IF(planning!EB7="RTT","?",IF(planning!EB7="P",planning!$A$7,IF(planning!EB7="","")))))))
A13: P.Digestive+rate+gg | B13: 4 | C13: =IF(planning!C9="Abs","?",IF(planning!C9="c","?",IF(planning!C9="M","?",IF(planning!C9="CA","?",IF(planning!C9="RTT","?",IF(planning!C9="P",planning!$A$7,IF(planning!C9="",""))))))) | D13: =IF(planning!D9="Abs","?",IF(planning!D9="c","?",IF(planning!D9="M","?",IF(planning!D9="CA","?",IF(planning!D9="RTT","?",IF(planning!D9="P",planning!$A$7,IF(planning!D9="",""))))))) | E13: =IF(planning!E9="Abs","?",IF(planning!E9="c","?",IF(planning!E9="M","?",IF(planning!E9="CA","?",IF(planning!E9="RTT","?",IF(planning!E9="P",planning!$A$7,IF(planning!E9="",""))))))) -> ? | F13: =IF(planning!F9="Abs","?",IF(planning!F9="c","?",IF(planning!F9="M","?",IF(planning!F9="CA","?",IF(planning!F9="RTT","?",IF(planning!F9="P",planning!$A$7,IF(planning!F9="",""))))))) -> ? | G13: =IF(planning!G9="Abs","?",IF(planning!G9="c","?",IF(planning!G9="M","?",IF(planning!G9="CA","?",IF(planning!G9="RTT","?",IF(planning!G9="P",planning!$A$7,IF(planning!G9="",""))))))) -> ? | H13: =IF(planning!H9="Abs","?",IF(planning!H9="c","?",IF(planning!H9="M","?",IF(planning!H9="CA","?",IF(planning!H9="RTT","?",IF(planning!H9="P",planning!$A$7,IF(planning!H9="",""))))))) -> ? | I13: =IF(planning!I9="Abs","?",IF(planning!I9="c","?",IF(planning!I9="M","?",IF(planning!I9="CA","?",IF(planning!I9="RTT","?",IF(planning!I9="P",planning!$A$7,IF(planning!I9="",""))))))) -> ? | J13: =IF(planning!J9="Abs","?",IF(planning!J9="c","?",IF(planning!J9="M","?",IF(planning!J9="CA","?",IF(planning!J9="RTT","?",IF(planning!J9="P",planning!$A$7,IF(planning!J9="",""))))))) -> ? | ... EB13: =IF(planning!EB9="Abs","?",IF(planning!EB9="c","?",IF(planning!EB9="M","?",IF(planning!EB9="CA","?",IF(planning!EB9="RTT","?",IF(planning!EB9="P",planning!$A$7,IF(planning!EB9="","")))))))
B21: GARDE
A23: LUNDI | B23: FCO
B24: 1 | C24: =IF($B$8=1,IF(C$5="lundi",IF(C$8="?","?",(AND(IF(C$8="FCO","")))))) -> ? | D24: =IF($B$8=1,IF(D$5="lundi",IF(D$8="?","?",IF(D$8="FCO","")))) -> ? | E24: =IF($B$8=1,IF(E$5="lundi",IF(E$8="?","?",IF(E$8="FCO","")))) -> FALSE | F24: =IF($B$8=1,IF(F$5="lundi",IF(F$8="?","?",IF(F$8="FCO","")))) -> FALSE | G24: =IF($B$8=1,IF(G$5="lundi",IF(G$8="?","?",IF(G$8="FCO","")))) -> FALSE | H24: =IF($B$8=1,IF(H$5="lundi",IF(H$8="?","?",IF(H$8="FCO","")))) -> FALSE | I24: =IF($B$8=1,IF(I$5="lundi",IF(I$8="?","?",IF(I$8="FCO","")))) -> FALSE | J24: =IF($B$8=1,IF(J$5="lundi",IF(J$8="?","?",IF(J$8="FCO","")))) -> FALSE | K24: =IF($B$8=1,IF(K$5="lundi",IF(K$8="?","?",IF(K$8="FCO","")))) -> FALSE | ... V24: =IF($B$8=1,IF(V$5="lundi",IF(V$8="?","?",IF(V$8="FCO","")))) -> FALSE
A25: MARDI | B25: ITB
A26: ITB | B26: 2 | C26: =IF($B$10=2,IF(C$5="mardi",IF(C$10="?","?",""))) -> FALSE | D26: =IF($B$10=2,IF(D$5="mardi",IF(D$10="?","?",""))) -> FALSE | E26: =IF($B$10=2,IF(E$5="mardi",IF(E$10="?","?",""))) -> ? | F26: =IF($B$10=2,IF(F$5="mardi",IF(F$10="?","?",""))) | G26: =IF($B$10=2,IF(G$5="mardi",IF(G$10="?","?",""))) -> FALSE | H26: =IF($B$10=2,IF(H$5="mardi",IF(H$10="?","?",""))) -> FALSE | I26: =IF($B$10=2,IF(I$5="mardi",IF(I$10="?","?",""))) -> FALSE | J26: =IF($B$10=2,IF(J$5="mardi",IF(J$10="?","?",""))) -> FALSE | ... V26: =IF($B$10=2,IF(V$5="mardi",IF(V$10="?","?",""))) -> FALSE
A27: MERCREDI | B27: MZ
A28: MZ | B28: 4 | C28: =IF($B$13=4,IF(C$5="mercredi",IF(C$13="?","?",""))) -> FALSE | D28: =IF($B$13=4,IF(D$5="mercredi",IF(D$13="?","?",""))) -> FALSE | E28: =IF($B$13=4,IF(E$5="mercredi",IF(E$13="?","?",""))) -> FALSE | F28: =IF($B$13=4,IF(F$5="mercredi",IF(F$13="?","?",""))) -> FALSE | G28: =IF($B$13=4,IF(G$5="mercredi",IF(G$13="?","?",""))) -> ? | H28: =IF($B$13=4,IF(H$5="mercredi",IF(H$13="?","?",""))) -> ? | I28: =IF($B$13=4,IF(I$5="mercredi",IF(I$13="?","?",""))) -> FALSE | J28: =IF($B$13=4,IF(J$5="mercredi",IF(J$13="?","?",""))) -> FALSE | ... V28: =IF($B$13=4,IF(V$5="mercredi",IF(V$13="?","?",""))) -> FALSE
A29: JEUDI | B29: MZ
A30: MZ | B30: 4 | C30: =IF($B$13=4,IF(C$5="jeudi",IF(C$13="?","?",""))) -> FALSE | D30: =IF($B$13=4,IF(D$5="jeudi",IF(D$13="?","?",""))) -> FALSE | E30: =IF($B$13=4,IF(E$5="jeudi",IF(E$13="?","?",""))) -> FALSE | F30: =IF($B$13=4,IF(F$5="jeudi",IF(F$13="?","?",""))) -> FALSE | G30: =IF($B$13=4,IF(G$5="jeudi",IF(G$13="?","?",""))) -> FALSE | H30: =IF($B$13=4,IF(H$5="jeudi",IF(H$13="?","?",""))) -> FALSE | I30: =IF($B$13=4,IF(I$5="jeudi",IF(I$13="?","?",""))) -> ? | J30: =IF($B$13=4,IF(J$5="jeudi",IF(J$13="?","?",""))) -> ? | ... V30: =IF($B$13=4,IF(V$5="jeudi",IF(V$13="?","?",""))) -> FALSE
A31: VENDREDI | B31: ITB
A32: ITB | B32: 2 | C32: =IF($B$10=2,IF(C$5="vend",IF(C$10="?","?",""))) -> FALSE | D32: =IF($B$10=2,IF(D$5="vend",IF(D$10="?","?",""))) -> FALSE | E32: =IF($B$10=2,IF(E$5="vend",IF(E$10="?","?",""))) -> FALSE | F32: =IF($B$10=2,IF(F$5="vend",IF(F$10="?","?",""))) -> FALSE | G32: =IF($B$10=2,IF(G$5="vend",IF(G$10="?","?",""))) -> FALSE | H32: =IF($B$10=2,IF(H$5="vend",IF(H$10="?","?",""))) -> FALSE | I32: =IF($B$10=2,IF(I$5="vend",IF(I$10="?","?",""))) -> FALSE | J32: =IF($B$10=2,IF(J$5="vend",IF(J$10="?","?",""))) -> FALSE | ... V32: =IF($B$10=2,IF(V$5="vend",IF(V$10="?","?","")))

Sheet Feuil1
A1: P | C1: Présent
A2: Abs | C2: Autre Absence
A3: C | C3: cours/formation/recherche
A4: CA | C4: Congés payés
A5: M | C5: Maladie
A6: RTT | C6: RTT
