Workbook

Sheet J1
C2: CHARGE D'ENTRAINEMENT
C3: Semaine 2 | D3: Semaine 3 | E3: Semaine 4 | F3: Semaine 5 | G3: Semaine 6 | H3: Semaine 7 | I3: Semaine 8 | J3: Semaine 9 | K3: Semaine 10 | L3: Semaine 11 | M3: Semaine 12 | N3: Semaine 13 | O3: Semaine 14 | P3: Semaine 15 | Q3: Semaine 16 | R3: Semaine 17 | S3: Semaine 18 | T3: Semaine 19 | U3: Semaine 20 | V3: Semaine 21 | W3: Semaine 22 | X3: Semaine 23 | Y3: Semaine 24 | Z3: Semaine 25 | AA3: Semaine 26 | AB3: Semaine 27 | AC3: Semaine 28 | AD3: Semaine 29 | AE3: Semaine 30 | AF3: Semaine 31 | AG3: Semaine 32 | AH3: Semaine 33 | AI3: Semaine 34 | AJ3: Semaine 35 | AK3: Semaine 36 | AL3: Semaine 37 | AM3: Semaine 38 | AN3: Semaine 39 | AO3: Semaine 40 | AP3: Semaine 41 | AQ3: Semaine 42 | AR3: Semaine 43 | AS3: Semaine 44 | AT3: Semaine 45 | AU3: Semaine 46 | AV3: Semaine 47
B4: J1 | G4: =SUM(B58:F58) -> 1875 | H4: =SUM(I58:M58) -> 1973 | I4: =SUM(P58:T58) -> 2048 | J4: =SUM(W58:AA58) -> 2010 | K4: =SUM(AD58:AH58) -> 1744 | L4: =SUM(AK58:AO58) -> 1177 | M4: =SUM(AR58:AV58) -> 760 | N4: =SUM(AZ58:BD58) -> 0 | O4: =SUM(BF58:BJ58) -> 0 | P4: =SUM(BM58:BQ58) -> 0 | Q4: =SUM(BT58:BX58) -> 0 | R4: =SUM(CA58:CE58) -> 0 | S4: =SUM(CH58:CL58) -> 0 | T4: =SUM(CO58:CS58) -> 0 | U4: =SUM(CV58:CZ58) -> 0 | V4: =SUM(DC58:DG58) -> 0 | W4: =SUM(DJ58:DN58) -> 0 | X4: =SUM(DQ58:DU58) -> 0 | Y4: =SUM(DX58:EB58) -> 0 | Z4: =SUM(EE58:EI58) -> 0 | AA4: =SUM(EL58:EP58) -> 0 | AB4: =SUM(ES58:EW58) -> 0 | AC4: =SUM(EZ58:FD58) -> 0 | AD4: =SUM(FG58:FK58) -> 0 | AE4: =SUM(FN58:FR58) -> 0 | AF4: =SUM(FU58:FY58) -> 0 | AG4: =SUM(GB58:GF58) -> 0 | AH4: =SUM(GI58:GM58) -> 0 | AI4: =SUM(GP58:GT58) -> 0 | AJ4: =SUM(GW58:HA58) -> 0 | AK4: =SUM(HD58:HH58) -> 0 | AL4: =SUM(HK58:HO58) -> 0 | AM4: =SUM(HR58:HV58) -> 0 | AN4: =SUM(HY58:IC58) -> 0 | AO4: =SUM(IF58:IJ58) -> 0 | AP4: =SUM(IM58:IQ58) -> 0 | AQ4: =SUM(IT58:IX58) -> 0 | AR4: =SUM(JA58:JE58) -> 0 | AS4: =SUM(JH58:JL58) -> 0 | AT4: =SUM(JO58:JS58) -> 0 | AU4: =SUM(JV58:JZ58) -> 0 | AV4: =SUM(KC58:KG58) -> 0
B5: EVOLUTION % | G5: / | H5: =((H4/G4)-1)*100 -> 5.2266667 | I5: =((I4/H4)-1)*100 -> 3.8013178 | J5: =((J4/I4)-1)*100 -> -1.8554688 | K5: =((K4/J4)-1)*100 -> -13.233831 | L5: =((L4/K4)-1)*100 -> -32.511468 | M5: =((M4/L4)-1)*100 -> -35.429057 | N5: =((N4/M4)-1)*100 -> -100 | O5: =((O4/N4)-1)*100 -> #DIV/0! | ... AV5: =((AV4/AU4)-1)*100 -> #DIV/0!
B6: MOYENNE EQUIPE | G6: =[1]GLOBAL!B148 -> 1644.4737 | H6: =[1]GLOBAL!C148 -> 1845.35 | I6: =[1]GLOBAL!D148 -> 2265.3611 | J6: =[1]GLOBAL!E148 -> 2097.0588 | K6: =[1]GLOBAL!F148 -> 1800.7 | L6: =[1]GLOBAL!G148 -> #DIV/0! | M6: =[1]GLOBAL!H148 -> #DIV/0! | N6: =[1]GLOBAL!I148 -> 0 | ... AV6: =[1]GLOBAL!AQ148 -> 0
C17: CHARGE HEBDOMADAIRE (ENT + MATCH)
C18: Semaine 2 | D18: Semaine 3 | E18: Semaine 4 | F18: Semaine 5 | G18: Semaine 6 | H18: Semaine 7 | I18: Semaine 8 | J18: Semaine 9 | K18: Semaine 10 | L18: Semaine 11 | M18: Semaine 12 | N18: Semaine 13 | O18: Semaine 14 | P18: Semaine 15 | Q18: Semaine 16 | R18: Semaine 17 | S18: Semaine 18 | T18: Semaine 19 | U18: Semaine 20 | V18: Semaine 21 | W18: Semaine 22 | X18: Semaine 23 | Y18: Semaine 24 | Z18: Semaine 25 | AA18: Semaine 26 | AB18: Semaine 27 | AC18: Semaine 28 | AD18: Semaine 29 | AE18: Semaine 30 | AF18: Semaine 31 | AG18: Semaine 32 | AH18: Semaine 33 | AI18: Semaine 34 | AJ18: Semaine 35 | AK18: Semaine 36 | AL18: Semaine 37 | AM18: Semaine 38 | AN18: Semaine 39 | AO18: Semaine 40 | AP18: Semaine 41 | AQ18: Semaine 42 | AR18: Semaine 43 | AS18: Semaine 44 | AT18: Semaine 45 | AU18: Semaine 46 | AV18: Semaine 47
B19: J1 | C19: =[1]GLOBAL!C64 -> 4055 | D19: =[1]GLOBAL!D64 -> 3970 | E19: =[1]GLOBAL!E64 -> 4365 | F19: =[1]GLOBAL!F64 -> 4410 | G19: =SUM(B58:G58) -> 2955 | H19: =SUM(I58:N58) -> 3053 | I19: =SUM(J58:P58) -> 3053 | J19: =SUM(K58:Q58) -> 3033 | K19: =SUM(AD58:AI58) -> 2464 | L19: =SUM(AK58:AP58) -> 2317 | M19: =SUM(AR58:AW58) -> 760 | N19: =SUM(AY58:BD58) -> 0 | O19: =SUM(BF58:BK58) -> 0 | P19: =SUM(BM58:BR58) -> 0 | Q19: =SUM(BT58:BY58) -> 0 | R19: =SUM(CA58:CF58) -> 0 | S19: =SUM(CH58:CM58) -> 0 | T19: =SUM(CO58:CT58) -> 0 | U19: =SUM(CV58:DA58) -> 0 | V19: =SUM(DC58:DH58) -> 0 | W19: =SUM(DJ58:DO58) -> 0 | X19: =SUM(DQ58:DV58) -> 0 | Y19: =SUM(DX58:EC58) -> 0 | Z19: =SUM(EE58:EJ58) -> 0 | AA19: =SUM(EL58:EQ58) -> 0 | AB19: =SUM(ES58:EX58) -> 0 | AC19: =SUM(EZ58:FE58) -> 0 | AD19: =SUM(FG58:FL58) -> 0 | AE19: =SUM(FN58:FS58) -> 0 | AF19: =SUM(FU58:FZ58) -> 0 | AG19: =SUM(GB58:GG58) -> 0 | AH19: =SUM(GI58:GN58) -> 0 | AI19: =SUM(GP58:GU58) -> 0 | AJ19: =SUM(GW58:HB58) -> 0 | AK19: =SUM(HD58:HI58) -> 0 | AL19: =SUM(HK58:HP58) -> 0 | AM19: =SUM(HR58:HW58) -> 0 | AN19: =SUM(HY58:ID58) -> 0 | AO19: =SUM(IF58:IK58) -> 0 | AP19: =SUM(IM58:IR58) -> 0 | AQ19: =SUM(IT58:IY58) -> 0 | AR19: =SUM(JA58:JF58) -> 0 | AS19: =SUM(JH58:JM58) -> 0 | AT19: =SUM(JO58:JT58) -> 0 | AU19: =SUM(JV58:KA58) -> 0 | AV19: =SUM(KC58:KH58) -> 0
B20: EVOLUTION % | G20: / | H20: =((H19/G19)-1)*100 -> 3.3164129 | I20: =((I19/H19)-1)*100 -> 0 | J20: =((J19/I19)-1)*100 -> -0.65509335 | K20: =((K19/J19)-1)*100 -> -18.760303 | L20: =((L19/K19)-1)*100 -> -5.9659091 | M20: =((M19/L19)-1)*100 -> -67.198964 | N20: =((N19/M19)-1)*100 -> -100 | O20: =((O19/N19)-1)*100 -> #DIV/0! | ... AV20: =((AV19/AU19)-1)*100 -> #DIV/0!
B21: MOYENNE EQUIPE | G21: =[1]GLOBAL!G89 -> 2459.7619 | H21: =[1]GLOBAL!H89 -> 2620.6429 | I21: =[1]GLOBAL!I89 -> 2683.225 | J21: =[1]GLOBAL!J89 -> 2473.325 | K21: =[1]GLOBAL!K89 -> 2106.9545 | L21: =[1]GLOBAL!M89 -> 0 | M21: =[1]GLOBAL!N89 -> 0 | N21: =[1]GLOBAL!O89 -> 0 | O21: =[1]GLOBAL!P89 -> 0 | P21: =[1]GLOBAL!Q89 -> 0 | Q21: =[1]GLOBAL!R89 -> 0 | R21: =[1]GLOBAL!S89 -> 0 | S21: =[1]GLOBAL!V89 -> 0 | T21: =[1]GLOBAL!W89 -> 0 | U21: =[1]GLOBAL!X89 -> 0 | V21: =[1]GLOBAL!Y89 -> 0 | W21: =[1]GLOBAL!Z89 -> 0 | X21: =[1]GLOBAL!AB89 -> 0 | Y21: =[1]GLOBAL!AC89 -> 0 | Z21: =[1]GLOBAL!AD89 -> 0 | AA21: =[1]GLOBAL!AE89 -> 0 | AB21: =[1]GLOBAL!AF89 -> 0 | AC21: =[1]GLOBAL!AG89 -> 0 | AD21: =[1]GLOBAL!AI89 -> 0 | AE21: =[1]GLOBAL!AJ89 -> 0 | AF21: =[1]GLOBAL!AK89 -> 0 | AG21: =[1]GLOBAL!AL89 -> 0 | AH21: =[1]GLOBAL!AM89 -> 0 | AI21: =[1]GLOBAL!AN89 -> 0 | AJ21: =[1]GLOBAL!AO89 -> 0 | AK21: =[1]GLOBAL!AP89 -> 0 | ... AV21: =[1]GLOBAL!BA89 -> 0
C39: Charge Chronique VS Charge Aigue
C40: Semaine 2 | D40: Semaine 3 | E40: Semaine 4 | F40: Semaine 5 | G40: Semaine 6 | H40: Semaine 7 | I40: Semaine 8 | J40: Semaine 9 | K40: Semaine 10 | L40: Semaine 11 | M40: Semaine 12 | N40: Semaine 13 | O40: Semaine 14 | P40: Semaine 15 | Q40: Semaine 16 | R40: Semaine 17 | S40: Semaine 18 | T40: Semaine 19 | U40: Semaine 20 | V40: Semaine 21 | W40: Semaine 22 | X40: Semaine 23 | Y40: Semaine 24 | Z40: Semaine 25 | AA40: Semaine 26 | AB40: Semaine 27 | AC40: Semaine 28 | AD40: Semaine 29 | AE40: Semaine 30 | AF40: Semaine 31 | AG40: Semaine 32 | AH40: Semaine 33 | AI40: Semaine 34 | AJ40: Semaine 35 | AK40: Semaine 36 | AL40: Semaine 37 | AM40: Semaine 38 | AN40: Semaine 39 | AO40: Semaine 40 | AP40: Semaine 41 | AQ40: Semaine 42 | AR40: Semaine 43 | AS40: Semaine 44 | AT40: Semaine 45 | AU40: Semaine 46 | AV40: Semaine 47
B41: J1 | C41: / | D41: / | E41: / | F41: / | G41: =G19/AVERAGE(C19:F19) -> 0.70357143 | H41: =H19/AVERAGE(D19:G19) -> 0.77783439 | I41: =I19/AVERAGE(E19:H19) -> 0.82608402 | J41: =J19/AVERAGE(F19:I19) -> 0.90060129 | K41: =K19/AVERAGE(G19:J19) -> 0.81494956 | L41: =L19/AVERAGE(H19:K19) -> 0.79875894 | M41: =M19/AVERAGE(I19:L19) -> 0.27974602 | N41: =N19/AVERAGE(J19:M19) -> 0 | ... AV41: =AV19/AVERAGE(AR19:AU19) -> #DIV/0!
C45: Charge d'Entrainement Moyenne (Lundi à Vendredi)
C46: Semaine 2 | D46: Semaine 3 | E46: Semaine 4 | F46: Semaine 5 | G46: Semaine 6 | H46: Semaine 7 | I46: Semaine 8 | J46: Semaine 9 | K46: Semaine 10 | L46: Semaine 11 | M46: Semaine 12 | N46: Semaine 13 | O46: Semaine 14 | P46: Semaine 15 | Q46: Semaine 16 | R46: Semaine 17 | S46: Semaine 18 | T46: Semaine 19 | U46: Semaine 20 | V46: Semaine 21 | W46: Semaine 22 | X46: Semaine 23 | Y46: Semaine 24 | Z46: Semaine 25 | AA46: Semaine 26 | AB46: Semaine 27 | AC46: Semaine 28 | AD46: Semaine 29 | AE46: Semaine 30 | AF46: Semaine 31 | AG46: Semaine 32 | AH46: Semaine 33 | AI46: Semaine 34 | AJ46: Semaine 35 | AK46: Semaine 36 | AL46: Semaine 37 | AM46: Semaine 38 | AN46: Semaine 39 | AO46: Semaine 40 | AP46: Semaine 41 | AQ46: Semaine 42 | AR46: Semaine 43 | AS46: Semaine 44 | AT46: Semaine 45 | AU46: Semaine 46 | AV46: Semaine 47
B47: J1 | C47: / | D47: / | E47: / | F47: / | G47: =AVERAGE([1]GLOBAL!AI36:AM36) -> 375 | H47: =AVERAGE([1]GLOBAL!AP36:AT36) -> 394.6 | I47: =AVERAGE([1]GLOBAL!AW36:BA36) -> 409.6 | J47: =AVERAGE([1]GLOBAL!BD36:BH36) -> 402 | K47: =AVERAGE([1]GLOBAL!BK36:BO36) -> 348.8 | L47: =AVERAGE(AK58:AO58) -> 235.4 | M47: =AVERAGE(AR58:AV58) -> 152 | N47: =AVERAGE(AY58:BC58) -> 0 | O47: =AVERAGE(BF58:BJ58) -> 0 | P47: =AVERAGE(BM58:BQ58) -> 0 | Q47: =AVERAGE(BT58:BX58) -> 0 | R47: =AVERAGE(CA58:CE58) -> 0 | S47: =AVERAGE(CH58:CL58) -> 0 | T47: =AVERAGE(CO58:CS58) -> 0 | U47: =AVERAGE(CV58:CZ58) -> 0 | V47: =AVERAGE(DC58:DG58) -> 0 | W47: =AVERAGE(DJ58:DN58) -> 0 | X47: =AVERAGE(DQ58:DU58) -> 0 | Y47: =AVERAGE(DX58:EB58) -> 0 | Z47: =AVERAGE(EE58:EI58) -> 0 | AA47: =AVERAGE(EL58:EP58) -> 0 | AB47: =AVERAGE(ET58:EW58) -> 0 | AC47: =AVERAGE(EZ58:FD58) -> 0 | AD47: =AVERAGE(FG58:FK58) -> 0 | AE47: =AVERAGE(FN58:FR58) -> 0 | AF47: =AVERAGE(FU58:FY58) -> 0 | AG47: =AVERAGE(GB58:GF58) -> 0 | AH47: =AVERAGE(GI58:GM58) -> 0 | AI47: =AVERAGE(GP58:GT58) -> 0 | AJ47: =AVERAGE(GW58:HA58) -> 0 | AK47: =AVERAGE(HD58:HH58) -> 0 | AL47: =AVERAGE(HK58:HO58) -> 0 | AM47: =AVERAGE(HR58:HV58) -> 0 | AN47: =AVERAGE(HY58:IC58) -> 0 | AO47: =AVERAGE(IF58:IJ58) -> 0 | AP47: =AVERAGE(IM58:IQ58) -> 0 | AQ47: =AVERAGE(IT58:IX58) -> 0 | AR47: =AVERAGE(JA58:JE58) -> 0 | AS47: =AVERAGE(JH58:JL58) -> 0 | AT47: =AVERAGE(JO58:JS58) -> 0 | AU47: =AVERAGE(JV58:JZ58) -> 0 | AV47: =AVERAGE(KC58:KG58) -> 0
C49: Monotonie (>2,5 = Risque de Blessure / 2-2,49 = Fatigue)
C50: Semaine 2 | D50: Semaine 3 | E50: Semaine 4 | F50: Semaine 5 | G50: Semaine 6 | H50: Semaine 7 | I50: Semaine 8 | J50: Semaine 9 | K50: Semaine 10 | L50: Semaine 11 | M50: Semaine 12 | N50: Semaine 13 | O50: Semaine 14 | P50: Semaine 15 | Q50: Semaine 16 | R50: Semaine 17 | S50: Semaine 18 | T50: Semaine 19 | U50: Semaine 20 | V50: Semaine 21 | W50: Semaine 22 | X50: Semaine 23 | Y50: Semaine 24 | Z50: Semaine 25 | AA50: Semaine 26 | AB50: Semaine 27 | AC50: Semaine 28 | AD50: Semaine 29 | AE50: Semaine 30 | AF50: Semaine 31 | AG50: Semaine 32 | AH50: Semaine 33 | AI50: Semaine 34 | AJ50: Semaine 35 | AK50: Semaine 36 | AL50: Semaine 37 | AM50: Semaine 38 | AN50: Semaine 39 | AO50: Semaine 40 | AP50: Semaine 41 | AQ50: Semaine 42 | AR50: Semaine 43 | AS50: Semaine 44 | AT50: Semaine 45 | AU50: Semaine 46 | AV50: Semaine 47
B51: J1 | C51: / | D51: / | E51: / | F51: / | G51: ='J1'!G47/STDEV(B58:F58) -> 2.6287486 | H51: ='J1'!H47/STDEV(I58:M58) -> 1.6020966 | I51: ='J1'!I47/STDEV(P58:T58) -> 1.5752588 | J51: ='J1'!J47/STDEV(W58:AA58) -> 2.0893339 | K51: ='J1'!K47/STDEV(AD58:AH58) -> 1.6976362 | L51: ='J1'!L47/STDEV(AK58:AO58) -> 0.95317862 | M51: ='J1'!M47/STDEV(AR58:AV58) -> 0.54734364 | N51: ='J1'!N47/STDEV(AY58:BC58) -> #DIV/0! | O51: ='J1'!O47/STDEV(BF58:BJ58) -> #DIV/0! | P51: ='J1'!P47/STDEV(BM58:BQ58) -> #DIV/0! | Q51: ='J1'!Q47/STDEV(BT58:BX58) -> #DIV/0! | R51: ='J1'!R47/STDEV(CA58:CE58) -> #DIV/0! | S51: ='J1'!S47/STDEV(CH58:CL58) -> #DIV/0! | T51: ='J1'!T47/STDEV(CO58:CS58) -> #DIV/0! | U51: ='J1'!U47/STDEV(CV58:CZ58) -> #DIV/0! | V51: ='J1'!V47/STDEV(DC58:DG58) -> #DIV/0! | W51: ='J1'!W47/STDEV(DJ58:DN58) -> #DIV/0! | X51: ='J1'!X47/STDEV(DQ58:DU58) -> #DIV/0! | Y51: ='J1'!Y47/STDEV(DX58:EB58) -> #DIV/0! | Z51: ='J1'!Z47/STDEV(EE58:EI58) -> #DIV/0! | AA51: ='J1'!AA47/STDEV(EL58:EP58) -> #DIV/0! | AB51: ='J1'!AB47/STDEV(ET58:EW58) -> #DIV/0! | AC51: ='J1'!AC47/STDEV(EZ58:FD58) -> #DIV/0! | AD51: ='J1'!AD47/STDEV(FG58:FK58) -> #DIV/0! | AE51: ='J1'!AE47/STDEV(FN58:FR58) -> #DIV/0! | AF51: ='J1'!AF47/STDEV(FU58:FY58) -> #DIV/0! | AG51: ='J1'!AG47/STDEV(GB58:GF58) -> #DIV/0! | AH51: ='J1'!AH47/STDEV(GI58:GM58) -> #DIV/0! | AI51: ='J1'!AI47/STDEV(GP58:GT58) -> #DIV/0! | AJ51: ='J1'!AJ47/STDEV(GW58:HA58) -> #DIV/0! | AK51: ='J1'!AK47/STDEV(HD58:HH58) -> #DIV/0! | AL51: ='J1'!AL47/STDEV(HK58:HO58) -> #DIV/0! | AM51: ='J1'!AM47/STDEV(HR58:HV58) -> #DIV/0! | AN51: ='J1'!AN47/STDEV(HY58:IC58) -> #DIV/0! | AO51: ='J1'!AO47/STDEV(IF58:IJ58) -> #DIV/0! | AP51: ='J1'!AP47/STDEV(IM58:IQ58) -> #DIV/0! | AQ51: ='J1'!AQ47/STDEV(IT58:IX58) -> #DIV/0! | AR51: ='J1'!AR47/STDEV(JA58:JE58) -> #DIV/0! | AS51: ='J1'!AS47/STDEV(JH58:JL58) -> #DIV/0! | AT51: ='J1'!AT47/STDEV(JO58:JS58) -> #DIV/0! | AU51: ='J1'!AU47/STDEV(JV58:JZ58) -> #DIV/0! | AV51: ='J1'!AV47/STDEV(KC58:KG58) -> #DIV/0!
B55: SEMAINE 6 | I55: SEMAINE 7 | P55: SEMAINE 8 | W55: SEMAINE 9 | AD55: SEMAINE 10 | AK55: SEMAINE 11 | AR55: SEMAINE 12 | AY55: SEMAINE 13 | BF55: SEMAINE 14 | BM55: SEMAINE 15 | BT55: SEMAINE 16 | CA55: SEMAINE 17 | CH55: SEMAINE 18 | CO55: SEMAINE 19 | CV55: SEMAINE 20 | DC55: SEMAINE 21 | DJ55: SEMAINE 22 | DQ55: SEMAINE 23 | DX55: SEMAINE 24 | EE55: SEMAINE 25 | EL55: SEMAINE 26 | ES55: SEMAINE 27 | EZ55: SEMAINE 28 | FG55: SEMAINE 29 | FN55: SEMAINE 30 | FU55: SEMAINE 31 | GB55: SEMAINE 32 | GI55: SEMAINE 33 | GP55: SEMAINE 34 | GW55: SEMAINE 35 | HD55: SEMAINE 36 | HK55: SEMAINE 37 | HR55: SEMAINE 38 | HY55: SEMAINE 39 | IF55: SEMAINE 40 | IM55: SEMAINE 41 | IT55: SEMAINE 42 | JA55: SEMAINE 43 | JH55: SEMAINE 44 | JO55: SEMAINE 45 | JV55: SEMAINE 46 | KC55: SEMAINE 47
B56: Lundi | C56: Mardi | D56: Mercredi | E56: Jeudi | F56: Vendredi | G56: Samedi | I56: Lundi | J56: Mardi | K56: Mercredi | L56: Jeudi | M56: Vendredi | N56: Samedi | P56: Lundi | Q56: Mardi | R56: Mercredi | S56: Jeudi | T56: Vendredi | U56: Samedi | W56: Lundi | X56: Mardi | Y56: Mercredi | Z56: Jeudi | AA56: Vendredi | AB56: Samedi | AD56: Lundi | AE56: Mardi | AF56: Mercredi | AG56: Jeudi | AH56: Vendredi | AI56: Samedi | AK56: Lundi | AL56: Mardi | AM56: Mercredi | AN56: Jeudi | AO56: Vendredi | AP56: Samedi | AR56: Lundi | AS56: Mardi | AT56: Mercredi | AU56: Jeudi | AV56: Vendredi | AW56: Samedi | AY56: Lundi | AZ56: Mardi | BA56: Mercredi | BB56: Jeudi | BC56: Vendredi | BD56: Samedi | BF56: Lundi | BG56: Mardi | BH56: Mercredi | BI56: Jeudi | BJ56: Vendredi | BK56: Samedi | BM56: Lundi | BN56: Mardi | BO56: Mercredi | BP56: Jeudi | BQ56: Vendredi | BR56: Samedi | BT56: Lundi | BU56: Mardi | BV56: Mercredi | BW56: Jeudi | BX56: Vendredi | BY56: Samedi | CA56: Lundi | CB56: Mardi | CC56: Mercredi | CD56: Jeudi | CE56: Vendredi | CF56: Samedi | CH56: Lundi | CI56: Mardi | CJ56: Mercredi | CK56: Jeudi | CL56: Vendredi | CM56: Samedi | CO56: Lundi | CP56: Mardi | CQ56: Mercredi | CR56: Jeudi | CS56: Vendredi | CT56: Samedi | CV56: Lundi | CW56: Mardi | CX56: Mercredi | CY56: Jeudi | CZ56: Vendredi | DA56: Samedi | DC56: Lundi | DD56: Mardi | DE56: Mercredi | DF56: Jeudi | DG56: Vendredi | DH56: Samedi | DJ56: Lundi | DK56: Mardi | DL56: Mercredi | DM56: Jeudi | DN56: Vendredi | DO56: Samedi | DQ56: Lundi | DR56: Mardi | DS56: Mercredi | DT56: Jeudi | DU56: Vendredi | DV56: Samedi | DX56: Lundi | DY56: Mardi | DZ56: Mercredi | EA56: Jeudi | EB56: Vendredi | EC56: Samedi | EE56: Lundi | EF56: Mardi | EG56: Mercredi | EH56: Jeudi | EI56: Vendredi | EJ56: Samedi | EL56: Lundi | EM56: Mardi | EN56: Mercredi | EO56: Jeudi | EP56: Vendredi | EQ56: Samedi | ES56: Lundi | ET56: Mardi | EU56: Mercredi | EV56: Jeudi | EW56: Vendredi | EX56: Samedi | EZ56: Lundi | FA56: Mardi | FB56: Mercredi | FC56: Jeudi | FD56: Vendredi | FE56: Samedi | FG56: Lundi | FH56: Mardi | FI56: Mercredi | FJ56: Jeudi | FK56: Vendredi | FL56: Samedi | FN56: Lundi | FO56: Mardi | FP56: Mercredi | FQ56: Jeudi | FR56: Vendredi | FS56: Samedi | FU56: Lundi | FV56: Mardi | FW56: Mercredi | FX56: Jeudi | FY56: Vendredi | FZ56: Samedi | GB56: Lundi | GC56: Mardi | GD56: Mercredi | GE56: Jeudi | GF56: Vendredi | GG56: Samedi | GI56: Lundi | GJ56: Mardi | GK56: Mercredi | GL56: Jeudi | GM56: Vendredi | GN56: Samedi | GP56: Lundi | GQ56: Mardi | GR56: Mercredi | GS56: Jeudi | GT56: Vendredi | GU56: Samedi | GV56: Dimanche | GW56: Lundi | GX56: Mardi | GY56: Mercredi | GZ56: Jeudi | HA56: Vendredi | HB56: Samedi | HC56: Dimanche | HD56: Lundi | HE56: Mardi | HF56: Mercredi | HG56: Jeudi | HH56: Vendredi | HI56: Samedi | HJ56: Dimanche | HK56: Lundi | HL56: Mardi | HM56: Mercredi | HN56: Jeudi | HO56: Vendredi | HP56: Samedi | HQ56: Dimanche | HR56: Lundi | HS56: Mardi | HT56: Mercredi | HU56: Jeudi | HV56: Vendredi | HW56: Samedi | HX56: Dimanche | HY56: Lundi | HZ56: Mardi | IA56: Mercredi | IB56: Jeudi | IC56: Vendredi | ID56: Samedi | IE56: Dimanche | IF56: Lundi | IG56: Mardi | IH56: Mercredi | II56: Jeudi | IJ56: Vendredi | IK56: Samedi | IL56: Dimanche | IM56: Lundi | IN56: Mardi | IO56: Mercredi | IP56: Jeudi | IQ56: Vendredi | IR56: Samedi | IS56: Dimanche | IT56: Lundi | IU56: Mardi | IV56: Mercredi | IW56: Jeudi | IX56: Vendredi | IY56: Samedi | IZ56: Dimanche | JA56: Lundi | JB56: Mardi | JC56: Mercredi | JD56: Jeudi | JE56: Vendredi | JF56: Samedi | JG56: Dimanche | JH56: Lundi | JI56: Mardi | JJ56: Mercredi | JK56: Jeudi | JL56: Vendredi | JM56: Samedi | JN56: Dimanche | JO56: Lundi | JP56: Mardi | JQ56: Mercredi | JR56: Jeudi | JS56: Vendredi | JT56: Samedi | JU56: Dimanche | JV56: Lundi | JW56: Mardi | JX56: Mercredi | JY56: Jeudi | JZ56: Vendredi | KA56: Samedi | KB56: Dimanche | KC56: Lundi | KD56: Mardi | KE56: Mercredi | KF56: Jeudi | KG56: Vendredi | KH56: Samedi | KI56: Dimanche | KJ56: Lundi
B57: 45516 | C57: 45517 | D57: 45518 | E57: 45519 | F57: 45520 | G57: 45521 | I57: 45523 | J57: 45524 | K57: 45525 | L57: 45526 | M57: 45527 | N57: 45528 | P57: 45530 | Q57: 45531 | R57: 45532 | S57: 45533 | T57: 45534 | U57: 45535 | W57: 45537 | X57: 45538 | Y57: 45539 | Z57: 45540 | AA57: 45541 | AB57: 45542 | AD57: 45544 | AE57: 45545 | AF57: 45546 | AG57: 45547 | AH57: 45548 | AI57: 45549 | AK57: 45551 | AL57: 45552 | AM57: 45553 | AN57: 45554 | AO57: 45555 | AP57: 45556 | AR57: 45558 | AS57: 45559 | AT57: 45560 | AU57: 45561 | AV57: 45562 | AW57: 45563 | AY57: 45565 | AZ57: 45566 | BA57: 45567 | BB57: 45568 | BC57: 45569 | BD57: 45570 | BF57: 45572 | BG57: 45573 | BH57: 45574 | BI57: 45575 | BJ57: 45576 | BK57: 45577 | BM57: 45579 | BN57: 45580 | BO57: 45581 | BP57: 45582 | BQ57: 45583 | BR57: 45584 | BT57: 45586 | BU57: 45587 | BV57: 45588 | BW57: 45589 | BX57: 45590 | BY57: 45591 | CA57: 45593 | CB57: 45594 | CC57: 45595 | CD57: 45596 | CE57: 45597 | CF57: 45598 | CH57: 45600 | CI57: 45601 | CJ57: 45602 | CK57: 45603 | CL57: 45604 | CM57: 45605 | CO57: 45607 | CP57: 45608 | CQ57: 45609 | CR57: 45610 | CS57: 45611 | CT57: 45612 | CV57: 45614 | CW57: 45615 | CX57: 45616 | CY57: 45617 | CZ57: 45618 | DA57: 45619 | DC57: 45621 | DD57: 45622 | DE57: 45623 | DF57: 45624 | DG57: 45625 | DH57: 45626 | DJ57: 45628 | DK57: 45629 | DL57: 45630 | DM57: 45631 | DN57: 45632 | DO57: 45633 | DQ57: 45635 | DR57: 45636 | DS57: 45637 | DT57: 45638 | DU57: 45639 | DV57: 45640 | DX57: 45642 | DY57: 45643 | DZ57: 45644 | EA57: 45645 | EB57: 45646 | EC57: 45647 | EE57: 45649 | EF57: 45650 | EG57: 45651 | EH57: 45652 | EI57: 45653 | EJ57: 45654 | EL57: 45656 | EM57: 45657 | EN57: 45658 | EO57: 45659 | EP57: 45660 | EQ57: 45661 | ES57: 45663 | ET57: 45664 | EU57: 45665 | EV57: 45666 | EW57: 45667 | EX57: 45668 | EZ57: 45670 | FA57: 45671 | FB57: 45672 | FC57: 45673 | FD57: 45674 | FE57: 45675 | FG57: 45677 | FH57: 45678 | FI57: 45679 | FJ57: 45680 | FK57: 45681 | FL57: 45682 | FN57: 45684 | FO57: 45685 | FP57: 45686 | FQ57: 45687 | FR57: 45688 | FS57: 45689 | FU57: 45691 | FV57: 45692 | FW57: 45693 | FX57: 45694 | FY57: 45695 | FZ57: 45696 | GB57: 45698 | GC57: 45699 | GD57: 45700 | GE57: 45701 | GF57: 45702 | GG57: 45703 | GI57: 45705 | GJ57: 45706 | GK57: 45707 | GL57: 45708 | GM57: 45709 | GN57: 45710 | GP57: 45712 | GQ57: 45713 | GR57: 45714 | GS57: 45715 | GT57: 45716 | GU57: 45717 | GV57: 45718 | GW57: 45719 | GX57: 45720 | GY57: 45721 | GZ57: 45722 | HA57: 45723 | HB57: 45724 | HC57: 45725 | HD57: 45726 | HE57: 45727 | HF57: 45728 | HG57: 45729 | HH57: 45730 | HI57: 45731 | HJ57: 45732 | HK57: 45733 | HL57: 45734 | HM57: 45735 | HN57: 45736 | HO57: 45737 | HP57: 45738 | HQ57: 45739 | HR57: 45740 | HS57: 45741 | HT57: 45742 | HU57: 45743 | HV57: 45744 | HW57: 45745 | HX57: 45746 | HY57: 45747 | HZ57: 45748 | IA57: 45749 | IB57: 45750 | IC57: 45751 | ID57: 45752 | IE57: 45753 | IF57: 45754 | IG57: 45755 | IH57: 45756 | II57: 45757 | IJ57: 45758 | IK57: 45759 | IL57: 45760 | IM57: 45761 | IN57: 45762 | IO57: 45763 | IP57: 45764 | IQ57: 45765 | IR57: 45766 | IS57: 45767 | IT57: 45768 | IU57: 45769 | IV57: 45770 | IW57: 45771 | IX57: 45772 | IY57: 45773 | IZ57: 45774 | JA57: 45775 | JB57: 45776 | JC57: 45777 | JD57: 45778 | JE57: 45779 | JF57: 45780 | JG57: 45781 | JH57: 45782 | JI57: 45783 | JJ57: 45784 | JK57: 45785 | JL57: 45786 | JM57: 45787 | JN57: 45788 | JO57: 45789 | JP57: 45790 | JQ57: 45791 | JR57: 45792 | JS57: 45793 | JT57: 45794 | JU57: 45795 | JV57: 45796 | JW57: 45797 | JX57: 45798 | JY57: 45799 | JZ57: 45800 | KA57: 45801 | KB57: 45802 | KC57: 45803 | KD57: 45804 | KE57: 45805 | KF57: 45806 | KG57: 45807 | KH57: 45808 | KI57: 45809 | KJ57: 45810
B58: =[1]GLOBAL!AI36 -> 490 | C58: =[1]GLOBAL!AJ36 -> 560 | D58: =[1]GLOBAL!AK36 -> 260 | E58: =[1]GLOBAL!AL36 -> 325 | F58: =[1]GLOBAL!AM36 -> 240 | G58: =[1]GLOBAL!AN36 -> 1080 | H58: =[1]GLOBAL!AO36 -> 0 | I58: =[1]GLOBAL!AP36 -> 270 | ... KH58: =[1]GLOBAL!LO36 -> 0
C60: Comparaison MARDI
A61: MOYENNE | B61: =AVERAGE(G62:M62) -> 592.14286 | C61: Semaine 2 | D61: Semaine 3 | E61: Semaine 4 | F61: Semaine 5 | G61: Semaine 6 | H61: Semaine 7 | I61: Semaine 8 | J61: Semaine 9 | K61: Semaine 10 | L61: Semaine 11 | M61: Semaine 12 | N61: Semaine 13 | O61: Semaine 14 | P61: Semaine 15 | Q61: Semaine 16 | R61: Semaine 17 | S61: Semaine 18 | T61: Semaine 19 | U61: Semaine 20 | V61: Semaine 21 | W61: Semaine 22 | X61: Semaine 23 | Y61: Semaine 24 | Z61: Semaine 25 | AA61: Semaine 26 | AB61: Semaine 27 | AC61: Semaine 28 | AD61: Semaine 29 | AE61: Semaine 30 | AF61: Semaine 31 | AG61: Semaine 32 | AH61: Semaine 33 | AI61: Semaine 34 | AJ61: Semaine 35 | AK61: Semaine 36 | AL61: Semaine 37 | AM61: Semaine 38 | AN61: Semaine 39 | AO61: Semaine 40 | AP61: Semaine 41 | AQ61: Semaine 42 | AR61: Semaine 43 | AS61: Semaine 44 | AT61: Semaine 45 | AU61: Semaine 46 | AV61: Semaine 47
B62: J1 | C62: / | D62: / | E62: / | F62: / | G62: =C58 -> 560 | H62: =J58 -> 700 | I62: =Q58 -> 680 | J62: =X58 -> 560 | K62: =AE58 -> 630 | L62: =AL58 -> 375 | M62: =AS58 -> 640 | N62: =AZ58 -> 0 | O62: =BG58 -> 0 | P62: =BN58 -> 0 | Q62: =BU58 -> 0 | R62: =CB58 -> 0 | S62: =CI58 -> 0 | T62: =CP58 -> 0 | U62: =CW58 -> 0 | V62: =DD58 -> 0 | W62: =DK58 -> 0 | X62: =DR58 -> 0 | Y62: =DY58 -> 0 | Z62: =EF58 -> 0 | AA62: =EM58 -> 0 | AB62: =ET58 -> 0 | AC62: =FA58 -> 0 | AD62: =FH58 -> 0 | AE62: =FO58 -> 0 | AF62: =FV58 -> 0 | AG62: =GC58 -> 0 | AH62: =GJ58 -> 0 | AI62: =GQ58 -> 0 | AJ62: =GX58 -> 0 | AK62: =HE58 -> 0 | AL62: =HL58 -> 0 | AM62: =HS58 -> 0 | AN62: =HZ58 -> 0 | AO62: =IG58 -> 0 | AP62: =IN58 -> 0 | AQ62: =IU58 -> 0 | AR62: =JB58 -> 0 | AS62: =JI58 -> 0 | AT62: =JP58 -> 0 | AU62: =JW58 -> 0 | AV62: =KD58 -> 0
F63: Différence % | G63: / | H63: =((H62/G62)-1)*100 -> 25 | I63: =((I62/H62)-1)*100 -> -2.8571429 | J63: =((J62/I62)-1)*100 -> -17.647059 | K63: =((K62/J62)-1)*100 -> 12.5 | L63: =((L62/K62)-1)*100 -> -40.47619 | M63: =((M62/L62)-1)*100 -> 70.666667 | N63: =((N62/M62)-1)*100 -> -100 | O63: =((O62/N62)-1)*100 -> #DIV/0! | ... AV63: =((AV62/AU62)-1)*100 -> #DIV/0!
C66: Comparaison MERCREDI
A67: MOYENNE | B67: =AVERAGE(G68:L68) -> 546 | C67: Semaine 2 | D67: Semaine 3 | E67: Semaine 4 | F67: Semaine 5 | G67: Semaine 6 | H67: Semaine 7 | I67: Semaine 8 | J67: Semaine 9 | K67: Semaine 10 | L67: Semaine 11 | M67: Semaine 12 | N67: Semaine 13 | O67: Semaine 14 | P67: Semaine 15 | Q67: Semaine 16 | R67: Semaine 17 | S67: Semaine 18 | T67: Semaine 19 | U67: Semaine 20 | V67: Semaine 21 | W67: Semaine 22 | X67: Semaine 23 | Y67: Semaine 24 | Z67: Semaine 25 | AA67: Semaine 26 | AB67: Semaine 27 | AC67: Semaine 28 | AD67: Semaine 29 | AE67: Semaine 30 | AF67: Semaine 31 | AG67: Semaine 32 | AH67: Semaine 33 | AI67: Semaine 34 | AJ67: Semaine 35 | AK67: Semaine 36 | AL67: Semaine 37 | AM67: Semaine 38 | AN67: Semaine 39 | AO67: Semaine 40 | AP67: Semaine 41 | AQ67: Semaine 42 | AR67: Semaine 43 | AS67: Semaine 44 | AT67: Semaine 45 | AU67: Semaine 46 | AV67: Semaine 47
B68: J1 | C68: / | D68: / | E68: / | F68: / | G68: =D58 -> 260 | H68: =K58 -> 612 | I68: =R58 -> 700 | J68: =Y58 -> 600 | K68: =AF58 -> 504 | L68: =AM58 -> 600 | M68: =AT58 -> 0 | N68: =BA58 -> 0 | O68: =BH58 -> 0 | P68: =BO58 -> 0 | Q68: =BV58 -> 0 | R68: =CC58 -> 0 | S68: =CJ58 -> 0 | T68: =CQ58 -> 0 | U68: =CX58 -> 0 | V68: =DE58 -> 0 | W68: =DL58 -> 0 | X68: =DS58 -> 0 | Y68: =DZ58 -> 0 | Z68: =EG58 -> 0 | AA68: =EN58 -> 0 | AB68: =EU58 -> 0 | AC68: =FB58 -> 0 | AD68: =FI58 -> 0 | AE68: =FP58 -> 0 | AF68: =FW58 -> 0 | AG68: =GD58 -> 0 | AH68: =GK58 -> 0 | AI68: =GR58 -> 0 | AJ68: =GY58 -> 0 | AK68: =HF58 -> 0 | AL68: =HM58 -> 0 | AM68: =HT58 -> 0 | AN68: =IA58 -> 0 | AO68: =IH58 -> 0 | AP68: =IO58 -> 0 | AQ68: =IV58 -> 0 | AR68: =JC58 -> 0 | AS68: =JJ58 -> 0 | AT68: =JQ58 -> 0 | AU68: =JX58 -> 0 | AV68: =KE58 -> 0
F69: Différence % | G69: / | H69: =((H68/G68)-1)*100 -> 135.38462 | I69: =((I68/H68)-1)*100 -> 14.379085 | J69: =((J68/I68)-1)*100 -> -14.285714 | K69: =((K68/J68)-1)*100 -> -16 | L69: =((L68/K68)-1)*100 -> 19.047619 | M69: =((M68/L68)-1)*100 -> -100 | N69: =((N68/M68)-1)*100 -> #DIV/0! | O69: =((O68/N68)-1)*100 -> #DIV/0! | ... AV69: =((AV68/AU68)-1)*100 -> #DIV/0!
C72: Comparaison MARDI + MERCREDI
A73: MOYENNE | B73: =AVERAGE(G74:M74) -> 1060.1429 | C73: Semaine 2 | D73: Semaine 3 | E73: Semaine 4 | F73: Semaine 5 | G73: Semaine 6 | H73: Semaine 7 | I73: Semaine 8 | J73: Semaine 9 | K73: Semaine 10 | L73: Semaine 11 | M73: Semaine 12 | N73: Semaine 13 | O73: Semaine 14 | P73: Semaine 15 | Q73: Semaine 16 | R73: Semaine 17 | S73: Semaine 18 | T73: Semaine 19 | U73: Semaine 20 | V73: Semaine 21 | W73: Semaine 22 | X73: Semaine 23 | Y73: Semaine 24 | Z73: Semaine 25 | AA73: Semaine 26 | AB73: Semaine 27 | AC73: Semaine 28 | AD73: Semaine 29 | AE73: Semaine 30 | AF73: Semaine 31 | AG73: Semaine 32 | AH73: Semaine 33 | AI73: Semaine 34 | AJ73: Semaine 35 | AK73: Semaine 36 | AL73: Semaine 37 | AM73: Semaine 38 | AN73: Semaine 39 | AO73: Semaine 40 | AP73: Semaine 41 | AQ73: Semaine 42 | AR73: Semaine 43 | AS73: Semaine 44 | AT73: Semaine 45 | AU73: Semaine 46 | AV73: Semaine 47
B74: J1 | C74: / | D74: / | E74: / | F74: / | G74: =G62+G68 -> 820 | H74: =H62+H68 -> 1312 | I74: =I62+I68 -> 1380 | J74: =J62+J68 -> 1160 | K74: =K62+K68 -> 1134 | L74: =L62+L68 -> 975 | M74: =M62+M68 -> 640 | N74: =N62+N68 -> 0 | ... AV74: =AV62+AV68 -> 0
B75: Différence % | G75: / | H75: =((H74/G74)-1)*100 -> 60 | I75: =((I74/H74)-1)*100 -> 5.1829268 | J75: =((J74/I74)-1)*100 -> -15.942029 | K75: =((K74/J74)-1)*100 -> -2.2413793 | L75: =((L74/K74)-1)*100 -> -14.021164 | M75: =((M74/L74)-1)*100 -> -34.358974 | N75: =((N74/M74)-1)*100 -> -100 | O75: =((O74/N74)-1)*100 -> #DIV/0! | ... AV75: =((AV74/AU74)-1)*100 -> #DIV/0!
