Workbook
Name client: OFFSET(Recp!$A$1,1,,MATCH("client pass",Recp!$A:$A,0)-2)
Name liste: OFFSET(Recp!$I$2,,,COUNTIF(Recp!$I:$I,"><"))

Sheet Feuil1
H4: Liste déroulante
E8: Client | G8: Montant | H8: TEL1 | I8: TEL2 | J8: FAX | K8: ADRESS
E9: BBB | G9: =IFERROR(VLOOKUP(E9,Recp!$A$2:$F$425,2,0),0) -> 9400 | H9: =IFERROR(VLOOKUP(E9,Recp!$A$2:$F$425,3,0),0) -> 01-22-22-34 | I9: =IFERROR(VLOOKUP(E9,Recp!$A$2:$F$425,4,0),0) -> 03-33-33-34 | J9: =IFERROR(VLOOKUP(E9,Recp!$A$2:$F$425,5,0),0) -> 05-55-55-56 | K9: =IFERROR(VLOOKUP(E9,Recp!$A$2:$F$425,6,0),0) -> Rue 19

Sheet Recp
A1: client | B1: Montant | C1: TEL 1 | D1: TEL2 | E1: FAX | F1: ADRESS | I1: liste alpha
A2: client PASS | B2: 1500 | C2: 01-22-22-33 | D2: 03-33-33-33 | E2: 05-55-55-55 | F2: Rue 1 | I2: =IF(ROW(A2)>MATCH("client pass",A:A,0)-(1+COUNTBLANK(client)),"",LOOKUP(1,0/FREQUENCY(ROW(1:1)-1,COUNTIF(client,"<"&client)),client)) -> #REF!
A3: UUU | B3: 250 | C3: 01-22-22-52 | D3: 03-33-33-52 | E3: 05-55-55-74 | F3: Rue 2 | I3: =IF(ROW(A3)>MATCH("client pass",A:A,0)-(1+COUNTBLANK(client)),"",LOOKUP(1,0/FREQUENCY(ROW(2:2)-1,COUNTIF(client,"<"&client)),client)) -> #REF!
A4: client PASS | B4: 3400 | C4: 01-22-22-55 | D4: 03-33-33-55 | E4: 05-55-55-77 | F4: Rue 3 | I4: =IF(ROW(A4)>MATCH("client pass",A:A,0)-(1+COUNTBLANK(client)),"",LOOKUP(1,0/FREQUENCY(ROW(3:3)-1,COUNTIF(client,"<"&client)),client)) -> #REF!
A5: DDD | B5: 7800 | C5: 01-22-22-36 | D5: 03-33-33-36 | E5: 05-55-55-58 | F5: Rue 4 | I5: =IF(ROW(A5)>MATCH("client pass",A:A,0)-(1+COUNTBLANK(client)),"",LOOKUP(1,0/FREQUENCY(ROW(4:4)-1,COUNTIF(client,"<"&client)),client)) -> #REF!
A6: QQQ | B6: 9800 | C6: 01-22-22-48 | D6: 03-33-33-48 | E6: 05-55-55-70 | F6: Rue 5 | I6: =IF(ROW(A6)>MATCH("client pass",A:A,0)-(1+COUNTBLANK(client)),"",LOOKUP(1,0/FREQUENCY(ROW(5:5)-1,COUNTIF(client,"<"&client)),client)) -> #REF!
A7: OOO | B7: 5600 | C7: 01-22-22-46 | D7: 03-33-33-46 | E7: 05-55-55-68 | F7: Rue 6 | I7: =IF(ROW(A7)>MATCH("client pass",A:A,0)-(1+COUNTBLANK(client)),"",LOOKUP(1,0/FREQUENCY(ROW(6:6)-1,COUNTIF(client,"<"&client)),client)) -> #REF!
A8: GGG | B8: 4500 | C8: 01-22-22-39 | D8: 03-33-33-39 | E8: 05-55-55-61 | F8: Rue 7 | I8: =IF(ROW(A8)>MATCH("client pass",A:A,0)-(1+COUNTBLANK(client)),"",LOOKUP(1,0/FREQUENCY(ROW(7:7)-1,COUNTIF(client,"<"&client)),client)) -> #REF!
A9: client PASS | B9: 6400 | C9: 01-22-22-40 | D9: 03-33-33-40 | E9: 05-55-55-62 | F9: Rue 8 | I9: =IF(ROW(A9)>MATCH("client pass",A:A,0)-(1+COUNTBLANK(client)),"",LOOKUP(1,0/FREQUENCY(ROW(8:8)-1,COUNTIF(client,"<"&client)),client)) -> #REF!
A10: ZZZ | B10: 2400 | C10: 01-22-22-57 | D10: 03-33-33-57 | E10: 05-55-55-79 | F10: Rue 9 | I10: =IF(ROW(A10)>MATCH("client pass",A:A,0)-(1+COUNTBLANK(client)),"",LOOKUP(1,0/FREQUENCY(ROW(9:9)-1,COUNTIF(client,"<"&client)),client)) -> #REF!
A11: KKK | B11: 3600 | C11: 01-22-22-42 | D11: 03-33-33-42 | E11: 05-55-55-64 | F11: Rue 10 | I11: =IF(ROW(A11)>MATCH("client pass",A:A,0)-(1+COUNTBLANK(client)),"",LOOKUP(1,0/FREQUENCY(ROW(10:10)-1,COUNTIF(client,"<"&client)),client)) -> #REF!
A12: client PASS | B12: 2500 | C12: 01-22-22-49 | D12: 03-33-33-49 | E12: 05-55-55-71 | F12: Rue 11 | I12: =IF(ROW(A12)>MATCH("client pass",A:A,0)-(1+COUNTBLANK(client)),"",LOOKUP(1,0/FREQUENCY(ROW(11:11)-1,COUNTIF(client,"<"&client)),client)) -> #REF!
A13: MMM | B13: 1400 | C13: 01-22-22-44 | D13: 03-33-33-44 | E13: 05-55-55-66 | F13: Rue 12 | I13: =IF(ROW(A13)>MATCH("client pass",A:A,0)-(1+COUNTBLANK(client)),"",LOOKUP(1,0/FREQUENCY(ROW(12:12)-1,COUNTIF(client,"<"&client)),client)) -> #REF!
A14: NNN | B14: 1700 | C14: 01-22-22-45 | D14: 03-33-33-45 | E14: 05-55-55-67 | F14: Rue 13 | I14: =IF(ROW(A14)>MATCH("client pass",A:A,0)-(1+COUNTBLANK(client)),"",LOOKUP(1,0/FREQUENCY(ROW(13:13)-1,COUNTIF(client,"<"&client)),client)) -> #REF!
A15: client PASS | B15: 1800 | C15: 01-22-22-51 | D15: 03-33-33-51 | E15: 05-55-55-73 | F15: Rue 14 | I15: =IF(ROW(A15)>MATCH("client pass",A:A,0)-(1+COUNTBLANK(client)),"",LOOKUP(1,0/FREQUENCY(ROW(14:14)-1,COUNTIF(client,"<"&client)),client)) -> #REF!
A16: PPP | B16: 9500 | C16: 01-22-22-47 | D16: 03-33-33-47 | E16: 05-55-55-69 | F16: Rue 15 | I16: =IF(ROW(A16)>MATCH("client pass",A:A,0)-(1+COUNTBLANK(client)),"",LOOKUP(1,0/FREQUENCY(ROW(15:15)-1,COUNTIF(client,"<"&client)),client)) -> #REF!
A17: YYYY | B17: 8600 | C17: 01-22-22-56 | D17: 03-33-33-56 | E17: 05-55-55-78 | F17: Rue 16 | I17: =IF(ROW(A17)>MATCH("client pass",A:A,0)-(1+COUNTBLANK(client)),"",LOOKUP(1,0/FREQUENCY(ROW(16:16)-1,COUNTIF(client,"<"&client)),client)) -> #REF!
A18: client PASS | B18: 6700 | C18: 01-22-22-41 | D18: 03-33-33-41 | E18: 05-55-55-63 | F18: Rue 17 | I18: =IF(ROW(A18)>MATCH("client pass",A:A,0)-(1+COUNTBLANK(client)),"",LOOKUP(1,0/FREQUENCY(ROW(17:17)-1,COUNTIF(client,"<"&client)),client)) -> #REF!
A19: SSS | B19: 2400 | C19: 01-22-22-50 | D19: 03-33-33-50 | E19: 05-55-55-72 | F19: Rue 18 | I19: =IF(ROW(A19)>MATCH("client pass",A:A,0)-(1+COUNTBLANK(client)),"",LOOKUP(1,0/FREQUENCY(ROW(18:18)-1,COUNTIF(client,"<"&client)),client)) -> #REF!
A20: BBB | B20: 9400 | C20: 01-22-22-34 | D20: 03-33-33-34 | E20: 05-55-55-56 | F20: Rue 19 | I20: =IF(ROW(A20)>MATCH("client pass",A:A,0)-(1+COUNTBLANK(client)),"",LOOKUP(1,0/FREQUENCY(ROW(19:19)-1,COUNTIF(client,"<"&client)),client)) -> #REF!
A21: CCC | B21: 9100 | C21: 01-22-22-35 | D21: 03-33-33-35 | E21: 05-55-55-57 | F21: Rue 20 | I21: =IF(ROW(A21)>MATCH("client pass",A:A,0)-(1+COUNTBLANK(client)),"",LOOKUP(1,0/FREQUENCY(ROW(20:20)-1,COUNTIF(client,"<"&client)),client)) -> #REF!
A22: VVV | B22: 3400 | C22: 01-22-22-53 | D22: 03-33-33-53 | E22: 05-55-55-75 | F22: Rue 21 | I22: =IF(ROW(A22)>MATCH("client pass",A:A,0)-(1+COUNTBLANK(client)),"",LOOKUP(1,0/FREQUENCY(ROW(21:21)-1,COUNTIF(client,"<"&client)),client)) -> #REF!
A23: client PASS | B23: 9700 | C23: 01-22-22-54 | D23: 03-33-33-54 | E23: 05-55-55-76 | F23: Rue 22 | I23: =IF(ROW(A23)>MATCH("client pass",A:A,0)-(1+COUNTBLANK(client)),"",LOOKUP(1,0/FREQUENCY(ROW(22:22)-1,COUNTIF(client,"<"&client)),client)) -> #REF!
A24: FFF | B24: 1200 | C24: 01-22-22-38 | D24: 03-33-33-38 | E24: 05-55-55-60 | F24: Rue 23 | I24: =IF(ROW(A24)>MATCH("client pass",A:A,0)-(1+COUNTBLANK(client)),"",LOOKUP(1,0/FREQUENCY(ROW(23:23)-1,COUNTIF(client,"<"&client)),client)) -> #REF!
A25: LLL | B25: 6750 | C25: 01-22-22-43 | D25: 03-33-33-43 | E25: 05-55-55-65 | F25: Rue 24 | I25: =IF(ROW(A25)>MATCH("client pass",A:A,0)-(1+COUNTBLANK(client)),"",LOOKUP(1,0/FREQUENCY(ROW(24:24)-1,COUNTIF(client,"<"&client)),client)) -> #REF!
A26: EEE | B26: 2300 | C26: 01-22-22-37 | D26: 03-33-33-37 | E26: 05-55-55-59 | F26: Rue 25 | I26: =IF(ROW(A26)>MATCH("client pass",A:A,0)-(1+COUNTBLANK(client)),"",LOOKUP(1,0/FREQUENCY(ROW(25:25)-1,COUNTIF(client,"<"&client)),client)) -> #REF!
A27: client PASS | B27: 50000 | I27: =IF(ROW(A27)>MATCH("client pass",A:A,0)-(1+COUNTBLANK(client)),"",LOOKUP(1,0/FREQUENCY(ROW(26:26)-1,COUNTIF(client,"<"&client)),client)) -> #REF!
A28: GGG | B28: 9870 | C28: 01-22-22-39 | D28: 03-33-33-39 | E28: 05-55-55-61 | F28: Rue 7 | I28: =IF(ROW(A28)>MATCH("client pass",A:A,0)-COUNTBLANK(client),"",LOOKUP(1,0/FREQUENCY(ROW(27:27)-1,COUNTIF(client,"<"&client)),client)) -> #REF!
A29: MMM | B29: 6541 | C29: 01-22-22-44 | D29: 03-33-33-44 | E29: 05-55-55-66 | F29: Rue 12 | I29: =IF(ROW(A29)>MATCH("client pass",A:A,0)-COUNTBLANK(client),"",LOOKUP(1,0/FREQUENCY(ROW(28:28)-1,COUNTIF(client,"<"&client)),client)) -> #REF!
A30: client PASS | B30: 3210 | C30: 01-22-22-35 | D30: 03-33-33-35 | E30: 05-55-55-57 | F30: Rue 20 | I30: =IF(ROW(A30)>MATCH("client pass",A:A,0)-COUNTBLANK(client),"",LOOKUP(1,0/FREQUENCY(ROW(29:29)-1,COUNTIF(client,"<"&client)),client)) -> #REF!
A31: QQQ | B31: 3690 | C31: 01-22-22-48 | D31: 03-33-33-48 | E31: 05-55-55-70 | F31: Rue 5 | I31: =IF(ROW(A31)>MATCH("client pass",A:A,0)-COUNTBLANK(client),"",LOOKUP(1,0/FREQUENCY(ROW(30:30)-1,COUNTIF(client,"<"&client)),client)) -> #REF!
A32: client PASS | B32: 8520 | C32: 01-22-22-44 | D32: 03-33-33-44 | E32: 05-55-55-66 | F32: Rue 12 | I32: =IF(ROW(A32)>MATCH("client pass",A:A,0)-COUNTBLANK(client),"",LOOKUP(1,0/FREQUENCY(ROW(31:31)-1,COUNTIF(client,"<"&client)),client)) -> #REF!
A33: YYYY | B33: 9510 | C33: 01-22-22-56 | D33: 03-33-33-56 | E33: 05-55-55-78 | F33: Rue 16 | I33: =IF(ROW(A33)>MATCH("client pass",A:A,0)-(2+COUNTBLANK(client)),"",LOOKUP(1,0/FREQUENCY(ROW(32:32),COUNTIF(client,"<"&client)),client)) -> #REF!
