Workbook
Name capital: data!#REF!
Name capital: [1]Summary!$C$5

Sheet data
H1: Unit 1 | L1: Unit 2 | P1: Unit 3 | T1: Unit 4
A2: # | B2: Entry Date | C2: Close Date | D2: Code | E2: Long/short | F2: # units | G2: Current Price | H2: Open | I2: Entry Price | J2: Shares | K2: S/L | L2: Open | M2: Entry Price | N2: Shares | O2: S/L | P2: Open | Q2: Entry Price | R2: Shares | S2: S/L | T2: Open | U2: Entry Price | V2: Shares | W2: S/L | X2: Weight
D3: CASH | F3: 1 | G3: 100000 | J3: 1 | X3: =+IF(F3>0,G3*(J3+N3+R3+V3),0)/X$14 -> -0.51790407
A4: 1 | B4: 41624 | C4: 41652 | D4: FIS | E4: 1 | F4: 0 | G4: 54.2 | H4: 0 | I4: 51.1 | J4: 2083.3333 | K4: 51.1 | L4: 0 | M4: 0 | N4: 0 | O4: 0 | P4: 0 | Q4: 0 | R4: 0 | S4: 0 | T4: 0 | U4: 0 | V4: 0 | W4: 0 | X4: =+IF(F4>0,G4*(J4+N4+R4+V4),0)/X$14 -> 0 | Y4: =DAY(B4) -> 16 | Z4: =MONTH(B4) -> 12 | AA4: =YEAR(B4) -> 2013
A5: 2 | B5: 41652 | C5: 41661 | D5: CAG | E5: 1 | F5: 0 | G5: 30.86 | H5: 0 | I5: 33.69 | J5: 3076.9231 | K5: 32.065 | L5: 0 | M5: 0 | N5: 0 | O5: 0 | P5: 0 | Q5: 0 | R5: 0 | S5: 0 | T5: 0 | U5: 0 | V5: 0 | W5: 0 | X5: =+IF(F5>0,G5*(J5+N5+R5+V5),0)/X$14 -> 0 | Y5: =DAY(B5) -> 13 | Z5: =MONTH(B5) -> 1 | AA5: =YEAR(B5) -> 2014
A6: 3 | B6: 41654 | C6: 41666 | D6: TRN | E6: 1 | F6: 1 | G6: 79.98 | H6: 0 | I6: 56.8 | J6: 1612.9032 | K6: 53.7 | L6: 0 | M6: 57.8 | N6: 1612.9032 | O6: 54.7 | P6: 0 | Q6: 0 | R6: 0 | S6: 0 | T6: 0 | U6: 0 | V6: 0 | W6: 0 | X6: =+IF(F6>0,G6*(J6+N6+R6+V6),0)/X$14 -> -1.3361925 | Y6: =DAY(B6) -> 15 | Z6: =MONTH(B6) -> 1 | AA6: =YEAR(B6) -> 2014
A7: 4 | B7: 41663 | C7: 41696 | D7: AMGN | E7: 1 | F7: 0 | G7: 112.03 | H7: 0 | I7: 121.05 | J7: 666.66667 | K7: 122 | L7: 0 | M7: 0 | N7: 0 | O7: 0 | P7: 0 | Q7: 0 | R7: 0 | S7: 0 | T7: 0 | U7: 0 | V7: 0 | W7: 0 | X7: =+IF(F7>0,G7*(J7+N7+R7+V7),0)/X$14 -> 0 | Y7: =DAY(B7) -> 24 | Z7: =MONTH(B7) -> 1 | AA7: =YEAR(B7) -> 2014
A8: 5 | B8: 41666 | C8: 41674 | D8: HOG | E8: -1 | F8: 1 | G8: 73.1 | H8: 0 | I8: 63.75 | J8: -1424.5014 | K8: 67.26 | L8: 0 | M8: 32.77 | N8: 1000 | O8: 34.6825 | P8: 0 | Q8: 27 | R8: -2614.3791 | S8: 34.6825 | T8: 0 | U8: 27 | V8: -2614.3791 | W8: 34.6825 | X8: =+IF(F8>0,G8*(J8+N8+R8+V8),0)/X$14 -> 2.1402555 | Y8: =DAY(B8) -> 27 | Z8: =MONTH(B8) -> 1 | AA8: =YEAR(B8) -> 2014
A9: 6 | B9: 41673 | C9: 41675 | D9: NUE | E9: -1 | F9: 0 | G9: 52.81 | H9: 0 | I9: 47.35 | J9: -1666.6667 | K9: 50.35 | L9: 0 | M9: 0 | N9: 0 | O9: 0 | P9: 0 | Q9: 0 | R9: 0 | S9: 0 | T9: 0 | U9: 0 | V9: 0 | W9: 0 | X9: =+IF(F9>0,G9*(J9+N9+R9+V9),0)/X$14 -> 0 | Y9: =DAY(B9) -> 3 | Z9: =MONTH(B9) -> 2 | AA9: =YEAR(B9) -> 2014
A10: 7 | B10: 41674 | C10: 41683 | D10: FCX | E10: -1 | F10: 1 | G10: 34.71 | H10: 0 | I10: 31.05 | J10: -2614.3791 | K10: 32.9625 | L10: 0 | M10: 32.77 | N10: 500 | O10: 34.6825 | P10: 0 | Q10: 10 | R10: -2614.3791 | S10: 34.6825 | T10: 0 | U10: 15 | V10: -2614.3791 | W10: 34.6825 | X10: =+IF(F10>0,G10*(J10+N10+R10+V10),0)/X$14 -> 1.3200354 | Y10: =DAY(B10) -> 4 | Z10: =MONTH(B10) -> 2 | AA10: =YEAR(B10) -> 2014
A11: 46 | B11: 41758 | D11: EWZ | E11: 1 | F11: 1 | G11: 49.16 | I11: 47.85 | J11: 2380.9524 | K11: 46.95 | L11: 0 | M11: 0 | N11: 0 | O11: 0 | P11: 0 | Q11: 0 | R11: 0 | S11: 0 | T11: 0 | U11: 0 | V11: 0 | W11: 0 | X11: =+IF(F11>0,G11*(J11+N11+R11+V11),0)/X$14 -> -0.60619438 | Y11: =DAY(B11) -> 29 | Z11: =MONTH(B11) -> 4 | AA11: =YEAR(B11) -> 2014
A12: 47 | B12: 41759 | C12: 41765 | D12: ITB | E12: -1 | F12: 0 | G12: 23.5 | H12: 0 | I12: 23.39 | J12: -3205.1282 | K12: 24.95 | L12: 0 | M12: 0 | N12: 0 | O12: 0 | P12: 0 | Q12: 0 | R12: 0 | S12: 0 | T12: 0 | U12: 0 | V12: 0 | W12: 0 | X12: =+IF(F12>0,G12*(J12+N12+R12+V12),0)/X$14 -> 0 | Y12: =DAY(B12) -> 30 | Z12: =MONTH(B12) -> 4 | AA12: =YEAR(B12) -> 2014
X13: =+SUM(X3:X12) -> 1
W14: Total Portfolio | X14: =+SUMPRODUCT((F$3:F13>0)*(G$3:G13)*((J$3:J13)+(N$3:N13)+(R$3:R13)+(V$3:V13))) -> -193085.95

Sheet output
A3: Code | B3: {=IFERROR(INDEX(data!$D:$D,SMALL(IF(data!$F$2:$F$1000=1,ROW(data!$F$2:$F$1000)),COLUMNS($B3:B3))),"")} -> CASH | C3: {=IFERROR(INDEX(data!$D:$D,SMALL(IF(data!$F$2:$F$1000=1,ROW(data!$F$2:$F$1000)),COLUMNS($B3:C3))),"")} -> TRN | D3: {=IFERROR(INDEX(data!$D:$D,SMALL(IF(data!$F$2:$F$1000=1,ROW(data!$F$2:$F$1000)),COLUMNS($B3:D3))),"")} -> HOG | E3: {=IFERROR(INDEX(data!$D:$D,SMALL(IF(data!$F$2:$F$1000=1,ROW(data!$F$2:$F$1000)),COLUMNS($B3:E3))),"")} -> FCX | F3: {=IFERROR(INDEX(data!$D:$D,SMALL(IF(data!$F$2:$F$1000=1,ROW(data!$F$2:$F$1000)),COLUMNS($B3:F3))),"")} -> EWZ | G3: {=IFERROR(INDEX(data!$D:$D,SMALL(IF(data!$F$2:$F$1000=1,ROW(data!$F$2:$F$1000)),COLUMNS($B3:G3))),"")}
A5: Average daily Return 1Y | B5: 0 | C5: 0.00043555777 | D5: -0.00026013147
A6: Volatility 1Y | B6: 0 | C6: 0.14376013 | D6: 0.22391041 | E6: 0.1 | F6: 12
A7: Historical 5Y max daily loss | B7: 0 | C7: -0.063155267 | D7: -0.092790068
A8: Weight | B8: {=IFERROR(INDEX(data!$X:$X,SMALL(IF(data!$F$2:$F$1000=1,ROW(data!$F$2:$F$1000)),COLUMNS($B8:B8))),"")} -> -0.51790407 | C8: 0.12 | D8: 0.12 | E8: 0.15 | F8: 0.16 | G8: {=IFERROR(INDEX(data!$X:$X,SMALL(IF(data!$F$2:$F$1000=1,ROW(data!$F$2:$F$1000)),COLUMNS($B8:G8))),"")}
A11: Average Return | B11: =+AVERAGE(B5:CD5) -> 5.8475432e-05
A12: Portfolio Volatility
A13: Value At Risk 95% | B13: =+B12-1.96*B12 -> 0
A14: Maximum expected drawdown | B14: =+SUMPRODUCT(B7:CD7,B8:CD8) -> -0.01871344
A15: Maximum Loss (if stop loss hit)

Sheet Feuil2
