Workbook
Name a: 'PLANNING SEM'!$C$2
Name a: 'PLANNING s'!$C$2
Name Acces: OFFSET('[1]Listes déroulantes'!$C$2,,,COUNTA('[1]Listes déroulantes'!$C:$C)-1)
Name CA: OFFSET('[1]Listes déroulantes'!$G$2,,,COUNTA('[1]Listes déroulantes'!$G:$G)-1)
Name équipes: OFFSET('[1]Listes déroulantes'!$I$2,,,COUNTA('[1]Listes déroulantes'!$I:$I)-1)
Name GOP: OFFSET('[1]Listes déroulantes'!$D$2,,,COUNTA('[1]Listes déroulantes'!$D:$D)-1)
Name Jour: #REF!
Name Jour: #REF!
Name Jour: #REF!
Name MatApm: #REF!
Name MatApm: #REF!
Name MatApm: #REF!
Name MO: OFFSET('[1]Listes déroulantes'!$A$2,,,COUNTA('[1]Listes déroulantes'!$A:$A)-1)
Name Mois: #REF!
Name Mois: #REF!
Name Mois: #REF!
Name Naturedestravaux: OFFSET('[1]Listes déroulantes'!$B$2,,,COUNTA('[1]Listes déroulantes'!$B:$B)-1)
Name SEMAINE: #REF!
Name SEMAINE: #REF!
Name X: '[1]Listes déroulantes'!$J$2:$J$3

Sheet PLANNING s
D1: PLANNING TRAVAUX | I1: ="SEMAINE : "& WEEKNUM(I2,2)&"-"&YEAR(I2) -> SEMAINE : 5-2014 | K1: Responsable de la mise à jour du planning : BOULOIS Mickaël Responsable de la diffusion du planning : BOULOIS Mickaël
I2: 41666 | J2: =I2+5 -> 41671
A3: Date | D3: Maître d'œuvre | E3: N° affaire | F3: CA | G3: commune | H3: Groupe Exploitation | I3: Libellé affaire | J3: Nature des travaux | K3: type d'accès | L3: Avancement travaux | O3: Equipe
L4: Début | M4: En cours | N4: Fin
A5: =$I$2 -> 41666 | B5: =$I$2 -> 41666 | C5: =$I$2 -> 41666 | D5: Mairie | E5: - | F5: - | G5: CARCANS | I5: Enfouissement BT - FT - EP | J5: Terrassement | M5: X | O5: Albert | Q5: 2R3V13
C6: =$I$2 -> 41666 | D6: Mairie | E6: D326/124862 | F6: PHOENIX Didier | G6: SAINTE-HELENE | I6: Aménagement Rue des ACAFN | J6: Terrassement | M6: X | O6: Allali | Q6: 2R3V16
C7: =$I$2 -> 41666 | D7: ERDF GRADIGNAN | E7: D326/143268 | F7: Benjamin DESCOUSTEY | G7: PESSAC | I7: RACCORDEMENT COLLECTIF M. FLANEUSE | J7: Raccordement | M7: X | O7: Clifford | Q7: 2R3M90
C8: =$I$2 -> 41666 | D8: ERDF LANGON | E8: D326/130552 | F8: Sébastien RUSCH | G8: RAUZAN | I8: MODIFICATION DE RESEAU AERIEN - M. BLAZQUEZ | J8: Terrassement | M8: X | O8: Dulou | Q8: 2R3D52
C9: =$I$2 -> 41666 | D9: Mairie | E9: - | F9: - | G9: CARCANS | I9: Enfouissement BT - FT - EP | J9: Terrassement | M9: X | O9: El Hani | Q9: 2R3V13
C10: =$I$2 -> 41666 | D10: ERDF LANGON | E10: - | F10: FAURE | G10: SAINT-LEGER-DE-BALSON | I10: ECLAIRE PUBLIC - VILLEMEJEA | J10: Raccordement | M10: X | O10: Encognère | Q10: 2R2F02
C11: =$I$2 -> 41666 | D11: ERDF LIBOURNE | E11: D326/141924 | F11: Paul SANCHEZ | G11: BLAYE | I11: DISSIMULATION BT EMBARCADERE | J11: Terrassement | M11: X | O11: Galopeau | Q11: 2R3M83
C12: =$I$2 -> 41666 | D12: SDEEG 33 | E12: #REF! | F12: PESLIER Pierre | G12: CAVIGNAC | I12: Renouvellement des Foyers vétustes SIE CAVIGNAC | J12: Raccordement | M12: X | O12: Kadrahoui | Q12: 2R3C15
C13: =$I$2 -> 41666 | D13: ERDF LANGON | E13: D326/130552 | F13: Sébastien RUSCH | G13: RAUZAN | I13: MODIFICATION DE RESEAU AERIEN - M. BLAZQUEZ | J13: Raccordement | K13: ADC HTA | M13: X | O13: Lagardère | Q13: 2R3D52
C14: =$I$2 -> 41666 | D14: ERDF LIBOURNE | E14: D326/118017 | F14: BERLAND Pascal | G14: GALGON | I14: Déplacement réseau Mme ramond | J14: Pose/dépose support | M14: X | O14: Mauro | Q14: 2R2E36
C15: =$I$2 -> 41666 | D15: ERDF LANGON | E15: D326/137664 | F15: DARMENDRAIL Alain | G15: SAINT MICHEL DE CASTELNAU | I15: DEPLACEMENT OUVRAGE M TAUZIEDE | J15: Pose/dépose support | K15: ATST BT | M15: X | O15: Sablon | Q15: 2R3E24
C16: =$I$2 -> 41666
A17: =$I$2+1 -> 41667 | B17: =$I$2+1 -> 41667 | C17: =$I$2+1 -> 41667 | D17: Mairie | E17: - | F17: - | G17: CARCANS | I17: Enfouissement BT - FT - EP | J17: Terrassement | O17: Albert | Q17: 2R3V13
C18: =$I$2+1 -> 41667 | D18: Mairie | E18: D326/124862 | F18: PHOENIX Didier | G18: SAINTE-HELENE | I18: Aménagement Rue des ACAFN | J18: Terrassement | O18: Allali | Q18: 2R3V16
C19: =$I$2+1 -> 41667 | D19: ERDF GRADIGNAN | E19: D326/143268 | F19: Benjamin DESCOUSTEY | G19: PESSAC | I19: RACCORDEMENT COLLECTIF M. FLANEUSE | J19: Raccordement | K19: ATST BT | O19: Clifford | Q19: 2R3M90
C20: =$I$2+1 -> 41667 | D20: ECOTECH | F20: #REF! | G20: EYSINES | I20: Domaine des Sources | J20: Terrassement | O20: Dulou | Q20: 2R2V18
C21: =$I$2+1 -> 41667 | D21: Mairie | E21: - | F21: - | G21: CARCANS | I21: Enfouissement BT - FT - EP | J21: Terrassement | O21: El Hani | Q21: 2R3V13
C22: =$I$2+1 -> 41667 | D22: ERDF LANGON | E22: - | F22: FAURE | G22: SAINT-LEGER-DE-BALSON | I22: ECLAIRE PUBLIC - VILLEMEJEA | J22: Raccordement | O22: Encognère | Q22: 2R2F02
C23: =$I$2+1 -> 41667 | D23: ERDF LIBOURNE | E23: D326/136269 | F23: Jérome DUVAL | G23: COUTRAS | I23: RACCORDEMENT POLE MEDICAL DE COUTRAS | J23: Terrassement | O23: Galopeau | Q23: 2R3M88
C24: =$I$2+1 -> 41667 | D24: SDEEG 33 | E24: #REF! | F24: PESLIER Pierre | G24: CAVIGNAC | I24: Renouvellement des Foyers vétustes SIE CAVIGNAC | J24: Raccordement | K24: ITST BT | O24: Kadrahoui | Q24: 2R3C15
C25: =$I$2+1 -> 41667 | D25: ERDF LANGON | E25: D326/130552 | F25: Sébastien RUSCH | G25: RAUZAN | I25: MODIFICATION DE RESEAU AERIEN - M. BLAZQUEZ | J25: Raccordement | K25: ADC HTA | O25: Lagardère | Q25: 2R3D52
C26: =$I$2+1 -> 41667 | D26: ERDF GRADIGNAN | E26: D326/125033 | F26: Stéphane CORNU | G26: GRADIGNAN | I26: DEPLACEMENT SUPPORT SCI OCEO | J26: Pose/dépose support | O26: Mauro | Q26: 2R3E33
C27: =$I$2+1 -> 41667 | D27: ERDF LANGON | E27: DC26/000672 | F27: DARMENDRAIL Alain | G27: MESTERRIEUX | I27: DEPLACEMENT SUPPORT BT M MAUMY | J27: Raccordement | K27: ADC BT | O27: Sablon | Q27: 2R3E32
C28: =$I$2+1 -> 41667
A29: =$I$2+2 -> 41668 | B29: =$I$2+2 -> 41668 | C29: =$I$2+2 -> 41668 | D29: Mairie | E29: - | F29: - | G29: CARCANS | I29: Enfouissement BT - FT - EP | J29: Terrassement | O29: Albert | Q29: 2R3V13
C30: =$I$2+2 -> 41668 | D30: Mairie | E30: D326/124862 | F30: PHOENIX Didier | G30: SAINTE-HELENE | I30: Aménagement Rue des ACAFN | J30: Terrassement | O30: Allali | Q30: 2R3V16
C31: =$I$2+2 -> 41668 | D31: ERDF LIBOURNE | E31: D326/107250 | F31: RUIZ Thierry | G31: VAYRES | I31: RENOVATION IMMEUBLE M.VEYRETOUT | J31: Raccordement | O31: Clifford | Q31: 2R2M16
C32: =$I$2+2 -> 41668 | D32: ERDF LANGON | E32: D326/130552 | F32: Sébastien RUSCH | G32: RAUZAN | I32: MODIFICATION DE RESEAU AERIEN - M. BLAZQUEZ | J32: Terrassement | O32: Dulou | Q32: 2R3D52
C33: =$I$2+2 -> 41668 | D33: Mairie | E33: - | F33: - | G33: CARCANS | I33: Enfouissement BT - FT - EP | J33: Terrassement | O33: El Hani | Q33: 2R3V13
C34: =$I$2+2 -> 41668 | D34: ERDF LANGON | E34: - | F34: FAURE | G34: SAINT-LEGER-DE-BALSON | I34: ECLAIRE PUBLIC - VILLEMEJEA | J34: Raccordement | O34: Encognère | Q34: 2R2F02
C35: =$I$2+2 -> 41668 | D35: ERDF LIBOURNE | E35: D326/136269 | F35: Jérome DUVAL | G35: COUTRAS | I35: RACCORDEMENT POLE MEDICAL DE COUTRAS | J35: Terrassement | O35: Galopeau | Q35: 2R3M88
C36: =$I$2+2 -> 41668 | D36: SDEEG 33 | E36: #REF! | F36: PESLIER Pierre | G36: CAVIGNAC | I36: Renouvellement des Foyers vétustes SIE CAVIGNAC | J36: Raccordement | K36: ITST BT | O36: Kadrahoui | Q36: 2R3C15
C37: =$I$2+2 -> 41668 | D37: Mairie | E37: - | F37: - | G37: CARCANS | I37: Enfouissement BT - FT - EP | J37: Raccordement | O37: Lagardère | Q37: 2R3V13
C38: =$I$2+2 -> 41668 | D38: ERDF GRADIGNAN | E38: D326/125033 | F38: Stéphane CORNU | G38: GRADIGNAN | I38: DEPLACEMENT SUPPORT SCI OCEO | J38: Déroulage | K38: ATST BT | O38: Mauro | Q38: 2R3E33
C39: =$I$2+2 -> 41668 | D39: SDEEG 33 | E39: 435070/TB01 | F39: VINA Nathalie | G39: SAINT-MACAIRE | I39: BRUNET Edouard | J39: Raccordement | K39: ATST BT | O39: Sablon | Q39: 2R3G25
C40: =$I$2+2 -> 41668
A41: =$I$2+3 -> 41669 | B41: =$I$2+3 -> 41669 | C41: =$I$2+3 -> 41669 | D41: Mairie | E41: - | F41: - | G41: CARCANS | I41: Enfouissement BT - FT - EP | J41: Terrassement | O41: Albert | Q41: 2R3V13
C42: =$I$2+3 -> 41669 | D42: Mairie | E42: D326/124862 | F42: PHOENIX Didier | G42: SAINTE-HELENE | I42: Aménagement Rue des ACAFN | J42: Terrassement | O42: Allali | Q42: 2R3V16
C43: =$I$2+3 -> 41669 | D43: ERDF GRADIGNAN | E43: D326/143268 | F43: Benjamin DESCOUSTEY | G43: PESSAC | I43: RACCORDEMENT COLLECTIF M. FLANEUSE | J43: Raccordement | O43: Clifford | Q43: 2R3M90
C44: =$I$2+3 -> 41669 | D44: SDEEG 33 | E44: 397055/A801 | F44: BOUCHEZ Bruno | G44: SAINTE-EULALIE | I44: Effacement Rue Georges Sonneville - TII | J44: Terrassement | O44: Dulou | Q44: 2R2H11
C45: =$I$2+3 -> 41669 | D45: Mairie | E45: - | F45: - | G45: CARCANS | I45: Enfouissement BT - FT - EP | J45: Terrassement | O45: El Hani | Q45: 2R3V13
C46: =$I$2+3 -> 41669 | D46: #N/A | E46: #N/A | F46: #N/A | G46: #N/A | I46: #N/A | J46: Raccordement | K46: ITST BT | O46: Encognère | Q46: 0
C47: =$I$2+3 -> 41669 | D47: ERDF LIBOURNE | E47: D326/123005 | F47: Jérome DUVAL | G47: PLASSAC | I47: Enfouissement BT Poste PORT | O47: Galopeau | Q47: 2R3F03
C48: =$I$2+3 -> 41669 | D48: SDEEG 33 | E48: 397055/A801 | F48: BOUCHEZ Bruno | G48: SAINTE-EULALIE | I48: Effacement Rue Georges Sonneville - TII | O48: Kadrahoui | Q48: 2R2H11
C49: =$I$2+3 -> 41669 | D49: Mairie | E49: - | F49: - | G49: CARCANS | I49: Enfouissement BT - FT - EP | O49: Lagardère | Q49: 2R3V13
C50: =$I$2+3 -> 41669 | D50: ERDF GRADIGNAN | E50: D326/125033 | F50: Stéphane CORNU | G50: GRADIGNAN | I50: DEPLACEMENT SUPPORT SCI OCEO | O50: Mauro | Q50: 2R3E33
C51: =$I$2+3 -> 41669 | D51: SDEEG 33 | E51: 357074-357075/TB01 | F51: VINA Nathalie | G51: ROAILLAN | I51: MONSEMPES Bertrand + CORRE Michel | O51: Sablon | Q51: 2R3G30
C52: =$I$2+3 -> 41669
A53: =$I$2+4 -> 41670 | B53: =$I$2+4 -> 41670 | C53: =$I$2+4 -> 41670 | D53: Mairie | E53: - | F53: - | G53: CARCANS | I53: Enfouissement BT - FT - EP | O53: Albert | Q53: 2R3V13
C54: =$I$2+4 -> 41670 | D54: Mairie | E54: D326/124862 | F54: PHOENIX Didier | G54: SAINTE-HELENE | I54: Aménagement Rue des ACAFN | O54: Allali | Q54: 2R3V16
C55: =$I$2+4 -> 41670 | D55: ERDF RIVES DE GARONNE | E55: DC26/000442 | F55: COUTURIER Stéphanie | G55: BORDEAUX | I55: RACC HTA SSR CA3 PONT DES HOTELS | O55: Clifford | Q55: RG2704
C56: =$I$2+4 -> 41670 | D56: SDEEG 33 | E56: 397055/A801 | F56: BOUCHEZ Bruno | G56: SAINTE-EULALIE | I56: Effacement Rue Georges Sonneville - TII | O56: Dulou | Q56: 2R2H11
C57: =$I$2+4 -> 41670 | D57: Mairie | E57: - | F57: - | G57: CARCANS | I57: Enfouissement BT - FT - EP | O57: El Hani | Q57: 2R3V13
C58: =$I$2+4 -> 41670 | D58: SDEEG 33 | E58: 514285/EP01 | F58: DIEU Jean-Luc | G58: SOULAC-SUR-MER | I58: EP Rue de Saarburey | O58: Encognère | Q58: 2R3P41
C59: =$I$2+4 -> 41670 | D59: ERDF LIBOURNE | E59: D326/123005 | F59: Jérome DUVAL | G59: PLASSAC | I59: Enfouissement BT Poste PORT | O59: Galopeau | Q59: 2R3F03
C60: =$I$2+4 -> 41670 | D60: SDEEG 33 | E60: 397055/A801 | F60: BOUCHEZ Bruno | G60: SAINTE-EULALIE | I60: Effacement Rue Georges Sonneville - TII | O60: Kadrahoui | Q60: 2R2H11
C61: =$I$2+4 -> 41670 | D61: ERDF LANGON | E61: D326/130552 | F61: Sébastien RUSCH | G61: RAUZAN | I61: MODIFICATION DE RESEAU AERIEN - M. BLAZQUEZ | O61: Lagardère | Q61: 2R3D52
C62: =$I$2+4 -> 41670 | D62: #N/A | E62: #N/A | F62: #N/A | G62: #N/A | I62: #N/A | O62: Mauro | Q62: 0
C63: =$I$2+4 -> 41670 | D63: SDEEG 33 | E63: 357074-357075/TB01 | F63: VINA Nathalie | G63: ROAILLAN | I63: MONSEMPES Bertrand + CORRE Michel | O63: Sablon | Q63: 2R3G30
C64: =$I$2+4 -> 41670
A65: =$I$2+5 -> 41671 | B65: =$I$2+5 -> 41671 | C65: =$I$2+5 -> 41671
C66: =$I$2+5 -> 41671
C67: =$I$2+5 -> 41671
C68: =$I$2+5 -> 41671
C69: =$I$2+5 -> 41671
C70: =$I$2+5 -> 41671
C71: =$I$2+5 -> 41671
C72: =$I$2+5 -> 41671
C73: =$I$2+5 -> 41671
C74: =$I$2+5 -> 41671
C75: =$I$2+5 -> 41671
C76: =$I$2+5 -> 41671

Sheet PLANNING SEM
D1: PLANNING TRAVAUX | I1: SEMAINE : 3-2015 | K1: Responsable de la mise à jour du planning : BOULOIS Mickaël Responsable de la diffusion du planning : BOULOIS Mickaël
I2: 42023 | J2: 42021
A3: Date | D3: Maître d'œuvre | E3: N° affaire | F3: CA | G3: commune | H3: Groupe Exploitation | I3: Libellé affaire | J3: Nature des travaux | K3: type d'accès | L3: Avancement travaux | O3: Equipe
L4: Début | M4: En cours | N4: Fin
A5: 42016 | B5: 42016 | C5: 42016 | D5: ERDF | E5: - | F5: - | G5: SAINT-LAURENT-MEDOC | I5: Art8 - Rue Bourguedieu | J5: TERRASSEMENT | L5: X | O5: Albert | Q5: =+#REF! -> #REF!
C6: 42016 | D6: CUB - TISYA | E6: 0 | F6: 0 | G6: BEGLES | I6: TRAMWAY lot 305 | O6: Allali | Q6: =+#REF! -> #REF!
C7: 42016 | D7: SDEEG 33 | E7: 465053/ER01 | F7: DESPRES Vincent | G7: SAINT-PIERRE-DE-MONS | I7: RBT POSTE RIVIERE LONG RD 224 | J7: TERRASSEMENT | M7: X | O7: Dulou | Q7: =+#REF! -> #REF!
C8: 42016 | O8: El Hani
C9: 42016 | O9: Encognère
C10: 42016 | D10: COLAS | E10: - | F10: - | G10: BEGLES | I10: Aménagement BEL AIR | J10: TERRASSEMENT | O10: Galopeau | Q10: =+#REF! -> #REF!
C11: 42016 | O11: Muniz
C12: 42016 | D12: ERDF | E12: DC26/002407 | F12: FAURE Jérôme | G12: CESTAS | H12: GRADIGNAN | I12: Déplacement Réseau BT Rte de Cestas - D1250 | J12: RACCORDEMENT | K12: ATE | N12: X | O12: Lagardère | Q12: =+#REF! -> #REF!
C13: 42016 | D13: SDEEG 33 | E13: - | F13: PERROT Frédéric | G13: VILLENAVE-DE-RIONS | I13: Extension EP Route de Targon | J13: POSE SUPPORT | K13: ATE HTA | N13: X | O13: Mauro | Q13: =+#REF! -> #REF!
C14: 42016 | D14: ERDF | E14: DC26/003420 | F14: Daniel CHERUBINI | G14: LEVES-ET-THOUMEYRAGUES | I14: RACCORDEMENT PRODUCTEUR CAP SUD GIRERD 1 | J14: DEROULAGE | L14: X | O14: Sablon | Q14: =+#REF! -> #REF!
C15: 42016 | D15: ERDF | E15: DC26/006824 | F15: Stéphane DOMINGUE | G15: MERIGNAC | H15: EYSINES | I15: RACCORDEMENT RELAIS TOTAL | J15: RACCOIRDEMENT | K15: ATST | L15: X | N15: X | O15: Laumondais | Q15: =+#REF! -> #REF!
A16: 42017 | B16: 42017 | C16: 42017 | D16: ERDF | E16: - | F16: - | G16: SAINT-LAURENT-MEDOC | I16: Art8 - Rue Bourguedieu | J16: TERRASSEMENT | M16: X | O16: Albert | Q16: =#REF! -> #REF!
C17: 42017 | D17: CUB - TISYA | E17: 0 | F17: 0 | G17: BEGLES | I17: TRAMWAY lot 305 | M17: X | O17: Allali | Q17: =#REF! -> #REF!
C18: 42017 | D18: SDEEG 33 | E18: 465053/ER01 | F18: DESPRES Vincent | G18: SAINT-PIERRE-DE-MONS | I18: RBT POSTE RIVIERE LONG RD 224 | J18: TERRASSEMENT | M18: X | O18: Dulou | Q18: =#REF! -> #REF!
C19: 42017 | O19: El Hani
C20: 42017 | O20: Encognère
C21: 42017 | D21: ERDF | E21: DC26/008153 | F21: Maxime DELUCE | G21: LEOGNAN | I21: RACCORDEMENT M LABEDAN | J21: TERRASSEMENT | L21: X | O21: Galopeau | Q21: =#REF! -> #REF!
C22: 42017 | D22: #N/A | E22: #N/A | F22: #N/A | G22: #N/A | I22: #N/A | O22: Muniz | Q22: =#REF! -> #REF!
C23: 42017 | D23: ERDF | E23: DC26/005125 | F23: Thierry RUIZ | G23: CASTILLON-LA-BATAILLE | I23: DEPOSE RESEAU BT SCEA CHT DE MONTLANDRIE | J23: RACCORDEMENT | O23: Lagardère | Q23: =#REF! -> #REF!
C24: 42017 | D24: ERDF | E24: - | F24: - | G24: BEGLES | H24: GRADIGNAN | I24: Aménagement BEL AIR | J24: RACCORDEMENT | O24: Mauro | Q24: =#REF! -> #REF!
C25: 42017 | D25: ERDF | E25: DC26/003420 | F25: Daniel CHERUBINI | G25: LEVES-ET-THOUMEYRAGUES | H25: LANGON | I25: RACCORDEMENT PRODUCTEUR CAP SUD GIRERD 1 | J25: RACCORDEMENT | K25: ATST | M25: X | O25: Sablon | Q25: =#REF! -> #REF!
C26: 42017
A27: 42018 | B27: 42018 | C27: 42018 | D27: ERDF | E27: - | F27: - | G27: SAINT-LAURENT-MEDOC | I27: Art8 - Rue Bourguedieu | J27: TERRASSEMENT | M27: X | O27: Albert | Q27: =+#REF! -> #REF!
C28: 42018 | D28: CUB - TISYA | E28: 0 | F28: 0 | G28: BEGLES | I28: TRAMWAY lot 305 | J28: TERRASSEMENT | M28: X | O28: Allali | Q28: =+#REF! -> #REF!
C29: 42018 | D29: SDEEG 33 | E29: 465053/ER01 | F29: DESPRES Vincent | G29: SAINT-PIERRE-DE-MONS | I29: RBT POSTE RIVIERE LONG RD 224 | J29: TERRASSEMENT | M29: X | O29: Dulou | Q29: 2R4H04
C30: 42018 | O30: El Hani
C31: 42018 | O31: Encognère
C32: 42018 | D32: ERDF | E32: DC26/008153 | F32: Maxime DELUCE | G32: LEOGNAN | I32: RACCORDEMENT M LABEDAN | J32: TERRASSEMENT | M32: X | O32: Galopeau | Q32: =+#REF! -> #REF!
C33: 42018 | O33: Muniz
C34: 42018 | D34: ERDF | E34: DC26/008012 | F34: Benjamin DESCOUSTEY | G34: CADAUJAC | H34: GRADIGNAN | I34: RACCORDEMENT LOTISSEMENT GIMENEZ | J34: RACCORDEMENT | K34: ADC BT | N34: X | O34: Lagardère | Q34: =+#REF! -> #REF!
C35: 42018 | D35: ERDF | E35: - | F35: - | G35: BEGLES | H35: GRADIGNAN | I35: Aménagement BEL AIR | J35: RACCORDEMENT | K35: ADC HTA | M35: X | O35: Mauro | Q35: =+#REF! -> #REF!
C36: 42018 | D36: ERDF | E36: DC26/003420 | F36: Daniel CHERUBINI | G36: LEVES-ET-THOUMEYRAGUES | I36: RACCORDEMENT PRODUCTEUR CAP SUD GIRERD 1 | J36: DEPOSE | O36: Sablon | Q36: =+#REF! -> #REF!
C37: 42018
A38: 42019 | B38: 42019 | C38: 42019 | D38: ERDF | E38: - | F38: - | G38: SAINT-LAURENT-MEDOC | I38: Art8 - Rue Bourguedieu | J38: TERRASSEMENT | M38: X | O38: Albert | Q38: =+#REF! -> #REF!
C39: 42019 | D39: CUB - TISYA | E39: 0 | F39: 0 | G39: BEGLES | I39: TRAMWAY lot 305 | O39: Allali | Q39: =+#REF! -> #REF!
C40: 42019 | D40: SDEEG 33 | E40: 465053/ER01 | F40: DESPRES Vincent | G40: SAINT-PIERRE-DE-MONS | I40: RBT POSTE RIVIERE LONG RD 224 | J40: TERRASSEMENT | M40: X | O40: Dulou | Q40: =+#REF! -> #REF!
C41: 42019 | O41: El Hani
C42: 42019 | O42: Encognère
C43: 42019 | D43: ERDF | E43: - | F43: - | G43: BEGLES | I43: Aménagement BEL AIR | J43: TERRASSEMENT | M43: X | O43: Galopeau | Q43: =+#REF! -> #REF!
C44: 42019 | O44: Muniz
C45: 42019 | D45: SDEEG 33 | E45: 237054/FC01 | F45: GINESTAL Didier | G45: LEOGEATS | H45: LANGON | I45: Effacement BT Bourg - Poste CAZADE | J45: RACCORDEMNT | K45: ADC HTA | M45: X | O45: Lagardère | Q45: =+#REF! -> #REF!
C46: 42019 | D46: ERDF | E46: - | F46: - | G46: BEGLES | H46: GRADIGNAN | I46: Aménagement BEL AIR | J46: RACCORDEMENT | K46: ADC HTA | M46: X | O46: Mauro | Q46: =+#REF! -> #REF!
C47: 42019 | D47: ERDF | E47: D326/056173 | F47: Ludovic MARTIN | G47: JUILLAC | H47: LANGON | I47: Effacement BT au Bourg | J47: RACCORDEMENT | N47: X | O47: Sablon | Q47: =+#REF! -> #REF!
C48: 42019
A49: 42020 | B49: 42020 | C49: 42020 | D49: Mairie | E49: - | F49: - | G49: SAINT-LAURENT-MEDOC | I49: Art8 - Rue Bourguedieu | J49: TERRASSEMENT | M49: X | O49: Albert | Q49: =+#REF! -> #REF!
C50: 42020 | D50: CUB - TISYA | E50: 0 | F50: 0 | G50: BEGLES | I50: TRAMWAY lot 305 | J50: TERRASSEMENT | M50: X | O50: Allali
C51: 42020 | D51: SDEEG 33 | E51: 465053/ER01 | F51: DESPRES Vincent | G51: SAINT-PIERRE-DE-MONS | I51: RBT POSTE RIVIERE LONG RD 224 | J51: TERRASSEMENT | M51: X | O51: Dulou | Q51: =+#REF! -> #REF!
C52: 42020 | O52: El Hani
C53: 42020 | O53: Encognère
C54: 42020 | D54: ERDF | E54: D326/056173 | F54: Ludovic MARTIN | G54: JUILLAC | I54: Effacement BT au Bourg | J54: TERRASSEMENT | N54: X | O54: Galopeau | Q54: =+#REF! -> #REF!
C55: 42020 | O55: Muniz
C56: 42020 | D56: ERDF | E56: DC26/008153 | F56: Maxime DELUCE | G56: LEOGNAN | I56: RACCORDEMENT M LABEDAN | J56: RACCORDEMENT | N56: X | O56: Lagardère | Q56: =+#REF! -> #REF!
C57: 42020 | D57: ERDF | E57: - | F57: - | G57: SAINT-LAURENT-MEDOC | I57: Art8 - Rue Bourguedieu | J57: RACCORDEMENT | M57: X | O57: Mauro | Q57: =+#REF! -> #REF!
C58: 42020 | O58: Sablon
C59: 42020
A60: 42021 | B60: 42021 | C60: 42021
C61: 42021
C62: 42021
C63: 42021
C64: 42021
C65: 42021
C66: 42021
C67: 42021
C68: 42021
C69: 42021
C70: 42021
C71: 42021

Sheet PLANNING EQUIPES
B1: SEMAINE : 1-2019 | L1: SEMAINE : 2-2019 | V1: SEMAINE : 3-2019 | AF1: SEMAINE : 4-2019 | AP1: SEMAINE : 5-2019 | AZ1: SEMAINE : 6-2019 | BJ1: SEMAINE : 7-2019 | BT1: SEMAINE : 8-2019 | CD1: SEMAINE : 9-2019
A2: Jours / Equipe | B2: 43465 | D2: 43466 | F2: 43467 | H2: 43468 | J2: 43469 | L2: 43472 | N2: 43473 | P2: 43474 | R2: 43475 | T2: 43476 | V2: 43479 | X2: 43480 | Z2: 43481 | AB2: 43482 | AD2: 43483 | AF2: 43486 | AH2: 43487 | AJ2: 43488 | AL2: 43489 | AN2: 43490 | AP2: 43493 | AR2: 43494 | AT2: 43495 | AV2: 43496 | AX2: 43497 | AZ2: 43500 | BB2: 43501 | BD2: 43502 | BF2: 43503 | BH2: 43504 | BJ2: 43507 | BL2: 43508 | BN2: 43509 | BP2: 43510 | BR2: 43511 | BT2: 43514 | BV2: 43515 | BX2: 43516 | BZ2: 43517 | CB2: 43518 | CD2: 43521 | CF2: 43522 | CH2: 43523 | CJ2: 43524 | CL2: 43525
A3: SALARIE 1 | D3: FERIE | E3: FERIE | F3: JRTT | G3: JRTT | H3: AM | I3: AM | J3: AM | K3: AM | L3: AM | M3: AM | N3: AM | O3: AM | P3: AM | Q3: AM | R3: AM | S3: AM | T3: AM | U3: AM | V3: AM | W3: AM | X3: AM | Y3: AM | Z3: AM | AA3: AM | AB3: AM | AC3: AM | AD3: AM | AE3: AM | AF3: AM | AG3: AM | AH3: AM | AI3: AM | AJ3: AM | AK3: AM | AL3: AM | AM3: AM | AN3: AM | AP3: PAREMPUYRE | AQ3: PAREMPUYRE | AR3: ST SEURIN DE CADOURNE | AS3: ST SEURIN DE CADOURNE | AT3: BEGLES | AU3: BEGLES | AV3: TRESSES SAURA | AW3: CAMBES | AX3: PAREMPUYRE | AY3: PAREMPUYRE | AZ3: PAREMPUYRE | BA3: PAREMPUYRE | BB3: PAREMPUYRE | BC3: PAREMPUYRE | BD3: PAREMPUYRE | BE3: PAREMPUYRE | BF3: PAREMPUYRE | BG3: PAREMPUYRE | BH3: BEGLES | BI3: BEGLES | BJ3: VO SERENITE | BK3: VO SERENITE | BL3: VO SERENITE | BM3: VO SERENITE | BN3: BEGLES | BO3: VO SERENITE | BP3: VO SERENITE | BQ3: VO SERENITE | BR3: VO SERENITE | BS3: VILLENAVE TFB | BT3: GINKO | BU3: GINKO | BV3: GINKO | BW3: GINKO | BX3: GINKO | BY3: GINKO | BZ3: GINKO | CA3: GINKO | CB3: GINKO | CC3: GINKO | CD3: PAREMPUYRE | CE3: PAREMPUYRE | CF3: PAREMPUYRE | CG3: PAREMPUYRE | CH3: PESSAC MAL JUIN | CI3: PESSAC MAL JUIN | CJ3: GINKO | CK3: GINKO | CL3: PAREMPUYRE | CM3: PAREMPUYRE
AL4: VILLENAVE | AM4: VILLENAVE | AN4: VILLENAVE | AO4: AM | AP4: AM | AQ4: AM | AR4: AM | AS4: AM | AT4: AM | AU4: AM | AV4: AM | AW4: AM | AX4: AM | AY4: AM | AZ4: AM | BA4: AM | BB4: AM | BC4: AM | BD4: AM | BE4: AM | BF4: AM | BG4: AM | BH4: AM | BI4: AM | BJ4: AM | BK4: AM | BL4: AM | BM4: AM | BN4: AM | BO4: AM | BP4: AM | BQ4: AM | BR4: AM | BS4: AM | BT4: AM | BU4: AM | BV4: AM | BW4: AM | BX4: AM | BY4: AM | BZ4: AM | CA4: AM | CB4: AM | CC4: AM | CD4: AM | CE4: AM | CF4: AM | CG4: AM | CH4: AM | CI4: AM | CJ4: AM | CK4: AM | CL4: AM | CM4: AM
AL5: CLOS ST MARTIAL | AM5: CLOS ST MARTIAL | AN5: CLOS ST MARTIAL | AO5: CLOS ST MARTIAL | AP5: RAS BT | AQ5: RAS BT | AR5: Rep brcht | AS5: Rep brcht | AT5: DC26/022727 | AU5: DC26/022727 | AW5: DC26/0239799 | AX5: Rep brcht | AY5: Rep brcht | AZ5: Rep brcht | BA5: Rep brcht | BB5: Mise en service | BC5: Mise en service | BD5: Dépose | BE5: Dépose | BF5: Dépose | BG5: Dépose | BH5: DC26/022727 | BI5: DC26/022727 | BJ5: DC26/0035889 | BK5: DC26/0035889 | BL5: DC26/0035889 | BM5: DC26/0035889 | BN5: DC26/022727 | BO5: DC26/0035889 | BP5: DC26/0035889 | BQ5: DC26/0035889 | BR5: DC26/0035889 | BS5: DC26/034617 | BT5: Déroulage | BU5: Déroulage | BV5: Déroulage | CB5: Prépa Déroulage | CC5: Prépa Déroulage
AL6: DC26/008356 | AM6: DC26/008356 | AN6: DC26/008356 | AO6: DC26/008356 | AP6: 8h00 RDV EAE | AQ6: ATST BT | AR6: ADC HTA | AS6: ADC HTA | AT6: Astreinte SOUT | AU6: Astreinte SOUT | AW6: ADC | BB6: ADC BT | BC6: ADC BT | BJ6: ATMR Déroul T150 230ml | BK6: ATST MES T150² | BL6: ITST Rep 22 brchts | BM6: ITST Rep 22 brchts | BN6: ADC DIP 6812 9H 13H 2 équipes | BO6: ITST Rep 22 brchts | BP6: ITST Rep 22 brchts | BQ6: ITST Rep 22 brchts | BR6: ITST Rep 22 brchts | BS6: ATST DERIV BT | BT6: 6 têtes HTA | BU6: 7 têtes HTA | BV6: 8 têtes HTA | BX6: ADC HTA | BY6: ADC HTA | BZ6: ADC HTA | CA6: ADC HTA | CJ6: ADC HTA | CK6: ADC HTA
A7: SALARIE 2 | D7: FERIE | E7: FERIE | F7: ST LAURENT DARCE | G7: Astreinte SOUT | H7: Astreinte SOUT | I7: Astreinte SOUT | J7: LE BOUSCAT ATST | K7: LE BOUSCAT ATST | L7: LE HAILLAN GAILLAR | M7: LE HAILLAN GAILLAR | N7: Astreinte SOUT | O7: LIBOURNE PALIS | P7: Récup Nuit | Q7: BLAYE BELLEMER | R7: PESSAC Dplt BDX BM | S7: LE HAILLAN GAILLAR | T7: PAREMPUYRE | U7: PAREMPUYRE | V7: PAREMPUYRE | W7: PAREMPUYRE | X7: ST SEURIN | Y7: ST SEURIN | Z7: GUILLOS | AA7: GUILLOS | AB7: GUILLOS | AC7: GUILLOS | AD7: VILLENAVE Prépa RACC | AE7: VILLENAVE | AF7: ST SEURIN DE CADOURNE | AG7: ST SEURIN DE CADOURNE | AH7: ST SEURIN DE CADOURNE | AI7: ST SEURIN DE CADOURNE | AJ7: ST SEURIN DE CADOURNE | AK7: ST SEURIN DE CADOURNE | AL7: VILLENAVE NAVA | AM7: VILLENAVE NAVA | AN7: LIBOURNE | AO7: VILLENAVE | AP7: LIBOURNE 61 Gambeta | AQ7: PODENSAC GAL DE GAULLE | AR7: ST SEURIN DE CADOURNE | AS7: ST SEURIN DE CADOURNE | AT7: PAREMPUYRE | AU7: PAREMPUYRE | AV7: CAMBES FORET | AW7: CAMBES FORET | AX7: Astreinte HTA BDX | AY7: LE HAILLAN GAILLAR | BA7: EYSINES | BD7: ST ANDRE DE CUBZAC | BE7: PODENSAC GAL DE GAULLE | BG7: BEGLES | BH7: GINKO | BI7: BEGLES | BJ7: VILLENAVE TFB | BK7: VILLENAVE TFB | BL7: STE EULALIE MARSAC | BM7: GINKO | BN7: BEGLES | BO7: jean vaquier | BP7: PAREMPUYRE | BQ7: PAREMPUYRE | BR7: VILLENAVE TFB | BS7: GINKO | BT7: VO SERENITE | BU7: VO SERENITE | BV7: VO SERENITE | BW7: VO SERENITE | BX7: VO SERENITE | BY7: VO SERENITE | BZ7: GINKO CSE | CA7: GINKO | CB7: VILLENAVE | CC7: BASSENS Ilot Modif brcht Pharmacie | CD7: BORDEAUX ss PMEO | CE7: GINKO | CF7: TALENCE Médoquine | CG7: PORTETS | CH7: PESSAC MAL JUIN | CI7: PESSAC MAL JUIN | CJ7: GINKO | CK7: ST GERVAIS | CL7: LIBOURNE 65 GAMBETTA | CM7: LIBOURNE 65 GAMBETTA
F8: GALET ATMR RAS HTA | G8: ST GERMAIN DU PUCH | H8: ST GERMAIN DU PUCH | I8: ST GERMAIN DU PUCH | J8: 322 368 Av Libération Charles De Gaulle | K8: 322 368 Av Libération Charles De Gaulle | L8: DC26/038305 | M8: DC26/038305 | N8: MONTAGNE ST EMILION | O8: 65 Rue Gambetta | P8: BRUGES Rue Jarteau | Q8: DC26/36321 pose T150 | R8: DC26/034428 | S8: DC26/038305 | T8: pose coffret | U8: pose coffret | V8: Effacement | W8: Effacement | Z8: HTA FREE MOBILE | AA8: HTA FREE MOBILE | AB8: HTA FREE MOBILE | AC8: HTA FREE MOBILE | AD8: CLOS ST MARTIAL | AE8: NAVA | AF8: confection boite J1 | AG8: reprise branchement | AH8: reprise branchement | AI8: reprise branchement | AJ8: reprise branchement | AK8: reprise branchement | AL8: DC26/031124 | AM8: DC26/031124 | AN8: 149 Rue St Emilion | AO8: CLOS ST MARTIAL | AP8: Rdv 8h Borgn RAS Bcht | AR8: Effacement | AS8: Effacement | AT8: Effacement | AU8: Effacement | AV8: DC26/0239799 | AW8: DC26/0239799 | AX8: 110 Crs E.VAILLANT | AY8: DC26/038305 | AZ8: ARRET | BA8: Rep HTA | BB8: ARRET | BC8: ARRET | BD8: DC26/036539 | BE8: DC26/039307 | BF8: BEGLES | BG8: A8 RENAUDEL | BH8: Déconnecter bas vie | BI8: A8 RENAUDEL | BL8: MARSAC | BM8: PTC4, PTL6 | BN8: A8 RENAUDEL | BO8: raccordement | BP8: reprise de deux | BQ8: reprise de deux | BS8: PTC4, PTL6 | BT8: RENFO BT | BU8: RENFO BT | BV8: RENFO BT | BW8: RENFO BT | BX8: RENFO BT | BY8: RENFO BT | BZ8: GINKO | CA8: ADC HTA | CB8: GRANET | CC8: DPLT BM GALGON | CD8: LENGLET | CE8: PTL1, L2 et C1 | CF8: Déroul T70 2 portées | CG8: PAPOULA | CH8: DC26/028785 | CI8: DC26/028785 | CJ8: PTL1, L2 et C1 | CK8: REP BT boite 35² | CL8: DC26/040628 | CM8: DC26/040628
F9: DC26/033808 | G9: Défaut CSE | H9: Défaut CSE | I9: Défaut CSE | J9: DC26/001002 | K9: DC26/001002 | L9: Déroul + prépa RACC | M9: Déroul + prépa RACC | N9: BLOC H61 | O9: Dépose compteur | P9: 2J3UP | Q9: ATMR | R9: ADC transfert CU 8h12h + AMHEO | S9: Déroul + prépa RACC | T9: ATSR | U9: ATSR | V9: Déroulage+pose coffret | W9: Déroulage+pose coffret | X9: ATMR | Y9: ATMR | Z9: DC26/023302 | AA9: DC26/023302 | AB9: DC26/023302 | AC9: DC26/023302 | AD9: DC26/008356 | AE9: DC26/031125 | AF9: nacelle | AG9: ITST | AH9: nacelle | AI9: nacelle | AJ9: nacelle | AK9: nacelle | AN9: Rplt Poteau Bois | AO9: DC26/008356 | AP9: LibourneABC5Nhevoit | AQ9: DC26/039307 | AR9: MES et dépose | AS9: MES et dépose | AT9: Rep brcht | AU9: Dépanages ARBIS | AV9: atst 2 boites+depose | AW9: atst 2 boites+depose | AX9: Raccordement | AY9: Reprise 6 compteurs | BD9: Déroulage 150²+ pose TJ | BE9: GINKO | BF9: A8 RENAUDEL | BG9: DC26/022727 | BH9: BEGLES | BI9: DC26/022727 | BJ9: DC26/034617 | BK9: DC26/034617 | BL9: DC26/036810 | BM9: 2 CSE | BN9: DC26/022727 | BO9: pose platine | BP9: branchement | BQ9: branchement | BR9: DC26/034617 | BS9: déroul HTA | BT9: DC26/0035889 | BU9: DC26/0035889 | BV9: DC26/0035889 | BW9: DC26/0035889 | BX9: DC26/0035889 | BY9: DC26/0035889 | BZ9: PTC4, PTL6 | CA9: GINKO CSE | CB9: DC26/036624 | CC9: DC26/021859 | CD9: DC26/041939 | CE9: Porte fusibles | CF9: DC26/0024705 | CG9: DC26/037948 | CH9: ADC 2 J3UP 9h14h | CJ9: ADC HTA | CK9: BOULANGERIE | CL9: Prépa RACC | CM9: Prépa RACC
F10: Astreinte SOUT | G10: Astreinte SOUT | H10: Astreinte SOUT | I10: Astreinte SOUT | J10: Astreinte SOUT | K10: Astreinte SOUT | L10: Astreinte SOUT | M10: Astreinte SOUT | N10: Astreinte SOUT | O10: Astreinte SOUT | P10: Astreinte SOUT | Q10: ANNULE | S10: Prépa racc | T10: penetration cable | U10: penetration cable | X10: 2 RAS 1 RACC 1 MALT | Y10: 2 RAS 1 RACC 1 MALT | Z10: ADC HTA + nacelle | AA10: ADC HTA + nacelle | AB10: ADC HTA + nacelle | AC10: ADC HTA + nacelle | AE10: Tranfo + 2 CSE | AF10: ATST | AG10: 17h00 RDV EAE | AH10: ITST | AI10: ITST | AJ10: ITST | AL10: ADC | AM10: ADC | AN10: Astreinte TG | AO10: Dépose Provisoire suite ADC | AP10: Rdv 9h Dep Bcht aérie | AQ10: Prépa RACC | AR10: ADC BT | AS10: ADC BT | AT10: Astreinte SOUT | AU10: 3 portées T70 | AV10: Astreinte SOUT | AW10: Astreinte SOUT | AX10: Astreinte SOUT | AY10: Astreinte SOUT | AZ10: Astreinte TG | BA10: Astreinte TG | BB10: Astreinte TG | BC10: Astreinte TG | BD10: Récup nacelle | BE10: Pose porte fusible | BF10: DC26/022727 | BH10: A8 RENAUDEL | BJ10: Prépa à Blanc | BK10: Prépa à Blanc | BL10: 2 TJ HORS TENSION | BM10: Prépa coupure | BN10: ADC DIP 6812 9H 13H 2 équipes | BP10: Eclairage | BQ10: Eclairage | BR10: ATST DERIV BT | BS10: Prépa coupure | BT10: ATST MES T150² | BU10: ATST MES T150² | BV10: ITST Rep 22 brchts | BW10: ITST Rep 22 brchts | BX10: ADC BT Cu 8h12h | BY10: AMHEO ATST | BZ10: ADC HTA | CA10: PTC4, PTL6 | CB10: Prépa RAC + Transfo | CC10: 3 ITST | CD10: ATST 1 Dériv BT + 1 Deriv Brcht + 1 Borgne | CE10: Astreinte SOUT | CF10: ATMR + prépa | CG10: Prépa racc | CH10: Astreinte SOUT | CI10: Astreinte SOUT | CJ10: Astreinte SOUT | CK10: Astreinte SOUT | CL10: Astreinte SOUT | CM10: Astreinte SOUT
A11: SALARI2 3 | D11: FERIE | E11: FERIE | F11: JRTT | G11: JRTT | H11: CP | I11: CP | J11: CP | K11: CP | L11: CP | M11: CP | N11: PAREMPUYRE | O11: PAREMPUYRE | P11: FORMATION | Q11: FORMATION | R11: FORMATION | S11: FORMATION | T11: FORMATION | U11: FORMATION | V11: PAREMPUYRE | W11: PAREMPUYRE | X11: ST SEURIN | Y11: ST SEURIN | Z11: GUILLOS | AA11: GUILLOS | AB11: GUILLOS | AC11: GUILLOS | AD11: VILLENAVE Prépa RACC | AE11: VILLENAVE | AF11: ST SEURIN DE CADOURNE | AG11: ST SEURIN DE CADOURNE | AH11: ST SEURIN DE CADOURNE | AI11: ST SEURIN DE CADOURNE | AJ11: ST SEURIN DE CADOURNE | AK11: ST SEURIN DE CADOURNE | AL11: VILLENAVE NAVA | AM11: VILLENAVE NAVA | AN11: LIBOURNE | AO11: VILLENAVE | AP11: FORMATION | AQ11: FORMATION | AR11: FORMATION | AS11: FORMATION | AT11: PAREMPUYRE | AU11: PAREMPUYRE | AV11: CAMBES FORET | AW11: CAMBES FORET | AX11: Astreinte HTA BDX | AY11: LE HAILLAN GAILLAR | BA11: EYSINES | BD11: ST ANDRE DE CUBZAC | BE11: PODENSAC GAL DE GAULLE | BF11: Protections auditives | BG11: BEGLES | BH11: GINKO | BI11: BEGLES | BJ11: VILLENAVE TFB | BK11: VILLENAVE TFB | BL11: STE EULALIE MARSAC | BM11: GINKO | BN11: BEGLES RENAUDEL | BO11: jean vaquier | BP11: PAREMPUYRE | BQ11: PAREMPUYRE | BR11: VILLENAVE TFB | BS11: GINKO | BT11: GINKO | BU11: GINKO | BV11: VO SERENITE | BW11: VO SERENITE | BX11: BASSENS | BY11: VILLENAVE | BZ11: GINKO CSE | CA11: GINKO | CB11: VILLENAVE | CC11: VILLENAVE | CD11: BORDEAUX ss PMEO | CE11: GINKO | CF11: TALENCE Médoquine | CG11: PORTETS | CH11: PESSAC MAL JUIN | CI11: PESSAC MAL JUIN | CJ11: GINKO | CK11: ST GERVAIS | CL11: LIBOURNE 65 GAMBETTA | CM11: LIBOURNE 65 GAMBETTA
O12: Impl support ATMR BT | P12: HTA Synth Papier | Q12: HTA Synth Papier | R12: HTA Synth Papier | S12: HTA Synth Papier | T12: HTA Synth Papier | U12: HTA Synth Papier | V12: Effacement | W12: Effacement | Z12: HTA FREE MOBILE | AA12: HTA FREE MOBILE | AB12: HTA FREE MOBILE | AC12: HTA FREE MOBILE | AD12: CLOS ST MARTIAL | AE12: NAVA | AF12: confection boite J1 | AG12: reprise branchement | AH12: reprise branchement | AI12: reprise branchement | AJ12: reprise branchement | AK12: reprise branchement | AL12: DC26/031124 | AM12: DC26/031124 | AN12: 149 Rue St Emilion | AO12: CLOS ST MARTIAL | AP12: BT Synthétique Papier | AQ12: BT Synthétique Papier | AR12: BT Synthétique Papier | AS12: BT Synthétique Papier | AT12: Effacement | AU12: Effacement | AV12: DC26/0239799 | AW12: DC26/0239799 | AX12: 110 Crs E.VAILLANT | AY12: DC26/038305 | AZ12: ARRET | BA12: Rep HTA | BB12: ARRET | BC12: ARRET | BD12: DC26/036539 | BE12: DC26/039307 | BF12: BEGLES | BG12: A8 RENAUDEL | BH12: Déconnecter bas vie | BI12: A8 RENAUDEL | BL12: MARSAC | BM12: PTC4, PTL6 | BN12: DC26/022727 | BO12: raccordement | BP12: reprise de deux | BQ12: reprise de deux | BS12: PTC4, PTL6 | BT12: PTC4, PTL6 | BU12: PTC4, PTL6 | BV12: RENFO BT | BW12: RENFO BT | BX12: ILOT MAIRIE | BY12: DPLT BM GALGON | BZ12: GINKO | CA12: ADC HTA | CB12: GRANET | CC12: DPLT BM GALGON | CD12: LENGLET | CE12: PTL1, L2 et C1 | CF12: Déroul T70 2 portées | CG12: PAPOULA | CH12: DC26/028785 | CI12: DC26/028785 | CJ12: PTL1, L2 et C1 | CK12: REP BT boite 35² | CL12: DC26/040628 | CM12: DC26/040628
N13: coffret a déplacer | O13: Pénétration poste ATMR BT | V13: Déroulage+pose coffret | W13: Déroulage+pose coffret | X13: ATMR | Y13: ATMR | Z13: DC26/023302 | AA13: DC26/023302 | AB13: DC26/023302 | AC13: DC26/023302 | AD13: DC26/008356 | AE13: DC26/031125 | AG13: ITST | AN13: Rplt Poteau Bois | AO13: DC26/008356 | AT13: Rep brcht | AU13: Dépanages ARBIS | AV13: atst 2 boites+depose | AW13: atst 2 boites+depose | AX13: Raccordement | AY13: Reprise 6 compteurs | BD13: Déroulage 150²+ pose TJ | BE13: GINKO | BF13: A8 RENAUDEL | BG13: DC26/022727 | BH13: BEGLES | BI13: DC26/022727 | BJ13: DC26/034617 | BK13: DC26/034617 | BL13: DC26/036810 | BM13: 2 CSE | BN13: DC26/0035890 | BO13: pose platine | BP13: branchement | BQ13: branchement | BR13: DC26/034617 | BS13: déroul HTA | BT13: 4 CSE | BU13: 4 CSE | BV13: DC26/0035889 | BW13: DC26/0035889 | BX13: DC26/036017 | BY13: DC26/021859 | BZ13: PTC4, PTL6 | CA13: GINKO CSE | CB13: DC26/036624 | CC13: DC26/021859 | CD13: DC26/041939 | CE13: Porte fusibles | CF13: DC26/0024705 | CG13: DC26/037948 | CH13: ADC 2 J3UP 9h14h | CI13: Rdv Médecin 17h | CJ13: ADC HTA | CK13: BOULANGERIE | CL13: Prépa RACC | CM13: Prépa RACC
X14: 2 RAS 1 RACC 1 MALT | Y14: 2 RAS 1 RACC 1 MALT | Z14: ADC HTA + nacelle | AA14: ADC HTA + nacelle | AB14: ADC HTA + nacelle | AC14: ADC HTA + nacelle | AE14: Tranfo + 2 CSE | AF14: ATST | AG14: 17h00 RDV EAE | AH14: ITST | AI14: ITST | AJ14: ITST | AK14: Réunion CE Elec 16h30 | AL14: ADC | AM14: ADC | AN14: Astreinte TG | AO14: Dépose Provisoire suite ADC | AT14: Astreinte SOUT | AU14: 3 portées T70 | AV14: Astreinte SOUT | AW14: Astreinte SOUT | AX14: Astreinte SOUT | AY14: Astreinte SOUT | AZ14: Astreinte TG | BA14: Astreinte TG | BB14: Astreinte TG | BC14: Astreinte TG | BD14: Récup nacelle | BE14: Pose porte fusible | BF14: DC26/022727 | BH14: A8 RENAUDEL | BJ14: Prépa à Blanc | BK14: Prépa à Blanc | BL14: 2 TJ HORS TENSION | BM14: Prépa coupure | BN14: ADC DIP 6812 9H 13H 2 équipes | BP14: Eclairage | BQ14: Eclairage | BR14: ATST DERIV BT | BS14: Prépa coupure | BT14: Prépa coupure | BU14: Prépa coupure | BV14: ITST Rep 22 brchts | BW14: ITST Rep 22 brchts | BX14: ADC HTA | BY14: Prépa | BZ14: ADC HTA | CA14: PTC4, PTL6 | CB14: Prépa RAC + Transfo | CC14: 3 ITST | CD14: ATST 1 Dériv BT + 1 Deriv Brcht + 1 Borgne | CE14: Astreinte SOUT | CF14: ATMR + prépa | CG14: Prépa racc | CH14: Astreinte SOUT | CI14: Astreinte SOUT | CJ14: Astreinte SOUT | CK14: Astreinte SOUT | CL14: Astreinte SOUT | CM14: Astreinte SOUT
A15: SALARIE 4 | D15: FERIE | E15: FERIE | F15: ST LAURENT DARCE | G15: Astreinte SOUT | H15: Astreinte SOUT | I15: Astreinte SOUT | J15: AM | K15: AM | L15: LE HAILLAN GAILLAR | M15: LE HAILLAN GAILLAR | N15: Astreinte SOUT | O15: LIBOURNE PALIS | P15: Récup Nuit | Q15: BLAYE BELLEMER | R15: PESSAC Dplt BDX BM | S15: LE HAILLAN GAILLAR | T15: GUILLOS | U15: GUILLOS | V15: BLAYE BELLEMER | W15: ST MICHEL DE FRONSAC | X15: VILLENAVE NAVA | Y15: TALENCE | Z15: PESSAC Dplt BDX BM | AA15: TALENCE Le 36 | AB15: LE HAILLAN GAILLAR | AC15: MARANSIN | AD15: TOULENNE | AE15: ATST Cu 1 POT IMPLANT | AF15: TAURIAC | AG15: LIBOURNE COGESIM | AH15: ST MEDARD REP BT | AI15: BASSENS ILOT | AJ15: VILLENAVE GRANET | AK15: ST CHRISTOPHE AZUR | AL15: VILLENAVE | AM15: VILLENAVE | AN15: VILLENAVE | AO15: VILLENAVE | AP15: FORMATION | AQ15: FORMATION | AR15: FORMATION | AS15: FORMATION | AT15: PAREMPUYRE | AU15: MERIGNAC thales | AV15: Dépannage St ANDRE | AW15: Dépannage St ANDRE | AX15: BEGLES | AY15: BEGLES | AZ15: BEGLES | BA15: BEGLES | BB15: BEGLES | BC15: BEGLES | BD15: BEGLES | BE15: BEGLES | BF15: Protections auditives | BG15: BEGLES | BH15: BEGLES | BI15: BEGLES | BJ15: BEGLES | BK15: BEGLES | BL15: BASSENS ILOT | BM15: BASSENS | BN15: BEGLES | BO15: BEGLES | BP15: BEGLES | BQ15: BEGLES | BR15: BEGLES | BS15: BEGLES | BT15: VO SERENITE | BU15: BEGLES | BV15: BEGLES | BW15: BEGLES | BX15: VO SERENITE | BY15: VILLENAVE | BZ15: VILLENAVE tranfo | CA15: PESSAC MAL JUIN | CB15: BEGLES | CC15: BASSENS Ilot Modif brcht Pharmacie | CD15: BEGLES | CE15: BEGLES | CF15: TALENCE Médoquine | CG15: BEGLES | CH15: BEGLES | CI15: BEGLES | CJ15: VILLENAVE | CK15: PORTETS | CL15: BEGLES | CM15: Mérignac
F16: GALET ATMR RAS HTA | G16: ST GERMAIN DU PUCH | H16: ST GERMAIN DU PUCH | I16: ST GERMAIN DU PUCH | L16: DC26/038305 | M16: DC26/038305 | N16: MONTAGNE ST EMILION | O16: 65 Rue Gambetta | P16: BRUGES Rue Jarteau | Q16: DC26/36321 pose T150 | R16: DC26/034428 | S16: DC26/038305 | T16: HTA FREE MOBILE | U16: HTA FREE MOBILE | V16: DC26/36321 | W16: Reféction Brcht Aug Puissance à 60A | X16: DC26/031124 | Y16: 173 Crs GAMBETTA | Z16: DC26/034428 | AA16: DC26/031876 | AB16: DC26/038305 | AC16: Rep HTA CSE 250 x2* | AD16: Recal Pot | AE16: VILLENAVE | AF16: Rep BT aérienne | AG16: Pot Provisoire T70 | AH16: REP BRCHT | AI16: DC26/036017 | AJ16: Livraison Poste | AK16: DC26/036222 | AL16: CLOS ST MARTIAL | AM16: CLOS ST MARTIAL | AN16: CLOS ST MARTIAL | AO16: CLOS ST MARTIAL | AP16: BT Synthétique Papier | AQ16: BT Synthétique Papier | AR16: BT Synthétique Papier | AS16: BT Synthétique Papier | AT16: Effacement | AU16: Dépanages ARBIS | AV16: AERIEN | AW16: AERIEN | AX16: A8 RENAUDEL | AY16: A8 RENAUDEL | AZ16: A8 RENAUDEL | BA16: A8 RENAUDEL | BB16: A8 RENAUDEL | BC16: A8 RENAUDEL | BD16: A8 RENAUDEL | BE16: A8 RENAUDEL | BF16: BEGLES | BG16: A8 RENAUDEL | BH16: A8 RENAUDEL | BI16: A8 RENAUDEL | BJ16: A8 RENAUDEL | BK16: A8 RENAUDEL | BL16: DC26/036017 | BM16: A8 RUE BASSENS | BN16: A8 RENAUDEL | BO16: A8 RENAUDEL | BP16: A8 RENAUDEL | BQ16: A8 RENAUDEL | BR16: A8 RENAUDEL | BS16: A8 RENAUDEL | BT16: RENFO BT | BU16: A8 RENAUDEL | BV16: A8 RENAUDEL | BW16: A8 RENAUDEL | BX16: MODULATION | BY16: MODULATION | BZ16: PESSAC MAL JUIN | CA16: DC26/028785 | CB16: A8 RENAUDEL | CC16: ST ANDRE | CD16: A8 RENAUDEL | CE16: A8 RENAUDEL | CF16: Déroul T70 2 portées | CG16: A8 RENAUDEL | CH16: A8 RENAUDEL | CI16: A8 RENAUDEL | CJ16: GRANET | CK16: PAPOULA | CL16: A8 RENAUDEL | CM16: Terrasse de Saint-Augustin
F17: DC26/033808 | G17: Défaut CSE | H17: Défaut CSE | I17: Défaut CSE | L17: Déroul + prépa RACC | M17: Déroul + prépa RACC | N17: BLOC H61 | O17: Dépose compteur | P17: 2J3UP | Q17: ATMR | R17: ADC transfert CU | S17: Déroul + prépa RACC | T17: DC26/023302 | U17: DC26/023302 | V17: ADC 9H30 13H | W17: JM PRILLOT | X17: VILLENAVE CLOS St Martial Prépa RACC | Y17: DC26/034946 | Z17: Dépose 3 poteaux 2 béton 1 bois | AA17: ATST DERIV BT | AB17: ATST 2 DERIV | AD17: BEGLES RENAUDEL | AE17: NAVA/TRANSFO | AF17: Rplt 60ml T70 | AG17: DC26/032034 | AI17: Prépa HTA | AJ17: ST CHRISTOPHE AZUR | AK17: SANS PMEO | AL17: DC26/008356 | AM17: DC26/008356 | AN17: DC26/008356 | AO17: DC26/008356 | AT17: MERIGNAC | AU17: 3 portées T70 | AX17: DC26/022727 | AY17: DC26/022727 | AZ17: DC26/022727 | BA17: DC26/022727 | BB17: DC26/022727 | BC17: DC26/022727 | BD17: DC26/022727 | BE17: DC26/022727 | BF17: A8 RENAUDEL | BG17: DC26/022727 | BH17: DC26/022727 | BI17: DC26/022727 | BJ17: VO SERENITE | BL17: Prépa HTA | BM17: Rdv 15h pour modif Brcht | BN17: DC26/022727 | BO17: DC26/022727 | BP17: DC26/022727 | BQ17: DC26/022727 | BR17: DC26/022727 | BS17: DC26/022727 | BT17: DC26/0035889 | BU17: DC26/022727 | BV17: DC26/022727 | BW17: DC26/022727 | BX17: DC26/0035889 | BY17: DC26/021859 | BZ17: DC26/028785 | CB17: DC26/022727 | CC17: Arrachage câble | CD17: DC26/022729 | CE17: DC26/022729 | CF17: DC26/0024705 | CG17: DC26/022729 | CH17: DC26/022727 | CI17: DC26/022729 | CJ17: DC26/036624 | CK17: DC26/037948 | CL17: DC26/022727 | CM17: ST ANDRE
F18: Astreinte SOUT | G18: Astreinte SOUT | H18: Astreinte SOUT | I18: Astreinte SOUT | J18: Astreinte SOUT | K18: Astreinte SOUT | L18: Astreinte SOUT | M18: Astreinte SOUT | N18: Astreinte SOUT | O18: Astreinte SOUT | P18: Astreinte SOUT | Q18: ANNULE | R18: 8h12h | S18: Prépa racc | T18: Prépa racc | U18: Prépa racc | V18: ANNULE à 10H | W18: Astreinte TG | X18: Réparation HTA | Y18: ATMR + Prépa RACC | Z18: Astreinte TG | AA18: Astreinte TG | AB18: Astreinte TG | AC18: Astreinte TG | AD18: ATMR 2 poteaux | AE18: Astreinte TG | AF18: Astreinte TG | AG18: Astreinte TG | AH18: Astreinte TG | AI18: Astreinte TG | AJ18: ATST Dériv BT + Bcht | AK18: Réunion CE Elec 16h30 | AL18: ADC | AM18: ADC | AN18: ADC | AO18: ADC | AT18: THALES | BD18: AAT | BF18: DC26/022727 | BI18: AAT | BJ18: RENFO BT | BM18: Dépose 3 poteaux | BN18: ADC DIP 6812 9H 13H 2 équipes | BO18: ADC DIP 6812 9H 13H 2 équipes | BP18: ATST DIP 1199 Arrêt T70 | BQ18: ATST D9 | BR18: ITST Brcht C13 à C23 SUR 2 SEMAINES | BS18: VO SERENITE Pnx Stationnemen | BT18: ATST MES T150² | BU18: ATST J1 | BV18: ATST Racc 7 | BW18: ITST Brcht C13 à C23 SUR 2 SEMAINES | BX18: CP? | BY18: CP? | BZ18: Prépa RAC + Transfo | CA18: Prépa RAC + Transfo | CB18: ITST Brcht | CD18: ITST Brcht | CE18: ITST Brcht | CF18: ATMR + prépa | CG18: ITST Brcht | CH18: ATST Rep C400 n°43 | CI18: ITST Brcht | CJ18: ADC HTA 2 J3UP | CK18: apmATST DERIV BT | CL18: ITST Brcht C1 à C10 SUR 2 SEMAINES
AE474: 08/01/2019 - Relance Tel - Il s'en occcupe

Sheet PLANNING CHARGES
A1: 2019 | B1: SEMAINE 1 | L1: SEMAINE 2 | V1: SEMAINE 3 | AF1: SEMAINE 4 | AP1: SEMAINE 5 | AZ1: SEMAINE 6 | BJ1: SEMAINE 7 | BT1: SEMAINE 8 | CD1: SEMAINE 9 | CN1: SEMAINE 10 | CX1: SEMAINE 11 | DH1: SEMAINE 12 | DR1: SEMAINE 13 | EB1: SEMAINE 14 | EL1: SEMAINE 15 | EV1: SEMAINE 16 | FF1: SEMAINE 17 | FP1: SEMAINE 18 | FZ1: SEMAINE 19 | GJ1: SEMAINE 20 | GT1: SEMAINE 21 | HD1: SEMAINE 22 | HN1: SEMAINE 23 | HX1: SEMAINE 24 | IH1: SEMAINE 25 | IR1: SEMAINE 26 | JB1: SEMAINE 27 | JL1: SEMAINE 28 | JV1: SEMAINE 29 | KF1: SEMAINE 30 | KP1: SEMAINE 31 | KZ1: SEMAINE 32 | LJ1: SEMAINE 33 | LT1: SEMAINE 34 | MD1: SEMAINE 35 | MN1: SEMAINE 36 | MX1: SEMAINE 37 | NH1: SEMAINE 38 | NR1: SEMAINE 39 | OB1: SEMAINE 40 | OL1: SEMAINE 41 | OV1: SEMAINE 42 | PF1: SEMAINE 43 | PP1: SEMAINE 44 | PZ1: SEMAINE 45 | QJ1: SEMAINE 46 | QT1: SEMAINE 47 | RD1: SEMAINE 48 | RN1: SEMAINE 49 | RX1: SEMAINE 50 | SH1: SEMAINE 51 | SR1: SEMAINE 52 | TB1: SEMAINE : 01 /2020
A2: Jours / Equipe | B2: 43465 | D2: 43466 | F2: 43467 | H2: 43468 | J2: 43469 | L2: 43472 | N2: 43473 | P2: 43474 | R2: 43475 | T2: 43476 | V2: 43479 | X2: 43480 | Z2: 43481 | AB2: 43482 | AD2: 43483 | AF2: 43486 | AH2: 43487 | AJ2: 43488 | AL2: 43489 | AN2: 43490 | AP2: 43493 | AR2: 43494 | AT2: 43495 | AV2: 43496 | AX2: 43497 | AZ2: 43500 | BB2: 43501 | BD2: 43502 | BF2: 43503 | BH2: 43504 | BJ2: 43507 | BL2: 43508 | BN2: 43509 | BP2: 43510 | BR2: 43511 | BT2: 43514 | BV2: 43515 | BX2: 43516 | BZ2: 43517 | CB2: 43518 | CD2: 43521 | CF2: 43522 | CH2: 43523 | CJ2: 43524 | CL2: 43525 | CN2: 43528 | CP2: 43529 | CR2: 43530 | CT2: 43531 | CV2: 43532 | CX2: 43535 | CZ2: 43536 | DB2: 43537 | DD2: 43538 | DF2: 43539 | DH2: 43542 | DJ2: 43543 | DL2: 43544 | DN2: 43545 | DP2: 43546 | DR2: 43549 | DT2: 43550 | DV2: 43551 | DX2: 43552 | DZ2: 43553 | EB2: 43556 | ED2: 43557 | EF2: 43558 | EH2: 43559 | EJ2: 43560 | EL2: 43563 | EN2: 43564 | EP2: 43565 | ER2: 43566 | ET2: 43567 | EV2: 43570 | EX2: 43571 | EZ2: 43572 | FB2: 43573 | FD2: 43574 | FF2: 43577 | FH2: 43578 | FJ2: 43579 | FL2: 43580 | FN2: 43581 | FP2: 43584 | FR2: 43585 | FT2: 43586 | FV2: 43587 | FX2: 43588 | FZ2: 43591 | GB2: 43592 | GD2: 43593 | GF2: 43594 | GH2: 43595 | GJ2: 43598 | GL2: 43599 | GN2: 43600 | GP2: 43601 | GR2: 43602 | GT2: 43605 | GV2: 43606 | GX2: 43607 | GZ2: 43608 | HB2: 43609 | HD2: 43612 | HF2: 43613 | HH2: 43614 | HJ2: 43615 | HL2: 43616 | HN2: 43619 | HP2: 43620 | HR2: 43621 | HT2: 43622 | HV2: 43623 | HX2: 43626 | HZ2: 43627 | IB2: 43628 | ID2: 43629 | IF2: 43630 | IH2: 43633 | IJ2: 43634 | IL2: 43635 | IN2: 43636 | IP2: 43637 | IR2: 43640 | IT2: 43641 | IV2: 43642 | IX2: 43643 | IZ2: 43644 | JB2: 43647 | JD2: 43648 | JF2: 43649 | JH2: 43650 | JJ2: 43651 | JL2: 43654 | JN2: 43655 | JP2: 43656 | JR2: 43657 | JT2: 43658 | JV2: 43661 | JX2: 43662 | JZ2: 43663 | KB2: 43664 | KD2: 43665 | KF2: 43668 | KH2: 43669 | KJ2: 43670 | KL2: 43671 | KN2: 43672 | KP2: 43675 | KR2: 43676 | KT2: 43677 | KV2: 43678 | KX2: 43679 | KZ2: 43682 | LB2: 43683 | LD2: 43684 | LF2: 43685 | LH2: 43686 | LJ2: 43689 | LL2: 43690 | LN2: 43691 | LP2: 43692 | LR2: 43693 | LT2: 43696 | LV2: 43697 | LX2: 43698 | LZ2: 43699 | MB2: 43700 | MD2: 43703 | MF2: 43704 | MH2: 43705 | MJ2: 43706 | ML2: 43707 | MN2: 43710 | MP2: 43711 | MR2: 43712 | MT2: 43713 | MV2: 43714 | MX2: 43717 | MZ2: 43718 | NB2: 43719 | ND2: 43720 | NF2: 43721 | NH2: 43724 | NJ2: 43725 | NL2: 43726 | NN2: 43727 | NP2: 43728 | NR2: 43731 | NT2: 43732 | NV2: 43733 | NX2: 43734 | NZ2: 43735 | OB2: 43738 | OD2: 43739 | OF2: 43740 | OH2: 43741 | OJ2: 43742 | OL2: 43745 | ON2: 43746 | OP2: 43747 | OR2: 43748 | OT2: 43749 | OV2: 43752 | OX2: 43753 | OZ2: 43754 | PB2: 43755 | PD2: 43756 | PF2: 43759 | PH2: 43760 | PJ2: 43761 | PL2: 43762 | PN2: 43763 | PP2: 43766 | PR2: 43767 | PT2: 43768 | PV2: 43769 | PX2: 43770 | PZ2: 43773 | QB2: 43774 | QD2: 43775 | QF2: 43776 | QH2: 43777 | QJ2: 43780 | QL2: 43781 | QN2: 43782 | QP2: 43783 | QR2: 43784 | QT2: 43787 | QV2: 43788 | QX2: 43789 | QZ2: 43790 | RB2: 43791 | RD2: 43794 | RF2: 43795 | RH2: 43796 | RJ2: 43797 | RL2: 43798 | RN2: 43801 | RP2: 43802 | RR2: 43803 | RT2: 43804 | RV2: 43805 | RX2: 43808 | RZ2: 43809 | SB2: 43810 | SD2: 43811 | SF2: 43812 | SH2: 43815 | SJ2: 43816 | SL2: 43817 | SN2: 43818 | SP2: 43819 | SR2: 43822 | ST2: 43823 | SV2: 43824 | SX2: 43825 | SZ2: 43826 | TB2: 43829 | TD2: 43830 | TF2: 43831 | TH2: 43832 | TJ2: 43833
A3: MAURO Denis
A7: LEBERRE Denis | F7: =IF('PLANNING EQUIPES'!F7<>"","X",IF('PLANNING EQUIPES'!G7<>"","X","")) -> X | H7: =IF('PLANNING EQUIPES'!H7<>"","X",IF('PLANNING EQUIPES'!I7<>"","X","")) -> X | J7: =IF('PLANNING EQUIPES'!J7<>"","X",IF('PLANNING EQUIPES'!K7<>"","X","")) -> X | L7: =IF('PLANNING EQUIPES'!L7<>"","X",IF('PLANNING EQUIPES'!M7<>"","X","")) -> X | N7: =IF('PLANNING EQUIPES'!N7<>"","X",IF('PLANNING EQUIPES'!O7<>"","X","")) -> X | P7: =IF('PLANNING EQUIPES'!P7<>"","X",IF('PLANNING EQUIPES'!Q7<>"","X","")) -> X | R7: =IF('PLANNING EQUIPES'!R7<>"","X",IF('PLANNING EQUIPES'!S7<>"","X","")) -> X | T7: =IF('PLANNING EQUIPES'!T7<>"","X",IF('PLANNING EQUIPES'!U7<>"","X","")) -> X | V7: =IF('PLANNING EQUIPES'!V7<>"","X",IF('PLANNING EQUIPES'!W7<>"","X","")) -> X | X7: =IF('PLANNING EQUIPES'!X7<>"","X",IF('PLANNING EQUIPES'!Y7<>"","X","")) -> X | Z7: =IF('PLANNING EQUIPES'!Z7<>"","X",IF('PLANNING EQUIPES'!AA7<>"","X","")) -> X | AB7: =IF('PLANNING EQUIPES'!AB7<>"","X",IF('PLANNING EQUIPES'!AC7<>"","X","")) -> X | AD7: =IF('PLANNING EQUIPES'!AD7<>"","X",IF('PLANNING EQUIPES'!AE7<>"","X","")) -> X
F10: =IF('PLANNING EQUIPES'!F10<>"","ASTREINTE",IF('PLANNING EQUIPES'!G10<>"","ASTREINTE","")) -> ASTREINTE | H10: =IF('PLANNING EQUIPES'!H10<>"","ASTREINTE",IF('PLANNING EQUIPES'!I10<>"","ASTREINTE","")) -> ASTREINTE | J10: =IF('PLANNING EQUIPES'!J10<>"","ASTREINTE",IF('PLANNING EQUIPES'!K10<>"","ASTREINTE","")) -> ASTREINTE | L10: =IF('PLANNING EQUIPES'!L10<>"","ASTREINTE",IF('PLANNING EQUIPES'!M10<>"","ASTREINTE","")) -> ASTREINTE | N10: =IF('PLANNING EQUIPES'!N10<>"","ASTREINTE",IF('PLANNING EQUIPES'!O10<>"","ASTREINTE","")) -> ASTREINTE | P10: =IF('PLANNING EQUIPES'!P10<>"","ASTREINTE",IF('PLANNING EQUIPES'!Q10<>"","ASTREINTE","")) -> ASTREINTE | R10: =IF('PLANNING EQUIPES'!R10<>"","ASTREINTE",IF('PLANNING EQUIPES'!S10<>"","ASTREINTE","")) -> ASTREINTE | T10: =IF('PLANNING EQUIPES'!T10<>"","ASTREINTE",IF('PLANNING EQUIPES'!U10<>"","ASTREINTE","")) -> ASTREINTE | V10: =IF('PLANNING EQUIPES'!V10<>"","ASTREINTE",IF('PLANNING EQUIPES'!W10<>"","ASTREINTE","")) | X10: =IF('PLANNING EQUIPES'!X10<>"","ASTREINTE",IF('PLANNING EQUIPES'!Y10<>"","ASTREINTE","")) -> ASTREINTE | Z10: =IF('PLANNING EQUIPES'!Z10<>"","ASTREINTE",IF('PLANNING EQUIPES'!AA10<>"","ASTREINTE","")) -> ASTREINTE | AB10: =IF('PLANNING EQUIPES'!AB10<>"","ASTREINTE",IF('PLANNING EQUIPES'!AC10<>"","ASTREINTE","")) -> ASTREINTE | AD10: =IF('PLANNING EQUIPES'!AD10<>"","ASTREINTE",IF('PLANNING EQUIPES'!AE10<>"","ASTREINTE","")) -> ASTREINTE
A11: GIMENEZ Patrice | RF11: =IF('PLANNING EQUIPES'!#REF!<>"","X",IF('PLANNING EQUIPES'!#REF!<>"","X","")) -> #REF! | RH11: =IF('PLANNING EQUIPES'!#REF!<>"","X",IF('PLANNING EQUIPES'!#REF!<>"","X","")) -> #REF! | RJ11: =IF('PLANNING EQUIPES'!#REF!<>"","X",IF('PLANNING EQUIPES'!#REF!<>"","X","")) -> #REF! | RL11: =IF('PLANNING EQUIPES'!#REF!<>"","X",IF('PLANNING EQUIPES'!#REF!<>"","X","")) -> #REF! | RN11: =IF('PLANNING EQUIPES'!#REF!<>"","X",IF('PLANNING EQUIPES'!#REF!<>"","X","")) -> #REF! | RP11: =IF('PLANNING EQUIPES'!#REF!<>"","X",IF('PLANNING EQUIPES'!#REF!<>"","X","")) -> #REF! | RR11: =IF('PLANNING EQUIPES'!#REF!<>"","X",IF('PLANNING EQUIPES'!#REF!<>"","X","")) -> #REF! | RT11: =IF('PLANNING EQUIPES'!#REF!<>"","X",IF('PLANNING EQUIPES'!#REF!<>"","X","")) -> #REF! | RV11: =IF('PLANNING EQUIPES'!#REF!<>"","X",IF('PLANNING EQUIPES'!#REF!<>"","X","")) -> #REF! | RX11: =IF('PLANNING EQUIPES'!#REF!<>"","X",IF('PLANNING EQUIPES'!#REF!<>"","X","")) -> #REF! | RZ11: =IF('PLANNING EQUIPES'!#REF!<>"","X",IF('PLANNING EQUIPES'!#REF!<>"","X","")) -> #REF! | SB11: =IF('PLANNING EQUIPES'!#REF!<>"","X",IF('PLANNING EQUIPES'!#REF!<>"","X","")) -> #REF! | SD11: =IF('PLANNING EQUIPES'!#REF!<>"","X",IF('PLANNING EQUIPES'!#REF!<>"","X","")) -> #REF! | SF11: =IF('PLANNING EQUIPES'!#REF!<>"","X",IF('PLANNING EQUIPES'!#REF!<>"","X","")) -> #REF! | SH11: =IF('PLANNING EQUIPES'!#REF!<>"","X",IF('PLANNING EQUIPES'!#REF!<>"","X","")) -> #REF! | SJ11: =IF('PLANNING EQUIPES'!#REF!<>"","X",IF('PLANNING EQUIPES'!#REF!<>"","X","")) -> #REF! | SL11: =IF('PLANNING EQUIPES'!#REF!<>"","X",IF('PLANNING EQUIPES'!#REF!<>"","X","")) -> #REF! | SN11: =IF('PLANNING EQUIPES'!#REF!<>"","X",IF('PLANNING EQUIPES'!#REF!<>"","X","")) -> #REF! | SP11: =IF('PLANNING EQUIPES'!#REF!<>"","X",IF('PLANNING EQUIPES'!#REF!<>"","X","")) -> #REF! | SR11: =IF('PLANNING EQUIPES'!#REF!<>"","X",IF('PLANNING EQUIPES'!#REF!<>"","X","")) -> #REF! | ST11: =IF('PLANNING EQUIPES'!#REF!<>"","X",IF('PLANNING EQUIPES'!#REF!<>"","X","")) -> #REF! | SV11: =IF('PLANNING EQUIPES'!#REF!<>"","X",IF('PLANNING EQUIPES'!#REF!<>"","X","")) -> #REF! | SX11: =IF('PLANNING EQUIPES'!#REF!<>"","X",IF('PLANNING EQUIPES'!#REF!<>"","X","")) -> #REF! | SZ11: =IF('PLANNING EQUIPES'!#REF!<>"","X",IF('PLANNING EQUIPES'!#REF!<>"","X","")) -> #REF! | TB11: =IF('PLANNING EQUIPES'!#REF!<>"","X",IF('PLANNING EQUIPES'!#REF!<>"","X","")) -> #REF! | TD11: =IF('PLANNING EQUIPES'!#REF!<>"","X",IF('PLANNING EQUIPES'!#REF!<>"","X","")) -> #REF! | TF11: =IF('PLANNING EQUIPES'!#REF!<>"","X",IF('PLANNING EQUIPES'!#REF!<>"","X","")) -> #REF! | TH11: =IF('PLANNING EQUIPES'!#REF!<>"","X",IF('PLANNING EQUIPES'!#REF!<>"","X","")) -> #REF! | TJ11: =IF('PLANNING EQUIPES'!#REF!<>"","X",IF('PLANNING EQUIPES'!#REF!<>"","X","")) -> #REF!
A15: MAGNE Philippe
AE566: 08/01/2019 - Relance Tel - Il s'en occcupe

Sheet TRAME  (3)
B1: ="SEMAINE : "& WEEKNUM(C2,2) -> #REF!
B2: Jours/Equipe | C2: =+#REF! -> #REF! | E2: =C2+1 -> #REF! | G2: =E2+1 -> #REF! | I2: =G2+1 -> #REF! | K2: =I2+1 -> #REF!
B3: SABLON | E3: 2R4D64 | F3: 2R4D64 | G3: 2R4D64 | H3: 2R4D64 | I3: 2R3D04 | J3: 2R3D04 | K3: 2R3D04 | L3: 2R3D04
E4: SAINTE-TERRE | F4: SAINTE-TERRE | G4: SAINTE-TERRE | H4: SAINTE-TERRE | I4: LAGORCE | J4: LAGORCE | K4: LAGORCE | L4: LAGORCE
E5: BDE | F5: BDE | G5: BDE | H5: BDE | I5: BDE | J5: BDE | K5: BDE | L5: BDE | M5: BDE | N5: BDE
B6: LACROIX | E6: 2R4D64 | F6: 2R4D64 | G6: 2R4D64 | H6: 2R4D64 | I6: 2R3D04 | J6: 2R3D04 | K6: 2R3D04 | L6: 2R3D04
E7: SAINTE-TERRE | F7: SAINTE-TERRE | G7: SAINTE-TERRE | H7: SAINTE-TERRE | I7: LAGORCE | J7: LAGORCE | K7: LAGORCE | L7: LAGORCE
E8: BDE | F8: BDE | G8: BDE | H8: BDE | I8: BDE | J8: BDE | K8: BDE | L8: BDE | M8: BDE | N8: BDE
B9: MAURO
C10: MALADIE | D10: MALADIE | E10: MALADIE | F10: MALADIE | G10: MALADIE | H10: MALADIE | I10: MALADIE | J10: MALADIE | K10: MALADIE | L10: MALADIE
B12: MARTINEZ | E12: PRÊT | F12: PRÊT | G12: PRÊT | H12: PRÊT | I12: PRÊT | J12: PRÊT | K12: PRÊT | L12: PRÊT
E13: TARBES | F13: TARBES | G13: TARBES | H13: TARBES | I13: TARBES | J13: TARBES | K13: TARBES | L13: TARBES
E14: OSMONT | F14: OSMONT | G14: OSMONT | H14: OSMONT | I14: OSMONT | J14: OSMONT | K14: OSMONT | L14: OSMONT
B15: LAGARDERE | E15: 2R5V02 | F15: 2R5V02 | G15: 2R5D09 | H15: 2R3M15
E16: FLOIRAC | F16: FLOIRAC | G16: TALENCE | H16: SAINT VINCENT DE PERTIGNAS
B18: LEBERRE
B21: LAUMONDAIS THIBAULT
C22: AGEN | D22: AGEN | E22: AGEN | F22: AGEN | G22: AGEN | H22: AGEN | I22: AGEN | J22: AGEN | K22: AGEN | L22: AGEN
B24: CLIFFORD
C25: MALADIE | D25: MALADIE | E25: MALADIE | F25: MALADIE | G25: MALADIE | H25: MALADIE | I25: MALADIE | J25: MALADIE | K25: MALADIE | L25: MALADIE
B27: MEYNARD Jacky | M27: 2R4P50
C28: MALADIE | D28: MALADIE | E28: MALADIE | F28: MALADIE | G28: MALADIE | H28: MALADIE | I28: MALADIE | J28: MALADIE | K28: MALADIE | L28: MALADIE
B31: DULOU | E31: PRÊT | F31: PRÊT | G31: PRÊT | H31: PRÊT | I31: PRÊT | J31: PRÊT | K31: PRÊT | L31: PRÊT
E32: RIONS DES LANDES | F32: RIONS DES LANDES | G32: RIONS DES LANDES | H32: RIONS DES LANDES | I32: RIONS DES LANDES | J32: RIONS DES LANDES | K32: RIONS DES LANDES | L32: RIONS DES LANDES
E33: CACHEZ | F33: CACHEZ | G33: CACHEZ | H33: CACHEZ | I33: CACHEZ | J33: CACHEZ | K33: CACHEZ | L33: CACHEZ
B34: LHANI
B37: ALLALI
M38: LACANAU | N38: LACANAU
B40: HOMAREAU
M41: LACANAU | N41: LACANAU
B43: GALOPEAU Loïc
B46: BOUSSEAU Matthias
B49: BERGER
M50: NIORT | N50: NIORT | O50: NIORT | P50: NIORT
B52: BERNA
B55: LAPORTE
B58: MESCHIN
B61: DECLERC M
B64: PINARDEAU
B68: ENCOGNERE Pierre | E68: 2R5AND.01 | F68: 2R5AND.01 | G68: 2R5P11 | H68: 2R5P11 | I68: 2R5P11 | J68: 2R5P11 | K68: DEPANNAGE | L68: DEPANNAGE
E69: ANDERNOS | F69: ANDERNOS | G69: CAMBLANES ET MEYNAC | H69: CAMBLANES ET MEYNAC | I69: CAMBLANES ET MEYNAC | J69: CAMBLANES ET MEYNAC | K69: SDEEG | L69: SDEEG
E70: CFR | F70: CFR | G70: CFR | H70: CFR | I70: CFR | J70: CFR | K70: CFR | L70: CFR
B71: KHADRAOUI Ramdane | E71: 2R5AND.01 | F71: 2R5AND.01 | G71: 2R5P11 | H71: 2R5P11 | I71: 2R5P11 | J71: 2R5P11 | K71: DEPANNAGE | L71: DEPANNAGE
E72: ANDERNOS | F72: ANDERNOS | G72: CAMBLANES ET MEYNAC | H72: CAMBLANES ET MEYNAC | I72: CAMBLANES ET MEYNAC | J72: CAMBLANES ET MEYNAC | K72: SDEEG | L72: SDEEG
E73: CFR | F73: CFR | G73: CFR | H73: CFR | I73: CFR | J73: CFR | K73: CFR | L73: CFR
B74: MUNIZ Kévin | E74: DEPANNAGE | F74: DEPANNAGE | G74: 2R4V06 | H74: 2R4V06 | I74: 2R4V06 | J74: 2R4V06 | K74: 2R5P21 | L74: 2R5ARC.03
E75: SDEEG | F75: SDEEG | G75: BASSENS | H75: BASSENS | I75: BASSENS | J75: BASSENS | K75: LISTRAC-MEDOC | L75: ARCINS
E76: CFR | F76: CFR | G76: CFR | H76: CFR | I76: CFR | J76: CFR | K76: CFR | L76: CFR
B77: CARPENTEY NICOLAS | E77: DEPANNAGE | F77: DEPANNAGE | G77: 2R4V06 | H77: 2R4V06 | I77: 2R4V06 | J77: 2R4V06 | K77: 2R5P21 | L77: 2R5ARC.03
E78: SDEEG | F78: SDEEG | G78: BASSENS | H78: BASSENS | I78: BASSENS | J78: BASSENS | K78: LISTRAC-MEDOC | L78: ARCINS
E79: CFR | F79: CFR | G79: CFR | H79: CFR | I79: CFR | J79: CFR | K79: CFR | L79: CFR
B86: DUSSERT LAURENT | E86: 2RK1G4.52 | F86: 2RK1G4.52 | G86: 2RK1G4.52 | H86: 2RK1G4.52 | I86: 2RK1G4.52 | J86: 2RK1G4.52 | K86: 2RK1G4.52 | L86: 2RK1G4.52
E87: LACANAU | F87: LACANAU | G87: LACANAU | H87: LACANAU | I87: LACANAU | J87: LACANAU | K87: LACANAU | L87: LACANAU
B89: CONTE LAURENT | E89: 2RK1G4.52 | F89: 2RK1G4.52 | G89: 2RK1G4.52 | H89: 2RK1G4.52 | I89: 2RK1G4.52 | J89: 2RK1G4.52 | K89: 2RK1G4.52 | L89: 2RK1G4.52
E90: LACANAU | F90: LACANAU | G90: LACANAU | H90: LACANAU | I90: LACANAU | J90: LACANAU | K90: LACANAU | L90: LACANAU
B98: CAMBUS Stéphane | G98: 2R4D64 | H98: 2R4D64 | I98: 2R5D05 | J98: 2R5D05 | K98: 2R5D05 | L98: 2R5D05
G99: SAINTE-TERRE | H99: SAINTE-TERRE | I99: ARSAC | J99: ARSAC | K99: ARSAC | L99: ARSAC
B101: TRICARD Alain | E101: 2R5D09 | F101: 2R5D09 | G101: 2R3M15 | H101: 2R3M15 | K101: 2R5P21 | L101: 2R5P17
E102: TALENCE | F102: TALENCE | G102: SAINT VINCENT DE PERTIGNAS | H102: SAINT VINCENT DE PERTIGNAS | K102: LISTRAC-MEDOC | L102: LIBOURNE
K103: CFR | L103: CFR
B104: CAZAUX
A108: MACON | B108: BAILLET
A112: MATERIEL | B112: DEROULEUSE BL-444-ML
B113: DEROULEUSE 6056
B114: DEROULEUSE 6693 PL
B115: PETITE DEROULEUSE
B116: FUSEE
B117: NACELLE IVECO
B118: TREUIL

Sheet sem08 (2)
B1: SEMAINE : 8
B2: Jours/Equipe | C2: 42051 | E2: 42052 | G2: 42053 | I2: 42054 | K2: 42055
B3: SABLON | C3: 2R3H10 | D3: 2R3H10 | E3: 2R4E14 | F3: 2R4E14 | G3: 2R5D02 | I3: 2R4E16 | J3: 2R5E01 | K3: 2R4H04 | L3: 2R4H04
C4: LEOGEATS | D4: LEOGEATS | E4: DEPANNAGE | F4: DEPANNAGE | G4: LANGON | I4: LIBOURNE | J4: CASTILLON-LA-BATAILLE | K4: SAINT-PIERRE-DE-MONS | L4: SAINT-PIERRE-DE-MONS
C5: LZI | D5: LZI | G5: LZI | I5: BDE | J5: BDE | K5: LZI | L5: LZI
B6: LACROIX | C6: 2R3H10 | D6: 2R3H10 | E6: 2R4E14 | F6: 2R4E14 | G6: 2R5D02 | I6: 2R4E16 | J6: 2R5E01 | K6: 2R4H04 | L6: 2R4H04
C7: LEOGEATS | D7: LEOGEATS | E7: DEPANNAGE | F7: DEPANNAGE | G7: LANGON | I7: LIBOURNE | J7: CASTILLON-LA-BATAILLE | K7: SAINT-PIERRE-DE-MONS | L7: SAINT-PIERRE-DE-MONS
B9: MAURO
C10: MALADIE | D10: MALADIE | E10: MALADIE | F10: MALADIE | G10: MALADIE | H10: MALADIE | I10: MALADIE | J10: MALADIE | K10: MALADIE | L10: MALADIE
B12: MARTINEZ
C13: VILLAGE NATURE | D13: VILLAGE NATURE | E13: VILLAGE NATURE | F13: VILLAGE NATURE | G13: VILLAGE NATURE | H13: VILLAGE NATURE | I13: VILLAGE NATURE | J13: VILLAGE NATURE | K13: VILLAGE NATURE | L13: VILLAGE NATURE
B15: LAGARDERE | C15: 2R4V17 | D15: 2R4V17 | E15: 2R4V17 | F15: 2R4V17 | G15: 2R3H08 | H15: 2R3H08 | I15: 2R3H08 | J15: 2R3H08 | K15: 2R4V17 | L15: 2R4V17
C16: SAINT-LAURENT-MEDOC | D16: SAINT-LAURENT-MEDOC | E16: SAINT-LAURENT-MEDOC | F16: SAINT-LAURENT-MEDOC | G16: SOULAC-SUR-MER | H16: SOULAC-SUR-MER | I16: SOULAC-SUR-MER | J16: SOULAC-SUR-MER | K16: SAINT-LAURENT-MEDOC | L16: SAINT-LAURENT-MEDOC
C17: BDE | D17: BDE | E17: BDE | F17: BDE | G17: BDM | H17: BDM | I17: BDM | J17: BDM | K17: BDE | L17: BDE
B18: LEBERRE | C18: 2R4V17 | D18: 2R4V17 | E18: 2R4V17 | F18: 2R4V17 | G18: 2R3H08 | H18: 2R3H08 | I18: 2R3H08 | J18: 2R3H08 | K18: 2R4V17 | L18: 2R4V17
C19: SAINT-LAURENT-MEDOC | D19: SAINT-LAURENT-MEDOC | E19: SAINT-LAURENT-MEDOC | F19: SAINT-LAURENT-MEDOC | G19: SOULAC-SUR-MER | H19: SOULAC-SUR-MER | I19: SOULAC-SUR-MER | J19: SOULAC-SUR-MER | K19: SAINT-LAURENT-MEDOC | L19: SAINT-LAURENT-MEDOC
C20: BDE | D20: BDE | E20: BDE | F20: BDE | G20: BDM | H20: BDM | I20: BDM | J20: BDM | K20: BDE | L20: BDE
B21: LAUMONDAIS THIBAULT
C22: AGEN | D22: AGEN | E22: AGEN | F22: AGEN | G22: AGEN | H22: AGEN | I22: AGEN | J22: AGEN | K22: AGEN | L22: AGEN
B24: CLIFFORD
C25: F | D25: F | E25: F | F25: F | G25: MALADIE | H25: MALADIE | I25: MALADIE | J25: MALADIE | K25: MALADIE | L25: MALADIE
B27: MEYNARD Jacky | M27: 2R4P50
C28: MALADIE | D28: MALADIE | E28: MALADIE | F28: MALADIE | G28: MALADIE | H28: MALADIE | I28: MALADIE | J28: MALADIE | K28: MALADIE | L28: MALADIE
B31: DULOU | C31: TRAM01 | D31: TRAM02 | E31: TRAM03 | F31: TRAM04 | G31: 2R4V13 | H31: 2R4V13 | I31: 2R4V13 | J31: 2R4V13 | K31: 2R4V13 | L31: 2R4V13
C32: BEGLES | D32: BEGLES | E32: BEGLES | F32: BEGLES | G32: AMBARES-ET-LAGRAVE | H32: AMBARES-ET-LAGRAVE | I32: AMBARES-ET-LAGRAVE | J32: AMBARES-ET-LAGRAVE | K32: AMBARES-ET-LAGRAVE | L32: AMBARES-ET-LAGRAVE
G33: BDE | H33: BDE | I33: BDE | J33: BDE | K33: BDE | L33: BDE
B34: LHANI | E34: enrobe
C35: MALADIE | D35: MALADIE | E35: MALADIE | F35: MALADIE | G35: MALADIE | H35: MALADIE | I35: MALADIE | J35: MALADIE | K35: MALADIE | L35: MALADIE
B37: ALLALI | C37: RT0000 | D37: RT0000 | E37: RT0000 | F37: RT0000 | G37: 2R4V13 | H37: 2R4V13 | I37: 2R4V13 | J37: 2R4V13 | K37: 2R4V13 | L37: 2R4V13
C38: BORDEAUX | D38: BORDEAUX | E38: BORDEAUX | F38: BORDEAUX | G38: AMBARES-ET-LAGRAVE | H38: AMBARES-ET-LAGRAVE | I38: AMBARES-ET-LAGRAVE | J38: AMBARES-ET-LAGRAVE | K38: AMBARES-ET-LAGRAVE | L38: AMBARES-ET-LAGRAVE
C39: BDE | D39: BDE | E39: BDE | F39: BDE | G39: BDE | H39: BDE | I39: BDE | J39: BDE | K39: BDE | L39: BDE
B40: HOMAREAU | C40: RT0000 | D40: RT0000 | E40: RT0000 | F40: RT0000 | G40: 2R4V13 | H40: 2R4V13 | I40: 2R4V13 | J40: 2R4V13 | K40: 2R4V13 | L40: 2R4V13
C41: BORDEAUX | D41: BORDEAUX | E41: BORDEAUX | F41: BORDEAUX | G41: AMBARES-ET-LAGRAVE | H41: AMBARES-ET-LAGRAVE | I41: AMBARES-ET-LAGRAVE | J41: AMBARES-ET-LAGRAVE | K41: AMBARES-ET-LAGRAVE | L41: AMBARES-ET-LAGRAVE
C42: BDE | D42: BDE | E42: BDE | F42: BDE | G42: BDE | H42: BDE | I42: BDE | J42: BDE | K42: BDE | L42: BDE
B43: GALOPEAU Loïc
C44: VILLAGE NATURE | D44: VILLAGE NATURE | E44: VILLAGE NATURE | F44: VILLAGE NATURE | G44: VILLAGE NATURE | H44: VILLAGE NATURE | I44: VILLAGE NATURE | J44: VILLAGE NATURE | K44: VILLAGE NATURE | L44: VILLAGE NATURE
B46: BOUSSEAU Matthias
C47: VILLAGE NATURE | D47: VILLAGE NATURE | E47: VILLAGE NATURE | F47: VILLAGE NATURE | G47: VILLAGE NATURE | H47: VILLAGE NATURE | I47: VILLAGE NATURE | J47: VILLAGE NATURE | K47: VILLAGE NATURE | L47: VILLAGE NATURE
B49: EL HANI
C50: MAD | D50: MAD | E50: MAD | F50: MAD | G50: MAD | H50: MAD | I50: MAD | J50: MAD | K50: MAD | L50: MAD | M50: MALADIE | N50: MALADIE | O50: MALADIE | P50: MALADIE
B52: BERGER
C53: NIORT | D53: NIORT | E53: NIORT | F53: NIORT | G53: NIORT | H53: NIORT | I53: NIORT | J53: NIORT | K53: NIORT | L53: NIORT | M53: NIORT | N53: NIORT | O53: NIORT | P53: NIORT
B55: BERNA
C56: LACANAU | D56: LACANAU | E56: LACANAU | F56: LACANAU | G56: LACANAU | H56: LACANAU | I56: LACANAU | J56: LACANAU | K56: LACANAU | L56: LACANAU
B58: LAPORTE | C58: 2R5D02 | D58: 2R5D02 | E58: ENROBE | F58: ENROBE | G58: 2R4V17 | H58: 2R4V17 | I58: 2R4V17 | J58: 2R4V17 | K58: 2R4D64 | L58: 2R4D64
C59: LANGON | D59: LANGON | E59: ST CAPRAIS | F59: BEGLES MUSSONVILLE | G59: SAINT LAURENT | H59: SAINT LAURENT | I59: SAINT LAURENT | J59: SAINT LAURENT | K59: ST TERRE | L59: ST TERRE
C60: LZI | D60: LZI | G60: BDE | H60: BDE | I60: BDE | J60: BDE | K60: BDE | L60: BDE
B61: MESCHIN | C61: 2R5D02 | D61: 2R5D02 | E61: ENROBE | F61: ENROBE | G61: 2R4V17 | H61: 2R4V17 | I61: 2R4V17 | J61: 2R4V17 | K61: 2R4D64 | L61: 2R4D64
C62: LANGON | D62: LANGON | E62: ST CAPRAIS | F62: BEGLES MUSSONVILLE | G62: SAINT LAURENT | H62: SAINT LAURENT | I62: SAINT LAURENT | J62: SAINT LAURENT | K62: ST TERRE | L62: ST TERRE
C63: LZI | D63: LZI | G63: BDE | H63: BDE | I63: BDE | J63: BDE | K63: BDE | L63: BDE
B64: ALBERT | C64: TRAM01 | D64: TRAM02 | E64: TRAM03 | F64: TRAM04
C65: BEGLES | D65: BEGLES | E65: BEGLES | F65: BEGLES | G65: MAD | H65: MAD | I65: MAD | J65: MAD | K65: MAD | L65: MAD
B67: DECLERC M
B70: PINARDEAU
B74: ENCOGNERE Pierre | E74: 2R5AND.01 | F74: 2R5AND.01 | I74: 2R5AND.01 | J74: 2R5AND.01 | K74: 2R4H04 | L74: 2R4P08
C75: DEPANNAGE | D75: SDEEG | E75: ANDERNOS | F75: ANDERNOS | G75: SDEEG | H75: SDEEG | I75: ANDERNOS | J75: ANDERNOS | K75: SAINT-PIERRE-DE-MONS | L75: CAPIAN
C76: CFR | D76: CFR | E76: CFR | F76: CFR | G76: CFR | H76: CFR | I76: CFR | J76: CFR | K76: CFR | L76: CFR
B77: KHADRAOUI Ramdane | E77: 2R5AND.01 | F77: 2R5AND.01 | I77: 2R5AND.01 | J77: 2R5AND.01 | K77: 2R4H04 | L77: 2R4P08
C78: DEPANNAGE | D78: SDEEG | E78: ANDERNOS | F78: ANDERNOS | G78: SDEEG | H78: SDEEG | I78: ANDERNOS | J78: ANDERNOS | K78: SAINT-PIERRE-DE-MONS | L78: CAPIAN
C79: CFR | D79: CFR | E79: CFR | F79: CFR | G79: CFR | H79: CFR | I79: CFR | J79: CFR | K79: CFR | L79: CFR
B80: MUNIZ Kévin | C80: 2R4P61 | D80: 2R4P61 | G80: 2R4P61 | H80: 2R4P61 | J80: 2R4P60
C81: LE PORGE | D81: LE PORGE | E81: DEPANNAGE | F81: SDEEG | G81: LE PORGE | H81: LE PORGE | I81: DEPANNAGE | J81: LE TEMPLE | K81: DECAUX | L81: DECAUX
C82: CFR | D82: CFR | E82: CFR | F82: CFR | G82: CFR | H82: CFR | I82: CFR | J82: CFR | K82: CFR | L82: CFR
B83: CARPENTEY NICOLAS | C83: 2R4P61 | D83: 2R4P61 | E83: 2R4P61 | F83: 2R4P61 | G83: 2R4P61 | H83: 2R4P61 | J83: 2R4P60
C84: LE PORGE | D84: LE PORGE | E84: LE PORGE | F84: LE PORGE | G84: LE PORGE | H84: LE PORGE | I84: DEPANNAGE | J84: LE TEMPLE | K84: DECAUX | L84: DECAUX
C85: CFR | D85: CFR | E85: CFR | F85: CFR | G85: CFR | H85: CFR | I85: CFR | J85: CFR | K85: CFR | L85: CFR
B92: CAMBUS Stéphane
C93: VILLAGE NATURE | D93: VILLAGE NATURE | E93: VILLAGE NATURE | F93: VILLAGE NATURE | G93: VILLAGE NATURE | H93: VILLAGE NATURE | I93: VILLAGE NATURE | J93: VILLAGE NATURE | K93: VILLAGE NATURE | L93: VILLAGE NATURE
L94: BDE
B95: TRICARD Alain | C95: 2R3H10 | D95: 2R3H10 | E95: 2R4E14 | F95: 2R4E14 | G95: 2R3H08 | H95: 2R3H08 | I95: 2R3H08 | J95: 2R3H08 | K95: 2R4H04 | L95: 2R4H04
C96: LEOGEATS | D96: LEOGEATS | E96: DEPANNAGE | F96: DEPANNAGE | G96: SOULAC-SUR-MER | H96: SOULAC-SUR-MER | I96: SOULAC-SUR-MER | J96: SOULAC-SUR-MER | K96: SAINT-PIERRE-DE-MONS | L96: SAINT-PIERRE-DE-MONS
C97: LZI | D97: LZI | E97: MBO | F97: MBO | G97: BDM | H97: BDM | I97: BDM | J97: BDM | K97: LZI | L97: LZI
B98: CAZAUX | C98: 2R3H10 | D98: 2R3H10 | I98: 2R4D64 | J98: 2R4D64
C99: LEOGEATS | D99: LEOGEATS | I99: ST TERRE | J99: ST TERRE
I100: BDE | J100: BDE
A102: MACON | B102: BAILLET
A106: MATERIEL | B106: DEROULEUSE BL-444-ML | C106: 2R4P61 LE PORGE | D106: 2R4P61 LE PORGE
B107: DEROULEUSE 6056
B108: DEROULEUSE 6693 PL
B109: PETITE DEROULEUSE
B110: FUSEE
B111: NACELLE IVECO | C111: ST PIERRE DE MONS | D111: ST PIERRE DE MONS | G111: LEOGEATS | H111: LEOGEATS | I111: LEOGEATS | J111: LEOGEATS | K111: LEOGEATS | L111: LEOGEATS
B112: TREUIL

Sheet TRAME  (2)
A3: RACCORDEMENT
M27: 2R4P50
A105: MACON
A109: MATERIEL
