Workbook

Sheet feuil1
A1: BLOC | B1: Zone | C1: Groupe | D1: NUM | G1: Résultat Final | J1: code | K1: libéllé | P1: BLOC | Q1: Désignation | AC1: INDEX | UW1: INDEX
A2: =feuil2!A2 -> ba | B2: =feuil2!D2 -> bureau 2 | C2: =feuil2!E2 -> rdc | D2: =feuil2!H2 -> 1 | G2: =IFERROR(INDEX(tblDesign[],MATCH(feuil2!A2,tblDesign[BLOC],0),2) & " " & feuil2!H2 & " " & feuil2!E2 & " " & feuil2!D2,"") -> Bobine allumage 1 rdc bureau 2 | J2: 1 | K2: Bobine allumage 1 rdc bureau 2 | P2: BA | Q2: Bobine allumage | AC2: =ROW()-1 -> 1 | UW2: =ROW()-1 -> 1
A3: =feuil2!A3 -> ba | B3: =feuil2!D3 -> bureau 3 | C3: =feuil2!E3 -> r+1 | D3: =feuil2!H3 -> 2 | G3: =IFERROR(INDEX(tblDesign[],MATCH(feuil2!A3,tblDesign[BLOC],0),2) & " " & feuil2!H3 & " " & feuil2!E3 & " " & feuil2!D3,"") -> Bobine allumage 2 r+1 bureau 3 | J3: 2 | K3: Bobine allumage 2 r+1 bureau 3 | P3: DI | Q3: Détécteur d'incendie | AC3: =ROW()-1 -> 2 | UW3: =ROW()-1 -> 2
A4: =feuil2!A4 -> ba | B4: =feuil2!D4 -> bureau 8 | C4: =feuil2!E4 -> rdc | D4: =feuil2!H4 -> 2 | G4: =IFERROR(INDEX(tblDesign[],MATCH(feuil2!A4,tblDesign[BLOC],0),2) & " " & feuil2!H4 & " " & feuil2!E4 & " " & feuil2!D4,"") -> Bobine allumage 2 rdc bureau 8 | J4: 3 | K4: Bobine allumage 2 rdc bureau 8 | P4: blo | Q4: Bloqueur | AC4: =ROW()-1 -> 3 | UW4: =ROW()-1 -> 3
A5: =feuil2!A5 -> ba | B5: =feuil2!D5 -> bureau 7 | C5: =feuil2!E5 -> rdc | D5: =feuil2!H5 -> 8 | G5: =IFERROR(INDEX(tblDesign[],MATCH(feuil2!A5,tblDesign[BLOC],0),2) & " " & feuil2!H5 & " " & feuil2!E5 & " " & feuil2!D5,"") -> Bobine allumage 8 rdc bureau 7 | J5: 4 | K5: Bobine allumage 8 rdc bureau 7 | P5: RELEC | Q5: Relais | AC5: =ROW()-1 -> 4 | UW5: =ROW()-1 -> 4
A6: =feuil2!A6 -> ba | B6: =feuil2!D6 -> bureau 5 | C6: =feuil2!E6 -> rdc | D6: =feuil2!H6 -> 9 | G6: =IFERROR(INDEX(tblDesign[],MATCH(feuil2!A6,tblDesign[BLOC],0),2) & " " & feuil2!H6 & " " & feuil2!E6 & " " & feuil2!D6,"") -> Bobine allumage 9 rdc bureau 5 | J6: 5 | K6: Bobine allumage 9 rdc bureau 5 | AC6: =ROW()-1 -> 5 | UW6: =ROW()-1 -> 5
A7: =feuil2!A7 -> ba | B7: =feuil2!D7 -> bureau 1 | C7: =feuil2!E7 -> rdc | D7: =feuil2!H7 -> 11 | G7: =IFERROR(INDEX(tblDesign[],MATCH(feuil2!A7,tblDesign[BLOC],0),2) & " " & feuil2!H7 & " " & feuil2!E7 & " " & feuil2!D7,"") -> Bobine allumage 11 rdc bureau 1 | J7: 6 | K7: Bobine allumage 11 rdc bureau 1 | AC7: =ROW()-1 -> 6 | UW7: =ROW()-1 -> 6
A8: =feuil2!A8 -> ba | B8: =feuil2!D8 -> local tech | C8: =feuil2!E8 -> rdc | D8: =feuil2!H8 -> 13 | G8: =IFERROR(INDEX(tblDesign[],MATCH(feuil2!A8,tblDesign[BLOC],0),2) & " " & feuil2!H8 & " " & feuil2!E8 & " " & feuil2!D8,"") -> Bobine allumage 13 rdc local tech | J8: 60 | K8: Bobine allumage 13 rdc bureau 4 | AC8: =ROW()-1 -> 7 | UW8: =ROW()-1 -> 7
A9: =feuil2!A9 -> blo | B9: =feuil2!D9 -> bureau 3 | C9: =feuil2!E9 -> r+1 | D9: =feuil2!H9 -> 1 | G9: =IFERROR(INDEX(tblDesign[],MATCH(feuil2!A9,tblDesign[BLOC],0),2) & " " & feuil2!H9 & " " & feuil2!E9 & " " & feuil2!D9,"") -> Bloqueur 1 r+1 bureau 3 | AC9: =ROW()-1 -> 8 | UW9: =ROW()-1 -> 8
A10: =feuil2!A10 -> blo | B10: =feuil2!D10 -> bureau 6 | C10: =feuil2!E10 -> r+1 | D10: =feuil2!H10 -> 10 | G10: =IFERROR(INDEX(tblDesign[],MATCH(feuil2!A10,tblDesign[BLOC],0),2) & " " & feuil2!H10 & " " & feuil2!E10 & " " & feuil2!D10,"") -> Bloqueur 10 r+1 bureau 6 | AC10: =ROW()-1 -> 9 | UW10: =ROW()-1 -> 9
A11: =feuil2!A11 -> blo | B11: =feuil2!D11 -> bureau 5 | C11: =feuil2!E11 -> rdc | D11: =feuil2!H11 -> 11 | G11: =IFERROR(INDEX(tblDesign[],MATCH(feuil2!A11,tblDesign[BLOC],0),2) & " " & feuil2!H11 & " " & feuil2!E11 & " " & feuil2!D11,"") -> Bloqueur 11 rdc bureau 5 | J11: code | K11: libéllé | AC11: =ROW()-1 -> 10 | UW11: =ROW()-1 -> 10
A12: =feuil2!A12 -> blo | B12: =feuil2!D12 -> bureau 4 | C12: =feuil2!E12 -> rdc | D12: =feuil2!H12 -> 12 | G12: =IFERROR(INDEX(tblDesign[],MATCH(feuil2!A12,tblDesign[BLOC],0),2) & " " & feuil2!H12 & " " & feuil2!E12 & " " & feuil2!D12,"") -> Bloqueur 12 rdc bureau 4 | J12: 1 | K12: Relais 4 rdc bureau 1 | AC12: =ROW()-1 -> 11 | UW12: =ROW()-1 -> 11
A13: =feuil2!A13 -> blo | B13: =feuil2!D13 -> bureau 2 | C13: =feuil2!E13 -> rdc | D13: =feuil2!H13 -> 14 | G13: =IFERROR(INDEX(tblDesign[],MATCH(feuil2!A13,tblDesign[BLOC],0),2) & " " & feuil2!H13 & " " & feuil2!E13 & " " & feuil2!D13,"") -> Bloqueur 14 rdc bureau 2 | J13: 2 | K13: Relais 6 r+1 bureau 6 | AC13: =ROW()-1 -> 12 | UW13: =ROW()-1 -> 12
A14: =feuil2!A14 -> blo | B14: =feuil2!D14 -> bureau 1 | C14: =feuil2!E14 -> r+1 | D14: =feuil2!H14 -> 15 | G14: =IFERROR(INDEX(tblDesign[],MATCH(feuil2!A14,tblDesign[BLOC],0),2) & " " & feuil2!H14 & " " & feuil2!E14 & " " & feuil2!D14,"") -> Bloqueur 15 r+1 bureau 1 | J14: 3 | K14: Relais 9 rdc bureau 7 | AC14: =ROW()-1 -> 13 | UW14: =ROW()-1 -> 13
A15: =feuil2!A15 -> blo | B15: =feuil2!D15 -> bureau 2 | C15: =feuil2!E15 -> rdc | D15: =feuil2!H15 -> 22 | G15: =IFERROR(INDEX(tblDesign[],MATCH(feuil2!A15,tblDesign[BLOC],0),2) & " " & feuil2!H15 & " " & feuil2!E15 & " " & feuil2!D15,"") -> Bloqueur 22 rdc bureau 2 | J15: 4 | K15: Relais 13 rdc bureau 3 | AC15: =ROW()-1 -> 14 | UW15: =ROW()-1 -> 14
A16: =feuil2!A16 -> blo | B16: =feuil2!D16 -> bureau 1 | C16: =feuil2!E16 -> r+1 | D16: =feuil2!H16 -> 10 | G16: =IFERROR(INDEX(tblDesign[],MATCH(feuil2!A16,tblDesign[BLOC],0),2) & " " & feuil2!H16 & " " & feuil2!E16 & " " & feuil2!D16,"") -> Bloqueur 10 r+1 bureau 1 | J16: 60 | K16: Relais 19 r+1 bureau 7 | AC16: =ROW()-1 -> 15 | UW16: =ROW()-1 -> 15
A17: =feuil2!A17 -> blo | B17: =feuil2!D17 -> bureau 9 | C17: =feuil2!E17 -> rdc | D17: =feuil2!H17 -> 11 | G17: =IFERROR(INDEX(tblDesign[],MATCH(feuil2!A17,tblDesign[BLOC],0),2) & " " & feuil2!H17 & " " & feuil2!E17 & " " & feuil2!D17,"") -> Bloqueur 11 rdc bureau 9 | AC17: =ROW()-1 -> 16 | UW17: =ROW()-1 -> 16
A18: =feuil2!A18 -> blo | B18: =feuil2!D18 -> bureau 9 | C18: =feuil2!E18 -> rdc | D18: =feuil2!H18 -> 11 | G18: =IFERROR(INDEX(tblDesign[],MATCH(feuil2!A18,tblDesign[BLOC],0),2) & " " & feuil2!H18 & " " & feuil2!E18 & " " & feuil2!D18,"") -> Bloqueur 11 rdc bureau 9 | AC18: =ROW()-1 -> 17 | UW18: =ROW()-1 -> 17
A19: =feuil2!A19 -> blo | B19: =feuil2!D19 -> bureau 8 | C19: =feuil2!E19 -> rdc | D19: =feuil2!H19 -> 12 | G19: =IFERROR(INDEX(tblDesign[],MATCH(feuil2!A19,tblDesign[BLOC],0),2) & " " & feuil2!H19 & " " & feuil2!E19 & " " & feuil2!D19,"") -> Bloqueur 12 rdc bureau 8 | AC19: =ROW()-1 -> 18 | UW19: =ROW()-1 -> 18
A20: =feuil2!A20 -> di | B20: =feuil2!D20 -> bureau 3 | C20: =feuil2!E20 -> r+1 | D20: =feuil2!H20 -> 1 | G20: =IFERROR(INDEX(tblDesign[],MATCH(feuil2!A20,tblDesign[BLOC],0),2) & " " & feuil2!H20 & " " & feuil2!E20 & " " & feuil2!D20,"") -> Détécteur d'incendie 1 r+1 bureau 3 | AC20: =ROW()-1 -> 19 | UW20: =ROW()-1 -> 19
A21: =feuil2!A21 -> di | B21: =feuil2!D21 -> bureau 2 | C21: =feuil2!E21 -> rdc | D21: =feuil2!H21 -> 5 | G21: =IFERROR(INDEX(tblDesign[],MATCH(feuil2!A21,tblDesign[BLOC],0),2) & " " & feuil2!H21 & " " & feuil2!E21 & " " & feuil2!D21,"") -> Détécteur d'incendie 5 rdc bureau 2 | AC21: =ROW()-1 -> 20 | UW21: =ROW()-1 -> 20
A22: =feuil2!A22 -> di | B22: =feuil2!D22 -> bureau 9 | C22: =feuil2!E22 -> rdc | D22: =feuil2!H22 -> 17 | G22: =IFERROR(INDEX(tblDesign[],MATCH(feuil2!A22,tblDesign[BLOC],0),2) & " " & feuil2!H22 & " " & feuil2!E22 & " " & feuil2!D22,"") -> Détécteur d'incendie 17 rdc bureau 9 | AC22: =ROW()-1 -> 21 | UW22: =ROW()-1 -> 21
A23: =feuil2!A23 -> di | B23: =feuil2!D23 -> bureau 8 | C23: =feuil2!E23 -> rdc | D23: =feuil2!H23 -> 18 | G23: =IFERROR(INDEX(tblDesign[],MATCH(feuil2!A23,tblDesign[BLOC],0),2) & " " & feuil2!H23 & " " & feuil2!E23 & " " & feuil2!D23,"") -> Détécteur d'incendie 18 rdc bureau 8 | AC23: =ROW()-1 -> 22 | UW23: =ROW()-1 -> 22
A24: =feuil2!A24 -> di | B24: =feuil2!D24 -> bureau 6 | C24: =feuil2!E24 -> r+1 | D24: =feuil2!H24 -> 20 | G24: =IFERROR(INDEX(tblDesign[],MATCH(feuil2!A24,tblDesign[BLOC],0),2) & " " & feuil2!H24 & " " & feuil2!E24 & " " & feuil2!D24,"") -> Détécteur d'incendie 20 r+1 bureau 6 | AC24: =ROW()-1 -> 23 | UW24: =ROW()-1 -> 23
A25: =feuil2!A25 -> di | B25: =feuil2!D25 -> bureau 5 | C25: =feuil2!E25 -> rdc | D25: =feuil2!H25 -> 21 | G25: =IFERROR(INDEX(tblDesign[],MATCH(feuil2!A25,tblDesign[BLOC],0),2) & " " & feuil2!H25 & " " & feuil2!E25 & " " & feuil2!D25,"") -> Détécteur d'incendie 21 rdc bureau 5 | I25: pour l'exemple les "RELEC" utiliserons la meme plage de codes : | AC25: =ROW()-1 -> 24 | UW25: =ROW()-1 -> 24
A26: =feuil2!A26 -> di | B26: =feuil2!D26 -> bureau 4 | C26: =feuil2!E26 -> rdc | D26: =feuil2!H26 -> 22 | G26: =IFERROR(INDEX(tblDesign[],MATCH(feuil2!A26,tblDesign[BLOC],0),2) & " " & feuil2!H26 & " " & feuil2!E26 & " " & feuil2!D26,"") -> Détécteur d'incendie 22 rdc bureau 4 | AC26: =ROW()-1 -> 25 | UW26: =ROW()-1 -> 25
A27: =feuil2!A27 -> RELEC | B27: =feuil2!D27 -> bureau 1 | C27: =feuil2!E27 -> rdc | D27: =feuil2!H27 -> 4 | G27: =IFERROR(INDEX(tblDesign[],MATCH(feuil2!A27,tblDesign[BLOC],0),2) & " " & feuil2!H27 & " " & feuil2!E27 & " " & feuil2!D27,"") -> Relais 4 rdc bureau 1 | AC27: =ROW()-1 -> 26 | UW27: =ROW()-1 -> 26
A28: =feuil2!A28 -> RELEC | B28: =feuil2!D28 -> bureau 6 | C28: =feuil2!E28 -> r+1 | D28: =feuil2!H28 -> 6 | G28: =IFERROR(INDEX(tblDesign[],MATCH(feuil2!A28,tblDesign[BLOC],0),2) & " " & feuil2!H28 & " " & feuil2!E28 & " " & feuil2!D28,"") -> Relais 6 r+1 bureau 6 | AC28: =ROW()-1 -> 27 | UW28: =ROW()-1 -> 27
A29: =feuil2!A29 -> RELEC | B29: =feuil2!D29 -> bureau 7 | C29: =feuil2!E29 -> rdc | D29: =feuil2!H29 -> 9 | G29: =IFERROR(INDEX(tblDesign[],MATCH(feuil2!A29,tblDesign[BLOC],0),2) & " " & feuil2!H29 & " " & feuil2!E29 & " " & feuil2!D29,"") -> Relais 9 rdc bureau 7 | AC29: =ROW()-1 -> 28 | UW29: =ROW()-1 -> 28
A30: =feuil2!A30 -> RELEC | B30: =feuil2!D30 -> bureau 3 | C30: =feuil2!E30 -> rdc | D30: =feuil2!H30 -> 13 | G30: =IFERROR(INDEX(tblDesign[],MATCH(feuil2!A30,tblDesign[BLOC],0),2) & " " & feuil2!H30 & " " & feuil2!E30 & " " & feuil2!D30,"") -> Relais 13 rdc bureau 3 | AC30: =ROW()-1 -> 29 | UW30: =ROW()-1 -> 29
A31: =feuil2!A31 -> RELEC | B31: =feuil2!D31 -> local tech | C31: =feuil2!E31 -> r+1 | D31: =feuil2!H31 -> 19 | G31: =IFERROR(INDEX(tblDesign[],MATCH(feuil2!A31,tblDesign[BLOC],0),2) & " " & feuil2!H31 & " " & feuil2!E31 & " " & feuil2!D31,"") -> Relais 19 r+1 local tech | AC31: =ROW()-1 -> 30 | UW31: =ROW()-1 -> 30
A32: =feuil2!A32 -> 0 | B32: =feuil2!D32 -> 0 | C32: =feuil2!E32 -> 0 | D32: =feuil2!H32 -> 0 | G32: =IFERROR(VLOOKUP(feuil2!A62,tblDesign[#All],2) & " " & feuil2!E62 & " - " & feuil2!D62,"") | AC32: =ROW()-1 -> 31 | UW32: =ROW()-1 -> 31
A33: =feuil2!A33 -> 0 | B33: =feuil2!D33 -> 0 | C33: =feuil2!E33 -> 0 | D33: =feuil2!H33 -> 0 | G33: =IFERROR(VLOOKUP(feuil2!A63,tblDesign[#All],2) & " " & feuil2!E63 & " - " & feuil2!D63,"") | AC33: =ROW()-1 -> 32 | UW33: =ROW()-1 -> 32
A34: =feuil2!A34 -> 0 | B34: =feuil2!D34 -> 0 | C34: =feuil2!E34 -> 0 | D34: =feuil2!H34 -> 0 | G34: =IFERROR(VLOOKUP(feuil2!A64,tblDesign[#All],2) & " " & feuil2!E64 & " - " & feuil2!D64,"") | AC34: =ROW()-1 -> 33 | UW34: =ROW()-1 -> 33
A35: =feuil2!A35 -> 0 | B35: =feuil2!D35 -> 0 | C35: =feuil2!E35 -> 0 | D35: =feuil2!H35 -> 0 | G35: =IFERROR(VLOOKUP(feuil2!A65,tblDesign[#All],2) & " " & feuil2!E65 & " - " & feuil2!D65,"") | AC35: =ROW()-1 -> 34 | UW35: =ROW()-1 -> 34
A36: =feuil2!A36 -> 0 | B36: =feuil2!D36 -> 0 | C36: =feuil2!E36 -> 0 | D36: =feuil2!H36 -> 0 | G36: =IFERROR(VLOOKUP(feuil2!A66,tblDesign[#All],2) & " " & feuil2!E66 & " - " & feuil2!D66,"") | AC36: =ROW()-1 -> 35 | UW36: =ROW()-1 -> 35
A37: =feuil2!A37 -> 0 | B37: =feuil2!D37 -> 0 | C37: =feuil2!E37 -> 0 | D37: =feuil2!H37 -> 0 | G37: =IFERROR(VLOOKUP(feuil2!A67,tblDesign[#All],2) & " " & feuil2!E67 & " - " & feuil2!D67,"") | AC37: =ROW()-1 -> 36 | UW37: =ROW()-1 -> 36
A38: =feuil2!A38 -> 0 | B38: =feuil2!D38 -> 0 | C38: =feuil2!E38 -> 0 | D38: =feuil2!H38 -> 0 | G38: =IFERROR(VLOOKUP(feuil2!A68,tblDesign[#All],2) & " " & feuil2!E68 & " - " & feuil2!D68,"") | AC38: =ROW()-1 -> 37 | UW38: =ROW()-1 -> 37
A39: =feuil2!A39 -> 0 | B39: =feuil2!D39 -> 0 | C39: =feuil2!E39 -> 0 | D39: =feuil2!H39 -> 0 | G39: =IFERROR(VLOOKUP(feuil2!A69,tblDesign[#All],2) & " " & feuil2!E69 & " - " & feuil2!D69,"") | AC39: =ROW()-1 -> 38 | UW39: =ROW()-1 -> 38
A40: =feuil2!A40 -> 0 | B40: =feuil2!D40 -> 0 | C40: =feuil2!E40 -> 0 | D40: =feuil2!H40 -> 0 | G40: =IFERROR(VLOOKUP(feuil2!A70,tblDesign[#All],2) & " " & feuil2!E70 & " - " & feuil2!D70,"") | AC40: =ROW()-1 -> 39 | UW40: =ROW()-1 -> 39
A41: =feuil2!A41 -> 0 | B41: =feuil2!D41 -> 0 | C41: =feuil2!E41 -> 0 | D41: =feuil2!H41 -> 0 | G41: =IFERROR(VLOOKUP(feuil2!A71,tblDesign[#All],2) & " " & feuil2!E71 & " - " & feuil2!D71,"") | AC41: =ROW()-1 -> 40 | UW41: =ROW()-1 -> 40
A42: =feuil2!A42 -> 0 | B42: =feuil2!D42 -> 0 | C42: =feuil2!E42 -> 0 | D42: =feuil2!H42 -> 0 | G42: =IFERROR(VLOOKUP(feuil2!A72,tblDesign[#All],2) & " " & feuil2!E72 & " - " & feuil2!D72,"") | AC42: =ROW()-1 -> 41 | UW42: =ROW()-1 -> 41
A43: =feuil2!A43 -> 0 | B43: =feuil2!D43 -> 0 | C43: =feuil2!E43 -> 0 | D43: =feuil2!H43 -> 0 | G43: =IFERROR(VLOOKUP(feuil2!A73,tblDesign[#All],2) & " " & feuil2!E73 & " - " & feuil2!D73,"") | AC43: =ROW()-1 -> 42 | UW43: =ROW()-1 -> 42
... A133: =feuil2!A133 -> 0 | B133: =feuil2!D133 -> 0 | C133: =feuil2!E133 -> 0 | D133: =feuil2!H133 -> 0 | G133: =IFERROR(VLOOKUP(feuil2!A163,tblDesign[#All],2) & " " & feuil2!E163 & " - " & feuil2!D163,"") | AC133: =ROW()-1 -> 132 | UW133: =ROW()-1 -> 132
A134: =feuil2!A134 -> 0 | B134: =feuil2!D134 -> 0 | C134: =feuil2!E134 -> 0 | D134: =feuil2!H134 -> 0 | AC134: =ROW()-1 -> 133 | UW134: =ROW()-1 -> 133
A135: =feuil2!A135 -> 0 | B135: =feuil2!D135 -> 0 | C135: =feuil2!E135 -> 0 | D135: =feuil2!H135 -> 0 | AC135: =ROW()-1 -> 134 | UW135: =ROW()-1 -> 134
A136: =feuil2!A136 -> 0 | B136: =feuil2!D136 -> 0 | C136: =feuil2!E136 -> 0 | D136: =feuil2!H136 -> 0 | AC136: =ROW()-1 -> 135 | UW136: =ROW()-1 -> 135
A137: =feuil2!A137 -> 0 | B137: =feuil2!D137 -> 0 | C137: =feuil2!E137 -> 0 | D137: =feuil2!H137 -> 0 | AC137: =ROW()-1 -> 136 | UW137: =ROW()-1 -> 136
A138: =feuil2!A138 -> 0 | B138: =feuil2!D138 -> 0 | C138: =feuil2!E138 -> 0 | D138: =feuil2!H138 -> 0 | AC138: =ROW()-1 -> 137 | UW138: =ROW()-1 -> 137
A139: =feuil2!A139 -> 0 | B139: =feuil2!D139 -> 0 | C139: =feuil2!E139 -> 0 | D139: =feuil2!H139 -> 0 | AC139: =ROW()-1 -> 138 | UW139: =ROW()-1 -> 138
A140: =feuil2!A140 -> 0 | B140: =feuil2!D140 -> 0 | C140: =feuil2!E140 -> 0 | D140: =feuil2!H140 -> 0 | AC140: =ROW()-1 -> 139 | UW140: =ROW()-1 -> 139
A141: =feuil2!A141 -> 0 | B141: =feuil2!D141 -> 0 | C141: =feuil2!E141 -> 0 | D141: =feuil2!H141 -> 0 | AC141: =ROW()-1 -> 140 | UW141: =ROW()-1 -> 140
A142: =feuil2!A142 -> 0 | B142: =feuil2!D142 -> 0 | C142: =feuil2!E142 -> 0 | D142: =feuil2!H142 -> 0 | AC142: =ROW()-1 -> 141 | UW142: =ROW()-1 -> 141
A143: =feuil2!A143 -> 0 | B143: =feuil2!D143 -> 0 | C143: =feuil2!E143 -> 0 | D143: =feuil2!H143 -> 0 | AC143: =ROW()-1 -> 142 | UW143: =ROW()-1 -> 142
A144: =feuil2!A144 -> 0 | B144: =feuil2!D144 -> 0 | C144: =feuil2!E144 -> 0 | D144: =feuil2!H144 -> 0 | AC144: =ROW()-1 -> 143 | UW144: =ROW()-1 -> 143
A145: =feuil2!A145 -> 0 | B145: =feuil2!D145 -> 0 | C145: =feuil2!E145 -> 0 | D145: =feuil2!H145 -> 0 | AC145: =ROW()-1 -> 144 | UW145: =ROW()-1 -> 144
... A970: =feuil2!A970 -> 0 | B970: =feuil2!D970 -> 0 | C970: =feuil2!E970 -> 0 | D970: =feuil2!H970 -> 0 | AC970: =ROW()-1 -> 969 | UW970: =ROW()-1 -> 969
A971: =feuil2!A971 -> 0 | B971: =feuil2!D971 -> 0 | C971: =feuil2!E971 -> 0 | D971: =feuil2!H971 -> 0 | G971: =IFERROR(VLOOKUP(feuil2!A32,tblDesign[#All],2) & " " & feuil2!E32 & " - " & feuil2!D32,"") | AC971: =ROW()-1 -> 970 | UW971: =ROW()-1 -> 970
A972: =feuil2!A972 -> 0 | B972: =feuil2!D972 -> 0 | C972: =feuil2!E972 -> 0 | D972: =feuil2!H972 -> 0 | G972: =IFERROR(VLOOKUP(feuil2!A2,tblDesign[],2)&" "&feuil2!E2&" - "&feuil2!D2,"") -> Bobine allumage rdc - bureau 2 | AC972: =ROW()-1 -> 971 | UW972: =ROW()-1 -> 971
A973: =feuil2!A973 -> 0 | B973: =feuil2!D973 -> 0 | C973: =feuil2!E973 -> 0 | D973: =feuil2!H973 -> 0 | G973: =IFERROR(VLOOKUP(feuil2!A5,tblDesign[],2)&" "&feuil2!E5&" - "&feuil2!D5,"") -> Bobine allumage rdc - bureau 7 | AC973: =ROW()-1 -> 972 | UW973: =ROW()-1 -> 972
A974: =feuil2!A974 -> 0 | B974: =feuil2!D974 -> 0 | C974: =feuil2!E974 -> 0 | D974: =feuil2!H974 -> 0 | G974: =IFERROR(VLOOKUP(feuil2!A6,tblDesign[],2)&" "&feuil2!E6&" - "&feuil2!D6,"") -> Bobine allumage rdc - bureau 5 | AC974: =ROW()-1 -> 973 | UW974: =ROW()-1 -> 973
A975: =feuil2!A975 -> 0 | B975: =feuil2!D975 -> 0 | C975: =feuil2!E975 -> 0 | D975: =feuil2!H975 -> 0 | G975: =IFERROR(VLOOKUP(feuil2!A3,tblDesign[],2)&" "&feuil2!E3&" - "&feuil2!D3,"") -> Bobine allumage r+1 - bureau 3 | AC975: =ROW()-1 -> 974 | UW975: =ROW()-1 -> 974
A976: =feuil2!A976 -> 0 | B976: =feuil2!D976 -> 0 | C976: =feuil2!E976 -> 0 | D976: =feuil2!H976 -> 0 | G976: =IFERROR(VLOOKUP(feuil2!A4,tblDesign[],2)&" "&feuil2!E4&" - "&feuil2!D4,"") -> Bobine allumage rdc - bureau 8 | AC976: =ROW()-1 -> 975 | UW976: =ROW()-1 -> 975
A977: =feuil2!A977 -> 0 | B977: =feuil2!D977 -> 0 | C977: =feuil2!E977 -> 0 | D977: =feuil2!H977 -> 0 | G977: =IFERROR(VLOOKUP(feuil2!A8,tblDesign[],2)&" "&feuil2!E8&" - "&feuil2!D8,"") -> Bobine allumage rdc - local tech | AC977: =ROW()-1 -> 976 | UW977: =ROW()-1 -> 976
A978: =feuil2!A978 -> 0 | B978: =feuil2!D978 -> 0 | C978: =feuil2!E978 -> 0 | D978: =feuil2!H978 -> 0 | G978: =IFERROR(VLOOKUP(feuil2!A7,tblDesign[],2)&" "&feuil2!E7&" - "&feuil2!D7,"") -> Bobine allumage rdc - bureau 1 | AC978: =ROW()-1 -> 977 | UW978: =ROW()-1 -> 977
A979: =feuil2!A979 -> 0 | B979: =feuil2!D979 -> 0 | C979: =feuil2!E979 -> 0 | D979: =feuil2!H979 -> 0 | G979: =IFERROR(VLOOKUP(feuil2!A10,tblDesign[],2)&" "&feuil2!E10&" - "&feuil2!D10,"") -> Bobine allumage r+1 - bureau 6 | AC979: =ROW()-1 -> 978 | UW979: =ROW()-1 -> 978
A980: =feuil2!A980 -> 0 | B980: =feuil2!D980 -> 0 | C980: =feuil2!E980 -> 0 | D980: =feuil2!H980 -> 0 | G980: =IFERROR(VLOOKUP(feuil2!A11,tblDesign[],2)&" "&feuil2!E11&" - "&feuil2!D11,"") -> Bobine allumage rdc - bureau 5 | AC980: =ROW()-1 -> 979 | UW980: =ROW()-1 -> 979
A981: =feuil2!A981 -> 0 | B981: =feuil2!D981 -> 0 | C981: =feuil2!E981 -> 0 | D981: =feuil2!H981 -> 0 | G981: =IFERROR(VLOOKUP(feuil2!A14,tblDesign[],2)&" "&feuil2!E14&" - "&feuil2!D14,"") -> Bobine allumage r+1 - bureau 1 | AC981: =ROW()-1 -> 980 | UW981: =ROW()-1 -> 980
A982: =feuil2!A982 -> 0 | B982: =feuil2!D982 -> 0 | C982: =feuil2!E982 -> 0 | D982: =feuil2!H982 -> 0 | G982: =IFERROR(VLOOKUP(feuil2!A17,tblDesign[],2)&" "&feuil2!E17&" - "&feuil2!D17,"") -> Bobine allumage rdc - bureau 9 | AC982: =ROW()-1 -> 981 | UW982: =ROW()-1 -> 981
A983: =feuil2!A983 -> 0 | B983: =feuil2!D983 -> 0 | C983: =feuil2!E983 -> 0 | D983: =feuil2!H983 -> 0 | G983: =IFERROR(VLOOKUP(feuil2!A13,tblDesign[],2)&" "&feuil2!E13&" - "&feuil2!D13,"") -> Bobine allumage rdc - bureau 2 | AC983: =ROW()-1 -> 982 | UW983: =ROW()-1 -> 982
A984: =feuil2!A984 -> 0 | B984: =feuil2!D984 -> 0 | C984: =feuil2!E984 -> 0 | D984: =feuil2!H984 -> 0 | G984: =IFERROR(VLOOKUP(feuil2!A15,tblDesign[],2)&" "&feuil2!E15&" - "&feuil2!D15,"") -> Bobine allumage rdc - bureau 2 | AC984: =ROW()-1 -> 983 | UW984: =ROW()-1 -> 983
A985: =feuil2!A985 -> 0 | B985: =feuil2!D985 -> 0 | C985: =feuil2!E985 -> 0 | D985: =feuil2!H985 -> 0 | G985: =IFERROR(VLOOKUP(feuil2!A16,tblDesign[],2)&" "&feuil2!E16&" - "&feuil2!D16,"") -> Bobine allumage r+1 - bureau 1 | AC985: =ROW()-1 -> 984 | UW985: =ROW()-1 -> 984
A986: =feuil2!A986 -> 0 | B986: =feuil2!D986 -> 0 | C986: =feuil2!E986 -> 0 | D986: =feuil2!H986 -> 0 | G986: =IFERROR(VLOOKUP(feuil2!A19,tblDesign[],2)&" "&feuil2!E19&" - "&feuil2!D19,"") -> Bobine allumage rdc - bureau 8 | AC986: =ROW()-1 -> 985 | UW986: =ROW()-1 -> 985
A987: =feuil2!A987 -> 0 | B987: =feuil2!D987 -> 0 | C987: =feuil2!E987 -> 0 | D987: =feuil2!H987 -> 0 | G987: =IFERROR(VLOOKUP(feuil2!A9,tblDesign[],2)&" "&feuil2!E9&" - "&feuil2!D9,"") -> Bobine allumage r+1 - bureau 3 | AC987: =ROW()-1 -> 986 | UW987: =ROW()-1 -> 986
A988: =feuil2!A988 -> 0 | B988: =feuil2!D988 -> 0 | C988: =feuil2!E988 -> 0 | D988: =feuil2!H988 -> 0 | G988: =IFERROR(VLOOKUP(feuil2!A12,tblDesign[],2)&" "&feuil2!E12&" - "&feuil2!D12,"") -> Bobine allumage rdc - bureau 4 | AC988: =ROW()-1 -> 987 | UW988: =ROW()-1 -> 987
A989: =feuil2!A989 -> 0 | B989: =feuil2!D989 -> 0 | C989: =feuil2!E989 -> 0 | D989: =feuil2!H989 -> 0 | G989: =IFERROR(VLOOKUP(feuil2!A18,tblDesign[],2)&" "&feuil2!E18&" - "&feuil2!D18,"") -> Bobine allumage rdc - bureau 9 | AC989: =ROW()-1 -> 988 | UW989: =ROW()-1 -> 988
A990: =feuil2!A990 -> 0 | B990: =feuil2!D990 -> 0 | C990: =feuil2!E990 -> 0 | D990: =feuil2!H990 -> 0 | G990: =IFERROR(VLOOKUP(feuil2!A20,tblDesign[],2)&" "&feuil2!E20&" - "&feuil2!D20,"") -> Détécteur d'incendie r+1 - bureau 3 | AC990: =ROW()-1 -> 989 | UW990: =ROW()-1 -> 989
A991: =feuil2!A991 -> 0 | B991: =feuil2!D991 -> 0 | C991: =feuil2!E991 -> 0 | D991: =feuil2!H991 -> 0 | G991: =IFERROR(VLOOKUP(feuil2!A25,tblDesign[],2)&" "&feuil2!E25&" - "&feuil2!D25,"") -> Détécteur d'incendie rdc - bureau 5 | AC991: =ROW()-1 -> 990 | UW991: =ROW()-1 -> 990
A992: =feuil2!A992 -> 0 | B992: =feuil2!D992 -> 0 | C992: =feuil2!E992 -> 0 | D992: =feuil2!H992 -> 0 | G992: =IFERROR(VLOOKUP(feuil2!A22,tblDesign[],2)&" "&feuil2!E22&" - "&feuil2!D22,"") -> Détécteur d'incendie rdc - bureau 9 | AC992: =ROW()-1 -> 991 | UW992: =ROW()-1 -> 991
A993: =feuil2!A993 -> 0 | B993: =feuil2!D993 -> 0 | C993: =feuil2!E993 -> 0 | D993: =feuil2!H993 -> 0 | G993: =IFERROR(VLOOKUP(feuil2!A23,tblDesign[],2)&" "&feuil2!E23&" - "&feuil2!D23,"") -> Détécteur d'incendie rdc - bureau 8 | AC993: =ROW()-1 -> 992 | UW993: =ROW()-1 -> 992
A994: =feuil2!A994 -> 0 | B994: =feuil2!D994 -> 0 | C994: =feuil2!E994 -> 0 | D994: =feuil2!H994 -> 0 | G994: =IFERROR(VLOOKUP(feuil2!A26,tblDesign[],2)&" "&feuil2!E26&" - "&feuil2!D26,"") -> Détécteur d'incendie rdc - bureau 4 | AC994: =ROW()-1 -> 993 | UW994: =ROW()-1 -> 993
A995: =feuil2!A995 -> 0 | B995: =feuil2!D995 -> 0 | C995: =feuil2!E995 -> 0 | D995: =feuil2!H995 -> 0 | G995: =IFERROR(VLOOKUP(feuil2!A24,tblDesign[],2)&" "&feuil2!E24&" - "&feuil2!D24,"") -> Détécteur d'incendie r+1 - bureau 6 | AC995: =ROW()-1 -> 994 | UW995: =ROW()-1 -> 994
A996: =feuil2!A996 -> 0 | B996: =feuil2!D996 -> 0 | C996: =feuil2!E996 -> 0 | D996: =feuil2!H996 -> 0 | G996: =IFERROR(VLOOKUP(feuil2!A28,tblDesign[#All],2) & " " & feuil2!E28 & " - " & feuil2!D28,"") -> Relais r+1 - bureau 6 | AC996: =ROW()-1 -> 995 | UW996: =ROW()-1 -> 995
A997: =feuil2!A997 -> 0 | B997: =feuil2!D997 -> 0 | C997: =feuil2!E997 -> 0 | D997: =feuil2!H997 -> 0 | G997: =IFERROR(VLOOKUP(feuil2!A29,tblDesign[#All],2) & " " & feuil2!E29 & " - " & feuil2!D29,"") -> Relais rdc - bureau 7 | AC997: =ROW()-1 -> 996 | UW997: =ROW()-1 -> 996
A998: =feuil2!A998 -> 0 | B998: =feuil2!D998 -> 0 | C998: =feuil2!E998 -> 0 | D998: =feuil2!H998 -> 0 | G998: =IFERROR(VLOOKUP(feuil2!A30,tblDesign[#All],2) & " " & feuil2!E30 & " - " & feuil2!D30,"") -> Relais rdc - bureau 3 | AC998: =ROW()-1 -> 997 | UW998: =ROW()-1 -> 997
A999: =feuil2!A999 -> 0 | B999: =feuil2!D999 -> 0 | C999: =feuil2!E999 -> 0 | D999: =feuil2!H999 -> 0 | G999: =IFERROR(VLOOKUP(feuil2!A31,tblDesign[#All],2) & " " & feuil2!E31 & " - " & feuil2!D31,"") -> Relais r+1 - local tech | AC999: =ROW()-1 -> 998 | UW999: =ROW()-1 -> 998
A1000: =feuil2!A1000 -> 0 | B1000: =feuil2!D1000 -> 0 | C1000: =feuil2!E1000 -> 0 | D1000: =feuil2!H1000 -> 0 | G1000: =IFERROR(VLOOKUP(feuil2!A27,tblDesign[],2)&" "&feuil2!E27&" - "&feuil2!D27,"") -> Relais rdc - bureau 1 | AC1000: =ROW()-1 -> 999 | UW1000: =ROW()-1 -> 999

Sheet feuil2
A1: BLOC | B1: FAMILLE | C1: SOUS-FAMILLE | D1: Zone | E1: Groupe | F1: ID_GROUPE | G1: ETAT | H1: NUM | I1: ID
A2: ba | D2: bureau 2 | E2: rdc | G2: _COMMANDE | H2: 1 | I2: 0.106
A3: ba | D3: bureau 3 | E3: r+1 | G3: _COMMANDE | H3: 2 | I3: 0.112
A4: ba | D4: bureau 8 | E4: rdc | G4: _COMMANDE | H4: 2 | I4: 0.154
A5: ba | D5: bureau 7 | E5: rdc | G5: _COMMANDE | H5: 8 | I5: 0.200
A6: ba | D6: bureau 5 | E6: rdc | G6: _COMMANDE | H6: 9 | I6: 0.205
A7: ba | D7: bureau 1 | E7: rdc | G7: _COMMANDE | H7: 11 | I7: 0.217
A8: ba | D8: local tech | E8: rdc | G8: _COMMANDE | H8: 13 | I8: 0.231
A9: blo | D9: bureau 3 | E9: r+1 | G9: _COMMANDE | H9: 1 | I9: 0.146
A10: blo | D10: bureau 6 | E10: r+1 | G10: _COMMANDE | H10: 10 | I10: 0.10
A11: blo | D11: bureau 5 | E11: rdc | G11: _COMMANDE | H11: 11 | I11: 0.11
A12: blo | D12: bureau 4 | E12: rdc | G12: _COMMANDE | H12: 12 | I12: 0.12
A13: blo | D13: bureau 2 | E13: rdc | G13: _COMMANDE | H13: 14 | I13: 0.14
... A31: RELEC | D31: local tech | E31: r+1 | G31: _COMMANDE | H31: 19 | I31: 0.19
