Workbook

Sheet feuil1
A1: BLOC | B1: NUM | C1: ZONE | E1: Concaténation | G1: résultat final | X1: INDEX | UR1: INDEX
A2: BA | B2: 6 | C2: Bureau 1 | E2: BA 6 - Bureau 1 | G2: Bobine d'allumage 6 - Bureau 1 | X2: =ROW()-1 -> 1 | UR2: =ROW()-1 -> 1
A3: BA | B3: 5 | C3: Bureau 2 | E3: BA 5 - Bureau 2 | G3: Bobine d'allumage 5 - Bureau 2 | X3: =ROW()-1 -> 2 | UR3: =ROW()-1 -> 2
A4: BA | B4: 8 | C4: Bureau 4 | E4: BA 8 - Bureau 4 | G4: Bobine d'allumage 8 - Bureau 4 | X4: =ROW()-1 -> 3 | UR4: =ROW()-1 -> 3
A5: BA | B5: 13 | C5: Bureau 5 | E5: BA 13 - Bureau 5 | G5: Bobine d'allumage 13 - Bureau 5 | X5: =ROW()-1 -> 4 | UR5: =ROW()-1 -> 4
A6: BA | B6: 54 | C6: Bureau 3 | E6: BA 54 - Bureau 3 | G6: Bobine d'allumage 54 - Bureau 3 | X6: =ROW()-1 -> 5 | UR6: =ROW()-1 -> 5
A7: =IFERROR(INDEX(feuil2!A:A,MATCH((ROW()-1),feuil2!A:A,0)),"") | X7: =ROW()-1 -> 6 | UR7: =ROW()-1 -> 6
A8: DI | B8: 1 | C8: Local tech R+2 | E8: DI 1 - Local tech R+2 | G8: Détécteur d'incendie 1 - Local tech R+2 | X8: =ROW()-1 -> 7 | UR8: =ROW()-1 -> 7
A9: DI | B9: 2 | C9: Cuisine | E9: DI 2 - Cuisine | G9: Détécteur d'incendie 2 - Local Cuisine | X9: =ROW()-1 -> 8 | UR9: =ROW()-1 -> 8
A10: DI | B10: 4 | C10: Local Clim | E10: DI 4 - Local Clim | G10: Détécteur d'incendie 4 - Local clim | X10: =ROW()-1 -> 9 | UR10: =ROW()-1 -> 9
A11: DI | B11: 13 | C11: Local tech r+1 | E11: DI 13 - Local tech r+1 | G11: Détécteur d'incendie 13 - Local tech R+1 | X11: =ROW()-1 -> 10 | UR11: =ROW()-1 -> 10
A12: =IFERROR(INDEX(feuil2!A:A,MATCH((ROW()-1),feuil2!A:A,0)),"") | X12: =ROW()-1 -> 11 | UR12: =ROW()-1 -> 11
A13: =IFERROR(INDEX(feuil2!A:A,MATCH((ROW()-1),feuil2!A:A,0)),"") | X13: =ROW()-1 -> 12 | UR13: =ROW()-1 -> 12
A14: =IFERROR(INDEX(feuil2!A:A,MATCH((ROW()-1),feuil2!A:A,0)),"") | X14: =ROW()-1 -> 13 | UR14: =ROW()-1 -> 13
A15: =IFERROR(INDEX(feuil2!A:A,MATCH((ROW()-1),feuil2!A:A,0)),"") | X15: =ROW()-1 -> 14 | UR15: =ROW()-1 -> 14
A16: =IFERROR(INDEX(feuil2!A:A,MATCH((ROW()-1),feuil2!A:A,0)),"") | X16: =ROW()-1 -> 15 | UR16: =ROW()-1 -> 15
X17: =ROW()-1 -> 16 | UR17: =ROW()-1 -> 16
X18: =ROW()-1 -> 17 | UR18: =ROW()-1 -> 17
X19: =ROW()-1 -> 18 | UR19: =ROW()-1 -> 18
X20: =ROW()-1 -> 19 | UR20: =ROW()-1 -> 19
X21: =ROW()-1 -> 20 | UR21: =ROW()-1 -> 20
X22: =ROW()-1 -> 21 | UR22: =ROW()-1 -> 21
X23: =ROW()-1 -> 22 | UR23: =ROW()-1 -> 22
X24: =ROW()-1 -> 23 | UR24: =ROW()-1 -> 23
X25: =ROW()-1 -> 24 | UR25: =ROW()-1 -> 24
X26: =ROW()-1 -> 25 | UR26: =ROW()-1 -> 25
X27: =ROW()-1 -> 26 | UR27: =ROW()-1 -> 26
X28: =ROW()-1 -> 27 | UR28: =ROW()-1 -> 27
... X1000: =ROW()-1 -> 999 | UR1000: =ROW()-1 -> 999

Sheet feuil2
A1: BLOC | B1: FAMILLE | C1: SOUS-FAMILLE | D1: Zone | E1: Groupe | F1: ID_GROUPE | G1: ETAT | H1: NUM | I1: ID
A2: DI | B2: BAT | C2: elec | D2: Local tech R+2 | E2: 2 | F2: null | G2: _COMMANDE | H2: 1 | I2: 0.146
A3: DI | B3: BAT | C3: elec | D3: Cuisine | E3: 5 | F3: null | G3: _COMMANDE | H3: 2 | I3: 0.154
A4: DI | B4: BAT | C4: elec | D4: Cocal clim | E4: 5 | F4: null | G4: _COMMANDE | H4: 4 | I4: 0.221
A5: BA | B5: BAT | C5: elec | D5: Bureau 2 | E5: 4 | F5: null | G5: _COMMANDE | H5: 5 | I5: 0.112
A6: BA | B6: BAT | C6: elec | D6: Bureau 1 | E6: 5 | F6: null | G6: _COMMANDE | H6: 6 | I6: 0.106
A7: BA | B7: BAT | C7: elec | D7: Bureau 4 | E7: 5 | F7: null | G7: _COMMANDE | H7: 8 | I7: 0.200
F8: null | G8: _COMMANDE | H8: 11 | I8: 0.217
A9: BA | B9: BAT | C9: elec | D9: Bureau 5 | E9: 4 | F9: null | G9: _COMMANDE | H9: 13 | I9: 0.205
A10: DI | B10: BAT | C10: elec | D10: Local tech r+1 | E10: 4 | F10: null | G10: _COMMANDE | H10: 13 | I10: 0.231
A11: BA | B11: BAT | C11: elec | D11: Bureau 3 | E11: 2 | F11: null | G11: _COMMANDE | H11: 54 | I11: 0.190
