Workbook

Sheet Blank
A1: Month
B3: 45292 | C3: =B3+DATE(0,1,1) -> 45293 | D3: =C3+DATE(0,1,1) -> 45294 | E3: =D3+DATE(0,1,1) -> 45295 | F3: =E3+DATE(0,1,1) -> 45296 | H3: Total | I3: % W-1
A4: Covers | H4: =SUM(B4:F4) -> 0 | I4: =((H4-August!H4)/August!H4)*100 -> -100
A5: Spend | H5: =SUM(B5:F5) -> 0 | I5: =((H5-August!H5)/August!H5)*100 -> -100
A6: Avg | B6: =(B5/B4) -> #DIV/0! | C6: =(C5/C4) -> #DIV/0! | D6: =(D5/D4) -> #DIV/0! | E6: =(E5/E4) -> #DIV/0! | F6: =(F5/F4) -> #DIV/0! | H6: =(H5/H4) -> #DIV/0! | I6: =((H6-August!H6)/August!H6)*100 -> #DIV/0!
A8: =A3+1 -> 1 | B8: =F3+DATE(0,1,3) -> 45299 | C8: =B8+DATE(0,1,1) -> 45300 | D8: =C8+DATE(0,1,1) -> 45301 | E8: =D8+DATE(0,1,1) -> 45302 | F8: =E8+DATE(0,1,1) -> 45303 | H8: Total | I8: % W-1
A9: Covers | H9: =SUM(B9:F9) -> 0 | I9: =((H9-August!H9)/August!H9)*100 -> -100
A10: Spend | H10: =SUM(B10:F10) -> 0 | I10: =((H10-August!H10)/August!H10)*100 -> -100
A11: Avg | B11: =(B10/B9) -> #DIV/0! | C11: =(C10/C9) -> #DIV/0! | D11: =(D10/D9) -> #DIV/0! | E11: =(E10/E9) -> #DIV/0! | F11: =(F10/F9) -> #DIV/0! | H11: =(H10/H9) -> #DIV/0! | I11: =((H11-August!H11)/August!H11)*100 -> #DIV/0!
A13: =A8+1 -> 2 | B13: =F8+DATE(0,1,3) -> 45306 | C13: =B13+DATE(0,1,1) -> 45307 | D13: =C13+DATE(0,1,1) -> 45308 | E13: =D13+DATE(0,1,1) -> 45309 | F13: =E13+DATE(0,1,1) -> 45310 | H13: Total | I13: % W-1
A14: Covers | H14: =SUM(B14:F14) -> 0 | I14: =((H14-August!H14)/August!H14)*100 -> -100
A15: Spend | H15: =SUM(B15:F15) -> 0 | I15: =((H15-August!H15)/August!H15)*100 -> -100
A16: Avg | B16: =(B15/B14) -> #DIV/0! | C16: =(C15/C14) -> #DIV/0! | D16: =(D15/D14) -> #DIV/0! | E16: =(E15/E14) -> #DIV/0! | F16: =(F15/F14) -> #DIV/0! | H16: =(H15/H14) -> #DIV/0! | I16: =((H16/August!H16)/August!H16)*100 -> #DIV/0!
A18: =A13+1 -> 3 | B18: =F13+DATE(0,1,3) -> 45313 | C18: =B18+DATE(0,1,1) -> 45314 | D18: =C18+DATE(0,1,1) -> 45315 | E18: =D18+DATE(0,1,1) -> 45316 | F18: =E18+DATE(0,1,1) -> 45317 | H18: Total | I18: % W-1
A19: Covers | H19: =SUM(B19:F19) -> 0 | I19: =((H19-August!H19)/August!H19)*100 -> -100
A20: Spend | H20: =SUM(B20:F20) -> 0 | I20: =((H20-August!H20)/August!H20)*100 -> -100
A21: Avg | B21: =(B20/B19) -> #DIV/0! | C21: =(C20/C19) -> #DIV/0! | D21: =(D20/D19) -> #DIV/0! | E21: =(E20/E19) -> #DIV/0! | F21: =(F20/F19) -> #DIV/0! | H21: =(H20/H19) -> #DIV/0! | I21: =((H21-August!H21)/August!H21)*100 -> #DIV/0!
A23: =A18+1 -> 4 | B23: =F18+DATE(0,1,3) -> 45320 | C23: =B23+DATE(0,1,1) -> 45321 | D23: =C23+DATE(0,1,1) -> 45322 | E23: =D23+DATE(0,1,1) -> 45323 | F23: =E23+DATE(0,1,1) -> 45324 | H23: Total | I23: % W-1
A24: Covers | H24: =SUM(B24:F24) -> 0 | I24: =((H24-August!H24)/August!H24)*100 -> -100
A25: Spend | H25: =SUM(B25:F25) -> 0 | I25: =((H25-August!H25)/August!H25)*100 -> -100
A26: Avg | B26: =(B25/B24) -> #DIV/0! | C26: =(C25/C24) -> #DIV/0! | D26: =(D25/D24) -> #DIV/0! | E26: =(E25/E24) -> #DIV/0! | F26: =(F25/F24) -> #DIV/0! | H26: =(H25/H24) -> #DIV/0! | I26: =((H26-August!H26)/August!H26)*100 -> #DIV/0!

Sheet August
A1: August
A3: 31 | B3: 45504 | C3: =B3+DATE(0,1,1) -> 45505 | D3: =C3+DATE(0,1,1) -> 45506 | E3: =D3+DATE(0,1,1) -> 45507 | F3: =E3+DATE(0,1,1) -> 45508 | H3: Total | I3: % D-1
A4: Covers | B4: 43 | C4: JACOB DAY | D4: 63 | E4: 149 | F4: 56 | H4: =SUM(B4:F4) -> 311
A5: Spend | B5: 2697 | D5: 4740 | E5: 10919 | F5: 4202 | H5: =SUM(B5:F5) -> 22558
A6: Avg | B6: =(B5/B4) -> 62.72093 | D6: =(D5/D4) -> 75.238095 | E6: =(E5/E4) -> 73.281879 | F6: =(F5/F4) -> 75.035714 | H6: =(H5/H4) -> 72.533762
A8: =A3+1 -> 32 | B8: =F3+DATE(0,1,3) -> 45511 | C8: =B8+DATE(0,1,1) -> 45512 | D8: =C8+DATE(0,1,1) -> 45513 | E8: =D8+DATE(0,1,1) -> 45514 | F8: =E8+DATE(0,1,1) -> 45515 | H8: Total | I8: % D-1
A9: Covers | B9: 28 | C9: 34 | D9: 56 | E9: 131 | F9: 43 | H9: =SUM(B9:F9) -> 292 | I9: =((H9-H4)/H4)*100 -> -6.1093248
A10: Spend | B10: 1281 | C10: 2979 | D10: 3442 | E10: 9972 | F10: 2841.4 | H10: =SUM(B10:F10) -> 20515.4 | I10: =((H10-H5)/H5)*100 -> -9.0548808
A11: Avg | B11: =(B10/B9) -> 45.75 | C11: =(C10/C9) -> 87.617647 | D11: =(D10/D9) -> 61.464286 | E11: =(E10/E9) -> 76.122137 | F11: =(F10/F9) -> 66.07907 | H11: =(H10/H9) -> 70.258219 | I11: =((H11-H6)/H6)*100 -> -3.1372189
A13: =A8+1 -> 33 | B13: =F8+DATE(0,1,3) -> 45518 | C13: =B13+DATE(0,1,1) -> 45519 | D13: =C13+DATE(0,1,1) -> 45520 | E13: =D13+DATE(0,1,1) -> 45521 | F13: =E13+DATE(0,1,1) -> 45522 | H13: Total | I13: % D-1
A14: Covers | B14: 5 | C14: 27 | D14: 68 | E14: 144 | F14: 61 | H14: =SUM(B14:F14) -> 305 | I14: =((H14-H9)/H9)*100 -> 4.4520548
A15: Spend | B15: 184 | C15: 1840.26 | D15: 5502 | E15: 11725.5 | F15: 4354.35 | H15: =SUM(B15:F15) -> 23606.11 | I15: =((H15-H10)/H10)*100 -> 15.065317
A16: Avg | B16: =(B15/B14) -> 36.8 | C16: =(C15/C14) -> 68.157778 | D16: =(D15/D14) -> 80.911765 | E16: =(E15/E14) -> 81.427083 | F16: =(F15/F14) -> 71.382787 | H16: =(H15/H14) -> 77.397082 | I16: =((H16-H11)/H11)*100 -> 10.160893
A18: =A13+1 -> 34 | B18: =F13+DATE(0,1,3) -> 45525 | C18: =B18+DATE(0,1,1) -> 45526 | D18: =C18+DATE(0,1,1) -> 45527 | E18: =D18+DATE(0,1,1) -> 45528 | F18: =E18+DATE(0,1,1) -> 45529 | H18: Total | I18: % D-1
A19: Covers | B19: 32 | C19: 6 | D19: 48 | E19: 105 | F19: 56 | H19: =SUM(B19:F19) -> 247 | I19: =((H19-H14)/H14)*100 -> -19.016393
A20: Spend | B20: 2172 | C20: 389 | D20: 4168.18 | E20: 8461.75 | F20: 4309.54 | H20: =SUM(B20:F20) -> 19500.47 | I20: =((H20-H15)/H15)*100 -> -17.392277
A21: Avg | B21: =(B20/B19) -> 67.875 | C21: =(C20/C19) -> 64.833333 | D21: =(D20/D19) -> 86.837083 | E21: =(E20/E19) -> 80.588095 | F21: =(F20/F19) -> 76.956071 | H21: =(H20/H19) -> 78.949271 | I21: =((H21-H16)/H16)*100 -> 2.0054881
A23: =A18+1 -> 35 | B23: =F18+DATE(0,1,3) -> 45532 | C23: =B23+DATE(0,1,1) -> 45533 | D23: =C23+DATE(0,1,1) -> 45534 | E23: =D23+DATE(0,1,1) -> 45535 | F23: =E23+DATE(0,1,1) -> 45536 | H23: Total | I23: % D-1
A24: Covers | B24: 24 | H24: =SUM(B24:F24) -> 24 | I24: =((H24-H19)/H19)*100 -> -90.283401
A25: Spend | B25: 1500 | H25: =SUM(B25:F25) -> 1500 | I25: =((H25-H20)/H20)*100 -> -92.307878
A26: Avg | B26: =(B25/B24) -> 62.5 | C26: =(C25/C24) -> #DIV/0! | D26: =(D25/D24) -> #DIV/0! | E26: =(E25/E24) -> #DIV/0! | F26: =(F25/F24) -> #DIV/0! | H26: =(H25/H24) -> 62.5 | I26: =((H26-H21)/H21)*100 -> -20.835241

Sheet Sept
A1: Sept
A3: 36 | B3: 45539 | C3: =B3+DATE(0,1,1) -> 45540 | D3: =C3+DATE(0,1,1) -> 45541 | E3: =D3+DATE(0,1,1) -> 45542 | F3: =E3+DATE(0,1,1) -> 45543 | H3: Total | I3: % W-1
A4: Covers | H4: =SUM(B4:F4) -> 0 | I4: =((H4-August!H4)/August!H4)*100 -> -100
A5: Spend | H5: =SUM(B5:F5) -> 0 | I5: =((H5-August!H5)/August!H5)*100 -> -100
A6: Avg | B6: =(B5/B4) -> #DIV/0! | C6: =(C5/C4) -> #DIV/0! | D6: =(D5/D4) -> #DIV/0! | E6: =(E5/E4) -> #DIV/0! | F6: =(F5/F4) -> #DIV/0! | H6: =(H5/H4) -> #DIV/0! | I6: =((H6-August!H6)/August!H6)*100 -> #DIV/0!
A8: =A3+1 -> 37 | B8: =F3+DATE(0,1,3) -> 45546 | C8: =B8+DATE(0,1,1) -> 45547 | D8: =C8+DATE(0,1,1) -> 45548 | E8: =D8+DATE(0,1,1) -> 45549 | F8: =E8+DATE(0,1,1) -> 45550 | H8: Total | I8: % W-1
A9: Covers | H9: =SUM(B9:F9) -> 0 | I9: =((H9-August!H9)/August!H9)*100 -> -100
A10: Spend | H10: =SUM(B10:F10) -> 0 | I10: =((H10-August!H10)/August!H10)*100 -> -100
A11: Avg | B11: =(B10/B9) -> #DIV/0! | C11: =(C10/C9) -> #DIV/0! | D11: =(D10/D9) -> #DIV/0! | E11: =(E10/E9) -> #DIV/0! | F11: =(F10/F9) -> #DIV/0! | H11: =(H10/H9) -> #DIV/0! | I11: =((H11-August!H11)/August!H11)*100 -> #DIV/0!
A13: =A8+1 -> 38 | B13: =F8+DATE(0,1,3) -> 45553 | C13: =B13+DATE(0,1,1) -> 45554 | D13: =C13+DATE(0,1,1) -> 45555 | E13: =D13+DATE(0,1,1) -> 45556 | F13: =E13+DATE(0,1,1) -> 45557 | H13: Total | I13: % W-1
A14: Covers | H14: =SUM(B14:F14) -> 0 | I14: =((H14-August!H14)/August!H14)*100 -> -100
A15: Spend | H15: =SUM(B15:F15) -> 0 | I15: =((H15-August!H15)/August!H15)*100 -> -100
A16: Avg | B16: =(B15/B14) -> #DIV/0! | C16: =(C15/C14) -> #DIV/0! | D16: =(D15/D14) -> #DIV/0! | E16: =(E15/E14) -> #DIV/0! | F16: =(F15/F14) -> #DIV/0! | H16: =(H15/H14) -> #DIV/0! | I16: =((H16/August!H16)/August!H16)*100 -> #DIV/0!
A18: =A13+1 -> 39 | B18: =F13+DATE(0,1,3) -> 45560 | C18: =B18+DATE(0,1,1) -> 45561 | D18: =C18+DATE(0,1,1) -> 45562 | E18: =D18+DATE(0,1,1) -> 45563 | F18: =E18+DATE(0,1,1) -> 45564 | H18: Total | I18: % W-1
A19: Covers | H19: =SUM(B19:F19) -> 0 | I19: =((H19-August!H19)/August!H19)*100 -> -100
A20: Spend | H20: =SUM(B20:F20) -> 0 | I20: =((H20-August!H20)/August!H20)*100 -> -100
A21: Avg | B21: =(B20/B19) -> #DIV/0! | C21: =(C20/C19) -> #DIV/0! | D21: =(D20/D19) -> #DIV/0! | E21: =(E20/E19) -> #DIV/0! | F21: =(F20/F19) -> #DIV/0! | H21: =(H20/H19) -> #DIV/0! | I21: =((H21-August!H21)/August!H21)*100 -> #DIV/0!
A23: =A18+1 -> 40 | B23: =F18+DATE(0,1,3) -> 45567 | C23: =B23+DATE(0,1,1) -> 45568 | D23: =C23+DATE(0,1,1) -> 45569 | E23: =D23+DATE(0,1,1) -> 45570 | F23: =E23+DATE(0,1,1) -> 45571 | H23: Total | I23: % W-1
A24: Covers | H24: =SUM(B24:F24) -> 0 | I24: =((H24-August!H24)/August!H24)*100 -> -100
A25: Spend | H25: =SUM(B25:F25) -> 0 | I25: =((H25-August!H25)/August!H25)*100 -> -100
A26: Avg | B26: =(B25/B24) -> #DIV/0! | C26: =(C25/C24) -> #DIV/0! | D26: =(D25/D24) -> #DIV/0! | E26: =(E25/E24) -> #DIV/0! | F26: =(F25/F24) -> #DIV/0! | H26: =(H25/H24) -> #DIV/0! | I26: =((H26-August!H26)/August!H26)*100 -> #DIV/0!
