Workbook

Sheet Table
A1: Alexander ALBON | B1: IA | C1: Williams | E1: Cédric GIOVANETTI | G1: Chateau98000 | I1: Alpha Tauri
A2: Carlos SAINZ Jr | B2: IA | C2: Ferrari | E2: Christopher FRANCHET | G2: f_a_____ta_____ | I2: Alpine
A3: Cédric GIOVANETTI | B3: GiOvA88mc | C3: Ferrari | E3: François TARDITI | G3: Giaquinho06 | I3: Aston Martin
A4: Charles LECLERC | B4: IA | C4: Ferrari | E4: Jonathan GIACCO | G4: GiOvA88mc | I4: Ferrari
A5: Christopher FRANCHET | B5: Hulkmc8 | C5: Stake Sauber | E5: Julien ADAMO | G5: Hulkmc8 | I5: Haas
A6: Daniel RICCIARDO | B6: IA | C6: Alpha Tauri | E6: Mathieu BARBAUD | G6: IA | I6: McLaren
A7: Esteban OCON | B7: IA | C7: Alpine | E7: Naïm TAHRIOUI | G7: MacAdamO-34 | I7: Mercedes
A8: Fernando ALONSO | B8: IA | C8: Aston Martin | E8: Nicolas CASTEL | G8: Naim_Thr | I8: Red Bull
A9: François TARDITI | B9: f_a_____ta_____ | C9: Stake Sauber | E9: Thomas CARREDA | G9: Petibaske | I9: Stake Sauber
A10: George RUSSELL | B10: IA | C10: Mercedes | E10: Tony BRUNET | G10: Ribe-888 | I10: Williams
A11: Guanyu ZHOU | B11: IA | C11: Stake Sauber | E11: Sébastien RIBERI | G11: Sharky06200
A12: Jonathan GIACCO | B12: Giaquinho06 | C12: Alpine | G12: thomasca
A13: Julien ADAMO | B13: MacAdamO-34 | C13: McLaren
A14: Kevin MAGNUSSEN | B14: IA | C14: Haas
A15: Lance STROLL | B15: IA | C15: Aston Martin
A16: Lando NORRIS | B16: IA | C16: McLaren
A17: Lewis HAMILTON | B17: IA | C17: Mercedes
A18: Logan SARGEANT | B18: IA | C18: Williams
A19: Mathieu BARBAUD | B19: Petibaske | C19: Aston Martin
A20: Max VERSTAPPEN | B20: IA | C20: Red Bull
A21: Naïm TAHRIOUI | B21: Naim_Thr | C21: Mercedes
A22: Nico HULKENBERG | B22: IA | C22: Haas
A23: Nicolas CASTEL | B23: Chateau98000 | C23: Ferrari
A24: Oscar PIASTRI | B24: IA | C24: McLaren
... A27: Sergio PEREZ | B27: IA | C27: Red Bull
A28: Thomas CARREDA | B28: thomasca
A29: Tony BRUNET | B29: Sharky06200 | C29: McLaren
A30: Valtteri BOTTAS | B30: IA | C30: Stake Sauber
A31: Yuki TSUNODA | B31: IA | C31: Alpha Tauri

Sheet Equipes
A1: Saison 3
A2: Ecuries | B2: Pilotes | C2: Total Courses disputées | D2: Courses
D3: BAH | E3: SAU | F3: AUS | G3: JAP | H3: CHN | I3: MIA | J3: S.M. | K3: MC | L3: CAN | M3: ESP | N3: AUT | O3: G.B. | P3: HUN | Q3: BEL | R3: NED | S3: ITA | T3: AZE | U3: SIN | V3: TEX | W3: MEX | X3: BRA | Y3: L.V. | Z3: QAT | AA3: UAE
A5: Alpha Tauri | B5: IA | C5: =SUM(D5:AA5) -> 0
B6: IA | C6: =SUM(D6:AA6) -> 0
A8: Alpine | B8: Sébastien RIBERI | C8: =SUM(D8:AA8) -> 8 | D8: 1 | E8: 1 | F8: 1 | G8: 1 | H8: 1 | I8: 1 | J8: 0 | K8: 0 | L8: 0 | M8: 0 | N8: 1 | O8: 1 | P8: 0 | Q8: 0
B9: Jonathan GIACCO | C9: =SUM(D9:AA9) -> 12 | D9: 1 | E9: 1 | F9: 1 | G9: 1 | H9: 1 | I9: 1 | J9: 1 | K9: 1 | L9: 1 | M9: 1 | N9: 0 | O9: 0 | P9: 1 | Q9: 1
A11: Aston Martin | B11: Mathieu BARBAUD | C11: =SUM(D11:AA11) -> 8 | D11: 1 | E11: 1 | F11: 0 | G11: 0 | H11: 1 | I11: 1 | J11: 0 | K11: 0 | L11: 1 | M11: 1 | N11: 1 | O11: 1 | P11: 0 | Q11: 0
B12: IA | C12: =SUM(D12:AA12) -> 0
A14: Ferrari | B14: Cédric GIOVANETTI | C14: =SUM(D14:AA14) -> 10 | D14: 1 | E14: 1 | F14: 1 | G14: 1 | H14: 1 | I14: 1 | J14: 1 | K14: 1 | L14: 0 | M14: 0 | N14: 0 | O14: 0 | P14: 1 | Q14: 1
B15: Nicolas CASTEL | C15: =SUM(D15:AA15) -> 5 | D15: 0 | E15: 0 | F15: 1 | G15: 1 | H15: 0 | I15: 0 | J15: 0 | K15: 0 | L15: 1 | M15: 1 | N15: 0 | O15: 0 | P15: 1 | Q15: 0
A17: Haas | B17: IA | C17: =SUM(D17:AA17) -> 0
B18: IA | C18: =SUM(D18:AA18) -> 0
A20: McLaren | B20: Julien ADAMO | C20: =SUM(D20:AA20) -> 12 | D20: 1 | E20: 1 | F20: 1 | G20: 1 | H20: 1 | I20: 1 | J20: 0 | K20: 0 | L20: 1 | M20: 1 | N20: 1 | O20: 1 | P20: 1 | Q20: 1
B21: Tony BRUNET | C21: =SUM(D21:AA21) -> 0 | D21: 0 | E21: 0 | F21: 0 | G21: 0 | H21: 0 | I21: 0 | J21: 0 | K21: 0 | L21: 0 | M21: 0 | N21: 0 | O21: 0 | P21: 0 | Q21: 0
A23: Mercedes | B23: Naïm TAHRIOUI | C23: =SUM(D23:AA23) -> 12 | D23: 1 | E23: 1 | F23: 1 | G23: 1 | H23: 1 | I23: 1 | J23: 1 | K23: 1 | L23: 1 | M23: 1 | N23: 1 | O23: 1 | P23: 0 | Q23: 0
B24: IA | C24: =SUM(D24:AA24) -> 0
A26: Red Bull | B26: IA | C26: =SUM(D26:AA26) -> 0
B27: IA | C27: =SUM(D27:AA27) -> 0
A29: Stake Sauber | B29: François TARDITI | C29: =SUM(D29:AA29) -> 10 | D29: 1 | E29: 1 | F29: 1 | G29: 1 | H29: 1 | I29: 1 | J29: 0 | K29: 0 | L29: 1 | M29: 1 | N29: 1 | O29: 1 | P29: 0 | Q29: 0
B30: Christopher FRANCHET | C30: =SUM(D30:AA30) -> 14 | D30: 1 | E30: 1 | F30: 1 | G30: 1 | H30: 1 | I30: 1 | J30: 1 | K30: 1 | L30: 1 | M30: 1 | N30: 1 | O30: 1 | P30: 1 | Q30: 1
A32: Williams | B32: IA | C32: =SUM(D32:AA32) -> 0
B33: IA | C33: =SUM(D33:AA33) -> 0
A35: TOTAL Participants | D35: =SUM(D5:D33) -> 8 | E35: =SUM(E5:E33) -> 8 | F35: =SUM(F5:F33) -> 8 | G35: =SUM(G5:G33) -> 8 | H35: =SUM(H5:H33) -> 8 | I35: =SUM(I5:I33) -> 8 | J35: =SUM(J5:J33) -> 4 | K35: =SUM(K5:K33) -> 4 | ... AA35: =SUM(AA5:AA33) -> 0

Sheet Courses Saison 3
A1: Course 1 : BAHREIN | H1: Course 2 : JEDDAH | O1: Course 3 : MELBOURNE
A2: Pos. | B2: Surnoms | C2: Pilotes | D2: Ecuries | E2: Temps | F2: Pts | H2: Pos. | I2: Surnoms | J2: Pilotes | K2: Ecuries | L2: Temps | M2: Pts | O2: Pos. | P2: Surnoms | Q2: Pilotes | R2: Ecuries | S2: Temps | T2: Pts
A3: 1 | B3: =IF(C3="","",(VLOOKUP(C3,Table!$A:$B,2,FALSE))) -> f_a_____ta_____ | C3: François TARDITI | D3: =IF(C3="","",(VLOOKUP(C3,Table!$A:$C,3,FALSE))) -> Stake Sauber | E3: 31:43,834 | F3: 25 | H3: 1 | I3: =IF(J3="","",(VLOOKUP(J3,Table!$A:$B,2,FALSE))) -> f_a_____ta_____ | J3: François TARDITI | K3: =IF(J3="","",(VLOOKUP(J3,Table!$A:$C,3,FALSE))) -> Stake Sauber | L3: 32:55,073 | M3: 25 | O3: 1 | P3: =IF(Q3="","",(VLOOKUP(Q3,Table!$A:$B,2,FALSE))) -> Naim_Thr | Q3: Naïm TAHRIOUI | R3: =IF(Q3="","",(VLOOKUP(Q3,Table!$A:$C,3,FALSE))) -> Mercedes | S3: 29:14,156 | T3: 25
A4: 2 | B4: =IF(C4="","",(VLOOKUP(C4,Table!$A:$B,2,FALSE))) -> Ribe-888 | C4: Sébastien RIBERI | D4: =IF(C4="","",(VLOOKUP(C4,Table!$A:$C,3,FALSE))) -> Alpine | E4: + 9,616 | F4: 18 | H4: 2 | I4: =IF(J4="","",(VLOOKUP(J4,Table!$A:$B,2,FALSE))) -> Giaquinho06 | J4: Jonathan GIACCO | K4: =IF(J4="","",(VLOOKUP(J4,Table!$A:$C,3,FALSE))) -> Alpine | L4: + 5,187 | M4: 18 | O4: 2 | P4: =IF(Q4="","",(VLOOKUP(Q4,Table!$A:$B,2,FALSE))) -> Hulkmc8 | Q4: Christopher FRANCHET | R4: =IF(Q4="","",(VLOOKUP(Q4,Table!$A:$C,3,FALSE))) -> Stake Sauber | S4: + 39,411 | T4: 18
A5: 3 | B5: =IF(C5="","",(VLOOKUP(C5,Table!$A:$B,2,FALSE))) -> GiOvA88mc | C5: Cédric GIOVANETTI | D5: =IF(C5="","",(VLOOKUP(C5,Table!$A:$C,3,FALSE))) -> Ferrari | E5: + 16,018 | F5: 15 | H5: 3 | I5: =IF(J5="","",(VLOOKUP(J5,Table!$A:$B,2,FALSE))) -> GiOvA88mc | J5: Cédric GIOVANETTI | K5: =IF(J5="","",(VLOOKUP(J5,Table!$A:$C,3,FALSE))) -> Ferrari | L5: + 5,316 | M5: 15 | O5: 3 | P5: =IF(Q5="","",(VLOOKUP(Q5,Table!$A:$B,2,FALSE))) -> Giaquinho06 | Q5: Jonathan GIACCO | R5: =IF(Q5="","",(VLOOKUP(Q5,Table!$A:$C,3,FALSE))) -> Alpine | S5: + 52,907 | T5: 15
A6: 4 | B6: =IF(C6="","",(VLOOKUP(C6,Table!$A:$B,2,FALSE))) -> Hulkmc8 | C6: Christopher FRANCHET | D6: =IF(C6="","",(VLOOKUP(C6,Table!$A:$C,3,FALSE))) -> Stake Sauber | E6: + 20,815 | F6: 12 | H6: 4 | I6: =IF(J6="","",(VLOOKUP(J6,Table!$A:$B,2,FALSE))) -> Naim_Thr | J6: Naïm TAHRIOUI | K6: =IF(J6="","",(VLOOKUP(J6,Table!$A:$C,3,FALSE))) -> Mercedes | L6: + 6,254 | M6: 12 | O6: 4 | P6: =IF(Q6="","",(VLOOKUP(Q6,Table!$A:$B,2,FALSE))) -> IA | Q6: Kevin MAGNUSSEN | R6: =IF(Q6="","",(VLOOKUP(Q6,Table!$A:$C,3,FALSE))) -> Haas | S6: + 1:00,925 | T6: 12
A7: 5 | B7: =IF(C7="","",(VLOOKUP(C7,Table!$A:$B,2,FALSE))) -> Petibaske | C7: Mathieu BARBAUD | D7: =IF(C7="","",(VLOOKUP(C7,Table!$A:$C,3,FALSE))) -> Aston Martin | E7: + 32,351 | F7: 10 | H7: 5 | I7: =IF(J7="","",(VLOOKUP(J7,Table!$A:$B,2,FALSE))) -> Petibaske | J7: Mathieu BARBAUD | K7: =IF(J7="","",(VLOOKUP(J7,Table!$A:$C,3,FALSE))) -> Aston Martin | L7: + 8,059 | M7: 10 | O7: 5 | P7: =IF(Q7="","",(VLOOKUP(Q7,Table!$A:$B,2,FALSE))) -> IA | Q7: Fernando ALONSO | R7: =IF(Q7="","",(VLOOKUP(Q7,Table!$A:$C,3,FALSE))) -> Aston Martin | S7: + 1:01,219 | T7: 10
A8: 6 | B8: =IF(C8="","",(VLOOKUP(C8,Table!$A:$B,2,FALSE))) -> Giaquinho06 | C8: Jonathan GIACCO | D8: =IF(C8="","",(VLOOKUP(C8,Table!$A:$C,3,FALSE))) -> Alpine | E8: + 39,435 | F8: 8 | H8: 6 | I8: =IF(J8="","",(VLOOKUP(J8,Table!$A:$B,2,FALSE))) -> Hulkmc8 | J8: Christopher FRANCHET | K8: =IF(J8="","",(VLOOKUP(J8,Table!$A:$C,3,FALSE))) -> Stake Sauber | L8: + 13,486 | M8: 8 | O8: 6 | P8: =IF(Q8="","",(VLOOKUP(Q8,Table!$A:$B,2,FALSE))) -> IA | Q8: Daniel RICCIARDO | R8: =IF(Q8="","",(VLOOKUP(Q8,Table!$A:$C,3,FALSE))) -> Alpha Tauri | S8: + 1:01,446 | T8: 8
A9: 7 | B9: =IF(C9="","",(VLOOKUP(C9,Table!$A:$B,2,FALSE))) -> MacAdamO-34 | C9: Julien ADAMO | D9: =IF(C9="","",(VLOOKUP(C9,Table!$A:$C,3,FALSE))) -> McLaren | E9: + 1:08,794 | F9: 6 | H9: 7 | I9: =IF(J9="","",(VLOOKUP(J9,Table!$A:$B,2,FALSE))) -> IA | J9: Sergio PEREZ | K9: =IF(J9="","",(VLOOKUP(J9,Table!$A:$C,3,FALSE))) -> Red Bull | L9: + 14,880 | M9: 6 | O9: 7 | P9: =IF(Q9="","",(VLOOKUP(Q9,Table!$A:$B,2,FALSE))) -> IA | Q9: Alexander ALBON | R9: =IF(Q9="","",(VLOOKUP(Q9,Table!$A:$C,3,FALSE))) -> Williams | S9: + 1:01,771 | T9: 6
A10: 8 | B10: =IF(C10="","",(VLOOKUP(C10,Table!$A:$B,2,FALSE))) -> IA | C10: Kevin MAGNUSSEN | D10: =IF(C10="","",(VLOOKUP(C10,Table!$A:$C,3,FALSE))) -> Haas | E10: + 1:26,122 | F10: 4 | H10: 8 | I10: =IF(J10="","",(VLOOKUP(J10,Table!$A:$B,2,FALSE))) -> IA | J10: Yuki TSUNODA | K10: =IF(J10="","",(VLOOKUP(J10,Table!$A:$C,3,FALSE))) -> Alpha Tauri | L10: + 15,129 | M10: 4 | O10: 8 | P10: =IF(Q10="","",(VLOOKUP(Q10,Table!$A:$B,2,FALSE))) -> Ribe-888 | Q10: Sébastien RIBERI | R10: =IF(Q10="","",(VLOOKUP(Q10,Table!$A:$C,3,FALSE))) -> Alpine | S10: + 1:02,613 | T10: 4
A11: 9 | B11: =IF(C11="","",(VLOOKUP(C11,Table!$A:$B,2,FALSE))) -> IA | C11: Nico HULKENBERG | D11: =IF(C11="","",(VLOOKUP(C11,Table!$A:$C,3,FALSE))) -> Haas | E11: + 1:29,039 | F11: 2 | H11: 9 | I11: =IF(J11="","",(VLOOKUP(J11,Table!$A:$B,2,FALSE))) -> IA | J11: Nico HULKENBERG | K11: =IF(J11="","",(VLOOKUP(J11,Table!$A:$C,3,FALSE))) -> Haas | L11: + 15,414 | M11: 2 | O11: 9 | P11: =IF(Q11="","",(VLOOKUP(Q11,Table!$A:$B,2,FALSE))) -> IA | Q11: George RUSSELL | R11: =IF(Q11="","",(VLOOKUP(Q11,Table!$A:$C,3,FALSE))) -> Mercedes | S11: + 1:06,467 | T11: 2
A12: 10 | B12: =IF(C12="","",(VLOOKUP(C12,Table!$A:$B,2,FALSE))) -> IA | C12: Alexander ALBON | D12: =IF(C12="","",(VLOOKUP(C12,Table!$A:$C,3,FALSE))) -> Williams | E12: + 1:29,800 | F12: 1 | H12: 10 | I12: =IF(J12="","",(VLOOKUP(J12,Table!$A:$B,2,FALSE))) -> IA | J12: Oscar PIASTRI | K12: =IF(J12="","",(VLOOKUP(J12,Table!$A:$C,3,FALSE))) -> McLaren | L12: + 15,655 | M12: 1 | O12: 10 | P12: =IF(Q12="","",(VLOOKUP(Q12,Table!$A:$B,2,FALSE))) -> IA | Q12: Yuki TSUNODA | R12: =IF(Q12="","",(VLOOKUP(Q12,Table!$A:$C,3,FALSE))) -> Alpha Tauri | S12: + 1:09,582 | T12: 1
A13: 11 | B13: =IF(C13="","",(VLOOKUP(C13,Table!$A:$B,2,FALSE))) -> IA | C13: Logan SARGEANT | D13: =IF(C13="","",(VLOOKUP(C13,Table!$A:$C,3,FALSE))) -> Williams | E13: + 1:29,831 | F13: 0 | H13: 11 | I13: =IF(J13="","",(VLOOKUP(J13,Table!$A:$B,2,FALSE))) -> IA | J13: George RUSSELL | K13: =IF(J13="","",(VLOOKUP(J13,Table!$A:$C,3,FALSE))) -> Mercedes | L13: + 16,117 | M13: 0 | O13: 11 | P13: =IF(Q13="","",(VLOOKUP(Q13,Table!$A:$B,2,FALSE))) -> IA | Q13: Logan SARGEANT | R13: =IF(Q13="","",(VLOOKUP(Q13,Table!$A:$C,3,FALSE))) -> Williams | S13: + 1:12,413 | T13: 0
A14: 12 | B14: =IF(C14="","",(VLOOKUP(C14,Table!$A:$B,2,FALSE))) -> IA | C14: Daniel RICCIARDO | D14: =IF(C14="","",(VLOOKUP(C14,Table!$A:$C,3,FALSE))) -> Alpha Tauri | E14: + 1:30,867 | F14: 0 | H14: 12 | I14: =IF(J14="","",(VLOOKUP(J14,Table!$A:$B,2,FALSE))) -> IA | J14: Daniel RICCIARDO | K14: =IF(J14="","",(VLOOKUP(J14,Table!$A:$C,3,FALSE))) -> Alpha Tauri | L14: + 21,149 | M14: 0 | O14: 12 | P14: =IF(Q14="","",(VLOOKUP(Q14,Table!$A:$B,2,FALSE))) -> IA | Q14: Sergio PEREZ | R14: =IF(Q14="","",(VLOOKUP(Q14,Table!$A:$C,3,FALSE))) -> Red Bull | S14: + 1:12,500 | T14: 0
... A22: 20 | B22: =IF(C22="","",(VLOOKUP(C22,Table!$A:$B,2,FALSE))) -> Naim_Thr | C22: Naïm TAHRIOUI | D22: =IF(C22="","",(VLOOKUP(C22,Table!$A:$C,3,FALSE))) -> Mercedes | E22: DNF | F22: 0 | H22: 20 | I22: =IF(J22="","",(VLOOKUP(J22,Table!$A:$B,2,FALSE))) -> IA | J22: Max VERSTAPPEN | K22: =IF(J22="","",(VLOOKUP(J22,Table!$A:$C,3,FALSE))) -> Red Bull | L22: DNF | M22: 0 | O22: 20 | P22: =IF(Q22="","",(VLOOKUP(Q22,Table!$A:$B,2,FALSE))) -> GiOvA88mc | Q22: Cédric GIOVANETTI | R22: =IF(Q22="","",(VLOOKUP(Q22,Table!$A:$C,3,FALSE))) -> Ferrari | S22: DNF | T22: 0
A23: Pole | B23: =IF(C23="","",(VLOOKUP(C23,Table!$A:$B,2,FALSE))) -> Ribe-888 | C23: Sébastien RIBERI | D23: =IF(C23="","",(VLOOKUP(C23,Table!$A:$C,3,FALSE))) -> Alpine | E23: 1:29,433 | F23: 1 | H23: Pole | I23: =IF(J23="","",(VLOOKUP(J23,Table!$A:$B,2,FALSE))) -> Naim_Thr | J23: Naïm TAHRIOUI | K23: =IF(J23="","",(VLOOKUP(J23,Table!$A:$C,3,FALSE))) -> Mercedes | L23: 1:31,250 | M23: 1 | O23: Pole | P23: =IF(Q23="","",(VLOOKUP(Q23,Table!$A:$B,2,FALSE))) -> Naim_Thr | Q23: Naïm TAHRIOUI | R23: =IF(Q23="","",(VLOOKUP(Q23,Table!$A:$C,3,FALSE))) -> Mercedes | S23: 1:18,325 | T23: 1
A24: MT | B24: =IF(C24="","",(VLOOKUP(C24,Table!$A:$B,2,FALSE))) -> f_a_____ta_____ | C24: François TARDITI | D24: =IF(C24="","",(VLOOKUP(C24,Table!$A:$C,3,FALSE))) -> Stake Sauber | E24: 1:32,518 | F24: 1 | H24: MT | I24: =IF(J24="","",(VLOOKUP(J24,Table!$A:$B,2,FALSE))) -> Naim_Thr | J24: Naïm TAHRIOUI | K24: =IF(J24="","",(VLOOKUP(J24,Table!$A:$C,3,FALSE))) -> Mercedes | L24: 1:32,891 | M24: 1 | O24: MT | P24: =IF(Q24="","",(VLOOKUP(Q24,Table!$A:$B,2,FALSE))) -> Naim_Thr | Q24: Naïm TAHRIOUI | R24: =IF(Q24="","",(VLOOKUP(Q24,Table!$A:$C,3,FALSE))) -> Mercedes | S24: 1:19,982 | T24: 1
A25: Pilote | B25: =IF(C25="","",(VLOOKUP(C25,Table!$A:$B,2,FALSE))) -> MacAdamO-34 | C25: Julien ADAMO | D25: =IF(C25="","",(VLOOKUP(C25,Table!$A:$C,3,FALSE))) -> McLaren | F25: 1 | H25: Pilote | I25: =IF(J25="","",(VLOOKUP(J25,Table!$A:$B,2,FALSE))) -> IA | J25: Sergio PEREZ | K25: =IF(J25="","",(VLOOKUP(J25,Table!$A:$C,3,FALSE))) -> Red Bull | M25: 1 | O25: Pilote | P25: =IF(Q25="","",(VLOOKUP(Q25,Table!$A:$B,2,FALSE))) -> IA | Q25: Kevin MAGNUSSEN | R25: =IF(Q25="","",(VLOOKUP(Q25,Table!$A:$C,3,FALSE))) -> Haas | T25: 1
A27: Course 4 : SUZUKA | H27: Course 5 : SHANGAÏ | O27: Course 6 : MIAMI
A28: Pos. | B28: Surnoms | C28: Pilotes | D28: Ecuries | E28: Temps | F28: Pts | H28: Pos. | I28: Surnoms | J28: Pilotes | K28: Ecuries | L28: Temps | M28: Pts | O28: Pos. | P28: Surnoms | Q28: Pilotes | R28: Ecuries | S28: Temps | T28: Pts
A29: 1 | B29: =IF(C29="","",(VLOOKUP(C29,Table!$A:$B,2,FALSE))) -> Naim_Thr | C29: Naïm TAHRIOUI | D29: =IF(C29="","",(VLOOKUP(C29,Table!$A:$C,3,FALSE))) -> Mercedes | E29: 34:04,117 | F29: 25 | H29: 1 | I29: =IF(J29="","",(VLOOKUP(J29,Table!$A:$B,2,FALSE))) -> Naim_Thr | J29: Naïm TAHRIOUI | K29: =IF(J29="","",(VLOOKUP(J29,Table!$A:$C,3,FALSE))) -> Mercedes | L29: 35:11,531 | M29: 25 | O29: 1 | P29: =IF(Q29="","",(VLOOKUP(Q29,Table!$A:$B,2,FALSE))) -> Naim_Thr | Q29: Naïm TAHRIOUI | R29: =IF(Q29="","",(VLOOKUP(Q29,Table!$A:$C,3,FALSE))) -> Mercedes | S29: 34:17,531 | T29: 25
A30: 2 | B30: =IF(C30="","",(VLOOKUP(C30,Table!$A:$B,2,FALSE))) -> IA | C30: Logan SARGEANT | D30: =IF(C30="","",(VLOOKUP(C30,Table!$A:$C,3,FALSE))) -> Williams | E30: + 15,352 | F30: 18 | H30: 2 | I30: =IF(J30="","",(VLOOKUP(J30,Table!$A:$B,2,FALSE))) -> f_a_____ta_____ | J30: François TARDITI | K30: =IF(J30="","",(VLOOKUP(J30,Table!$A:$C,3,FALSE))) -> Stake Sauber | L30: + 5,165 | M30: 18 | O30: 2 | P30: =IF(Q30="","",(VLOOKUP(Q30,Table!$A:$B,2,FALSE))) -> Hulkmc8 | Q30: Christopher FRANCHET | R30: =IF(Q30="","",(VLOOKUP(Q30,Table!$A:$C,3,FALSE))) -> Stake Sauber | S30: + 17,841 | T30: 18
A31: 3 | B31: =IF(C31="","",(VLOOKUP(C31,Table!$A:$B,2,FALSE))) -> f_a_____ta_____ | C31: François TARDITI | D31: =IF(C31="","",(VLOOKUP(C31,Table!$A:$C,3,FALSE))) -> Stake Sauber | E31: + 16,215 | F31: 15 | H31: 3 | I31: =IF(J31="","",(VLOOKUP(J31,Table!$A:$B,2,FALSE))) -> Petibaske | J31: Mathieu BARBAUD | K31: =IF(J31="","",(VLOOKUP(J31,Table!$A:$C,3,FALSE))) -> Aston Martin | L31: + 7,046 | M31: 15 | O31: 3 | P31: =IF(Q31="","",(VLOOKUP(Q31,Table!$A:$B,2,FALSE))) -> Giaquinho06 | Q31: Jonathan GIACCO | R31: =IF(Q31="","",(VLOOKUP(Q31,Table!$A:$C,3,FALSE))) -> Alpine | S31: + 27,238 | T31: 15
A32: 4 | B32: =IF(C32="","",(VLOOKUP(C32,Table!$A:$B,2,FALSE))) -> Giaquinho06 | C32: Jonathan GIACCO | D32: =IF(C32="","",(VLOOKUP(C32,Table!$A:$C,3,FALSE))) -> Alpine | E32: + 21,636 | F32: 12 | H32: 4 | I32: =IF(J32="","",(VLOOKUP(J32,Table!$A:$B,2,FALSE))) -> Giaquinho06 | J32: Jonathan GIACCO | K32: =IF(J32="","",(VLOOKUP(J32,Table!$A:$C,3,FALSE))) -> Alpine | L32: + 9,889 | M32: 12 | O32: 4 | P32: =IF(Q32="","",(VLOOKUP(Q32,Table!$A:$B,2,FALSE))) -> IA | Q32: Nico HULKENBERG | R32: =IF(Q32="","",(VLOOKUP(Q32,Table!$A:$C,3,FALSE))) -> Haas | S32: + 35,323 | T32: 12
A33: 5 | B33: =IF(C33="","",(VLOOKUP(C33,Table!$A:$B,2,FALSE))) -> IA | C33: Oscar PIASTRI | D33: =IF(C33="","",(VLOOKUP(C33,Table!$A:$C,3,FALSE))) -> McLaren | E33: + 21,878 | F33: 10 | H33: 5 | I33: =IF(J33="","",(VLOOKUP(J33,Table!$A:$B,2,FALSE))) -> Hulkmc8 | J33: Christopher FRANCHET | K33: =IF(J33="","",(VLOOKUP(J33,Table!$A:$C,3,FALSE))) -> Stake Sauber | L33: + 12,361 | M33: 10 | O33: 5 | P33: =IF(Q33="","",(VLOOKUP(Q33,Table!$A:$B,2,FALSE))) -> f_a_____ta_____ | Q33: François TARDITI | R33: =IF(Q33="","",(VLOOKUP(Q33,Table!$A:$C,3,FALSE))) -> Stake Sauber | S33: + 43,368 | T33: 10
A34: 6 | B34: =IF(C34="","",(VLOOKUP(C34,Table!$A:$B,2,FALSE))) -> IA | C34: Lance STROLL | D34: =IF(C34="","",(VLOOKUP(C34,Table!$A:$C,3,FALSE))) -> Aston Martin | E34: + 22,206 | F34: 8 | H34: 6 | I34: =IF(J34="","",(VLOOKUP(J34,Table!$A:$B,2,FALSE))) -> IA | J34: Max VERSTAPPEN | K34: =IF(J34="","",(VLOOKUP(J34,Table!$A:$C,3,FALSE))) -> Red Bull | L34: + 15,624 | M34: 8 | O34: 6 | P34: =IF(Q34="","",(VLOOKUP(Q34,Table!$A:$B,2,FALSE))) -> IA | Q34: Max VERSTAPPEN | R34: =IF(Q34="","",(VLOOKUP(Q34,Table!$A:$C,3,FALSE))) -> Red Bull | S34: + 43,418 | T34: 8
A35: 7 | B35: =IF(C35="","",(VLOOKUP(C35,Table!$A:$B,2,FALSE))) -> IA | C35: Nico HULKENBERG | D35: =IF(C35="","",(VLOOKUP(C35,Table!$A:$C,3,FALSE))) -> Haas | E35: + 22,481 | F35: 6 | H35: 7 | I35: =IF(J35="","",(VLOOKUP(J35,Table!$A:$B,2,FALSE))) -> IA | J35: Alexander ALBON | K35: =IF(J35="","",(VLOOKUP(J35,Table!$A:$C,3,FALSE))) -> Williams | L35: + 15,817 | M35: 6 | O35: 7 | P35: =IF(Q35="","",(VLOOKUP(Q35,Table!$A:$B,2,FALSE))) -> IA | Q35: Yuki TSUNODA | R35: =IF(Q35="","",(VLOOKUP(Q35,Table!$A:$C,3,FALSE))) -> Alpha Tauri | S35: + 45,929 | T35: 6
A36: 8 | B36: =IF(C36="","",(VLOOKUP(C36,Table!$A:$B,2,FALSE))) -> IA | C36: Kevin MAGNUSSEN | D36: =IF(C36="","",(VLOOKUP(C36,Table!$A:$C,3,FALSE))) -> Haas | E36: + 22,913 | F36: 4 | H36: 8 | I36: =IF(J36="","",(VLOOKUP(J36,Table!$A:$B,2,FALSE))) -> IA | J36: Daniel RICCIARDO | K36: =IF(J36="","",(VLOOKUP(J36,Table!$A:$C,3,FALSE))) -> Alpha Tauri | L36: + 16,098 | M36: 4 | O36: 8 | P36: =IF(Q36="","",(VLOOKUP(Q36,Table!$A:$B,2,FALSE))) -> IA | Q36: Logan SARGEANT | R36: =IF(Q36="","",(VLOOKUP(Q36,Table!$A:$C,3,FALSE))) -> Williams | S36: + 46,387 | T36: 4
A37: 9 | B37: =IF(C37="","",(VLOOKUP(C37,Table!$A:$B,2,FALSE))) -> IA | C37: Max VERSTAPPEN | D37: =IF(C37="","",(VLOOKUP(C37,Table!$A:$C,3,FALSE))) -> Red Bull | E37: + 25,839 | F37: 2 | H37: 9 | I37: =IF(J37="","",(VLOOKUP(J37,Table!$A:$B,2,FALSE))) -> IA | J37: George RUSSELL | K37: =IF(J37="","",(VLOOKUP(J37,Table!$A:$C,3,FALSE))) -> Mercedes | L37: + 16,430 | M37: 2 | O37: 9 | P37: =IF(Q37="","",(VLOOKUP(Q37,Table!$A:$B,2,FALSE))) -> IA | Q37: Carlos SAINZ Jr | R37: =IF(Q37="","",(VLOOKUP(Q37,Table!$A:$C,3,FALSE))) -> Ferrari | S37: + 47,185 | T37: 2
A38: 10 | B38: =IF(C38="","",(VLOOKUP(C38,Table!$A:$B,2,FALSE))) -> MacAdamO-34 | C38: Julien ADAMO | D38: =IF(C38="","",(VLOOKUP(C38,Table!$A:$C,3,FALSE))) -> McLaren | E38: + 28,385 | F38: 1 | H38: 10 | I38: =IF(J38="","",(VLOOKUP(J38,Table!$A:$B,2,FALSE))) -> IA | J38: Carlos SAINZ Jr | K38: =IF(J38="","",(VLOOKUP(J38,Table!$A:$C,3,FALSE))) -> Ferrari | L38: + 16,824 | M38: 1 | O38: 10 | P38: =IF(Q38="","",(VLOOKUP(Q38,Table!$A:$B,2,FALSE))) -> IA | Q38: Lance STROLL | R38: =IF(Q38="","",(VLOOKUP(Q38,Table!$A:$C,3,FALSE))) -> Aston Martin | S38: + 1:01,694 | T38: 1
A39: 11 | B39: =IF(C39="","",(VLOOKUP(C39,Table!$A:$B,2,FALSE))) -> IA | C39: Daniel RICCIARDO | D39: =IF(C39="","",(VLOOKUP(C39,Table!$A:$C,3,FALSE))) -> Alpha Tauri | E39: + 29,296 | F39: 0 | H39: 11 | I39: =IF(J39="","",(VLOOKUP(J39,Table!$A:$B,2,FALSE))) -> IA | J39: Logan SARGEANT | K39: =IF(J39="","",(VLOOKUP(J39,Table!$A:$C,3,FALSE))) -> Williams | L39: + 17,781 | M39: 0 | O39: 11 | P39: =IF(Q39="","",(VLOOKUP(Q39,Table!$A:$B,2,FALSE))) -> IA | Q39: Alexander ALBON | R39: =IF(Q39="","",(VLOOKUP(Q39,Table!$A:$C,3,FALSE))) -> Williams | S39: + 1:02,922 | T39: 0
A40: 12 | B40: =IF(C40="","",(VLOOKUP(C40,Table!$A:$B,2,FALSE))) -> IA | C40: Yuki TSUNODA | D40: =IF(C40="","",(VLOOKUP(C40,Table!$A:$C,3,FALSE))) -> Alpha Tauri | E40: + 31,979 | F40: 0 | H40: 12 | I40: =IF(J40="","",(VLOOKUP(J40,Table!$A:$B,2,FALSE))) -> MacAdamO-34 | J40: Julien ADAMO | K40: =IF(J40="","",(VLOOKUP(J40,Table!$A:$C,3,FALSE))) -> McLaren | L40: + 17,988 | M40: 0 | O40: 12 | P40: =IF(Q40="","",(VLOOKUP(Q40,Table!$A:$B,2,FALSE))) -> IA | Q40: Kevin MAGNUSSEN | R40: =IF(Q40="","",(VLOOKUP(Q40,Table!$A:$C,3,FALSE))) -> Haas | S40: + 1:03,357 | T40: 0
... A48: 20 | B48: =IF(C48="","",(VLOOKUP(C48,Table!$A:$B,2,FALSE))) -> IA | C48: Alexander ALBON | D48: =IF(C48="","",(VLOOKUP(C48,Table!$A:$C,3,FALSE))) -> Williams | E48: DNF | F48: 0 | H48: 20 | I48: =IF(J48="","",(VLOOKUP(J48,Table!$A:$B,2,FALSE))) -> IA | J48: Oscar PIASTRI | K48: =IF(J48="","",(VLOOKUP(J48,Table!$A:$C,3,FALSE))) -> McLaren | L48: DNF | M48: 0 | O48: 20 | P48: =IF(Q48="","",(VLOOKUP(Q48,Table!$A:$B,2,FALSE))) -> IA | Q48: Sergio PEREZ | R48: =IF(Q48="","",(VLOOKUP(Q48,Table!$A:$C,3,FALSE))) -> Red Bull | S48: DSQ | T48: 0
A49: Pole | B49: =IF(C49="","",(VLOOKUP(C49,Table!$A:$B,2,FALSE))) -> Naim_Thr | C49: Naïm TAHRIOUI | D49: =IF(C49="","",(VLOOKUP(C49,Table!$A:$C,3,FALSE))) -> Mercedes | E49: 1:30,680 | F49: 1 | H49: Pole | I49: =IF(J49="","",(VLOOKUP(J49,Table!$A:$B,2,FALSE))) -> Naim_Thr | J49: Naïm TAHRIOUI | K49: =IF(J49="","",(VLOOKUP(J49,Table!$A:$C,3,FALSE))) -> Mercedes | L49: 1:33,645 | M49: 1 | O49: Pole | P49: =IF(Q49="","",(VLOOKUP(Q49,Table!$A:$B,2,FALSE))) -> Naim_Thr | Q49: Naïm TAHRIOUI | R49: =IF(Q49="","",(VLOOKUP(Q49,Table!$A:$C,3,FALSE))) -> Mercedes | S49: 1:27,861 | T49: 1
A50: MT | B50: =IF(C50="","",(VLOOKUP(C50,Table!$A:$B,2,FALSE))) -> Naim_Thr | C50: Naïm TAHRIOUI | D50: =IF(C50="","",(VLOOKUP(C50,Table!$A:$C,3,FALSE))) -> Mercedes | E50: 1:32,355 | F50: 1 | H50: MT | I50: =IF(J50="","",(VLOOKUP(J50,Table!$A:$B,2,FALSE))) -> Naim_Thr | J50: Naïm TAHRIOUI | K50: =IF(J50="","",(VLOOKUP(J50,Table!$A:$C,3,FALSE))) -> Mercedes | L50: 1:35,085 | M50: 1 | O50: MT | P50: =IF(Q50="","",(VLOOKUP(Q50,Table!$A:$B,2,FALSE))) -> Naim_Thr | Q50: Naïm TAHRIOUI | R50: =IF(Q50="","",(VLOOKUP(Q50,Table!$A:$C,3,FALSE))) -> Mercedes | S50: 1:30,314 | T50: 1
A51: Pilote | B51: =IF(C51="","",(VLOOKUP(C51,Table!$A:$B,2,FALSE))) -> MacAdamO-34 | C51: Julien ADAMO | D51: =IF(C51="","",(VLOOKUP(C51,Table!$A:$C,3,FALSE))) -> McLaren | F51: 1 | H51: Pilote | I51: =IF(J51="","",(VLOOKUP(J51,Table!$A:$B,2,FALSE))) -> Ribe-888 | J51: Sébastien RIBERI | K51: =IF(J51="","",(VLOOKUP(J51,Table!$A:$C,3,FALSE))) -> Alpine | M51: 1 | O51: Pilote | P51: =IF(Q51="","",(VLOOKUP(Q51,Table!$A:$B,2,FALSE))) -> IA | Q51: Carlos SAINZ Jr | R51: =IF(Q51="","",(VLOOKUP(Q51,Table!$A:$C,3,FALSE))) -> Ferrari | T51: 1
A53: Course 7 : IMOLA | H53: Course 8 : MONACO | O53: Course 9 : MONTREAL
A54: Pos. | B54: Surnoms | C54: Pilotes | D54: Ecuries | E54: Temps | F54: Pts | H54: Pos. | I54: Surnoms | J54: Pilotes | K54: Ecuries | L54: Temps | M54: Pts | O54: Pos. | P54: Surnoms | Q54: Pilotes | R54: Ecuries | S54: Temps | T54: Pts
A55: 1 | B55: =IF(C55="","",(VLOOKUP(C55,Table!$A:$B,2,FALSE))) -> Naim_Thr | C55: Naïm TAHRIOUI | D55: =IF(C55="","",(VLOOKUP(C55,Table!$A:$C,3,FALSE))) -> Mercedes | E55: 31:26,261 | F55: 25 | H55: 1 | I55: =IF(J55="","",(VLOOKUP(J55,Table!$A:$B,2,FALSE))) -> Hulkmc8 | J55: Christopher FRANCHET | K55: =IF(J55="","",(VLOOKUP(J55,Table!$A:$C,3,FALSE))) -> Stake Sauber | L55: 36:08,975 | M55: 25 | O55: 1 | P55: =IF(Q55="","",(VLOOKUP(Q55,Table!$A:$B,2,FALSE))) -> Naim_Thr | Q55: Naïm TAHRIOUI | R55: =IF(Q55="","",(VLOOKUP(Q55,Table!$A:$C,3,FALSE))) -> Mercedes | S55: 33:42,479 | T55: 25
A56: 2 | B56: =IF(C56="","",(VLOOKUP(C56,Table!$A:$B,2,FALSE))) -> Hulkmc8 | C56: Christopher FRANCHET | D56: =IF(C56="","",(VLOOKUP(C56,Table!$A:$C,3,FALSE))) -> Stake Sauber | E56: + 40,271 | F56: 18 | H56: 2 | I56: =IF(J56="","",(VLOOKUP(J56,Table!$A:$B,2,FALSE))) -> IA | J56: Max VERSTAPPEN | K56: =IF(J56="","",(VLOOKUP(J56,Table!$A:$C,3,FALSE))) -> Red Bull | L56: + 12,487 | M56: 18 | O56: 2 | P56: =IF(Q56="","",(VLOOKUP(Q56,Table!$A:$B,2,FALSE))) -> Giaquinho06 | Q56: Jonathan GIACCO | R56: =IF(Q56="","",(VLOOKUP(Q56,Table!$A:$C,3,FALSE))) -> Alpine | S56: + 5,465 | T56: 18
...

Sheet Résultats Saison 3
H1: =IF('Courses Saison 3'!$B$3="","","OK") -> OK | I1: =IF('Courses Saison 3'!$I$3="","","OK") -> OK | J1: =IF('Courses Saison 3'!$P$3="","","OK") -> OK | K1: =IF('Courses Saison 3'!$B$29="","","OK") -> OK | L1: =IF('Courses Saison 3'!$I$29="","","OK") -> OK | M1: =IF('Courses Saison 3'!$P$29="","","OK") -> OK | N1: =IF('Courses Saison 3'!$B$55="","","OK") -> OK | O1: =IF('Courses Saison 3'!$I$55="","","OK") -> OK | P1: =IF('Courses Saison 3'!$P$55="","","OK") -> OK | Q1: =IF('Courses Saison 3'!$B$81="","","OK") -> OK | R1: =IF('Courses Saison 3'!$I$81="","","OK") -> OK | S1: =IF('Courses Saison 3'!$P$81="","","OK") -> OK | T1: =IF('Courses Saison 3'!$B$107="","","OK") -> OK | U1: =IF('Courses Saison 3'!$I$107="","","OK") -> OK | V1: =IF('Courses Saison 3'!$P$107="","","OK") | W1: =IF('Courses Saison 3'!$B$133="","","OK") | X1: =IF('Courses Saison 3'!$I$133="","","OK") | Y1: =IF('Courses Saison 3'!$P$133="","","OK") | Z1: =IF('Courses Saison 3'!$B$159="","","OK") | AA1: =IF('Courses Saison 3'!$I$159="","","OK") | AB1: =IF('Courses Saison 3'!$P$159="","","OK") | AC1: =IF('Courses Saison 3'!$B$185="","","OK") | AD1: =IF('Courses Saison 3'!$I$185="","","OK") | AE1: =IF('Courses Saison 3'!$P$185="","","OK")
A3: Pos. | B3: Surnoms | C3: Pilotes | D3: Ecuries | E3: Total Pts | F3: Ecart | G3: Ecart 1er | H3: Bahreïn | I3: Jeddah | J3: Melbourne | K3: Suzuka | L3: Shangaï | M3: Miami | N3: Imola | O3: Monaco | P3: Montréal | Q3: Barcelone | R3: Zeltweg | S3: Silverstone | T3: Budapest | U3: Spa-Francorchamps | V3: Zandwoort | W3: Monza | X3: Bakou | Y3: Singapour | Z3: Austin | AA3: Mexico | AB3: Interlagos | AC3: Las Vegas | AD3: Losail | AE3: Abu Dhabi | AF3: Moyenne de points par course
A4: 1 | B4: =IF(C4="","",(VLOOKUP(C4,Table!$A:$B,2,FALSE))) -> Naim_Thr | C4: Naïm TAHRIOUI | D4: =IF(C4="","",(VLOOKUP(C4,Table!$A:$C,3,FALSE))) -> Mercedes | E4: =SUM(H4:AE4) -> 258 | G4: =E4-MAX($E$4:$E$34) -> 0 | H4: =IF(H$1="","",SUMIF('Courses Saison 3'!$C$3:$C$25,Tableau1[[#This Row],[Pilotes]],'Courses Saison 3'!$F$3:$F$25)) -> 0 | I4: =IF(I$1="","",SUMIF('Courses Saison 3'!$J$3:$J$25,Tableau1[[#This Row],[Pilotes]],'Courses Saison 3'!$M$3:$M$25)) -> 14 | J4: =IF(J$1="","",SUMIF('Courses Saison 3'!$Q$3:$Q$25,Tableau1[[#This Row],[Pilotes]],'Courses Saison 3'!$T$3:$T$25)) -> 27 | K4: =IF(K$1="","",SUMIF('Courses Saison 3'!$C$29:$C$51,Tableau1[[#This Row],[Pilotes]],'Courses Saison 3'!$F$29:$F$51)) -> 27 | L4: =IF(L$1="","",SUMIF('Courses Saison 3'!$J$29:$J$51,Tableau1[[#This Row],[Pilotes]],'Courses Saison 3'!$M$29:$M$51)) -> 27 | M4: =IF(M$1="","",SUMIF('Courses Saison 3'!$Q$29:$Q$51,Tableau1[[#This Row],[Pilotes]],'Courses Saison 3'!$T$29:$T$51)) -> 27 | N4: =IF(N$1="","",SUMIF('Courses Saison 3'!$C$55:$C$77,Tableau1[[#This Row],[Pilotes]],'Courses Saison 3'!$F$55:$F$77)) -> 26 | O4: =IF(O$1="","",SUMIF('Courses Saison 3'!$J$55:$J$77,Tableau1[[#This Row],[Pilotes]],'Courses Saison 3'!$M$55:$M$77)) -> 2 | P4: =IF(P$1="","",SUMIF('Courses Saison 3'!$Q$55:$Q$77,Tableau1[[#This Row],[Pilotes]],'Courses Saison 3'!$T$55:$T$77)) -> 27 | Q4: =IF(Q$1="","",SUMIF('Courses Saison 3'!$C$81:$C$103,Tableau1[[#This Row],[Pilotes]],'Courses Saison 3'!$F$81:$F$103)) -> 27 | R4: =IF(R$1="","",SUMIF('Courses Saison 3'!$J$81:$J$103,Tableau1[[#This Row],[Pilotes]],'Courses Saison 3'!$M$81:$M$103)) -> 27 | S4: =IF(S$1="","",SUMIF('Courses Saison 3'!$Q$81:$Q$103,Tableau1[[#This Row],[Pilotes]],'Courses Saison 3'!$T$81:$T$103)) -> 27 | T4: =IF(T$1="","",SUMIF('Courses Saison 3'!$C$107:$C$128,Tableau1[[#This Row],[Pilotes]],'Courses Saison 3'!$F$107:$F$128)) -> 0 | U4: =IF(U$1="","",SUMIF('Courses Saison 3'!$J$107:$J$129,Tableau1[[#This Row],[Pilotes]],'Courses Saison 3'!$M$107:$M$129)) -> 0 | V4: =IF(V$1="","",SUMIF('Courses Saison 3'!$Q$107:$Q$129,Tableau1[[#This Row],[Pilotes]],'Courses Saison 3'!$T$107:$T$129)) | W4: =IF(W$1="","",SUMIF('Courses Saison 3'!$C$133:$C$155,Tableau1[[#This Row],[Pilotes]],'Courses Saison 3'!$F$133:$F$155)) | X4: =IF(X$1="","",SUMIF('Courses Saison 3'!$J$133:$J$155,Tableau1[[#This Row],[Pilotes]],'Courses Saison 3'!$M$133:$M$155)) | Y4: =IF(Y$1="","",SUMIF('Courses Saison 3'!$Q$133:$Q$155,Tableau1[[#This Row],[Pilotes]],'Courses Saison 3'!$T$133:$T$155)) | Z4: =IF(Z$1="","",SUMIF('Courses Saison 3'!$C$159:$C$181,Tableau1[[#This Row],[Pilotes]],'Courses Saison 3'!$F$159:$F$181)) | AA4: =IF(AA$1="","",SUMIF('Courses Saison 3'!$J$159:$J$181,Tableau1[[#This Row],[Pilotes]],'Courses Saison 3'!$M$159:$M$181)) | AB4: =IF(AB$1="","",SUMIF('Courses Saison 3'!$Q$159:$Q$181,Tableau1[[#This Row],[Pilotes]],'Courses Saison 3'!$T$159:$T$181)) | AC4: =IF(AC$1="","",SUMIF('Courses Saison 3'!$C$185:$C$207,Tableau1[[#This Row],[Pilotes]],'Courses Saison 3'!$F$185:$F$207)) | AD4: =IF(AD$1="","",SUMIF('Courses Saison 3'!$J$185:$J$207,Tableau1[[#This Row],[Pilotes]],'Courses Saison 3'!$M$185:$M$207)) | AE4: =IF(AE$1="","",SUMIF('Courses Saison 3'!$Q$185:$Q$207,Tableau1[[#This Row],[Pilotes]],'Courses Saison 3'!$T$185:$T$207)) | AF4: =AVERAGE(H4:AE4) -> 18.428571
A5: 2 | B5: =IF(C5="","",(VLOOKUP(C5,Table!$A:$B,2,FALSE))) -> Hulkmc8 | C5: Christopher FRANCHET | D5: =IF(C5="","",(VLOOKUP(C5,Table!$A:$C,3,FALSE))) -> Stake Sauber | E5: =SUM(H5:AE5) -> 179 | F5: =E5-E4 -> -79 | G5: =E5-MAX($E$4:$E$34) -> -79 | H5: =IF(H$1="","",SUMIF('Courses Saison 3'!$C$3:$C$25,Tableau1[[#This Row],[Pilotes]],'Courses Saison 3'!$F$3:$F$25)) -> 12 | I5: =IF(I$1="","",SUMIF('Courses Saison 3'!$J$3:$J$25,Tableau1[[#This Row],[Pilotes]],'Courses Saison 3'!$M$3:$M$25)) -> 8 | J5: =IF(J$1="","",SUMIF('Courses Saison 3'!$Q$3:$Q$25,Tableau1[[#This Row],[Pilotes]],'Courses Saison 3'!$T$3:$T$25)) -> 18 | K5: =IF(K$1="","",SUMIF('Courses Saison 3'!$C$29:$C$51,Tableau1[[#This Row],[Pilotes]],'Courses Saison 3'!$F$29:$F$51)) -> 0 | L5: =IF(L$1="","",SUMIF('Courses Saison 3'!$J$29:$J$51,Tableau1[[#This Row],[Pilotes]],'Courses Saison 3'!$M$29:$M$51)) -> 10 | M5: =IF(M$1="","",SUMIF('Courses Saison 3'!$Q$29:$Q$51,Tableau1[[#This Row],[Pilotes]],'Courses Saison 3'!$T$29:$T$51)) -> 18 | N5: =IF(N$1="","",SUMIF('Courses Saison 3'!$C$55:$C$77,Tableau1[[#This Row],[Pilotes]],'Courses Saison 3'!$F$55:$F$77)) -> 19 | O5: =IF(O$1="","",SUMIF('Courses Saison 3'!$J$55:$J$77,Tableau1[[#This Row],[Pilotes]],'Courses Saison 3'!$M$55:$M$77)) -> 25 | P5: =IF(P$1="","",SUMIF('Courses Saison 3'!$Q$55:$Q$77,Tableau1[[#This Row],[Pilotes]],'Courses Saison 3'!$T$55:$T$77)) -> 0 | Q5: =IF(Q$1="","",SUMIF('Courses Saison 3'!$C$81:$C$103,Tableau1[[#This Row],[Pilotes]],'Courses Saison 3'!$F$81:$F$103)) -> 10 | R5: =IF(R$1="","",SUMIF('Courses Saison 3'!$J$81:$J$103,Tableau1[[#This Row],[Pilotes]],'Courses Saison 3'!$M$81:$M$103)) -> 0 | S5: =IF(S$1="","",SUMIF('Courses Saison 3'!$Q$81:$Q$103,Tableau1[[#This Row],[Pilotes]],'Courses Saison 3'!$T$81:$T$103)) -> 15 | T5: =IF(T$1="","",SUMIF('Courses Saison 3'!$C$107:$C$128,Tableau1[[#This Row],[Pilotes]],'Courses Saison 3'!$F$107:$F$128)) -> 26 | U5: =IF(U$1="","",SUMIF('Courses Saison 3'!$J$107:$J$129,Tableau1[[#This Row],[Pilotes]],'Courses Saison 3'!$M$107:$M$129)) -> 18 | V5: =IF(V$1="","",SUMIF('Courses Saison 3'!$Q$107:$Q$129,Tableau1[[#This Row],[Pilotes]],'Courses Saison 3'!$T$107:$T$129)) | W5: =IF(W$1="","",SUMIF('Courses Saison 3'!$C$133:$C$155,Tableau1[[#This Row],[Pilotes]],'Courses Saison 3'!$F$133:$F$155)) | X5: =IF(X$1="","",SUMIF('Courses Saison 3'!$J$133:$J$155,Tableau1[[#This Row],[Pilotes]],'Courses Saison 3'!$M$133:$M$155)) | Y5: =IF(Y$1="","",SUMIF('Courses Saison 3'!$Q$133:$Q$155,Tableau1[[#This Row],[Pilotes]],'Courses Saison 3'!$T$133:$T$155)) | Z5: =IF(Z$1="","",SUMIF('Courses Saison 3'!$C$159:$C$181,Tableau1[[#This Row],[Pilotes]],'Courses Saison 3'!$F$159:$F$181)) | AA5: =IF(AA$1="","",SUMIF('Courses Saison 3'!$J$159:$J$181,Tableau1[[#This Row],[Pilotes]],'Courses Saison 3'!$M$159:$M$181)) | AB5: =IF(AB$1="","",SUMIF('Courses Saison 3'!$Q$159:$Q$181,Tableau1[[#This Row],[Pilotes]],'Courses Saison 3'!$T$159:$T$181)) | AC5: =IF(AC$1="","",SUMIF('Courses Saison 3'!$C$185:$C$207,Tableau1[[#This Row],[Pilotes]],'Courses Saison 3'!$F$185:$F$207)) | AD5: =IF(AD$1="","",SUMIF('Courses Saison 3'!$J$185:$J$207,Tableau1[[#This Row],[Pilotes]],'Courses Saison 3'!$M$185:$M$207)) | AE5: =IF(AE$1="","",SUMIF('Courses Saison 3'!$Q$185:$Q$207,Tableau1[[#This Row],[Pilotes]],'Courses Saison 3'!$T$185:$T$207)) | AF5: =AVERAGE(H5:AE5) -> 12.785714
A6: 3 | B6: =IF(C6="","",(VLOOKUP(C6,Table!$A:$B,2,FALSE))) -> Giaquinho06 | C6: Jonathan GIACCO | D6: =IF(C6="","",(VLOOKUP(C6,Table!$A:$C,3,FALSE))) -> Alpine | E6: =SUM(H6:AE6) -> 134 | F6: =E6-E5 -> -45 | G6: =E6-MAX($E$4:$E$34) -> -124 | H6: =IF(H$1="","",SUMIF('Courses Saison 3'!$C$3:$C$25,Tableau1[[#This Row],[Pilotes]],'Courses Saison 3'!$F$3:$F$25)) -> 8 | I6: =IF(I$1="","",SUMIF('Courses Saison 3'!$J$3:$J$25,Tableau1[[#This Row],[Pilotes]],'Courses Saison 3'!$M$3:$M$25)) -> 18 | J6: =IF(J$1="","",SUMIF('Courses Saison 3'!$Q$3:$Q$25,Tableau1[[#This Row],[Pilotes]],'Courses Saison 3'!$T$3:$T$25)) -> 15 | K6: =IF(K$1="","",SUMIF('Courses Saison 3'!$C$29:$C$51,Tableau1[[#This Row],[Pilotes]],'Courses Saison 3'!$F$29:$F$51)) -> 12 | L6: =IF(L$1="","",SUMIF('Courses Saison 3'!$J$29:$J$51,Tableau1[[#This Row],[Pilotes]],'Courses Saison 3'!$M$29:$M$51)) -> 12 | M6: =IF(M$1="","",SUMIF('Courses Saison 3'!$Q$29:$Q$51,Tableau1[[#This Row],[Pilotes]],'Courses Saison 3'!$T$29:$T$51)) -> 15 | N6: =IF(N$1="","",SUMIF('Courses Saison 3'!$C$55:$C$77,Tableau1[[#This Row],[Pilotes]],'Courses Saison 3'!$F$55:$F$77)) -> 0 | O6: =IF(O$1="","",SUMIF('Courses Saison 3'!$J$55:$J$77,Tableau1[[#This Row],[Pilotes]],'Courses Saison 3'!$M$55:$M$77)) -> 8 | P6: =IF(P$1="","",SUMIF('Courses Saison 3'!$Q$55:$Q$77,Tableau1[[#This Row],[Pilotes]],'Courses Saison 3'!$T$55:$T$77)) -> 18 | Q6: =IF(Q$1="","",SUMIF('Courses Saison 3'!$C$81:$C$103,Tableau1[[#This Row],[Pilotes]],'Courses Saison 3'!$F$81:$F$103)) -> 12 | R6: =IF(R$1="","",SUMIF('Courses Saison 3'!$J$81:$J$103,Tableau1[[#This Row],[Pilotes]],'Courses Saison 3'!$M$81:$M$103)) -> 0 | S6: =IF(S$1="","",SUMIF('Courses Saison 3'!$Q$81:$Q$103,Tableau1[[#This Row],[Pilotes]],'Courses Saison 3'!$T$81:$T$103)) -> 0 | T6: =IF(T$1="","",SUMIF('Courses Saison 3'!$C$107:$C$128,Tableau1[[#This Row],[Pilotes]],'Courses Saison 3'!$F$107:$F$128)) -> 15 | U6: =IF(U$1="","",SUMIF('Courses Saison 3'!$J$107:$J$129,Tableau1[[#This Row],[Pilotes]],'Courses Saison 3'!$M$107:$M$129)) -> 1 | V6: =IF(V$1="","",SUMIF('Courses Saison 3'!$Q$107:$Q$129,Tableau1[[#This Row],[Pilotes]],'Courses Saison 3'!$T$107:$T$129)) | W6: =IF(W$1="","",SUMIF('Courses Saison 3'!$C$133:$C$155,Tableau1[[#This Row],[Pilotes]],'Courses Saison 3'!$F$133:$F$155)) | X6: =IF(X$1="","",SUMIF('Courses Saison 3'!$J$133:$J$155,Tableau1[[#This Row],[Pilotes]],'Courses Saison 3'!$M$133:$M$155)) | Y6: =IF(Y$1="","",SUMIF('Courses Saison 3'!$Q$133:$Q$155,Tableau1[[#This Row],[Pilotes]],'Courses Saison 3'!$T$133:$T$155)) | Z6: =IF(Z$1="","",SUMIF('Courses Saison 3'!$C$159:$C$181,Tableau1[[#This Row],[Pilotes]],'Courses Saison 3'!$F$159:$F$181)) | AA6: =IF(AA$1="","",SUMIF('Courses Saison 3'!$J$159:$J$181,Tableau1[[#This Row],[Pilotes]],'Courses Saison 3'!$M$159:$M$181)) | AB6: =IF(AB$1="","",SUMIF('Courses Saison 3'!$Q$159:$Q$181,Tableau1[[#This Row],[Pilotes]],'Courses Saison 3'!$T$159:$T$181)) | AC6: =IF(AC$1="","",SUMIF('Courses Saison 3'!$C$185:$C$207,Tableau1[[#This Row],[Pilotes]],'Courses Saison 3'!$F$185:$F$207)) | AD6: =IF(AD$1="","",SUMIF('Courses Saison 3'!$J$185:$J$207,Tableau1[[#This Row],[Pilotes]],'Courses Saison 3'!$M$185:$M$207)) | AE6: =IF(AE$1="","",SUMIF('Courses Saison 3'!$Q$185:$Q$207,Tableau1[[#This Row],[Pilotes]],'Courses Saison 3'!$T$185:$T$207)) | AF6: =AVERAGE(H6:AE6) -> 9.5714286
A7: 4 | B7: =IF(C7="","",(VLOOKUP(C7,Table!$A:$B,2,FALSE))) -> f_a_____ta_____ | C7: François TARDITI | D7: =IF(C7="","",(VLOOKUP(C7,Table!$A:$C,3,FALSE))) -> Stake Sauber | E7: =SUM(H7:AE7) -> 109 | F7: =E7-E6 -> -25 | G7: =E7-MAX($E$4:$E$34) -> -149 | H7: =IF(H$1="","",SUMIF('Courses Saison 3'!$C$3:$C$25,Tableau1[[#This Row],[Pilotes]],'Courses Saison 3'!$F$3:$F$25)) -> 26 | I7: =IF(I$1="","",SUMIF('Courses Saison 3'!$J$3:$J$25,Tableau1[[#This Row],[Pilotes]],'Courses Saison 3'!$M$3:$M$25)) -> 25 | J7: =IF(J$1="","",SUMIF('Courses Saison 3'!$Q$3:$Q$25,Tableau1[[#This Row],[Pilotes]],'Courses Saison 3'!$T$3:$T$25)) -> 0 | K7: =IF(K$1="","",SUMIF('Courses Saison 3'!$C$29:$C$51,Tableau1[[#This Row],[Pilotes]],'Courses Saison 3'!$F$29:$F$51)) -> 15 | L7: =IF(L$1="","",SUMIF('Courses Saison 3'!$J$29:$J$51,Tableau1[[#This Row],[Pilotes]],'Courses Saison 3'!$M$29:$M$51)) -> 18 | M7: =IF(M$1="","",SUMIF('Courses Saison 3'!$Q$29:$Q$51,Tableau1[[#This Row],[Pilotes]],'Courses Saison 3'!$T$29:$T$51)) -> 10 | N7: =IF(N$1="","",SUMIF('Courses Saison 3'!$C$55:$C$77,Tableau1[[#This Row],[Pilotes]],'Courses Saison 3'!$F$55:$F$77)) -> 0 | O7: =IF(O$1="","",SUMIF('Courses Saison 3'!$J$55:$J$77,Tableau1[[#This Row],[Pilotes]],'Courses Saison 3'!$M$55:$M$77)) -> 0 | P7: =IF(P$1="","",SUMIF('Courses Saison 3'!$Q$55:$Q$77,Tableau1[[#This Row],[Pilotes]],'Courses Saison 3'!$T$55:$T$77)) -> 0 | Q7: =IF(Q$1="","",SUMIF('Courses Saison 3'!$C$81:$C$103,Tableau1[[#This Row],[Pilotes]],'Courses Saison 3'!$F$81:$F$103)) -> 4 | R7: =IF(R$1="","",SUMIF('Courses Saison 3'!$J$81:$J$103,Tableau1[[#This Row],[Pilotes]],'Courses Saison 3'!$M$81:$M$103)) -> 10 | S7: =IF(S$1="","",SUMIF('Courses Saison 3'!$Q$81:$Q$103,Tableau1[[#This Row],[Pilotes]],'Courses Saison 3'!$T$81:$T$103)) -> 1 | T7: =IF(T$1="","",SUMIF('Courses Saison 3'!$C$107:$C$128,Tableau1[[#This Row],[Pilotes]],'Courses Saison 3'!$F$107:$F$128)) -> 0 | U7: =IF(U$1="","",SUMIF('Courses Saison 3'!$J$107:$J$129,Tableau1[[#This Row],[Pilotes]],'Courses Saison 3'!$M$107:$M$129)) -> 0 | V7: =IF(V$1="","",SUMIF('Courses Saison 3'!$Q$107:$Q$129,Tableau1[[#This Row],[Pilotes]],'Courses Saison 3'!$T$107:$T$129)) | W7: =IF(W$1="","",SUMIF('Courses Saison 3'!$C$133:$C$155,Tableau1[[#This Row],[Pilotes]],'Courses Saison 3'!$F$133:$F$155)) | X7: =IF(X$1="","",SUMIF('Courses Saison 3'!$J$133:$J$155,Tableau1[[#This Row],[Pilotes]],'Courses Saison 3'!$M$133:$M$155)) | Y7: =IF(Y$1="","",SUMIF('Courses Saison 3'!$Q$133:$Q$155,Tableau1[[#This Row],[Pilotes]],'Courses Saison 3'!$T$133:$T$155)) | Z7: =IF(Z$1="","",SUMIF('Courses Saison 3'!$C$159:$C$181,Tableau1[[#This Row],[Pilotes]],'Courses Saison 3'!$F$159:$F$181)) | AA7: =IF(AA$1="","",SUMIF('Courses Saison 3'!$J$159:$J$181,Tableau1[[#This Row],[Pilotes]],'Courses Saison 3'!$M$159:$M$181)) | AB7: =IF(AB$1="","",SUMIF('Courses Saison 3'!$Q$159:$Q$181,Tableau1[[#This Row],[Pilotes]],'Courses Saison 3'!$T$159:$T$181)) | AC7: =IF(AC$1="","",SUMIF('Courses Saison 3'!$C$185:$C$207,Tableau1[[#This Row],[Pilotes]],'Courses Saison 3'!$F$185:$F$207)) | AD7: =IF(AD$1="","",SUMIF('Courses Saison 3'!$J$185:$J$207,Tableau1[[#This Row],[Pilotes]],'Courses Saison 3'!$M$185:$M$207)) | AE7: =IF(AE$1="","",SUMIF('Courses Saison 3'!$Q$185:$Q$207,Tableau1[[#This Row],[Pilotes]],'Courses Saison 3'!$T$185:$T$207)) | AF7: =AVERAGE(H7:AE7) -> 7.7857143
A8: 5 | B8: =IF(C8="","",(VLOOKUP(C8,Table!$A:$B,2,FALSE))) -> Petibaske | C8: Mathieu BARBAUD | D8: =IF(C8="","",(VLOOKUP(C8,Table!$A:$C,3,FALSE))) -> Aston Martin | E8: =SUM(H8:AE8) -> 104 | F8: =E8-E7 -> -5 | G8: =E8-MAX($E$4:$E$34) -> -154 | H8: =IF(H$1="","",SUMIF('Courses Saison 3'!$C$3:$C$25,Tableau1[[#This Row],[Pilotes]],'Courses Saison 3'!$F$3:$F$25)) -> 10 | I8: =IF(I$1="","",SUMIF('Courses Saison 3'!$J$3:$J$25,Tableau1[[#This Row],[Pilotes]],'Courses Saison 3'!$M$3:$M$25)) -> 10 | J8: =IF(J$1="","",SUMIF('Courses Saison 3'!$Q$3:$Q$25,Tableau1[[#This Row],[Pilotes]],'Courses Saison 3'!$T$3:$T$25)) -> 0 | K8: =IF(K$1="","",SUMIF('Courses Saison 3'!$C$29:$C$51,Tableau1[[#This Row],[Pilotes]],'Courses Saison 3'!$F$29:$F$51)) -> 0 | L8: =IF(L$1="","",SUMIF('Courses Saison 3'!$J$29:$J$51,Tableau1[[#This Row],[Pilotes]],'Courses Saison 3'!$M$29:$M$51)) -> 15 | M8: =IF(M$1="","",SUMIF('Courses Saison 3'!$Q$29:$Q$51,Tableau1[[#This Row],[Pilotes]],'Courses Saison 3'!$T$29:$T$51)) -> 0 | N8: =IF(N$1="","",SUMIF('Courses Saison 3'!$C$55:$C$77,Tableau1[[#This Row],[Pilotes]],'Courses Saison 3'!$F$55:$F$77)) -> 0 | O8: =IF(O$1="","",SUMIF('Courses Saison 3'!$J$55:$J$77,Tableau1[[#This Row],[Pilotes]],'Courses Saison 3'!$M$55:$M$77)) -> 0 | P8: =IF(P$1="","",SUMIF('Courses Saison 3'!$Q$55:$Q$77,Tableau1[[#This Row],[Pilotes]],'Courses Saison 3'!$T$55:$T$77)) -> 15 | Q8: =IF(Q$1="","",SUMIF('Courses Saison 3'!$C$81:$C$103,Tableau1[[#This Row],[Pilotes]],'Courses Saison 3'!$F$81:$F$103)) -> 18 | R8: =IF(R$1="","",SUMIF('Courses Saison 3'!$J$81:$J$103,Tableau1[[#This Row],[Pilotes]],'Courses Saison 3'!$M$81:$M$103)) -> 18 | S8: =IF(S$1="","",SUMIF('Courses Saison 3'!$Q$81:$Q$103,Tableau1[[#This Row],[Pilotes]],'Courses Saison 3'!$T$81:$T$103)) -> 18 | T8: =IF(T$1="","",SUMIF('Courses Saison 3'!$C$107:$C$128,Tableau1[[#This Row],[Pilotes]],'Courses Saison 3'!$F$107:$F$128)) -> 0 | U8: =IF(U$1="","",SUMIF('Courses Saison 3'!$J$107:$J$129,Tableau1[[#This Row],[Pilotes]],'Courses Saison 3'!$M$107:$M$129)) -> 0 | V8: =IF(V$1="","",SUMIF('Courses Saison 3'!$Q$107:$Q$129,Tableau1[[#This Row],[Pilotes]],'Courses Saison 3'!$T$107:$T$129)) | W8: =IF(W$1="","",SUMIF('Courses Saison 3'!$C$133:$C$155,Tableau1[[#This Row],[Pilotes]],'Courses Saison 3'!$F$133:$F$155)) | X8: =IF(X$1="","",SUMIF('Courses Saison 3'!$J$133:$J$155,Tableau1[[#This Row],[Pilotes]],'Courses Saison 3'!$M$133:$M$155)) | Y8: =IF(Y$1="","",SUMIF('Courses Saison 3'!$Q$133:$Q$155,Tableau1[[#This Row],[Pilotes]],'Courses Saison 3'!$T$133:$T$155)) | Z8: =IF(Z$1="","",SUMIF('Courses Saison 3'!$C$159:$C$181,Tableau1[[#This Row],[Pilotes]],'Courses Saison 3'!$F$159:$F$181)) | AA8: =IF(AA$1="","",SUMIF('Courses Saison 3'!$J$159:$J$181,Tableau1[[#This Row],[Pilotes]],'Courses Saison 3'!$M$159:$M$181)) | AB8: =IF(AB$1="","",SUMIF('Courses Saison 3'!$Q$159:$Q$181,Tableau1[[#This Row],[Pilotes]],'Courses Saison 3'!$T$159:$T$181)) | AC8: =IF(AC$1="","",SUMIF('Courses Saison 3'!$C$185:$C$207,Tableau1[[#This Row],[Pilotes]],'Courses Saison 3'!$F$185:$F$207)) | AD8: =IF(AD$1="","",SUMIF('Courses Saison 3'!$J$185:$J$207,Tableau1[[#This Row],[Pilotes]],'Courses Saison 3'!$M$185:$M$207)) | AE8: =IF(AE$1="","",SUMIF('Courses Saison 3'!$Q$185:$Q$207,Tableau1[[#This Row],[Pilotes]],'Courses Saison 3'!$T$185:$T$207)) | AF8: =AVERAGE(H8:AE8) -> 7.4285714
A9: 6 | B9: =IF(C9="","",(VLOOKUP(C9,Table!$A:$B,2,FALSE))) -> IA | C9: Max VERSTAPPEN | D9: =IF(C9="","",(VLOOKUP(C9,Table!$A:$C,3,FALSE))) -> Red Bull | E9: =SUM(H9:AE9) -> 79 | F9: =E9-E8 -> -25 | G9: =E9-MAX($E$4:$E$34) -> -179 | H9: =IF(H$1="","",SUMIF('Courses Saison 3'!$C$3:$C$25,Tableau1[[#This Row],[Pilotes]],'Courses Saison 3'!$F$3:$F$25)) -> 0 | I9: =IF(I$1="","",SUMIF('Courses Saison 3'!$J$3:$J$25,Tableau1[[#This Row],[Pilotes]],'Courses Saison 3'!$M$3:$M$25)) -> 0 | J9: =IF(J$1="","",SUMIF('Courses Saison 3'!$Q$3:$Q$25,Tableau1[[#This Row],[Pilotes]],'Courses Saison 3'!$T$3:$T$25)) -> 0 | K9: =IF(K$1="","",SUMIF('Courses Saison 3'!$C$29:$C$51,Tableau1[[#This Row],[Pilotes]],'Courses Saison 3'!$F$29:$F$51)) -> 2 | L9: =IF(L$1="","",SUMIF('Courses Saison 3'!$J$29:$J$51,Tableau1[[#This Row],[Pilotes]],'Courses Saison 3'!$M$29:$M$51)) -> 8 | M9: =IF(M$1="","",SUMIF('Courses Saison 3'!$Q$29:$Q$51,Tableau1[[#This Row],[Pilotes]],'Courses Saison 3'!$T$29:$T$51)) -> 8 | N9: =IF(N$1="","",SUMIF('Courses Saison 3'!$C$55:$C$77,Tableau1[[#This Row],[Pilotes]],'Courses Saison 3'!$F$55:$F$77)) -> 10 | O9: =IF(O$1="","",SUMIF('Courses Saison 3'!$J$55:$J$77,Tableau1[[#This Row],[Pilotes]],'Courses Saison 3'!$M$55:$M$77)) -> 18 | P9: =IF(P$1="","",SUMIF('Courses Saison 3'!$Q$55:$Q$77,Tableau1[[#This Row],[Pilotes]],'Courses Saison 3'!$T$55:$T$77)) -> 12 | Q9: =IF(Q$1="","",SUMIF('Courses Saison 3'!$C$81:$C$103,Tableau1[[#This Row],[Pilotes]],'Courses Saison 3'!$F$81:$F$103)) -> 1 | R9: =IF(R$1="","",SUMIF('Courses Saison 3'!$J$81:$J$103,Tableau1[[#This Row],[Pilotes]],'Courses Saison 3'!$M$81:$M$103)) -> 2 | S9: =IF(S$1="","",SUMIF('Courses Saison 3'!$Q$81:$Q$103,Tableau1[[#This Row],[Pilotes]],'Courses Saison 3'!$T$81:$T$103)) -> 8 | T9: =IF(T$1="","",SUMIF('Courses Saison 3'!$C$107:$C$128,Tableau1[[#This Row],[Pilotes]],'Courses Saison 3'!$F$107:$F$128)) -> 10 | U9: =IF(U$1="","",SUMIF('Courses Saison 3'!$J$107:$J$129,Tableau1[[#This Row],[Pilotes]],'Courses Saison 3'!$M$107:$M$129)) -> 0 | V9: =IF(V$1="","",SUMIF('Courses Saison 3'!$Q$107:$Q$129,Tableau1[[#This Row],[Pilotes]],'Courses Saison 3'!$T$107:$T$129)) | W9: =IF(W$1="","",SUMIF('Courses Saison 3'!$C$133:$C$155,Tableau1[[#This Row],[Pilotes]],'Courses Saison 3'!$F$133:$F$155)) | X9: =IF(X$1="","",SUMIF('Courses Saison 3'!$J$133:$J$155,Tableau1[[#This Row],[Pilotes]],'Courses Saison 3'!$M$133:$M$155)) | Y9: =IF(Y$1="","",SUMIF('Courses Saison 3'!$Q$133:$Q$155,Tableau1[[#This Row],[Pilotes]],'Courses Saison 3'!$T$133:$T$155)) | Z9: =IF(Z$1="","",SUMIF('Courses Saison 3'!$C$159:$C$181,Tableau1[[#This Row],[Pilotes]],'Courses Saison 3'!$F$159:$F$181)) | AA9: =IF(AA$1="","",SUMIF('Courses Saison 3'!$J$159:$J$181,Tableau1[[#This Row],[Pilotes]],'Courses Saison 3'!$M$159:$M$181)) | AB9: =IF(AB$1="","",SUMIF('Courses Saison 3'!$Q$159:$Q$181,Tableau1[[#This Row],[Pilotes]],'Courses Saison 3'!$T$159:$T$181)) | AC9: =IF(AC$1="","",SUMIF('Courses Saison 3'!$C$185:$C$207,Tableau1[[#This Row],[Pilotes]],'Courses Saison 3'!$F$185:$F$207)) | AD9: =IF(AD$1="","",SUMIF('Courses Saison 3'!$J$185:$J$207,Tableau1[[#This Row],[Pilotes]],'Courses Saison 3'!$M$185:$M$207)) | AE9: =IF(AE$1="","",SUMIF('Courses Saison 3'!$Q$185:$Q$207,Tableau1[[#This Row],[Pilotes]],'Courses Saison 3'!$T$185:$T$207)) | AF9: =AVERAGE(H9:AE9) -> 5.6428571
A10: 7 | B10: =IF(C10="","",(VLOOKUP(C10,Table!$A:$B,2,FALSE))) -> GiOvA88mc | C10: Cédric GIOVANETTI | D10: =IF(C10="","",(VLOOKUP(C10,Table!$A:$C,3,FALSE))) -> Ferrari | E10: =SUM(H10:AE10) -> 65 | F10: =E10-E9 -> -14 | G10: =E10-MAX($E$4:$E$34) -> -193 | H10: =IF(H$1="","",SUMIF('Courses Saison 3'!$C$3:$C$25,Tableau1[[#This Row],[Pilotes]],'Courses Saison 3'!$F$3:$F$25)) -> 15 | I10: =IF(I$1="","",SUMIF('Courses Saison 3'!$J$3:$J$25,Tableau1[[#This Row],[Pilotes]],'Courses Saison 3'!$M$3:$M$25)) -> 15 | J10: =IF(J$1="","",SUMIF('Courses Saison 3'!$Q$3:$Q$25,Tableau1[[#This Row],[Pilotes]],'Courses Saison 3'!$T$3:$T$25)) -> 0 | K10: =IF(K$1="","",SUMIF('Courses Saison 3'!$C$29:$C$51,Tableau1[[#This Row],[Pilotes]],'Courses Saison 3'!$F$29:$F$51)) -> 0 | L10: =IF(L$1="","",SUMIF('Courses Saison 3'!$J$29:$J$51,Tableau1[[#This Row],[Pilotes]],'Courses Saison 3'!$M$29:$M$51)) -> 0 | M10: =IF(M$1="","",SUMIF('Courses Saison 3'!$Q$29:$Q$51,Tableau1[[#This Row],[Pilotes]],'Courses Saison 3'!$T$29:$T$51)) -> 0 | N10: =IF(N$1="","",SUMIF('Courses Saison 3'!$C$55:$C$77,Tableau1[[#This Row],[Pilotes]],'Courses Saison 3'!$F$55:$F$77)) -> 16 | O10: =IF(O$1="","",SUMIF('Courses Saison 3'!$J$55:$J$77,Tableau1[[#This Row],[Pilotes]],'Courses Saison 3'!$M$55:$M$77)) -> 0 | P10: =IF(P$1="","",SUMIF('Courses Saison 3'!$Q$55:$Q$77,Tableau1[[#This Row],[Pilotes]],'Courses Saison 3'!$T$55:$T$77)) -> 0 | Q10: =IF(Q$1="","",SUMIF('Courses Saison 3'!$C$81:$C$103,Tableau1[[#This Row],[Pilotes]],'Courses Saison 3'!$F$81:$F$103)) -> 0 | R10: =IF(R$1="","",SUMIF('Courses Saison 3'!$J$81:$J$103,Tableau1[[#This Row],[Pilotes]],'Courses Saison 3'!$M$81:$M$103)) -> 0 | S10: =IF(S$1="","",SUMIF('Courses Saison 3'!$Q$81:$Q$103,Tableau1[[#This Row],[Pilotes]],'Courses Saison 3'!$T$81:$T$103)) -> 0 | T10: =IF(T$1="","",SUMIF('Courses Saison 3'!$C$107:$C$128,Tableau1[[#This Row],[Pilotes]],'Courses Saison 3'!$F$107:$F$128)) -> 19 | U10: =IF(U$1="","",SUMIF('Courses Saison 3'!$J$107:$J$129,Tableau1[[#This Row],[Pilotes]],'Courses Saison 3'!$M$107:$M$129)) -> 0 | V10: =IF(V$1="","",SUMIF('Courses Saison 3'!$Q$107:$Q$129,Tableau1[[#This Row],[Pilotes]],'Courses Saison 3'!$T$107:$T$129)) | W10: =IF(W$1="","",SUMIF('Courses Saison 3'!$C$133:$C$155,Tableau1[[#This Row],[Pilotes]],'Courses Saison 3'!$F$133:$F$155)) | X10: =IF(X$1="","",SUMIF('Courses Saison 3'!$J$133:$J$155,Tableau1[[#This Row],[Pilotes]],'Courses Saison 3'!$M$133:$M$155)) | Y10: =IF(Y$1="","",SUMIF('Courses Saison 3'!$Q$133:$Q$155,Tableau1[[#This Row],[Pilotes]],'Courses Saison 3'!$T$133:$T$155)) | Z10: =IF(Z$1="","",SUMIF('Courses Saison 3'!$C$159:$C$181,Tableau1[[#This Row],[Pilotes]],'Courses Saison 3'!$F$159:$F$181)) | AA10: =IF(AA$1="","",SUMIF('Courses Saison 3'!$J$159:$J$181,Tableau1[[#This Row],[Pilotes]],'Courses Saison 3'!$M$159:$M$181)) | AB10: =IF(AB$1="","",SUMIF('Courses Saison 3'!$Q$159:$Q$181,Tableau1[[#This Row],[Pilotes]],'Courses Saison 3'!$T$159:$T$181)) | AC10: =IF(AC$1="","",SUMIF('Courses Saison 3'!$C$185:$C$207,Tableau1[[#This Row],[Pilotes]],'Courses Saison 3'!$F$185:$F$207)) | AD10: =IF(AD$1="","",SUMIF('Courses Saison 3'!$J$185:$J$207,Tableau1[[#This Row],[Pilotes]],'Courses Saison 3'!$M$185:$M$207)) | AE10: =IF(AE$1="","",SUMIF('Courses Saison 3'!$Q$185:$Q$207,Tableau1[[#This Row],[Pilotes]],'Courses Saison 3'!$T$185:$T$207)) | AF10: =AVERAGE(H10:AE10) -> 4.6428571
A11: 8 | B11: =IF(C11="","",(VLOOKUP(C11,Table!$A:$B,2,FALSE))) -> MacAdamO-34 | C11: Julien ADAMO | D11: =IF(C11="","",(VLOOKUP(C11,Table!$A:$C,3,FALSE))) -> McLaren | E11: =SUM(H11:AE11) -> 63 | F11: =E11-E10 -> -2 | G11: =E11-MAX($E$4:$E$34) -> -195 | H11: =IF(H$1="","",SUMIF('Courses Saison 3'!$C$3:$C$25,Tableau1[[#This Row],[Pilotes]],'Courses Saison 3'!$F$3:$F$25)) -> 7 | I11: =IF(I$1="","",SUMIF('Courses Saison 3'!$J$3:$J$25,Tableau1[[#This Row],[Pilotes]],'Courses Saison 3'!$M$3:$M$25)) -> 0 | J11: =IF(J$1="","",SUMIF('Courses Saison 3'!$Q$3:$Q$25,Tableau1[[#This Row],[Pilotes]],'Courses Saison 3'!$T$3:$T$25)) -> 0 | K11: =IF(K$1="","",SUMIF('Courses Saison 3'!$C$29:$C$51,Tableau1[[#This Row],[Pilotes]],'Courses Saison 3'!$F$29:$F$51)) -> 2 | L11: =IF(L$1="","",SUMIF('Courses Saison 3'!$J$29:$J$51,Tableau1[[#This Row],[Pilotes]],'Courses Saison 3'!$M$29:$M$51)) -> 0 | M11: =IF(M$1="","",SUMIF('Courses Saison 3'!$Q$29:$Q$51,Tableau1[[#This Row],[Pilotes]],'Courses Saison 3'!$T$29:$T$51)) -> 0 | N11: =IF(N$1="","",SUMIF('Courses Saison 3'!$C$55:$C$77,Tableau1[[#This Row],[Pilotes]],'Courses Saison 3'!$F$55:$F$77)) -> 0 | O11: =IF(O$1="","",SUMIF('Courses Saison 3'!$J$55:$J$77,Tableau1[[#This Row],[Pilotes]],'Courses Saison 3'!$M$55:$M$77)) -> 0 | P11: =IF(P$1="","",SUMIF('Courses Saison 3'!$Q$55:$Q$77,Tableau1[[#This Row],[Pilotes]],'Courses Saison 3'!$T$55:$T$77)) -> 0 | Q11: =IF(Q$1="","",SUMIF('Courses Saison 3'!$C$81:$C$103,Tableau1[[#This Row],[Pilotes]],'Courses Saison 3'!$F$81:$F$103)) -> 15 | R11: =IF(R$1="","",SUMIF('Courses Saison 3'!$J$81:$J$103,Tableau1[[#This Row],[Pilotes]],'Courses Saison 3'!$M$81:$M$103)) -> 12 | S11: =IF(S$1="","",SUMIF('Courses Saison 3'!$Q$81:$Q$103,Tableau1[[#This Row],[Pilotes]],'Courses Saison 3'!$T$81:$T$103)) -> 0 | T11: =IF(T$1="","",SUMIF('Courses Saison 3'!$C$107:$C$128,Tableau1[[#This Row],[Pilotes]],'Courses Saison 3'!$F$107:$F$128)) -> 0 | U11: =IF(U$1="","",SUMIF('Courses Saison 3'!$J$107:$J$129,Tableau1[[#This Row],[Pilotes]],'Courses Saison 3'!$M$107:$M$129)) -> 27 | V11: =IF(V$1="","",SUMIF('Courses Saison 3'!$Q$107:$Q$129,Tableau1[[#This Row],[Pilotes]],'Courses Saison 3'!$T$107:$T$129)) | W11: =IF(W$1="","",SUMIF('Courses Saison 3'!$C$133:$C$155,Tableau1[[#This Row],[Pilotes]],'Courses Saison 3'!$F$133:$F$155)) | X11: =IF(X$1="","",SUMIF('Courses Saison 3'!$J$133:$J$155,Tableau1[[#This Row],[Pilotes]],'Courses Saison 3'!$M$133:$M$155)) | Y11: =IF(Y$1="","",SUMIF('Courses Saison 3'!$Q$133:$Q$155,Tableau1[[#This Row],[Pilotes]],'Courses Saison 3'!$T$133:$T$155)) | Z11: =IF(Z$1="","",SUMIF('Courses Saison 3'!$C$159:$C$181,Tableau1[[#This Row],[Pilotes]],'Courses Saison 3'!$F$159:$F$181)) | AA11: =IF(AA$1="","",SUMIF('Courses Saison 3'!$J$159:$J$181,Tableau1[[#This Row],[Pilotes]],'Courses Saison 3'!$M$159:$M$181)) | AB11: =IF(AB$1="","",SUMIF('Courses Saison 3'!$Q$159:$Q$181,Tableau1[[#This Row],[Pilotes]],'Courses Saison 3'!$T$159:$T$181)) | AC11: =IF(AC$1="","",SUMIF('Courses Saison 3'!$C$185:$C$207,Tableau1[[#This Row],[Pilotes]],'Courses Saison 3'!$F$185:$F$207)) | AD11: =IF(AD$1="","",SUMIF('Courses Saison 3'!$J$185:$J$207,Tableau1[[#This Row],[Pilotes]],'Courses Saison 3'!$M$185:$M$207)) | AE11: =IF(AE$1="","",SUMIF('Courses Saison 3'!$Q$185:$Q$207,Tableau1[[#This Row],[Pilotes]],'Courses Saison 3'!$T$185:$T$207)) | AF11: =AVERAGE(H11:AE11) -> 4.5
A12: 9 | B12: =IF(C12="","",(VLOOKUP(C12,Table!$A:$B,2,FALSE))) -> IA | C12: Nico HULKENBERG | D12: =IF(C12="","",(VLOOKUP(C12,Table!$A:$C,3,FALSE))) -> Haas | E12: =SUM(H12:AE12) -> 54 | F12: =E12-E11 -> -9 | G12: =E12-MAX($E$4:$E$34) -> -204 | H12: =IF(H$1="","",SUMIF('Courses Saison 3'!$C$3:$C$25,Tableau1[[#This Row],[Pilotes]],'Courses Saison 3'!$F$3:$F$25)) -> 2 | I12: =IF(I$1="","",SUMIF('Courses Saison 3'!$J$3:$J$25,Tableau1[[#This Row],[Pilotes]],'Courses Saison 3'!$M$3:$M$25)) -> 2 | J12: =IF(J$1="","",SUMIF('Courses Saison 3'!$Q$3:$Q$25,Tableau1[[#This Row],[Pilotes]],'Courses Saison 3'!$T$3:$T$25)) -> 0 | K12: =IF(K$1="","",SUMIF('Courses Saison 3'!$C$29:$C$51,Tableau1[[#This Row],[Pilotes]],'Courses Saison 3'!$F$29:$F$51)) -> 6 | L12: =IF(L$1="","",SUMIF('Courses Saison 3'!$J$29:$J$51,Tableau1[[#This Row],[Pilotes]],'Courses Saison 3'!$M$29:$M$51)) -> 0 | M12: =IF(M$1="","",SUMIF('Courses Saison 3'!$Q$29:$Q$51,Tableau1[[#This Row],[Pilotes]],'Courses Saison 3'!$T$29:$T$51)) -> 12 | N12: =IF(N$1="","",SUMIF('Courses Saison 3'!$C$55:$C$77,Tableau1[[#This Row],[Pilotes]],'Courses Saison 3'!$F$55:$F$77)) -> 12 | O12: =IF(O$1="","",SUMIF('Courses Saison 3'!$J$55:$J$77,Tableau1[[#This Row],[Pilotes]],'Courses Saison 3'!$M$55:$M$77)) -> 5 | P12: =IF(P$1="","",SUMIF('Courses Saison 3'!$Q$55:$Q$77,Tableau1[[#This Row],[Pilotes]],'Courses Saison 3'!$T$55:$T$77)) -> 0 | Q12: =IF(Q$1="","",SUMIF('Courses Saison 3'!$C$81:$C$103,Tableau1[[#This Row],[Pilotes]],'Courses Saison 3'!$F$81:$F$103)) -> 2 | R12: =IF(R$1="","",SUMIF('Courses Saison 3'!$J$81:$J$103,Tableau1[[#This Row],[Pilotes]],'Courses Saison 3'!$M$81:$M$103)) -> 0 | S12: =IF(S$1="","",SUMIF('Courses Saison 3'!$Q$81:$Q$103,Tableau1[[#This Row],[Pilotes]],'Courses Saison 3'!$T$81:$T$103)) -> 1 | T12: =IF(T$1="","",SUMIF('Courses Saison 3'!$C$107:$C$128,Tableau1[[#This Row],[Pilotes]],'Courses Saison 3'!$F$107:$F$128)) -> 0 | U12: =IF(U$1="","",SUMIF('Courses Saison 3'!$J$107:$J$129,Tableau1[[#This Row],[Pilotes]],'Courses Saison 3'!$M$107:$M$129)) -> 12 | V12: =IF(V$1="","",SUMIF('Courses Saison 3'!$Q$107:$Q$129,Tableau1[[#This Row],[Pilotes]],'Courses Saison 3'!$T$107:$T$129)) | W12: =IF(W$1="","",SUMIF('Courses Saison 3'!$C$133:$C$155,Tableau1[[#This Row],[Pilotes]],'Courses Saison 3'!$F$133:$F$155)) | X12: =IF(X$1="","",SUMIF('Courses Saison 3'!$J$133:$J$155,Tableau1[[#This Row],[Pilotes]],'Courses Saison 3'!$M$133:$M$155)) | Y12: =IF(Y$1="","",SUMIF('Courses Saison 3'!$Q$133:$Q$155,Tableau1[[#This Row],[Pilotes]],'Courses Saison 3'!$T$133:$T$155)) | Z12: =IF(Z$1="","",SUMIF('Courses Saison 3'!$C$159:$C$181,Tableau1[[#This Row],[Pilotes]],'Courses Saison 3'!$F$159:$F$181)) | AA12: =IF(AA$1="","",SUMIF('Courses Saison 3'!$J$159:$J$181,Tableau1[[#This Row],[Pilotes]],'Courses Saison 3'!$M$159:$M$181)) | AB12: =IF(AB$1="","",SUMIF('Courses Saison 3'!$Q$159:$Q$181,Tableau1[[#This Row],[Pilotes]],'Courses Saison 3'!$T$159:$T$181)) | AC12: =IF(AC$1="","",SUMIF('Courses Saison 3'!$C$185:$C$207,Tableau1[[#This Row],[Pilotes]],'Courses Saison 3'!$F$185:$F$207)) | AD12: =IF(AD$1="","",SUMIF('Courses Saison 3'!$J$185:$J$207,Tableau1[[#This Row],[Pilotes]],'Courses Saison 3'!$M$185:$M$207)) | AE12: =IF(AE$1="","",SUMIF('Courses Saison 3'!$Q$185:$Q$207,Tableau1[[#This Row],[Pilotes]],'Courses Saison 3'!$T$185:$T$207)) | AF12: =AVERAGE(H12:AE12) -> 3.8571429
