Workbook

Sheet Table
A1: Alexander ALBON | B1: IA | C1: Williams | E1: Cédric GIOVANETTI | G1: Chateau98000 | I1: Alpha Tauri
A2: Carlos SAINZ Jr | B2: IA | C2: Ferrari | E2: Christopher FRANCHET | G2: f_a_____ta_____ | I2: Alpine
A3: Cédric GIOVANETTI | B3: GiOvA88mc | C3: Ferrari | E3: François TARDITI | G3: Giaquinho06 | I3: Aston Martin
A4: Charles LECLERC | B4: IA | C4: Ferrari | E4: Jonathan GIACCO | G4: GiOvA88mc | I4: Ferrari
A5: Christopher FRANCHET | B5: Hulkmc8 | C5: Stake Sauber | E5: Julien ADAMO | G5: Hulkmc8 | I5: Haas
A6: Daniel RICCIARDO | B6: IA | C6: Alpha Tauri | E6: Mathieu BARBAUD | G6: IA | I6: McLaren
A7: Esteban OCON | B7: IA | C7: Alpine | E7: Naïm TAHRIOUI | G7: MacAdamO-34 | I7: Mercedes
A8: Fernando ALONSO | B8: IA | C8: Aston Martin | E8: Nicolas CASTEL | G8: Naim_Thr | I8: Red Bull
A9: François TARDITI | B9: f_a_____ta_____ | C9: Stake Sauber | E9: Thomas CARREDA | G9: Petibaske | I9: Stake Sauber
A10: George RUSSELL | B10: IA | C10: Mercedes | E10: Tony BRUNET | G10: Ribe-888 | I10: Williams
A11: Guanyu ZHOU | B11: IA | C11: Stake Sauber | E11: Sébastien RIBERI | G11: Sharky06200
A12: Jonathan GIACCO | B12: Giaquinho06 | C12: Alpine | G12: thomasca
A13: Julien ADAMO | B13: MacAdamO-34 | C13: McLaren
A14: Kevin MAGNUSSEN | B14: IA | C14: Haas
A15: Lance STROLL | B15: IA | C15: Aston Martin
A16: Lando NORRIS | B16: IA | C16: McLaren
A17: Lewis HAMILTON | B17: IA | C17: Mercedes
A18: Logan SARGEANT | B18: IA | C18: Williams
A19: Mathieu BARBAUD | B19: Petibaske | C19: Aston Martin
A20: Max VERSTAPPEN | B20: IA | C20: Red Bull
A21: Naïm TAHRIOUI | B21: Naim_Thr | C21: Mercedes
A22: Nico HULKENBERG | B22: IA | C22: Haas
A23: Nicolas CASTEL | B23: Chateau98000 | C23: Ferrari
A24: Oscar PIASTRI | B24: IA | C24: McLaren
... A27: Sergio PEREZ | B27: IA | C27: Red Bull
A28: Thomas CARREDA | B28: thomasca
A29: Tony BRUNET | B29: Sharky06200 | C29: McLaren
A30: Valtteri BOTTAS | B30: IA | C30: Stake Sauber
A31: Yuki TSUNODA | B31: IA | C31: Alpha Tauri

Sheet Equipes
A1: Saison 3
A2: Ecuries | B2: Pilotes | C2: Total Courses disputées | D2: Courses
D3: BAH | E3: SAU | F3: AUS | G3: JAP | H3: CHN | I3: MIA | J3: S.M. | K3: MC | L3: CAN | M3: ESP | N3: AUT | O3: G.B. | P3: HUN | Q3: BEL | R3: NED | S3: ITA | T3: AZE | U3: SIN | V3: TEX | W3: MEX | X3: BRA | Y3: L.V. | Z3: QAT | AA3: UAE
A5: Alpha Tauri | B5: IA | C5: =SUM(D5:AA5) -> 0
B6: IA | C6: =SUM(D6:AA6) -> 0
A8: Alpine | B8: Sébastien RIBERI | C8: =SUM(D8:AA8) -> 8 | D8: 1 | E8: 1 | F8: 1 | G8: 1 | H8: 1 | I8: 1 | J8: 0 | K8: 0 | L8: 0 | M8: 0 | N8: 1 | O8: 1 | P8: 0 | Q8: 0
B9: Jonathan GIACCO | C9: =SUM(D9:AA9) -> 12 | D9: 1 | E9: 1 | F9: 1 | G9: 1 | H9: 1 | I9: 1 | J9: 1 | K9: 1 | L9: 1 | M9: 1 | N9: 0 | O9: 0 | P9: 1 | Q9: 1
A11: Aston Martin | B11: Mathieu BARBAUD | C11: =SUM(D11:AA11) -> 8 | D11: 1 | E11: 1 | F11: 0 | G11: 0 | H11: 1 | I11: 1 | J11: 0 | K11: 0 | L11: 1 | M11: 1 | N11: 1 | O11: 1 | P11: 0 | Q11: 0
B12: IA | C12: =SUM(D12:AA12) -> 0
A14: Ferrari | B14: Cédric GIOVANETTI | C14: =SUM(D14:AA14) -> 10 | D14: 1 | E14: 1 | F14: 1 | G14: 1 | H14: 1 | I14: 1 | J14: 1 | K14: 1 | L14: 0 | M14: 0 | N14: 0 | O14: 0 | P14: 1 | Q14: 1
B15: Nicolas CASTEL | C15: =SUM(D15:AA15) -> 5 | D15: 0 | E15: 0 | F15: 1 | G15: 1 | H15: 0 | I15: 0 | J15: 0 | K15: 0 | L15: 1 | M15: 1 | N15: 0 | O15: 0 | P15: 1 | Q15: 0
A17: Haas | B17: IA | C17: =SUM(D17:AA17) -> 0
B18: IA | C18: =SUM(D18:AA18) -> 0
A20: McLaren | B20: Julien ADAMO | C20: =SUM(D20:AA20) -> 12 | D20: 1 | E20: 1 | F20: 1 | G20: 1 | H20: 1 | I20: 1 | J20: 0 | K20: 0 | L20: 1 | M20: 1 | N20: 1 | O20: 1 | P20: 1 | Q20: 1
B21: Tony BRUNET | C21: =SUM(D21:AA21) -> 0 | D21: 0 | E21: 0 | F21: 0 | G21: 0 | H21: 0 | I21: 0 | J21: 0 | K21: 0 | L21: 0 | M21: 0 | N21: 0 | O21: 0 | P21: 0 | Q21: 0
A23: Mercedes | B23: Naïm TAHRIOUI | C23: =SUM(D23:AA23) -> 12 | D23: 1 | E23: 1 | F23: 1 | G23: 1 | H23: 1 | I23: 1 | J23: 1 | K23: 1 | L23: 1 | M23: 1 | N23: 1 | O23: 1 | P23: 0 | Q23: 0
B24: IA | C24: =SUM(D24:AA24) -> 0
A26: Red Bull | B26: IA | C26: =SUM(D26:AA26) -> 0
B27: IA | C27: =SUM(D27:AA27) -> 0
A29: Stake Sauber | B29: François TARDITI | C29: =SUM(D29:AA29) -> 10 | D29: 1 | E29: 1 | F29: 1 | G29: 1 | H29: 1 | I29: 1 | J29: 0 | K29: 0 | L29: 1 | M29: 1 | N29: 1 | O29: 1 | P29: 0 | Q29: 0
B30: Christopher FRANCHET | C30: =SUM(D30:AA30) -> 14 | D30: 1 | E30: 1 | F30: 1 | G30: 1 | H30: 1 | I30: 1 | J30: 1 | K30: 1 | L30: 1 | M30: 1 | N30: 1 | O30: 1 | P30: 1 | Q30: 1
A32: Williams | B32: IA | C32: =SUM(D32:AA32) -> 0
B33: IA | C33: =SUM(D33:AA33) -> 0
A35: TOTAL Participants | D35: =SUM(D5:D33) -> 8 | E35: =SUM(E5:E33) -> 8 | F35: =SUM(F5:F33) -> 8 | G35: =SUM(G5:G33) -> 8 | H35: =SUM(H5:H33) -> 8 | I35: =SUM(I5:I33) -> 8 | J35: =SUM(J5:J33) -> 4 | K35: =SUM(K5:K33) -> 4 | ... AA35: =SUM(AA5:AA33) -> 0

Sheet Courses Saison 3
A1: Course 1 : BAHREIN | H1: Course 2 : JEDDAH | O1: Course 3 : MELBOURNE
A2: Pos. | B2: Surnoms | C2: Pilotes | D2: Ecuries | E2: Temps | F2: Pts | H2: Pos. | I2: Surnoms | J2: Pilotes | K2: Ecuries | L2: Temps | M2: Pts | O2: Pos. | P2: Surnoms | Q2: Pilotes | R2: Ecuries | S2: Temps | T2: Pts
A3: 1 | B3: =IF(C3="","",(VLOOKUP(C3,Table!$A:$B,2,FALSE))) -> f_a_____ta_____ | C3: François TARDITI | D3: =IF(C3="","",(VLOOKUP(C3,Table!$A:$C,3,FALSE))) -> Stake Sauber | E3: 31:43,834 | F3: 25 | H3: 1 | I3: =IF(J3="","",(VLOOKUP(J3,Table!$A:$B,2,FALSE))) -> f_a_____ta_____ | J3: François TARDITI | K3: =IF(J3="","",(VLOOKUP(J3,Table!$A:$C,3,FALSE))) -> Stake Sauber | L3: 32:55,073 | M3: 25 | O3: 1 | P3: =IF(Q3="","",(VLOOKUP(Q3,Table!$A:$B,2,FALSE))) -> Naim_Thr | Q3: Naïm TAHRIOUI | R3: =IF(Q3="","",(VLOOKUP(Q3,Table!$A:$C,3,FALSE))) -> Mercedes | S3: 29:14,156 | T3: 25
A4: 2 | B4: =IF(C4="","",(VLOOKUP(C4,Table!$A:$B,2,FALSE))) -> Ribe-888 | C4: Sébastien RIBERI | D4: =IF(C4="","",(VLOOKUP(C4,Table!$A:$C,3,FALSE))) -> Alpine | E4: + 9,616 | F4: 18 | H4: 2 | I4: =IF(J4="","",(VLOOKUP(J4,Table!$A:$B,2,FALSE))) -> Giaquinho06 | J4: Jonathan GIACCO | K4: =IF(J4="","",(VLOOKUP(J4,Table!$A:$C,3,FALSE))) -> Alpine | L4: + 5,187 | M4: 18 | O4: 2 | P4: =IF(Q4="","",(VLOOKUP(Q4,Table!$A:$B,2,FALSE))) -> Hulkmc8 | Q4: Christopher FRANCHET | R4: =IF(Q4="","",(VLOOKUP(Q4,Table!$A:$C,3,FALSE))) -> Stake Sauber | S4: + 39,411 | T4: 18
A5: 3 | B5: =IF(C5="","",(VLOOKUP(C5,Table!$A:$B,2,FALSE))) -> GiOvA88mc | C5: Cédric GIOVANETTI | D5: =IF(C5="","",(VLOOKUP(C5,Table!$A:$C,3,FALSE))) -> Ferrari | E5: + 16,018 | F5: 15 | H5: 3 | I5: =IF(J5="","",(VLOOKUP(J5,Table!$A:$B,2,FALSE))) -> GiOvA88mc | J5: Cédric GIOVANETTI | K5: =IF(J5="","",(VLOOKUP(J5,Table!$A:$C,3,FALSE))) -> Ferrari | L5: + 5,316 | M5: 15 | O5: 3 | P5: =IF(Q5="","",(VLOOKUP(Q5,Table!$A:$B,2,FALSE))) -> Giaquinho06 | Q5: Jonathan GIACCO | R5: =IF(Q5="","",(VLOOKUP(Q5,Table!$A:$C,3,FALSE))) -> Alpine | S5: + 52,907 | T5: 15
A6: 4 | B6: =IF(C6="","",(VLOOKUP(C6,Table!$A:$B,2,FALSE))) -> Hulkmc8 | C6: Christopher FRANCHET | D6: =IF(C6="","",(VLOOKUP(C6,Table!$A:$C,3,FALSE))) -> Stake Sauber | E6: + 20,815 | F6: 12 | H6: 4 | I6: =IF(J6="","",(VLOOKUP(J6,Table!$A:$B,2,FALSE))) -> Naim_Thr | J6: Naïm TAHRIOUI | K6: =IF(J6="","",(VLOOKUP(J6,Table!$A:$C,3,FALSE))) -> Mercedes | L6: + 6,254 | M6: 12 | O6: 4 | P6: =IF(Q6="","",(VLOOKUP(Q6,Table!$A:$B,2,FALSE))) -> IA | Q6: Kevin MAGNUSSEN | R6: =IF(Q6="","",(VLOOKUP(Q6,Table!$A:$C,3,FALSE))) -> Haas | S6: + 1:00,925 | T6: 12
A7: 5 | B7: =IF(C7="","",(VLOOKUP(C7,Table!$A:$B,2,FALSE))) -> Petibaske | C7: Mathieu BARBAUD | D7: =IF(C7="","",(VLOOKUP(C7,Table!$A:$C,3,FALSE))) -> Aston Martin | E7: + 32,351 | F7: 10 | H7: 5 | I7: =IF(J7="","",(VLOOKUP(J7,Table!$A:$B,2,FALSE))) -> Petibaske | J7: Mathieu BARBAUD | K7: =IF(J7="","",(VLOOKUP(J7,Table!$A:$C,3,FALSE))) -> Aston Martin | L7: + 8,059 | M7: 10 | O7: 5 | P7: =IF(Q7="","",(VLOOKUP(Q7,Table!$A:$B,2,FALSE))) -> IA | Q7: Fernando ALONSO | R7: =IF(Q7="","",(VLOOKUP(Q7,Table!$A:$C,3,FALSE))) -> Aston Martin | S7: + 1:01,219 | T7: 10
A8: 6 | B8: =IF(C8="","",(VLOOKUP(C8,Table!$A:$B,2,FALSE))) -> Giaquinho06 | C8: Jonathan GIACCO | D8: =IF(C8="","",(VLOOKUP(C8,Table!$A:$C,3,FALSE))) -> Alpine | E8: + 39,435 | F8: 8 | H8: 6 | I8: =IF(J8="","",(VLOOKUP(J8,Table!$A:$B,2,FALSE))) -> Hulkmc8 | J8: Christopher FRANCHET | K8: =IF(J8="","",(VLOOKUP(J8,Table!$A:$C,3,FALSE))) -> Stake Sauber | L8: + 13,486 | M8: 8 | O8: 6 | P8: =IF(Q8="","",(VLOOKUP(Q8,Table!$A:$B,2,FALSE))) -> IA | Q8: Daniel RICCIARDO | R8: =IF(Q8="","",(VLOOKUP(Q8,Table!$A:$C,3,FALSE))) -> Alpha Tauri | S8: + 1:01,446 | T8: 8
A9: 7 | B9: =IF(C9="","",(VLOOKUP(C9,Table!$A:$B,2,FALSE))) -> MacAdamO-34 | C9: Julien ADAMO | D9: =IF(C9="","",(VLOOKUP(C9,Table!$A:$C,3,FALSE))) -> McLaren | E9: + 1:08,794 | F9: 6 | H9: 7 | I9: =IF(J9="","",(VLOOKUP(J9,Table!$A:$B,2,FALSE))) -> IA | J9: Sergio PEREZ | K9: =IF(J9="","",(VLOOKUP(J9,Table!$A:$C,3,FALSE))) -> Red Bull | L9: + 14,880 | M9: 6 | O9: 7 | P9: =IF(Q9="","",(VLOOKUP(Q9,Table!$A:$B,2,FALSE))) -> IA | Q9: Alexander ALBON | R9: =IF(Q9="","",(VLOOKUP(Q9,Table!$A:$C,3,FALSE))) -> Williams | S9: + 1:01,771 | T9: 6
A10: 8 | B10: =IF(C10="","",(VLOOKUP(C10,Table!$A:$B,2,FALSE))) -> IA | C10: Kevin MAGNUSSEN | D10: =IF(C10="","",(VLOOKUP(C10,Table!$A:$C,3,FALSE))) -> Haas | E10: + 1:26,122 | F10: 4 | H10: 8 | I10: =IF(J10="","",(VLOOKUP(J10,Table!$A:$B,2,FALSE))) -> IA | J10: Yuki TSUNODA | K10: =IF(J10="","",(VLOOKUP(J10,Table!$A:$C,3,FALSE))) -> Alpha Tauri | L10: + 15,129 | M10: 4 | O10: 8 | P10: =IF(Q10="","",(VLOOKUP(Q10,Table!$A:$B,2,FALSE))) -> Ribe-888 | Q10: Sébastien RIBERI | R10: =IF(Q10="","",(VLOOKUP(Q10,Table!$A:$C,3,FALSE))) -> Alpine | S10: + 1:02,613 | T10: 4
A11: 9 | B11: =IF(C11="","",(VLOOKUP(C11,Table!$A:$B,2,FALSE))) -> IA | C11: Nico HULKENBERG | D11: =IF(C11="","",(VLOOKUP(C11,Table!$A:$C,3,FALSE))) -> Haas | E11: + 1:29,039 | F11: 2 | H11: 9 | I11: =IF(J11="","",(VLOOKUP(J11,Table!$A:$B,2,FALSE))) -> IA | J11: Nico HULKENBERG | K11: =IF(J11="","",(VLOOKUP(J11,Table!$A:$C,3,FALSE))) -> Haas | L11: + 15,414 | M11: 2 | O11: 9 | P11: =IF(Q11="","",(VLOOKUP(Q11,Table!$A:$B,2,FALSE))) -> IA | Q11: George RUSSELL | R11: =IF(Q11="","",(VLOOKUP(Q11,Table!$A:$C,3,FALSE))) -> Mercedes | S11: + 1:06,467 | T11: 2
A12: 10 | B12: =IF(C12="","",(VLOOKUP(C12,Table!$A:$B,2,FALSE))) -> IA | C12: Alexander ALBON | D12: =IF(C12="","",(VLOOKUP(C12,Table!$A:$C,3,FALSE))) -> Williams | E12: + 1:29,800 | F12: 1 | H12: 10 | I12: =IF(J12="","",(VLOOKUP(J12,Table!$A:$B,2,FALSE))) -> IA | J12: Oscar PIASTRI | K12: =IF(J12="","",(VLOOKUP(J12,Table!$A:$C,3,FALSE))) -> McLaren | L12: + 15,655 | M12: 1 | O12: 10 | P12: =IF(Q12="","",(VLOOKUP(Q12,Table!$A:$B,2,FALSE))) -> IA | Q12: Yuki TSUNODA | R12: =IF(Q12="","",(VLOOKUP(Q12,Table!$A:$C,3,FALSE))) -> Alpha Tauri | S12: + 1:09,582 | T12: 1
A13: 11 | B13: =IF(C13="","",(VLOOKUP(C13,Table!$A:$B,2,FALSE))) -> IA | C13: Logan SARGEANT | D13: =IF(C13="","",(VLOOKUP(C13,Table!$A:$C,3,FALSE))) -> Williams | E13: + 1:29,831 | F13: 0 | H13: 11 | I13: =IF(J13="","",(VLOOKUP(J13,Table!$A:$B,2,FALSE))) -> IA | J13: George RUSSELL | K13: =IF(J13="","",(VLOOKUP(J13,Table!$A:$C,3,FALSE))) -> Mercedes | L13: + 16,117 | M13: 0 | O13: 11 | P13: =IF(Q13="","",(VLOOKUP(Q13,Table!$A:$B,2,FALSE))) -> IA | Q13: Logan SARGEANT | R13: =IF(Q13="","",(VLOOKUP(Q13,Table!$A:$C,3,FALSE))) -> Williams | S13: + 1:12,413 | T13: 0
A14: 12 | B14: =IF(C14="","",(VLOOKUP(C14,Table!$A:$B,2,FALSE))) -> IA | C14: Daniel RICCIARDO | D14: =IF(C14="","",(VLOOKUP(C14,Table!$A:$C,3,FALSE))) -> Alpha Tauri | E14: + 1:30,867 | F14: 0 | H14: 12 | I14: =IF(J14="","",(VLOOKUP(J14,Table!$A:$B,2,FALSE))) -> IA | J14: Daniel RICCIARDO | K14: =IF(J14="","",(VLOOKUP(J14,Table!$A:$C,3,FALSE))) -> Alpha Tauri | L14: + 21,149 | M14: 0 | O14: 12 | P14: =IF(Q14="","",(VLOOKUP(Q14,Table!$A:$B,2,FALSE))) -> IA | Q14: Sergio PEREZ | R14: =IF(Q14="","",(VLOOKUP(Q14,Table!$A:$C,3,FALSE))) -> Red Bull | S14: + 1:12,500 | T14: 0
... A22: 20 | B22: =IF(C22="","",(VLOOKUP(C22,Table!$A:$B,2,FALSE))) -> Naim_Thr | C22: Naïm TAHRIOUI | D22: =IF(C22="","",(VLOOKUP(C22,Table!$A:$C,3,FALSE))) -> Mercedes | E22: DNF | F22: 0 | H22: 20 | I22: =IF(J22="","",(VLOOKUP(J22,Table!$A:$B,2,FALSE))) -> IA | J22: Max VERSTAPPEN | K22: =IF(J22="","",(VLOOKUP(J22,Table!$A:$C,3,FALSE))) -> Red Bull | L22: DNF | M22: 0 | O22: 20 | P22: =IF(Q22="","",(VLOOKUP(Q22,Table!$A:$B,2,FALSE))) -> GiOvA88mc | Q22: Cédric GIOVANETTI | R22: =IF(Q22="","",(VLOOKUP(Q22,Table!$A:$C,3,FALSE))) -> Ferrari | S22: DNF | T22: 0
A23: Pole | B23: =IF(C23="","",(VLOOKUP(C23,Table!$A:$B,2,FALSE))) -> Ribe-888 | C23: Sébastien RIBERI | D23: =IF(C23="","",(VLOOKUP(C23,Table!$A:$C,3,FALSE))) -> Alpine | E23: 1:29,433 | F23: 1 | H23: Pole | I23: =IF(J23="","",(VLOOKUP(J23,Table!$A:$B,2,FALSE))) -> Naim_Thr | J23: Naïm TAHRIOUI | K23: =IF(J23="","",(VLOOKUP(J23,Table!$A:$C,3,FALSE))) -> Mercedes | L23: 1:31,250 | M23: 1 | O23: Pole | P23: =IF(Q23="","",(VLOOKUP(Q23,Table!$A:$B,2,FALSE))) -> Naim_Thr | Q23: Naïm TAHRIOUI | R23: =IF(Q23="","",(VLOOKUP(Q23,Table!$A:$C,3,FALSE))) -> Mercedes | S23: 1:18,325 | T23: 1
A24: MT | B24: =IF(C24="","",(VLOOKUP(C24,Table!$A:$B,2,FALSE))) -> f_a_____ta_____ | C24: François TARDITI | D24: =IF(C24="","",(VLOOKUP(C24,Table!$A:$C,3,FALSE))) -> Stake Sauber | E24: 1:32,518 | F24: 1 | H24: MT | I24: =IF(J24="","",(VLOOKUP(J24,Table!$A:$B,2,FALSE))) -> Naim_Thr | J24: Naïm TAHRIOUI | K24: =IF(J24="","",(VLOOKUP(J24,Table!$A:$C,3,FALSE))) -> Mercedes | L24: 1:32,891 | M24: 1 | O24: MT | P24: =IF(Q24="","",(VLOOKUP(Q24,Table!$A:$B,2,FALSE))) -> Naim_Thr | Q24: Naïm TAHRIOUI | R24: =IF(Q24="","",(VLOOKUP(Q24,Table!$A:$C,3,FALSE))) -> Mercedes | S24: 1:19,982 | T24: 1
A25: Pilote | B25: =IF(C25="","",(VLOOKUP(C25,Table!$A:$B,2,FALSE))) -> MacAdamO-34 | C25: Julien ADAMO | D25: =IF(C25="","",(VLOOKUP(C25,Table!$A:$C,3,FALSE))) -> McLaren | F25: 1 | H25: Pilote | I25: =IF(J25="","",(VLOOKUP(J25,Table!$A:$B,2,FALSE))) -> IA | J25: Sergio PEREZ | K25: =IF(J25="","",(VLOOKUP(J25,Table!$A:$C,3,FALSE))) -> Red Bull | M25: 1 | O25: Pilote | P25: =IF(Q25="","",(VLOOKUP(Q25,Table!$A:$B,2,FALSE))) -> IA | Q25: Kevin MAGNUSSEN | R25: =IF(Q25="","",(VLOOKUP(Q25,Table!$A:$C,3,FALSE))) -> Haas | T25: 1
A27: Course 4 : SUZUKA | H27: Course 5 : SHANGAÏ | O27: Course 6 : MIAMI
A28: Pos. | B28: Surnoms | C28: Pilotes | D28: Ecuries | E28: Temps | F28: Pts | H28: Pos. | I28: Surnoms | J28: Pilotes | K28: Ecuries | L28: Temps | M28: Pts | O28: Pos. | P28: Surnoms | Q28: Pilotes | R28: Ecuries | S28: Temps | T28: Pts
A29: 1 | B29: =IF(C29="","",(VLOOKUP(C29,Table!$A:$B,2,FALSE))) -> Naim_Thr | C29: Naïm TAHRIOUI | D29: =IF(C29="","",(VLOOKUP(C29,Table!$A:$C,3,FALSE))) -> Mercedes | E29: 34:04,117 | F29: 25 | H29: 1 | I29: =IF(J29="","",(VLOOKUP(J29,Table!$A:$B,2,FALSE))) -> Naim_Thr | J29: Naïm TAHRIOUI | K29: =IF(J29="","",(VLOOKUP(J29,Table!$A:$C,3,FALSE))) -> Mercedes | L29: 35:11,531 | M29: 25 | O29: 1 | P29: =IF(Q29="","",(VLOOKUP(Q29,Table!$A:$B,2,FALSE))) -> Naim_Thr | Q29: Naïm TAHRIOUI | R29: =IF(Q29="","",(VLOOKUP(Q29,Table!$A:$C,3,FALSE))) -> Mercedes | S29: 34:17,531 | T29: 25
A30: 2 | B30: =IF(C30="","",(VLOOKUP(C30,Table!$A:$B,2,FALSE))) -> IA | C30: Logan SARGEANT | D30: =IF(C30="","",(VLOOKUP(C30,Table!$A:$C,3,FALSE))) -> Williams | E30: + 15,352 | F30: 18 | H30: 2 | I30: =IF(J30="","",(VLOOKUP(J30,Table!$A:$B,2,FALSE))) -> f_a_____ta_____ | J30: François TARDITI | K30: =IF(J30="","",(VLOOKUP(J30,Table!$A:$C,3,FALSE))) -> Stake Sauber | L30: + 5,165 | M30: 18 | O30: 2 | P30: =IF(Q30="","",(VLOOKUP(Q30,Table!$A:$B,2,FALSE))) -> Hulkmc8 | Q30: Christopher FRANCHET | R30: =IF(Q30="","",(VLOOKUP(Q30,Table!$A:$C,3,FALSE))) -> Stake Sauber | S30: + 17,841 | T30: 18
A31: 3 | B31: =IF(C31="","",(VLOOKUP(C31,Table!$A:$B,2,FALSE))) -> f_a_____ta_____ | C31: François TARDITI | D31: =IF(C31="","",(VLOOKUP(C31,Table!$A:$C,3,FALSE))) -> Stake Sauber | E31: + 16,215 | F31: 15 | H31: 3 | I31: =IF(J31="","",(VLOOKUP(J31,Table!$A:$B,2,FALSE))) -> Petibaske | J31: Mathieu BARBAUD | K31: =IF(J31="","",(VLOOKUP(J31,Table!$A:$C,3,FALSE))) -> Aston Martin | L31: + 7,046 | M31: 15 | O31: 3 | P31: =IF(Q31="","",(VLOOKUP(Q31,Table!$A:$B,2,FALSE))) -> Giaquinho06 | Q31: Jonathan GIACCO | R31: =IF(Q31="","",(VLOOKUP(Q31,Table!$A:$C,3,FALSE))) -> Alpine | S31: + 27,238 | T31: 15
A32: 4 | B32: =IF(C32="","",(VLOOKUP(C32,Table!$A:$B,2,FALSE))) -> Giaquinho06 | C32: Jonathan GIACCO | D32: =IF(C32="","",(VLOOKUP(C32,Table!$A:$C,3,FALSE))) -> Alpine | E32: + 21,636 | F32: 12 | H32: 4 | I32: =IF(J32="","",(VLOOKUP(J32,Table!$A:$B,2,FALSE))) -> Giaquinho06 | J32: Jonathan GIACCO | K32: =IF(J32="","",(VLOOKUP(J32,Table!$A:$C,3,FALSE))) -> Alpine | L32: + 9,889 | M32: 12 | O32: 4 | P32: =IF(Q32="","",(VLOOKUP(Q32,Table!$A:$B,2,FALSE))) -> IA | Q32: Nico HULKENBERG | R32: =IF(Q32="","",(VLOOKUP(Q32,Table!$A:$C,3,FALSE))) -> Haas | S32: + 35,323 | T32: 12
A33: 5 | B33: =IF(C33="","",(VLOOKUP(C33,Table!$A:$B,2,FALSE))) -> IA | C33: Oscar PIASTRI | D33: =IF(C33="","",(VLOOKUP(C33,Table!$A:$C,3,FALSE))) -> McLaren | E33: + 21,878 | F33: 10 | H33: 5 | I33: =IF(J33="","",(VLOOKUP(J33,Table!$A:$B,2,FALSE))) -> Hulkmc8 | J33: Christopher FRANCHET | K33: =IF(J33="","",(VLOOKUP(J33,Table!$A:$C,3,FALSE))) -> Stake Sauber | L33: + 12,361 | M33: 10 | O33: 5 | P33: =IF(Q33="","",(VLOOKUP(Q33,Table!$A:$B,2,FALSE))) -> f_a_____ta_____ | Q33: François TARDITI | R33: =IF(Q33="","",(VLOOKUP(Q33,Table!$A:$C,3,FALSE))) -> Stake Sauber | S33: + 43,368 | T33: 10
A34: 6 | B34: =IF(C34="","",(VLOOKUP(C34,Table!$A:$B,2,FALSE))) -> IA | C34: Lance STROLL | D34: =IF(C34="","",(VLOOKUP(C34,Table!$A:$C,3,FALSE))) -> Aston Martin | E34: + 22,206 | F34: 8 | H34: 6 | I34: =IF(J34="","",(VLOOKUP(J34,Table!$A:$B,2,FALSE))) -> IA | J34: Max VERSTAPPEN | K34: =IF(J34="","",(VLOOKUP(J34,Table!$A:$C,3,FALSE))) -> Red Bull | L34: + 15,624 | M34: 8 | O34: 6 | P34: =IF(Q34="","",(VLOOKUP(Q34,Table!$A:$B,2,FALSE))) -> IA | Q34: Max VERSTAPPEN | R34: =IF(Q34="","",(VLOOKUP(Q34,Table!$A:$C,3,FALSE))) -> Red Bull | S34: + 43,418 | T34: 8
A35: 7 | B35: =IF(C35="","",(VLOOKUP(C35,Table!$A:$B,2,FALSE))) -> IA | C35: Nico HULKENBERG | D35: =IF(C35="","",(VLOOKUP(C35,Table!$A:$C,3,FALSE))) -> Haas | E35: + 22,481 | F35: 6 | H35: 7 | I35: =IF(J35="","",(VLOOKUP(J35,Table!$A:$B,2,FALSE))) -> IA | J35: Alexander ALBON | K35: =IF(J35="","",(VLOOKUP(J35,Table!$A:$C,3,FALSE))) -> Williams | L35: + 15,817 | M35: 6 | O35: 7 | P35: =IF(Q35="","",(VLOOKUP(Q35,Table!$A:$B,2,FALSE))) -> IA | Q35: Yuki TSUNODA | R35: =IF(Q35="","",(VLOOKUP(Q35,Table!$A:$C,3,FALSE))) -> Alpha Tauri | S35: + 45,929 | T35: 6
A36: 8 | B36: =IF(C36="","",(VLOOKUP(C36,Table!$A:$B,2,FALSE))) -> IA | C36: Kevin MAGNUSSEN | D36: =IF(C36="","",(VLOOKUP(C36,Table!$A:$C,3,FALSE))) -> Haas | E36: + 22,913 | F36: 4 | H36: 8 | I36: =IF(J36="","",(VLOOKUP(J36,Table!$A:$B,2,FALSE))) -> IA | J36: Daniel RICCIARDO | K36: =IF(J36="","",(VLOOKUP(J36,Table!$A:$C,3,FALSE))) -> Alpha Tauri | L36: + 16,098 | M36: 4 | O36: 8 | P36: =IF(Q36="","",(VLOOKUP(Q36,Table!$A:$B,2,FALSE))) -> IA | Q36: Logan SARGEANT | R36: =IF(Q36="","",(VLOOKUP(Q36,Table!$A:$C,3,FALSE))) -> Williams | S36: + 46,387 | T36: 4
A37: 9 | B37: =IF(C37="","",(VLOOKUP(C37,Table!$A:$B,2,FALSE))) -> IA | C37: Max VERSTAPPEN | D37: =IF(C37="","",(VLOOKUP(C37,Table!$A:$C,3,FALSE))) -> Red Bull | E37: + 25,839 | F37: 2 | H37: 9 | I37: =IF(J37="","",(VLOOKUP(J37,Table!$A:$B,2,FALSE))) -> IA | J37: George RUSSELL | K37: =IF(J37="","",(VLOOKUP(J37,Table!$A:$C,3,FALSE))) -> Mercedes | L37: + 16,430 | M37: 2 | O37: 9 | P37: =IF(Q37="","",(VLOOKUP(Q37,Table!$A:$B,2,FALSE))) -> IA | Q37: Carlos SAINZ Jr | R37: =IF(Q37="","",(VLOOKUP(Q37,Table!$A:$C,3,FALSE))) -> Ferrari | S37: + 47,185 | T37: 2
A38: 10 | B38: =IF(C38="","",(VLOOKUP(C38,Table!$A:$B,2,FALSE))) -> MacAdamO-34 | C38: Julien ADAMO | D38: =IF(C38="","",(VLOOKUP(C38,Table!$A:$C,3,FALSE))) -> McLaren | E38: + 28,385 | F38: 1 | H38: 10 | I38: =IF(J38="","",(VLOOKUP(J38,Table!$A:$B,2,FALSE))) -> IA | J38: Carlos SAINZ Jr | K38: =IF(J38="","",(VLOOKUP(J38,Table!$A:$C,3,FALSE))) -> Ferrari | L38: + 16,824 | M38: 1 | O38: 10 | P38: =IF(Q38="","",(VLOOKUP(Q38,Table!$A:$B,2,FALSE))) -> IA | Q38: Lance STROLL | R38: =IF(Q38="","",(VLOOKUP(Q38,Table!$A:$C,3,FALSE))) -> Aston Martin | S38: + 1:01,694 | T38: 1
A39: 11 | B39: =IF(C39="","",(VLOOKUP(C39,Table!$A:$B,2,FALSE))) -> IA | C39: Daniel RICCIARDO | D39: =IF(C39="","",(VLOOKUP(C39,Table!$A:$C,3,FALSE))) -> Alpha Tauri | E39: + 29,296 | F39: 0 | H39: 11 | I39: =IF(J39="","",(VLOOKUP(J39,Table!$A:$B,2,FALSE))) -> IA | J39: Logan SARGEANT | K39: =IF(J39="","",(VLOOKUP(J39,Table!$A:$C,3,FALSE))) -> Williams | L39: + 17,781 | M39: 0 | O39: 11 | P39: =IF(Q39="","",(VLOOKUP(Q39,Table!$A:$B,2,FALSE))) -> IA | Q39: Alexander ALBON | R39: =IF(Q39="","",(VLOOKUP(Q39,Table!$A:$C,3,FALSE))) -> Williams | S39: + 1:02,922 | T39: 0
A40: 12 | B40: =IF(C40="","",(VLOOKUP(C40,Table!$A:$B,2,FALSE))) -> IA | C40: Yuki TSUNODA | D40: =IF(C40="","",(VLOOKUP(C40,Table!$A:$C,3,FALSE))) -> Alpha Tauri | E40: + 31,979 | F40: 0 | H40: 12 | I40: =IF(J40="","",(VLOOKUP(J40,Table!$A:$B,2,FALSE))) -> MacAdamO-34 | J40: Julien ADAMO | K40: =IF(J40="","",(VLOOKUP(J40,Table!$A:$C,3,FALSE))) -> McLaren | L40: + 17,988 | M40: 0 | O40: 12 | P40: =IF(Q40="","",(VLOOKUP(Q40,Table!$A:$B,2,FALSE))) -> IA | Q40: Kevin MAGNUSSEN | R40: =IF(Q40="","",(VLOOKUP(Q40,Table!$A:$C,3,FALSE))) -> Haas | S40: + 1:03,357 | T40: 0
... A48: 20 | B48: =IF(C48="","",(VLOOKUP(C48,Table!$A:$B,2,FALSE))) -> IA | C48: Alexander ALBON | D48: =IF(C48="","",(VLOOKUP(C48,Table!$A:$C,3,FALSE))) -> Williams | E48: DNF | F48: 0 | H48: 20 | I48: =IF(J48="","",(VLOOKUP(J48,Table!$A:$B,2,FALSE))) -> IA | J48: Oscar PIASTRI | K48: =IF(J48="","",(VLOOKUP(J48,Table!$A:$C,3,FALSE))) -> McLaren | L48: DNF | M48: 0 | O48: 20 | P48: =IF(Q48="","",(VLOOKUP(Q48,Table!$A:$B,2,FALSE))) -> IA | Q48: Sergio PEREZ | R48: =IF(Q48="","",(VLOOKUP(Q48,Table!$A:$C,3,FALSE))) -> Red Bull | S48: DSQ | T48: 0
A49: Pole | B49: =IF(C49="","",(VLOOKUP(C49,Table!$A:$B,2,FALSE))) -> Naim_Thr | C49: Naïm TAHRIOUI | D49: =IF(C49="","",(VLOOKUP(C49,Table!$A:$C,3,FALSE))) -> Mercedes | E49: 1:30,680 | F49: 1 | H49: Pole | I49: =IF(J49="","",(VLOOKUP(J49,Table!$A:$B,2,FALSE))) -> Naim_Thr | J49: Naïm TAHRIOUI | K49: =IF(J49="","",(VLOOKUP(J49,Table!$A:$C,3,FALSE))) -> Mercedes | L49: 1:33,645 | M49: 1 | O49: Pole | P49: =IF(Q49="","",(VLOOKUP(Q49,Table!$A:$B,2,FALSE))) -> Naim_Thr | Q49: Naïm TAHRIOUI | R49: =IF(Q49="","",(VLOOKUP(Q49,Table!$A:$C,3,FALSE))) -> Mercedes | S49: 1:27,861 | T49: 1
A50: MT | B50: =IF(C50="","",(VLOOKUP(C50,Table!$A:$B,2,FALSE))) -> Naim_Thr | C50: Naïm TAHRIOUI | D50: =IF(C50="","",(VLOOKUP(C50,Table!$A:$C,3,FALSE))) -> Mercedes | E50: 1:32,355 | F50: 1 | H50: MT | I50: =IF(J50="","",(VLOOKUP(J50,Table!$A:$B,2,FALSE))) -> Naim_Thr | J50: Naïm TAHRIOUI | K50: =IF(J50="","",(VLOOKUP(J50,Table!$A:$C,3,FALSE))) -> Mercedes | L50: 1:35,085 | M50: 1 | O50: MT | P50: =IF(Q50="","",(VLOOKUP(Q50,Table!$A:$B,2,FALSE))) -> Naim_Thr | Q50: Naïm TAHRIOUI | R50: =IF(Q50="","",(VLOOKUP(Q50,Table!$A:$C,3,FALSE))) -> Mercedes | S50: 1:30,314 | T50: 1
A51: Pilote | B51: =IF(C51="","",(VLOOKUP(C51,Table!$A:$B,2,FALSE))) -> MacAdamO-34 | C51: Julien ADAMO | D51: =IF(C51="","",(VLOOKUP(C51,Table!$A:$C,3,FALSE))) -> McLaren | F51: 1 | H51: Pilote | I51: =IF(J51="","",(VLOOKUP(J51,Table!$A:$B,2,FALSE))) -> Ribe-888 | J51: Sébastien RIBERI | K51: =IF(J51="","",(VLOOKUP(J51,Table!$A:$C,3,FALSE))) -> Alpine | M51: 1 | O51: Pilote | P51: =IF(Q51="","",(VLOOKUP(Q51,Table!$A:$B,2,FALSE))) -> IA | Q51: Carlos SAINZ Jr | R51: =IF(Q51="","",(VLOOKUP(Q51,Table!$A:$C,3,FALSE))) -> Ferrari | T51: 1
A53: Course 7 : IMOLA | H53: Course 8 : MONACO | O53: Course 9 : MONTREAL
A54: Pos. | B54: Surnoms | C54: Pilotes | D54: Ecuries | E54: Temps | F54: Pts | H54: Pos. | I54: Surnoms | J54: Pilotes | K54: Ecuries | L54: Temps | M54: Pts | O54: Pos. | P54: Surnoms | Q54: Pilotes | R54: Ecuries | S54: Temps | T54: Pts
A55: 1 | B55: =IF(C55="","",(VLOOKUP(C55,Table!$A:$B,2,FALSE))) -> Naim_Thr | C55: Naïm TAHRIOUI | D55: =IF(C55="","",(VLOOKUP(C55,Table!$A:$C,3,FALSE))) -> Mercedes | E55: 31:26,261 | F55: 25 | H55: 1 | I55: =IF(J55="","",(VLOOKUP(J55,Table!$A:$B,2,FALSE))) -> Hulkmc8 | J55: Christopher FRANCHET | K55: =IF(J55="","",(VLOOKUP(J55,Table!$A:$C,3,FALSE))) -> Stake Sauber | L55: 36:08,975 | M55: 25 | O55: 1 | P55: =IF(Q55="","",(VLOOKUP(Q55,Table!$A:$B,2,FALSE))) -> Naim_Thr | Q55: Naïm TAHRIOUI | R55: =IF(Q55="","",(VLOOKUP(Q55,Table!$A:$C,3,FALSE))) -> Mercedes | S55: 33:42,479 | T55: 25
A56: 2 | B56: =IF(C56="","",(VLOOKUP(C56,Table!$A:$B,2,FALSE))) -> Hulkmc8 | C56: Christopher FRANCHET | D56: =IF(C56="","",(VLOOKUP(C56,Table!$A:$C,3,FALSE))) -> Stake Sauber | E56: + 40,271 | F56: 18 | H56: 2 | I56: =IF(J56="","",(VLOOKUP(J56,Table!$A:$B,2,FALSE))) -> IA | J56: Max VERSTAPPEN | K56: =IF(J56="","",(VLOOKUP(J56,Table!$A:$C,3,FALSE))) -> Red Bull | L56: + 12,487 | M56: 18 | O56: 2 | P56: =IF(Q56="","",(VLOOKUP(Q56,Table!$A:$B,2,FALSE))) -> Giaquinho06 | Q56: Jonathan GIACCO | R56: =IF(Q56="","",(VLOOKUP(Q56,Table!$A:$C,3,FALSE))) -> Alpine | S56: + 5,465 | T56: 18
A57: 3 | B57: =IF(C57="","",(VLOOKUP(C57,Table!$A:$B,2,FALSE))) -> GiOvA88mc | C57: Cédric GIOVANETTI | D57: =IF(C57="","",(VLOOKUP(C57,Table!$A:$C,3,FALSE))) -> Ferrari | E57: + 45,870 | F57: 15 | H57: 3 | I57: =IF(J57="","",(VLOOKUP(J57,Table!$A:$B,2,FALSE))) -> IA | J57: George RUSSELL | K57: =IF(J57="","",(VLOOKUP(J57,Table!$A:$C,3,FALSE))) -> Mercedes | L57: + 14,020 | M57: 15 | O57: 3 | P57: =IF(Q57="","",(VLOOKUP(Q57,Table!$A:$B,2,FALSE))) -> Petibaske | Q57: Mathieu BARBAUD | R57: =IF(Q57="","",(VLOOKUP(Q57,Table!$A:$C,3,FALSE))) -> Aston Martin | S57: + 8,573 | T57: 15
A58: 4 | B58: =IF(C58="","",(VLOOKUP(C58,Table!$A:$B,2,FALSE))) -> IA | C58: Nico HULKENBERG | D58: =IF(C58="","",(VLOOKUP(C58,Table!$A:$C,3,FALSE))) -> Haas | E58: + 53,031 | F58: 12 | H58: 4 | I58: =IF(J58="","",(VLOOKUP(J58,Table!$A:$B,2,FALSE))) -> IA | J58: Kevin MAGNUSSEN | K58: =IF(J58="","",(VLOOKUP(J58,Table!$A:$C,3,FALSE))) -> Haas | L58: + 14,522 | M58: 12 | O58: 4 | P58: =IF(Q58="","",(VLOOKUP(Q58,Table!$A:$B,2,FALSE))) -> IA | Q58: Max VERSTAPPEN | R58: =IF(Q58="","",(VLOOKUP(Q58,Table!$A:$C,3,FALSE))) -> Red Bull | S58: + 18,354 | T58: 12
A59: 5 | B59: =IF(C59="","",(VLOOKUP(C59,Table!$A:$B,2,FALSE))) -> IA | C59: Max VERSTAPPEN | D59: =IF(C59="","",(VLOOKUP(C59,Table!$A:$C,3,FALSE))) -> Red Bull | E59: + 1:01,015 | F59: 10 | H59: 5 | I59: =IF(J59="","",(VLOOKUP(J59,Table!$A:$B,2,FALSE))) -> IA | J59: Daniel RICCIARDO | K59: =IF(J59="","",(VLOOKUP(J59,Table!$A:$C,3,FALSE))) -> Alpha Tauri | L59: + 17,091 | M59: 10 | O59: 5 | P59: =IF(Q59="","",(VLOOKUP(Q59,Table!$A:$B,2,FALSE))) -> IA | Q59: George RUSSELL | R59: =IF(Q59="","",(VLOOKUP(Q59,Table!$A:$C,3,FALSE))) -> Mercedes | S59: + 20,760 | T59: 10
A60: 6 | B60: =IF(C60="","",(VLOOKUP(C60,Table!$A:$B,2,FALSE))) -> IA | C60: Yuki TSUNODA | D60: =IF(C60="","",(VLOOKUP(C60,Table!$A:$C,3,FALSE))) -> Alpha Tauri | E60: + 1:01,778 | F60: 8 | H60: 6 | I60: =IF(J60="","",(VLOOKUP(J60,Table!$A:$B,2,FALSE))) -> Giaquinho06 | J60: Jonathan GIACCO | K60: =IF(J60="","",(VLOOKUP(J60,Table!$A:$C,3,FALSE))) -> Alpine | L60: + 17,372 | M60: 8 | O60: 6 | P60: =IF(Q60="","",(VLOOKUP(Q60,Table!$A:$B,2,FALSE))) -> IA | Q60: Yuki TSUNODA | R60: =IF(Q60="","",(VLOOKUP(Q60,Table!$A:$C,3,FALSE))) -> Alpha Tauri | S60: + 20,936 | T60: 8
A61: 7 | B61: =IF(C61="","",(VLOOKUP(C61,Table!$A:$B,2,FALSE))) -> IA | C61: Guanyu ZHOU | D61: =IF(C61="","",(VLOOKUP(C61,Table!$A:$C,3,FALSE))) -> Stake Sauber | E61: + 1:03,653 | F61: 6 | H61: 7 | I61: =IF(J61="","",(VLOOKUP(J61,Table!$A:$B,2,FALSE))) -> IA | J61: Logan SARGEANT | K61: =IF(J61="","",(VLOOKUP(J61,Table!$A:$C,3,FALSE))) -> Williams | L61: + 19,337 | M61: 6 | O61: 7 | P61: =IF(Q61="","",(VLOOKUP(Q61,Table!$A:$B,2,FALSE))) -> IA | Q61: Kevin MAGNUSSEN | R61: =IF(Q61="","",(VLOOKUP(Q61,Table!$A:$C,3,FALSE))) -> Haas | S61: + 25,354 | T61: 6
A62: 8 | B62: =IF(C62="","",(VLOOKUP(C62,Table!$A:$B,2,FALSE))) -> IA | C62: Carlos SAINZ Jr | D62: =IF(C62="","",(VLOOKUP(C62,Table!$A:$C,3,FALSE))) -> Ferrari | E62: + 1:04,502 | F62: 4 | H62: 8 | I62: =IF(J62="","",(VLOOKUP(J62,Table!$A:$B,2,FALSE))) -> IA | J62: Nico HULKENBERG | K62: =IF(J62="","",(VLOOKUP(J62,Table!$A:$C,3,FALSE))) -> Haas | L62: + 22,360 | M62: 4 | O62: 8 | P62: =IF(Q62="","",(VLOOKUP(Q62,Table!$A:$B,2,FALSE))) -> IA | Q62: Logan SARGEANT | R62: =IF(Q62="","",(VLOOKUP(Q62,Table!$A:$C,3,FALSE))) -> Williams | S62: + 25,546 | T62: 4
A63: 9 | B63: =IF(C63="","",(VLOOKUP(C63,Table!$A:$B,2,FALSE))) -> IA | C63: Logan SARGEANT | D63: =IF(C63="","",(VLOOKUP(C63,Table!$A:$C,3,FALSE))) -> Williams | E63: + 1:04,587 | F63: 2 | H63: 9 | I63: =IF(J63="","",(VLOOKUP(J63,Table!$A:$B,2,FALSE))) -> IA | J63: Lando NORRIS | K63: =IF(J63="","",(VLOOKUP(J63,Table!$A:$C,3,FALSE))) -> McLaren | L63: + 22,809 | M63: 2 | O63: 9 | P63: =IF(Q63="","",(VLOOKUP(Q63,Table!$A:$B,2,FALSE))) -> IA | Q63: Sergio PEREZ | R63: =IF(Q63="","",(VLOOKUP(Q63,Table!$A:$C,3,FALSE))) -> Red Bull | S63: + 27,821 | T63: 2
A64: 10 | B64: =IF(C64="","",(VLOOKUP(C64,Table!$A:$B,2,FALSE))) -> IA | C64: George RUSSELL | D64: =IF(C64="","",(VLOOKUP(C64,Table!$A:$C,3,FALSE))) -> Mercedes | E64: + 1:05,013 | F64: 1 | H64: 10 | I64: =IF(J64="","",(VLOOKUP(J64,Table!$A:$B,2,FALSE))) -> IA | J64: Oscar PIASTRI | K64: =IF(J64="","",(VLOOKUP(J64,Table!$A:$C,3,FALSE))) -> McLaren | L64: + 24,781 | M64: 1 | O64: 10 | P64: =IF(Q64="","",(VLOOKUP(Q64,Table!$A:$B,2,FALSE))) -> IA | Q64: Lance STROLL | R64: =IF(Q64="","",(VLOOKUP(Q64,Table!$A:$C,3,FALSE))) -> Aston Martin | S64: + 28,203 | T64: 1
A65: 11 | B65: =IF(C65="","",(VLOOKUP(C65,Table!$A:$B,2,FALSE))) -> IA | C65: Kevin MAGNUSSEN | D65: =IF(C65="","",(VLOOKUP(C65,Table!$A:$C,3,FALSE))) -> Haas | E65: + 1:05,818 | F65: 0 | H65: 11 | I65: =IF(J65="","",(VLOOKUP(J65,Table!$A:$B,2,FALSE))) -> IA | J65: Fernando ALONSO | K65: =IF(J65="","",(VLOOKUP(J65,Table!$A:$C,3,FALSE))) -> Aston Martin | L65: + 27,072 | M65: 0 | O65: 11 | P65: =IF(Q65="","",(VLOOKUP(Q65,Table!$A:$B,2,FALSE))) -> IA | Q65: Daniel RICCIARDO | R65: =IF(Q65="","",(VLOOKUP(Q65,Table!$A:$C,3,FALSE))) -> Alpha Tauri | S65: + 29,096 | T65: 0
A66: 12 | B66: =IF(C66="","",(VLOOKUP(C66,Table!$A:$B,2,FALSE))) -> IA | C66: Fernando ALONSO | D66: =IF(C66="","",(VLOOKUP(C66,Table!$A:$C,3,FALSE))) -> Aston Martin | E66: + 1:05,890 | F66: 0 | H66: 12 | I66: =IF(J66="","",(VLOOKUP(J66,Table!$A:$B,2,FALSE))) -> IA | J66: Guanyu ZHOU | K66: =IF(J66="","",(VLOOKUP(J66,Table!$A:$C,3,FALSE))) -> Stake Sauber | L66: + 28,257 | M66: 0 | O66: 12 | P66: =IF(Q66="","",(VLOOKUP(Q66,Table!$A:$B,2,FALSE))) -> IA | Q66: Alexander ALBON | R66: =IF(Q66="","",(VLOOKUP(Q66,Table!$A:$C,3,FALSE))) -> Williams | S66: + 29,742 | T66: 0
... A74: 20 | B74: =IF(C74="","",(VLOOKUP(C74,Table!$A:$B,2,FALSE))) -> Giaquinho06 | C74: Jonathan GIACCO | D74: =IF(C74="","",(VLOOKUP(C74,Table!$A:$C,3,FALSE))) -> Alpine | E74: DNF | F74: 0 | H74: 20 | I74: =IF(J74="","",(VLOOKUP(J74,Table!$A:$B,2,FALSE))) -> Naim_Thr | J74: Naïm TAHRIOUI | K74: =IF(J74="","",(VLOOKUP(J74,Table!$A:$C,3,FALSE))) -> Mercedes | L74: DNF | M74: 0 | O74: 20 | P74: =IF(Q74="","",(VLOOKUP(Q74,Table!$A:$B,2,FALSE))) -> f_a_____ta_____ | Q74: François TARDITI | R74: =IF(Q74="","",(VLOOKUP(Q74,Table!$A:$C,3,FALSE))) -> Stake Sauber | S74: DNF | T74: 0
A75: Pole | B75: =IF(C75="","",(VLOOKUP(C75,Table!$A:$B,2,FALSE))) -> GiOvA88mc | C75: Cédric GIOVANETTI | D75: =IF(C75="","",(VLOOKUP(C75,Table!$A:$C,3,FALSE))) -> Ferrari | E75: 1:17,704 | F75: 1 | H75: Pole | I75: =IF(J75="","",(VLOOKUP(J75,Table!$A:$B,2,FALSE))) -> Naim_Thr | J75: Naïm TAHRIOUI | K75: =IF(J75="","",(VLOOKUP(J75,Table!$A:$C,3,FALSE))) -> Mercedes | L75: 1:10,933 | M75: 1 | O75: Pole | P75: =IF(Q75="","",(VLOOKUP(Q75,Table!$A:$B,2,FALSE))) -> Naim_Thr | Q75: Naïm TAHRIOUI | R75: =IF(Q75="","",(VLOOKUP(Q75,Table!$A:$C,3,FALSE))) -> Mercedes | S75: 1:11,409 | T75: 1
A76: MT | B76: =IF(C76="","",(VLOOKUP(C76,Table!$A:$B,2,FALSE))) -> Naim_Thr | C76: Naïm TAHRIOUI | D76: =IF(C76="","",(VLOOKUP(C76,Table!$A:$C,3,FALSE))) -> Mercedes | E76: 1:18,103 | F76: 1 | H76: MT | I76: =IF(J76="","",(VLOOKUP(J76,Table!$A:$B,2,FALSE))) -> Naim_Thr | J76: Naïm TAHRIOUI | K76: =IF(J76="","",(VLOOKUP(J76,Table!$A:$C,3,FALSE))) -> Mercedes | L76: 1:13,101 | M76: 1 | O76: MT | P76: =IF(Q76="","",(VLOOKUP(Q76,Table!$A:$B,2,FALSE))) -> Naim_Thr | Q76: Naïm TAHRIOUI | R76: =IF(Q76="","",(VLOOKUP(Q76,Table!$A:$C,3,FALSE))) -> Mercedes | S76: 1:12,492 | T76: 1
A77: Pilote | B77: =IF(C77="","",(VLOOKUP(C77,Table!$A:$B,2,FALSE))) -> Hulkmc8 | C77: Christopher FRANCHET | D77: =IF(C77="","",(VLOOKUP(C77,Table!$A:$C,3,FALSE))) -> Stake Sauber | F77: 1 | H77: Pilote | I77: =IF(J77="","",(VLOOKUP(J77,Table!$A:$B,2,FALSE))) -> IA | J77: Nico HULKENBERG | K77: =IF(J77="","",(VLOOKUP(J77,Table!$A:$C,3,FALSE))) -> Haas | M77: 1 | O77: Pilote | P77: =IF(Q77="","",(VLOOKUP(Q77,Table!$A:$B,2,FALSE))) -> IA | Q77: Lance STROLL | R77: =IF(Q77="","",(VLOOKUP(Q77,Table!$A:$C,3,FALSE))) -> Aston Martin | T77: 1
A79: Course 10 : BARCELONE | H79: Course 11 : ZELTWEG | O79: Course 12 : SILVERSTONE
A80: Pos. | B80: Surnoms | C80: Pilotes | D80: Ecuries | E80: Temps | F80: Pts | H80: Pos. | I80: Surnoms | J80: Pilotes | K80: Ecuries | L80: Temps | M80: Pts | O80: Pos. | P80: Surnoms | Q80: Pilotes | R80: Ecuries | S80: Temps | T80: Pts
A81: 1 | B81: =IF(C81="","",(VLOOKUP(C81,Table!$A:$B,2,FALSE))) -> Naim_Thr | C81: Naïm TAHRIOUI | D81: =IF(C81="","",(VLOOKUP(C81,Table!$A:$C,3,FALSE))) -> Mercedes | E81: 34:10,759 | F81: 25 | H81: 1 | I81: =IF(J81="","",(VLOOKUP(J81,Table!$A:$B,2,FALSE))) -> Naim_Thr | J81: Naïm TAHRIOUI | K81: =IF(J81="","",(VLOOKUP(J81,Table!$A:$C,3,FALSE))) -> Mercedes | L81: 28:51,008 | M81: 25 | O81: 1 | P81: =IF(Q81="","",(VLOOKUP(Q81,Table!$A:$B,2,FALSE))) -> Naim_Thr | Q81: Naïm TAHRIOUI | R81: =IF(Q81="","",(VLOOKUP(Q81,Table!$A:$C,3,FALSE))) -> Mercedes | S81: 29:36,231 | T81: 25
A82: 2 | B82: =IF(C82="","",(VLOOKUP(C82,Table!$A:$B,2,FALSE))) -> Petibaske | C82: Mathieu BARBAUD | D82: =IF(C82="","",(VLOOKUP(C82,Table!$A:$C,3,FALSE))) -> Aston Martin | E82: + 7,718 | F82: 18 | H82: 2 | I82: =IF(J82="","",(VLOOKUP(J82,Table!$A:$B,2,FALSE))) -> Petibaske | J82: Mathieu BARBAUD | K82: =IF(J82="","",(VLOOKUP(J82,Table!$A:$C,3,FALSE))) -> Aston Martin | L82: + 17,923 | M82: 18 | O82: 2 | P82: =IF(Q82="","",(VLOOKUP(Q82,Table!$A:$B,2,FALSE))) -> Petibaske | Q82: Mathieu BARBAUD | R82: =IF(Q82="","",(VLOOKUP(Q82,Table!$A:$C,3,FALSE))) -> Aston Martin | S82: + 6,180 | T82: 18
A83: 3 | B83: =IF(C83="","",(VLOOKUP(C83,Table!$A:$B,2,FALSE))) -> MacAdamO-34 | C83: Julien ADAMO | D83: =IF(C83="","",(VLOOKUP(C83,Table!$A:$C,3,FALSE))) -> McLaren | E83: + 28,605 | F83: 15 | H83: 3 | I83: =IF(J83="","",(VLOOKUP(J83,Table!$A:$B,2,FALSE))) -> Ribe-888 | J83: Sébastien RIBERI | K83: =IF(J83="","",(VLOOKUP(J83,Table!$A:$C,3,FALSE))) -> Alpine | L83: + 19,954 | M83: 15 | O83: 3 | P83: =IF(Q83="","",(VLOOKUP(Q83,Table!$A:$B,2,FALSE))) -> Hulkmc8 | Q83: Christopher FRANCHET | R83: =IF(Q83="","",(VLOOKUP(Q83,Table!$A:$C,3,FALSE))) -> Stake Sauber | S83: + 8,813 | T83: 15
A84: 4 | B84: =IF(C84="","",(VLOOKUP(C84,Table!$A:$B,2,FALSE))) -> Giaquinho06 | C84: Jonathan GIACCO | D84: =IF(C84="","",(VLOOKUP(C84,Table!$A:$C,3,FALSE))) -> Alpine | E84: + 53,522 | F84: 12 | H84: 4 | I84: =IF(J84="","",(VLOOKUP(J84,Table!$A:$B,2,FALSE))) -> MacAdamO-34 | J84: Julien ADAMO | K84: =IF(J84="","",(VLOOKUP(J84,Table!$A:$C,3,FALSE))) -> McLaren | L84: + 43,293 | M84: 12 | O84: 4 | P84: =IF(Q84="","",(VLOOKUP(Q84,Table!$A:$B,2,FALSE))) -> IA | Q84: George RUSSELL | R84: =IF(Q84="","",(VLOOKUP(Q84,Table!$A:$C,3,FALSE))) -> Mercedes | S84: + 8,857 | T84: 12
A85: 5 | B85: =IF(C85="","",(VLOOKUP(C85,Table!$A:$B,2,FALSE))) -> Hulkmc8 | C85: Christopher FRANCHET | D85: =IF(C85="","",(VLOOKUP(C85,Table!$A:$C,3,FALSE))) -> Stake Sauber | E85: + 1:00,073 | F85: 10 | H85: 5 | I85: =IF(J85="","",(VLOOKUP(J85,Table!$A:$B,2,FALSE))) -> f_a_____ta_____ | J85: François TARDITI | K85: =IF(J85="","",(VLOOKUP(J85,Table!$A:$C,3,FALSE))) -> Stake Sauber | L85: + 59,683 | M85: 10 | O85: 5 | P85: =IF(Q85="","",(VLOOKUP(Q85,Table!$A:$B,2,FALSE))) -> IA | Q85: Oscar PIASTRI | R85: =IF(Q85="","",(VLOOKUP(Q85,Table!$A:$C,3,FALSE))) -> McLaren | S85: + 9,338 | T85: 10
A86: 6 | B86: =IF(C86="","",(VLOOKUP(C86,Table!$A:$B,2,FALSE))) -> Chateau98000 | C86: Nicolas CASTEL | D86: =IF(C86="","",(VLOOKUP(C86,Table!$A:$C,3,FALSE))) -> Ferrari | E86: + 1:01,551 | F86: 8 | H86: 6 | I86: =IF(J86="","",(VLOOKUP(J86,Table!$A:$B,2,FALSE))) -> IA | J86: Yuki TSUNODA | K86: =IF(J86="","",(VLOOKUP(J86,Table!$A:$C,3,FALSE))) -> Alpha Tauri | L86: + 1 tour | M86: 8 | O86: 6 | P86: =IF(Q86="","",(VLOOKUP(Q86,Table!$A:$B,2,FALSE))) -> IA | Q86: Max VERSTAPPEN | R86: =IF(Q86="","",(VLOOKUP(Q86,Table!$A:$C,3,FALSE))) -> Red Bull | S86: + 9,734 | T86: 8
A87: 7 | B87: =IF(C87="","",(VLOOKUP(C87,Table!$A:$B,2,FALSE))) -> IA | C87: Sergio PEREZ | D87: =IF(C87="","",(VLOOKUP(C87,Table!$A:$C,3,FALSE))) -> Red Bull | E87: + 1:03,543 | F87: 6 | H87: 7 | I87: =IF(J87="","",(VLOOKUP(J87,Table!$A:$B,2,FALSE))) -> IA | J87: Sergio PEREZ | K87: =IF(J87="","",(VLOOKUP(J87,Table!$A:$C,3,FALSE))) -> Red Bull | L87: + 1 tour | M87: 6 | O87: 7 | P87: =IF(Q87="","",(VLOOKUP(Q87,Table!$A:$B,2,FALSE))) -> IA | Q87: Sergio PEREZ | R87: =IF(Q87="","",(VLOOKUP(Q87,Table!$A:$C,3,FALSE))) -> Red Bull | S87: + 10,152 | T87: 6
A88: 8 | B88: =IF(C88="","",(VLOOKUP(C88,Table!$A:$B,2,FALSE))) -> f_a_____ta_____ | C88: François TARDITI | D88: =IF(C88="","",(VLOOKUP(C88,Table!$A:$C,3,FALSE))) -> Stake Sauber | E88: + 1:04,241 | F88: 4 | H88: 8 | I88: =IF(J88="","",(VLOOKUP(J88,Table!$A:$B,2,FALSE))) -> IA | J88: Charles LECLERC | K88: =IF(J88="","",(VLOOKUP(J88,Table!$A:$C,3,FALSE))) -> Ferrari | L88: + 1 tour | M88: 4 | O88: 8 | P88: =IF(Q88="","",(VLOOKUP(Q88,Table!$A:$B,2,FALSE))) -> IA | Q88: Carlos SAINZ Jr | R88: =IF(Q88="","",(VLOOKUP(Q88,Table!$A:$C,3,FALSE))) -> Ferrari | S88: + 11,963 | T88: 4
A89: 9 | B89: =IF(C89="","",(VLOOKUP(C89,Table!$A:$B,2,FALSE))) -> IA | C89: Nico HULKENBERG | D89: =IF(C89="","",(VLOOKUP(C89,Table!$A:$C,3,FALSE))) -> Haas | E89: + 1:04,425 | F89: 2 | H89: 9 | I89: =IF(J89="","",(VLOOKUP(J89,Table!$A:$B,2,FALSE))) -> IA | J89: Max VERSTAPPEN | K89: =IF(J89="","",(VLOOKUP(J89,Table!$A:$C,3,FALSE))) -> Red Bull | L89: + 1 tour | M89: 2 | O89: 9 | P89: =IF(Q89="","",(VLOOKUP(Q89,Table!$A:$B,2,FALSE))) -> IA | Q89: Logan SARGEANT | R89: =IF(Q89="","",(VLOOKUP(Q89,Table!$A:$C,3,FALSE))) -> Williams | S89: + 13,301 | T89: 2
A90: 10 | B90: =IF(C90="","",(VLOOKUP(C90,Table!$A:$B,2,FALSE))) -> IA | C90: Max VERSTAPPEN | D90: =IF(C90="","",(VLOOKUP(C90,Table!$A:$C,3,FALSE))) -> Red Bull | E90: + 1:04,935 | F90: 1 | H90: 10 | I90: =IF(J90="","",(VLOOKUP(J90,Table!$A:$B,2,FALSE))) -> IA | J90: Oscar PIASTRI | K90: =IF(J90="","",(VLOOKUP(J90,Table!$A:$C,3,FALSE))) -> McLaren | L90: + 1 tour | M90: 1 | O90: 10 | P90: =IF(Q90="","",(VLOOKUP(Q90,Table!$A:$B,2,FALSE))) -> IA | Q90: Nico HULKENBERG | R90: =IF(Q90="","",(VLOOKUP(Q90,Table!$A:$C,3,FALSE))) -> Haas | S90: + 14,170 | T90: 1
A91: 11 | B91: =IF(C91="","",(VLOOKUP(C91,Table!$A:$B,2,FALSE))) -> IA | C91: Oscar PIASTRI | D91: =IF(C91="","",(VLOOKUP(C91,Table!$A:$C,3,FALSE))) -> McLaren | E91: + 1:07,433 | F91: 0 | H91: 11 | I91: =IF(J91="","",(VLOOKUP(J91,Table!$A:$B,2,FALSE))) -> IA | J91: Alexander ALBON | K91: =IF(J91="","",(VLOOKUP(J91,Table!$A:$C,3,FALSE))) -> Williams | L91: + 1 tour | M91: 0 | O91: 11 | P91: =IF(Q91="","",(VLOOKUP(Q91,Table!$A:$B,2,FALSE))) -> IA | Q91: Kevin MAGNUSSEN | R91: =IF(Q91="","",(VLOOKUP(Q91,Table!$A:$C,3,FALSE))) -> Haas | S91: + 16,737 | T91: 0
A92: 12 | B92: =IF(C92="","",(VLOOKUP(C92,Table!$A:$B,2,FALSE))) -> IA | C92: George RUSSELL | D92: =IF(C92="","",(VLOOKUP(C92,Table!$A:$C,3,FALSE))) -> Mercedes | E92: + 1:07,677 | F92: 0 | H92: 12 | I92: =IF(J92="","",(VLOOKUP(J92,Table!$A:$B,2,FALSE))) -> IA | J92: Daniel RICCIARDO | K92: =IF(J92="","",(VLOOKUP(J92,Table!$A:$C,3,FALSE))) -> Alpha Tauri | L92: + 1 tour | M92: 0 | O92: 12 | P92: =IF(Q92="","",(VLOOKUP(Q92,Table!$A:$B,2,FALSE))) -> MacAdamO-34 | Q92: Julien ADAMO | R92: =IF(Q92="","",(VLOOKUP(Q92,Table!$A:$C,3,FALSE))) -> McLaren | S92: + 17,170 | T92: 0
... A100: 20 | B100: =IF(C100="","",(VLOOKUP(C100,Table!$A:$B,2,FALSE))) -> IA | C100: Pierre GASLY | D100: =IF(C100="","",(VLOOKUP(C100,Table!$A:$C,3,FALSE))) -> Alpine | E100: DNF | F100: 0 | H100: 20 | I100: =IF(J100="","",(VLOOKUP(J100,Table!$A:$B,2,FALSE))) -> Hulkmc8 | J100: Christopher FRANCHET | K100: =IF(J100="","",(VLOOKUP(J100,Table!$A:$C,3,FALSE))) -> Stake Sauber | L100: DNF | M100: 0 | O100: 20 | P100: =IF(Q100="","",(VLOOKUP(Q100,Table!$A:$B,2,FALSE))) -> Ribe-888 | Q100: Sébastien RIBERI | R100: =IF(Q100="","",(VLOOKUP(Q100,Table!$A:$C,3,FALSE))) -> Alpine | S100: DNF | T100: 0
A101: Pole | B101: =IF(C101="","",(VLOOKUP(C101,Table!$A:$B,2,FALSE))) -> Naim_Thr | C101: Naïm TAHRIOUI | D101: =IF(C101="","",(VLOOKUP(C101,Table!$A:$C,3,FALSE))) -> Mercedes | E101: 1:14,041 | F101: 1 | H101: Pole | I101: =IF(J101="","",(VLOOKUP(J101,Table!$A:$B,2,FALSE))) -> Naim_Thr | J101: Naïm TAHRIOUI | K101: =IF(J101="","",(VLOOKUP(J101,Table!$A:$C,3,FALSE))) -> Mercedes | L101: 1:05,814 | M101: 1 | O101: Pole | P101: =IF(Q101="","",(VLOOKUP(Q101,Table!$A:$B,2,FALSE))) -> Naim_Thr | Q101: Naïm TAHRIOUI | R101: =IF(Q101="","",(VLOOKUP(Q101,Table!$A:$C,3,FALSE))) -> Mercedes | S101: 1:28,379 | T101: 1
A102: MT | B102: =IF(C102="","",(VLOOKUP(C102,Table!$A:$B,2,FALSE))) -> Naim_Thr | C102: Naïm TAHRIOUI | D102: =IF(C102="","",(VLOOKUP(C102,Table!$A:$C,3,FALSE))) -> Mercedes | E102: 1:24,209 | F102: 1 | H102: MT | I102: =IF(J102="","",(VLOOKUP(J102,Table!$A:$B,2,FALSE))) -> Naim_Thr | J102: Naïm TAHRIOUI | K102: =IF(J102="","",(VLOOKUP(J102,Table!$A:$C,3,FALSE))) -> Mercedes | L102: 1:07,071 | M102: 1 | O102: MT | P102: =IF(Q102="","",(VLOOKUP(Q102,Table!$A:$B,2,FALSE))) -> Naim_Thr | Q102: Naïm TAHRIOUI | R102: =IF(Q102="","",(VLOOKUP(Q102,Table!$A:$C,3,FALSE))) -> Mercedes | S102: 1:30,660 | T102: 1
A103: Pilote | B103: =IF(C103="","",(VLOOKUP(C103,Table!$A:$B,2,FALSE))) -> Chateau98000 | C103: Nicolas CASTEL | D103: =IF(C103="","",(VLOOKUP(C103,Table!$A:$C,3,FALSE))) -> Ferrari | F103: 1 | H103: Pilote | I103: =IF(J103="","",(VLOOKUP(J103,Table!$A:$B,2,FALSE))) -> IA | J103: Yuki TSUNODA | K103: =IF(J103="","",(VLOOKUP(J103,Table!$A:$C,3,FALSE))) -> Alpha Tauri | M103: 1 | O103: Pilote | P103: =IF(Q103="","",(VLOOKUP(Q103,Table!$A:$B,2,FALSE))) -> f_a_____ta_____ | Q103: François TARDITI | R103: =IF(Q103="","",(VLOOKUP(Q103,Table!$A:$C,3,FALSE))) -> Stake Sauber | T103: 1
A105: Course 13 : BUDAPEST | H105: Course 14 : SPA-FRANCORCHAMPS | O105: Course 15 : ZANDVOORT
A106: Pos. | B106: Surnoms | C106: Pilotes | D106: Ecuries | E106: Temps | F106: Pts | H106: Pos. | I106: Surnoms | J106: Pilotes | K106: Ecuries | L106: Temps | M106: Pts | O106: Pos. | P106: Surnoms | Q106: Pilotes | R106: Ecuries | S106: Temps | T106: Pts
A107: 1 | B107: =IF(C107="","",(VLOOKUP(C107,Table!$A:$B,2,FALSE))) -> Hulkmc8 | C107: Christopher FRANCHET | D107: =IF(C107="","",(VLOOKUP(C107,Table!$A:$C,3,FALSE))) -> Stake Sauber | E107: 35:21,925 | F107: 25 | H107: 1 | I107: =IF(J107="","",(VLOOKUP(J107,Table!$A:$B,2,FALSE))) -> MacAdamO-34 | J107: Julien ADAMO | K107: =IF(J107="","",(VLOOKUP(J107,Table!$A:$C,3,FALSE))) -> McLaren | L107: 32:24,183 | M107: 25 | O107: 1 | P107: =IF(Q107="","",(VLOOKUP(Q107,Table!$A:$B,2,FALSE))) | R107: =IF(Q107="","",(VLOOKUP(Q107,Table!$A:$C,3,FALSE))) | T107: 25
A108: 2 | B108: =IF(C108="","",(VLOOKUP(C108,Table!$A:$B,2,FALSE))) -> GiOvA88mc | C108: Cédric GIOVANETTI | D108: =IF(C108="","",(VLOOKUP(C108,Table!$A:$C,3,FALSE))) -> Ferrari | E108: + 10,804 | F108: 18 | H108: 2 | I108: =IF(J108="","",(VLOOKUP(J108,Table!$A:$B,2,FALSE))) -> Hulkmc8 | J108: Christopher FRANCHET | K108: =IF(J108="","",(VLOOKUP(J108,Table!$A:$C,3,FALSE))) -> Stake Sauber | L108: + 18,437 | M108: 18 | O108: 2 | P108: =IF(Q108="","",(VLOOKUP(Q108,Table!$A:$B,2,FALSE))) | R108: =IF(Q108="","",(VLOOKUP(Q108,Table!$A:$C,3,FALSE))) | T108: 18
A109: 3 | B109: =IF(C109="","",(VLOOKUP(C109,Table!$A:$B,2,FALSE))) -> Giaquinho06 | C109: Jonathan GIACCO | D109: =IF(C109="","",(VLOOKUP(C109,Table!$A:$C,3,FALSE))) -> Alpine | E109: + 21,773 | F109: 15 | H109: 3 | I109: =IF(J109="","",(VLOOKUP(J109,Table!$A:$B,2,FALSE))) -> IA | J109: Fernando ALONSO | K109: =IF(J109="","",(VLOOKUP(J109,Table!$A:$C,3,FALSE))) -> Aston Martin | L109: + 28,560 | M109: 15 | O109: 3 | P109: =IF(Q109="","",(VLOOKUP(Q109,Table!$A:$B,2,FALSE))) | R109: =IF(Q109="","",(VLOOKUP(Q109,Table!$A:$C,3,FALSE))) | T109: 15
A110: 4 | B110: =IF(C110="","",(VLOOKUP(C110,Table!$A:$B,2,FALSE))) -> IA | C110: George RUSSELL | D110: =IF(C110="","",(VLOOKUP(C110,Table!$A:$C,3,FALSE))) -> Mercedes | E110: + 31,319 | F110: 12 | H110: 4 | I110: =IF(J110="","",(VLOOKUP(J110,Table!$A:$B,2,FALSE))) -> IA | J110: Nico HULKENBERG | K110: =IF(J110="","",(VLOOKUP(J110,Table!$A:$C,3,FALSE))) -> Haas | L110: + 29,243 | M110: 12 | O110: 4 | P110: =IF(Q110="","",(VLOOKUP(Q110,Table!$A:$B,2,FALSE))) | R110: =IF(Q110="","",(VLOOKUP(Q110,Table!$A:$C,3,FALSE))) | T110: 12
A111: 5 | B111: =IF(C111="","",(VLOOKUP(C111,Table!$A:$B,2,FALSE))) -> IA | C111: Max VERSTAPPEN | D111: =IF(C111="","",(VLOOKUP(C111,Table!$A:$C,3,FALSE))) -> Red Bull | E111: + 31,740 | F111: 10 | H111: 5 | I111: =IF(J111="","",(VLOOKUP(J111,Table!$A:$B,2,FALSE))) -> IA | J111: Carlos SAINZ Jr | K111: =IF(J111="","",(VLOOKUP(J111,Table!$A:$C,3,FALSE))) -> Ferrari | L111: + 30,041 | M111: 10 | O111: 5 | P111: =IF(Q111="","",(VLOOKUP(Q111,Table!$A:$B,2,FALSE))) | R111: =IF(Q111="","",(VLOOKUP(Q111,Table!$A:$C,3,FALSE))) | T111: 10
A112: 6 | B112: =IF(C112="","",(VLOOKUP(C112,Table!$A:$B,2,FALSE))) -> IA | C112: Lewis HAMILTON | D112: =IF(C112="","",(VLOOKUP(C112,Table!$A:$C,3,FALSE))) -> Mercedes | E112: + 35,245 | F112: 8 | H112: 6 | I112: =IF(J112="","",(VLOOKUP(J112,Table!$A:$B,2,FALSE))) -> IA | J112: Kevin MAGNUSSEN | K112: =IF(J112="","",(VLOOKUP(J112,Table!$A:$C,3,FALSE))) -> Haas | L112: + 31,459 | M112: 8 | O112: 6 | P112: =IF(Q112="","",(VLOOKUP(Q112,Table!$A:$B,2,FALSE))) | R112: =IF(Q112="","",(VLOOKUP(Q112,Table!$A:$C,3,FALSE))) | T112: 8
A113: 7 | B113: =IF(C113="","",(VLOOKUP(C113,Table!$A:$B,2,FALSE))) -> IA | C113: Alexander ALBON | D113: =IF(C113="","",(VLOOKUP(C113,Table!$A:$C,3,FALSE))) -> Williams | E113: + 37,183 | F113: 6 | H113: 7 | I113: =IF(J113="","",(VLOOKUP(J113,Table!$A:$B,2,FALSE))) -> IA | J113: Yuki TSUNODA | K113: =IF(J113="","",(VLOOKUP(J113,Table!$A:$C,3,FALSE))) -> Alpha Tauri | L113: + 48,250 | M113: 6 | O113: 7 | P113: =IF(Q113="","",(VLOOKUP(Q113,Table!$A:$B,2,FALSE))) | R113: =IF(Q113="","",(VLOOKUP(Q113,Table!$A:$C,3,FALSE))) | T113: 6
A114: 8 | B114: =IF(C114="","",(VLOOKUP(C114,Table!$A:$B,2,FALSE))) -> IA | C114: Pierre GASLY | D114: =IF(C114="","",(VLOOKUP(C114,Table!$A:$C,3,FALSE))) -> Alpine | E114: + 40,119 | F114: 4 | H114: 8 | I114: =IF(J114="","",(VLOOKUP(J114,Table!$A:$B,2,FALSE))) -> IA | J114: Logan SARGEANT | K114: =IF(J114="","",(VLOOKUP(J114,Table!$A:$C,3,FALSE))) -> Williams | L114: + 48,500 | M114: 4 | O114: 8 | P114: =IF(Q114="","",(VLOOKUP(Q114,Table!$A:$B,2,FALSE))) | R114: =IF(Q114="","",(VLOOKUP(Q114,Table!$A:$C,3,FALSE))) | T114: 4
A115: 9 | B115: =IF(C115="","",(VLOOKUP(C115,Table!$A:$B,2,FALSE))) -> IA | C115: Sergio PEREZ | D115: =IF(C115="","",(VLOOKUP(C115,Table!$A:$C,3,FALSE))) -> Red Bull | E115: + 40,634 | F115: 2 | H115: 9 | I115: =IF(J115="","",(VLOOKUP(J115,Table!$A:$B,2,FALSE))) -> IA | J115: Lance STROLL | K115: =IF(J115="","",(VLOOKUP(J115,Table!$A:$C,3,FALSE))) -> Aston Martin | L115: + 52,878 | M115: 2 | O115: 9 | P115: =IF(Q115="","",(VLOOKUP(Q115,Table!$A:$B,2,FALSE))) | R115: =IF(Q115="","",(VLOOKUP(Q115,Table!$A:$C,3,FALSE))) | T115: 2
A116: 10 | B116: =IF(C116="","",(VLOOKUP(C116,Table!$A:$B,2,FALSE))) -> IA | C116: Oscar PIASTRI | D116: =IF(C116="","",(VLOOKUP(C116,Table!$A:$C,3,FALSE))) -> McLaren | E116: + 40,968 | F116: 1 | H116: 10 | I116: =IF(J116="","",(VLOOKUP(J116,Table!$A:$B,2,FALSE))) -> Giaquinho06 | J116: Jonathan GIACCO | K116: =IF(J116="","",(VLOOKUP(J116,Table!$A:$C,3,FALSE))) -> Alpine | L116: + 55,504 | M116: 1 | O116: 10 | P116: =IF(Q116="","",(VLOOKUP(Q116,Table!$A:$B,2,FALSE))) | R116: =IF(Q116="","",(VLOOKUP(Q116,Table!$A:$C,3,FALSE))) | T116: 1
A117: 11 | B117: =IF(C117="","",(VLOOKUP(C117,Table!$A:$B,2,FALSE))) -> IA | C117: Yuki TSUNODA | D117: =IF(C117="","",(VLOOKUP(C117,Table!$A:$C,3,FALSE))) -> Alpha Tauri | E117: + 44,018 | F117: 0 | H117: 11 | I117: =IF(J117="","",(VLOOKUP(J117,Table!$A:$B,2,FALSE))) -> IA | J117: George RUSSELL | K117: =IF(J117="","",(VLOOKUP(J117,Table!$A:$C,3,FALSE))) -> Mercedes | L117: + 1:03,944 | M117: 0 | O117: 11 | P117: =IF(Q117="","",(VLOOKUP(Q117,Table!$A:$B,2,FALSE))) | R117: =IF(Q117="","",(VLOOKUP(Q117,Table!$A:$C,3,FALSE))) | T117: 0
A118: 12 | B118: =IF(C118="","",(VLOOKUP(C118,Table!$A:$B,2,FALSE))) -> IA | C118: Fernando ALONSO | D118: =IF(C118="","",(VLOOKUP(C118,Table!$A:$C,3,FALSE))) -> Aston Martin | E118: + 44,602 | F118: 0 | H118: 12 | I118: =IF(J118="","",(VLOOKUP(J118,Table!$A:$B,2,FALSE))) -> IA | J118: Daniel RICCIARDO | K118: =IF(J118="","",(VLOOKUP(J118,Table!$A:$C,3,FALSE))) -> Alpha Tauri | L118: + 1:06,011 | M118: 0 | O118: 12 | P118: =IF(Q118="","",(VLOOKUP(Q118,Table!$A:$B,2,FALSE))) | R118: =IF(Q118="","",(VLOOKUP(Q118,Table!$A:$C,3,FALSE))) | T118: 0
... A126: 20 | B126: =IF(C126="","",(VLOOKUP(C126,Table!$A:$B,2,FALSE))) -> IA | C126: Nico HULKENBERG | D126: =IF(C126="","",(VLOOKUP(C126,Table!$A:$C,3,FALSE))) -> Haas | E126: DNF | F126: 0 | H126: 20 | I126: =IF(J126="","",(VLOOKUP(J126,Table!$A:$B,2,FALSE))) -> GiOvA88mc | J126: Cédric GIOVANETTI | K126: =IF(J126="","",(VLOOKUP(J126,Table!$A:$C,3,FALSE))) -> Ferrari | L126: DNF | M126: 0 | O126: 20 | P126: =IF(Q126="","",(VLOOKUP(Q126,Table!$A:$B,2,FALSE))) | R126: =IF(Q126="","",(VLOOKUP(Q126,Table!$A:$C,3,FALSE))) | T126: 0
A127: Pole | B127: =IF(C127="","",(VLOOKUP(C127,Table!$A:$B,2,FALSE))) -> GiOvA88mc | C127: Cédric GIOVANETTI | D127: =IF(C127="","",(VLOOKUP(C127,Table!$A:$C,3,FALSE))) -> Ferrari | E127: 1:17,685 | F127: 1 | H127: Pole | I127: =IF(J127="","",(VLOOKUP(J127,Table!$A:$B,2,FALSE))) -> MacAdamO-34 | J127: Julien ADAMO | K127: =IF(J127="","",(VLOOKUP(J127,Table!$A:$C,3,FALSE))) -> McLaren | L127: 1:45,410 | M127: 1 | O127: Pole | P127: =IF(Q127="","",(VLOOKUP(Q127,Table!$A:$B,2,FALSE))) | R127: =IF(Q127="","",(VLOOKUP(Q127,Table!$A:$C,3,FALSE))) | T127: 1
A128: MT | B128: =IF(C128="","",(VLOOKUP(C128,Table!$A:$B,2,FALSE))) -> Hulkmc8 | C128: Christopher FRANCHET | D128: =IF(C128="","",(VLOOKUP(C128,Table!$A:$C,3,FALSE))) -> Stake Sauber | E128: 1:19,630 | F128: 1 | H128: MT | I128: =IF(J128="","",(VLOOKUP(J128,Table!$A:$B,2,FALSE))) -> MacAdamO-34 | J128: Julien ADAMO | K128: =IF(J128="","",(VLOOKUP(J128,Table!$A:$C,3,FALSE))) -> McLaren | L128: 1:55,499 | M128: 1 | O128: MT | P128: =IF(Q128="","",(VLOOKUP(Q128,Table!$A:$B,2,FALSE))) | R128: =IF(Q128="","",(VLOOKUP(Q128,Table!$A:$C,3,FALSE))) | T128: 1
A129: Pilote | B129: =IF(C129="","",(VLOOKUP(C129,Table!$A:$B,2,FALSE))) -> IA | C129: Yuki TSUNODA | D129: =IF(C129="","",(VLOOKUP(C129,Table!$A:$C,3,FALSE))) -> Alpha Tauri | F129: 1 | H129: Pilote | I129: =IF(J129="","",(VLOOKUP(J129,Table!$A:$B,2,FALSE))) -> IA | J129: Logan SARGEANT | K129: =IF(J129="","",(VLOOKUP(J129,Table!$A:$C,3,FALSE))) -> Williams | M129: 1 | O129: Pilote | P129: =IF(Q129="","",(VLOOKUP(Q129,Table!$A:$B,2,FALSE))) | R129: =IF(Q129="","",(VLOOKUP(Q129,Table!$A:$C,3,FALSE))) | T129: 1
A131: Course 16 : MONZA | H131: Course 17 : BAKOU | O131: Course 18 : SINGAPOUR
A132: Pos. | B132: Surnoms | C132: Pilotes | D132: Ecuries | E132: Temps | F132: Pts | H132: Pos. | I132: Surnoms | J132: Pilotes | K132: Ecuries | L132: Temps | M132: Pts | O132: Pos. | P132: Surnoms | Q132: Pilotes | R132: Ecuries | S132: Temps | T132: Pts
A133: 1 | B133: =IF(C133="","",(VLOOKUP(C133,Table!$A:$B,2,FALSE))) | D133: =IF(C133="","",(VLOOKUP(C133,Table!$A:$C,3,FALSE))) | F133: 25 | H133: 1 | I133: =IF(J133="","",(VLOOKUP(J133,Table!$A:$B,2,FALSE))) | K133: =IF(J133="","",(VLOOKUP(J133,Table!$A:$C,3,FALSE))) | M133: 25 | O133: 1 | P133: =IF(Q133="","",(VLOOKUP(Q133,Table!$A:$B,2,FALSE))) | R133: =IF(Q133="","",(VLOOKUP(Q133,Table!$A:$C,3,FALSE))) | T133: 25
A134: 2 | B134: =IF(C134="","",(VLOOKUP(C134,Table!$A:$B,2,FALSE))) | D134: =IF(C134="","",(VLOOKUP(C134,Table!$A:$C,3,FALSE))) | F134: 18 | H134: 2 | I134: =IF(J134="","",(VLOOKUP(J134,Table!$A:$B,2,FALSE))) | K134: =IF(J134="","",(VLOOKUP(J134,Table!$A:$C,3,FALSE))) | M134: 18 | O134: 2 | P134: =IF(Q134="","",(VLOOKUP(Q134,Table!$A:$B,2,FALSE))) | R134: =IF(Q134="","",(VLOOKUP(Q134,Table!$A:$C,3,FALSE))) | T134: 18
A135: 3 | B135: =IF(C135="","",(VLOOKUP(C135,Table!$A:$B,2,FALSE))) | D135: =IF(C135="","",(VLOOKUP(C135,Table!$A:$C,3,FALSE))) | F135: 15 | H135: 3 | I135: =IF(J135="","",(VLOOKUP(J135,Table!$A:$B,2,FALSE))) | K135: =IF(J135="","",(VLOOKUP(J135,Table!$A:$C,3,FALSE))) | M135: 15 | O135: 3 | P135: =IF(Q135="","",(VLOOKUP(Q135,Table!$A:$B,2,FALSE))) | R135: =IF(Q135="","",(VLOOKUP(Q135,Table!$A:$C,3,FALSE))) | T135: 15
A136: 4 | B136: =IF(C136="","",(VLOOKUP(C136,Table!$A:$B,2,FALSE))) | D136: =IF(C136="","",(VLOOKUP(C136,Table!$A:$C,3,FALSE))) | F136: 12 | H136: 4 | I136: =IF(J136="","",(VLOOKUP(J136,Table!$A:$B,2,FALSE))) | K136: =IF(J136="","",(VLOOKUP(J136,Table!$A:$C,3,FALSE))) | M136: 12 | O136: 4 | P136: =IF(Q136="","",(VLOOKUP(Q136,Table!$A:$B,2,FALSE))) | R136: =IF(Q136="","",(VLOOKUP(Q136,Table!$A:$C,3,FALSE))) | T136: 12
A137: 5 | B137: =IF(C137="","",(VLOOKUP(C137,Table!$A:$B,2,FALSE))) | D137: =IF(C137="","",(VLOOKUP(C137,Table!$A:$C,3,FALSE))) | F137: 10 | H137: 5 | I137: =IF(J137="","",(VLOOKUP(J137,Table!$A:$B,2,FALSE))) | K137: =IF(J137="","",(VLOOKUP(J137,Table!$A:$C,3,FALSE))) | M137: 10 | O137: 5 | P137: =IF(Q137="","",(VLOOKUP(Q137,Table!$A:$B,2,FALSE))) | R137: =IF(Q137="","",(VLOOKUP(Q137,Table!$A:$C,3,FALSE))) | T137: 10
A138: 6 | B138: =IF(C138="","",(VLOOKUP(C138,Table!$A:$B,2,FALSE))) | D138: =IF(C138="","",(VLOOKUP(C138,Table!$A:$C,3,FALSE))) | F138: 8 | H138: 6 | I138: =IF(J138="","",(VLOOKUP(J138,Table!$A:$B,2,FALSE))) | K138: =IF(J138="","",(VLOOKUP(J138,Table!$A:$C,3,FALSE))) | M138: 8 | O138: 6 | P138: =IF(Q138="","",(VLOOKUP(Q138,Table!$A:$B,2,FALSE))) | R138: =IF(Q138="","",(VLOOKUP(Q138,Table!$A:$C,3,FALSE))) | T138: 8
A139: 7 | B139: =IF(C139="","",(VLOOKUP(C139,Table!$A:$B,2,FALSE))) | D139: =IF(C139="","",(VLOOKUP(C139,Table!$A:$C,3,FALSE))) | F139: 6 | H139: 7 | I139: =IF(J139="","",(VLOOKUP(J139,Table!$A:$B,2,FALSE))) | K139: =IF(J139="","",(VLOOKUP(J139,Table!$A:$C,3,FALSE))) | M139: 6 | O139: 7 | P139: =IF(Q139="","",(VLOOKUP(Q139,Table!$A:$B,2,FALSE))) | R139: =IF(Q139="","",(VLOOKUP(Q139,Table!$A:$C,3,FALSE))) | T139: 6
A140: 8 | B140: =IF(C140="","",(VLOOKUP(C140,Table!$A:$B,2,FALSE))) | D140: =IF(C140="","",(VLOOKUP(C140,Table!$A:$C,3,FALSE))) | F140: 4 | H140: 8 | I140: =IF(J140="","",(VLOOKUP(J140,Table!$A:$B,2,FALSE))) | K140: =IF(J140="","",(VLOOKUP(J140,Table!$A:$C,3,FALSE))) | M140: 4 | O140: 8 | P140: =IF(Q140="","",(VLOOKUP(Q140,Table!$A:$B,2,FALSE))) | R140: =IF(Q140="","",(VLOOKUP(Q140,Table!$A:$C,3,FALSE))) | T140: 4
...

Sheet Résultats Saison 3
H1: =IF('Courses Saison 3'!$B$3="","","OK") -> OK | I1: =IF('Courses Saison 3'!$I$3="","","OK") -> OK | J1: =IF('Courses Saison 3'!$P$3="","","OK") -> OK | K1: =IF('Courses Saison 3'!$B$29="","","OK") -> OK | L1: =IF('Courses Saison 3'!$I$29="","","OK") -> OK | M1: =IF('Courses Saison 3'!$P$29="","","OK") -> OK | N1: =IF('Courses Saison 3'!$B$55="","","OK") -> OK | O1: =IF('Courses Saison 3'!$I$55="","","OK") -> OK | P1: =IF('Courses Saison 3'!$P$55="","","OK") -> OK | Q1: =IF('Courses Saison 3'!$B$81="","","OK") -> OK | R1: =IF('Courses Saison 3'!$I$81="","","OK") -> OK | S1: =IF('Courses Saison 3'!$P$81="","","OK") -> OK | T1: =IF('Courses Saison 3'!$B$107="","","OK") -> OK | U1: =IF('Courses Saison 3'!$I$107="","","OK") -> OK | V1: =IF('Courses Saison 3'!$P$107="","","OK") | W1: =IF('Courses Saison 3'!$B$133="","","OK") | X1: =IF('Courses Saison 3'!$I$133="","","OK") | Y1: =IF('Courses Saison 3'!$P$133="","","OK") | Z1: =IF('Courses Saison 3'!$B$159="","","OK") | AA1: =IF('Courses Saison 3'!$I$159="","","OK") | AB1: =IF('Courses Saison 3'!$P$159="","","OK") | AC1: =IF('Courses Saison 3'!$B$185="","","OK") | AD1: =IF('Courses Saison 3'!$I$185="","","OK") | AE1: =IF('Courses Saison 3'!$P$185="","","OK")
A3: Pos. | B3: Surnoms | C3: Pilotes | D3: Ecuries | E3: Total Pts | F3: Ecart | G3: Ecart 1er | H3: Bahreïn | I3: Jeddah | J3: Melbourne | K3: Suzuka | L3: Shangaï | M3: Miami | N3: Imola | O3: Monaco | P3: Montréal | Q3: Barcelone | R3: Zeltweg | S3: Silverstone | T3: Budapest | U3: Spa-Francorchamps | V3: Zandwoort | W3: Monza | X3: Bakou | Y3: Singapour | Z3: Austin | AA3: Mexico | AB3: Interlagos | AC3: Las Vegas | AD3: Losail | AE3: Abu Dhabi | AF3: Moyenne de points par course
A4: 1 | B4: =IF(C4="","",(VLOOKUP(C4,Table!$A:$B,2,FALSE))) -> Naim_Thr | C4: Naïm TAHRIOUI | D4: =IF(C4="","",(VLOOKUP(C4,Table!$A:$C,3,FALSE))) -> Mercedes | E4: =SUM(H4:AE4) -> 258 | G4: =E4-MAX($E$4:$E$34) -> 0 | H4: =IF(H$1="","",SUMIF('Courses Saison 3'!$C$3:$C$25,Tableau1[[#This Row],[Pilotes]],'Courses Saison 3'!$F$3:$F$25)) -> 0 | I4: =IF(I$1="","",SUMIF('Courses Saison 3'!$J$3:$J$25,Tableau1[[#This Row],[Pilotes]],'Courses Saison 3'!$M$3:$M$25)) -> 14 | J4: =IF(J$1="","",SUMIF('Courses Saison 3'!$Q$3:$Q$25,Tableau1[[#This Row],[Pilotes]],'Courses Saison 3'!$T$3:$T$25)) -> 27 | K4: =IF(K$1="","",SUMIF('Courses Saison 3'!$C$29:$C$51,Tableau1[[#This Row],[Pilotes]],'Courses Saison 3'!$F$29:$F$51)) -> 27 | L4: =IF(L$1="","",SUMIF('Courses Saison 3'!$J$29:$J$51,Tableau1[[#This Row],[Pilotes]],'Courses Saison 3'!$M$29:$M$51)) -> 27 | M4: =IF(M$1="","",SUMIF('Courses Saison 3'!$Q$29:$Q$51,Tableau1[[#This Row],[Pilotes]],'Courses Saison 3'!$T$29:$T$51)) -> 27 | N4: =IF(N$1="","",SUMIF('Courses Saison 3'!$C$55:$C$77,Tableau1[[#This Row],[Pilotes]],'Courses Saison 3'!$F$55:$F$77)) -> 26 | O4: =IF(O$1="","",SUMIF('Courses Saison 3'!$J$55:$J$77,Tableau1[[#This Row],[Pilotes]],'Courses Saison 3'!$M$55:$M$77)) -> 2 | P4: =IF(P$1="","",SUMIF('Courses Saison 3'!$Q$55:$Q$77,Tableau1[[#This Row],[Pilotes]],'Courses Saison 3'!$T$55:$T$77)) -> 27 | Q4: =IF(Q$1="","",SUMIF('Courses Saison 3'!$C$81:$C$103,Tableau1[[#This Row],[Pilotes]],'Courses Saison 3'!$F$81:$F$103)) -> 27 | R4: =IF(R$1="","",SUMIF('Courses Saison 3'!$J$81:$J$103,Tableau1[[#This Row],[Pilotes]],'Courses Saison 3'!$M$81:$M$103)) -> 27 | S4: =IF(S$1="","",SUMIF('Courses Saison 3'!$Q$81:$Q$103,Tableau1[[#This Row],[Pilotes]],'Courses Saison 3'!$T$81:$T$103)) -> 27 | T4: =IF(T$1="","",SUMIF('Courses Saison 3'!$C$107:$C$128,Tableau1[[#This Row],[Pilotes]],'Courses Saison 3'!$F$107:$F$128)) -> 0 | U4: =IF(U$1="","",SUMIF('Courses Saison 3'!$J$107:$J$129,Tableau1[[#This Row],[Pilotes]],'Courses Saison 3'!$M$107:$M$129)) -> 0 | V4: =IF(V$1="","",SUMIF('Courses Saison 3'!$Q$107:$Q$129,Tableau1[[#This Row],[Pilotes]],'Courses Saison 3'!$T$107:$T$129)) | W4: =IF(W$1="","",SUMIF('Courses Saison 3'!$C$133:$C$155,Tableau1[[#This Row],[Pilotes]],'Courses Saison 3'!$F$133:$F$155)) | X4: =IF(X$1="","",SUMIF('Courses Saison 3'!$J$133:$J$155,Tableau1[[#This Row],[Pilotes]],'Courses Saison 3'!$M$133:$M$155)) | Y4: =IF(Y$1="","",SUMIF('Courses Saison 3'!$Q$133:$Q$155,Tableau1[[#This Row],[Pilotes]],'Courses Saison 3'!$T$133:$T$155)) | Z4: =IF(Z$1="","",SUMIF('Courses Saison 3'!$C$159:$C$181,Tableau1[[#This Row],[Pilotes]],'Courses Saison 3'!$F$159:$F$181)) | AA4: =IF(AA$1="","",SUMIF('Courses Saison 3'!$J$159:$J$181,Tableau1[[#This Row],[Pilotes]],'Courses Saison 3'!$M$159:$M$181)) | AB4: =IF(AB$1="","",SUMIF('Courses Saison 3'!$Q$159:$Q$181,Tableau1[[#This Row],[Pilotes]],'Courses Saison 3'!$T$159:$T$181)) | AC4: =IF(AC$1="","",SUMIF('Courses Saison 3'!$C$185:$C$207,Tableau1[[#This Row],[Pilotes]],'Courses Saison 3'!$F$185:$F$207)) | AD4: =IF(AD$1="","",SUMIF('Courses Saison 3'!$J$185:$J$207,Tableau1[[#This Row],[Pilotes]],'Courses Saison 3'!$M$185:$M$207)) | AE4: =IF(AE$1="","",SUMIF('Courses Saison 3'!$Q$185:$Q$207,Tableau1[[#This Row],[Pilotes]],'Courses Saison 3'!$T$185:$T$207)) | AF4: =AVERAGE(H4:AE4) -> 18.428571
A5: 2 | B5: =IF(C5="","",(VLOOKUP(C5,Table!$A:$B,2,FALSE))) -> Hulkmc8 | C5: Christopher FRANCHET | D5: =IF(C5="","",(VLOOKUP(C5,Table!$A:$C,3,FALSE))) -> Stake Sauber | E5: =SUM(H5:AE5) -> 179 | F5: =E5-E4 -> -79 | G5: =E5-MAX($E$4:$E$34) -> -79 | H5: =IF(H$1="","",SUMIF('Courses Saison 3'!$C$3:$C$25,Tableau1[[#This Row],[Pilotes]],'Courses Saison 3'!$F$3:$F$25)) -> 12 | I5: =IF(I$1="","",SUMIF('Courses Saison 3'!$J$3:$J$25,Tableau1[[#This Row],[Pilotes]],'Courses Saison 3'!$M$3:$M$25)) -> 8 | J5: =IF(J$1="","",SUMIF('Courses Saison 3'!$Q$3:$Q$25,Tableau1[[#This Row],[Pilotes]],'Courses Saison 3'!$T$3:$T$25)) -> 18 | K5: =IF(K$1="","",SUMIF('Courses Saison 3'!$C$29:$C$51,Tableau1[[#This Row],[Pilotes]],'Courses Saison 3'!$F$29:$F$51)) -> 0 | L5: =IF(L$1="","",SUMIF('Courses Saison 3'!$J$29:$J$51,Tableau1[[#This Row],[Pilotes]],'Courses Saison 3'!$M$29:$M$51)) -> 10 | M5: =IF(M$1="","",SUMIF('Courses Saison 3'!$Q$29:$Q$51,Tableau1[[#This Row],[Pilotes]],'Courses Saison 3'!$T$29:$T$51)) -> 18 | N5: =IF(N$1="","",SUMIF('Courses Saison 3'!$C$55:$C$77,Tableau1[[#This Row],[Pilotes]],'Courses Saison 3'!$F$55:$F$77)) -> 19 | O5: =IF(O$1="","",SUMIF('Courses Saison 3'!$J$55:$J$77,Tableau1[[#This Row],[Pilotes]],'Courses Saison 3'!$M$55:$M$77)) -> 25 | P5: =IF(P$1="","",SUMIF('Courses Saison 3'!$Q$55:$Q$77,Tableau1[[#This Row],[Pilotes]],'Courses Saison 3'!$T$55:$T$77)) -> 0 | Q5: =IF(Q$1="","",SUMIF('Courses Saison 3'!$C$81:$C$103,Tableau1[[#This Row],[Pilotes]],'Courses Saison 3'!$F$81:$F$103)) -> 10 | R5: =IF(R$1="","",SUMIF('Courses Saison 3'!$J$81:$J$103,Tableau1[[#This Row],[Pilotes]],'Courses Saison 3'!$M$81:$M$103)) -> 0 | S5: =IF(S$1="","",SUMIF('Courses Saison 3'!$Q$81:$Q$103,Tableau1[[#This Row],[Pilotes]],'Courses Saison 3'!$T$81:$T$103)) -> 15 | T5: =IF(T$1="","",SUMIF('Courses Saison 3'!$C$107:$C$128,Tableau1[[#This Row],[Pilotes]],'Courses Saison 3'!$F$107:$F$128)) -> 26 | U5: =IF(U$1="","",SUMIF('Courses Saison 3'!$J$107:$J$129,Tableau1[[#This Row],[Pilotes]],'Courses Saison 3'!$M$107:$M$129)) -> 18 | V5: =IF(V$1="","",SUMIF('Courses Saison 3'!$Q$107:$Q$129,Tableau1[[#This Row],[Pilotes]],'Courses Saison 3'!$T$107:$T$129)) | W5: =IF(W$1="","",SUMIF('Courses Saison 3'!$C$133:$C$155,Tableau1[[#This Row],[Pilotes]],'Courses Saison 3'!$F$133:$F$155)) | X5: =IF(X$1="","",SUMIF('Courses Saison 3'!$J$133:$J$155,Tableau1[[#This Row],[Pilotes]],'Courses Saison 3'!$M$133:$M$155)) | Y5: =IF(Y$1="","",SUMIF('Courses Saison 3'!$Q$133:$Q$155,Tableau1[[#This Row],[Pilotes]],'Courses Saison 3'!$T$133:$T$155)) | Z5: =IF(Z$1="","",SUMIF('Courses Saison 3'!$C$159:$C$181,Tableau1[[#This Row],[Pilotes]],'Courses Saison 3'!$F$159:$F$181)) | AA5: =IF(AA$1="","",SUMIF('Courses Saison 3'!$J$159:$J$181,Tableau1[[#This Row],[Pilotes]],'Courses Saison 3'!$M$159:$M$181)) | AB5: =IF(AB$1="","",SUMIF('Courses Saison 3'!$Q$159:$Q$181,Tableau1[[#This Row],[Pilotes]],'Courses Saison 3'!$T$159:$T$181)) | AC5: =IF(AC$1="","",SUMIF('Courses Saison 3'!$C$185:$C$207,Tableau1[[#This Row],[Pilotes]],'Courses Saison 3'!$F$185:$F$207)) | AD5: =IF(AD$1="","",SUMIF('Courses Saison 3'!$J$185:$J$207,Tableau1[[#This Row],[Pilotes]],'Courses Saison 3'!$M$185:$M$207)) | AE5: =IF(AE$1="","",SUMIF('Courses Saison 3'!$Q$185:$Q$207,Tableau1[[#This Row],[Pilotes]],'Courses Saison 3'!$T$185:$T$207)) | AF5: =AVERAGE(H5:AE5) -> 12.785714
A6: 3 | B6: =IF(C6="","",(VLOOKUP(C6,Table!$A:$B,2,FALSE))) -> Giaquinho06 | C6: Jonathan GIACCO | D6: =IF(C6="","",(VLOOKUP(C6,Table!$A:$C,3,FALSE))) -> Alpine | E6: =SUM(H6:AE6) -> 134 | F6: =E6-E5 -> -45 | G6: =E6-MAX($E$4:$E$34) -> -124 | H6: =IF(H$1="","",SUMIF('Courses Saison 3'!$C$3:$C$25,Tableau1[[#This Row],[Pilotes]],'Courses Saison 3'!$F$3:$F$25)) -> 8 | I6: =IF(I$1="","",SUMIF('Courses Saison 3'!$J$3:$J$25,Tableau1[[#This Row],[Pilotes]],'Courses Saison 3'!$M$3:$M$25)) -> 18 | J6: =IF(J$1="","",SUMIF('Courses Saison 3'!$Q$3:$Q$25,Tableau1[[#This Row],[Pilotes]],'Courses Saison 3'!$T$3:$T$25)) -> 15 | K6: =IF(K$1="","",SUMIF('Courses Saison 3'!$C$29:$C$51,Tableau1[[#This Row],[Pilotes]],'Courses Saison 3'!$F$29:$F$51)) -> 12 | L6: =IF(L$1="","",SUMIF('Courses Saison 3'!$J$29:$J$51,Tableau1[[#This Row],[Pilotes]],'Courses Saison 3'!$M$29:$M$51)) -> 12 | M6: =IF(M$1="","",SUMIF('Courses Saison 3'!$Q$29:$Q$51,Tableau1[[#This Row],[Pilotes]],'Courses Saison 3'!$T$29:$T$51)) -> 15 | N6: =IF(N$1="","",SUMIF('Courses Saison 3'!$C$55:$C$77,Tableau1[[#This Row],[Pilotes]],'Courses Saison 3'!$F$55:$F$77)) -> 0 | O6: =IF(O$1="","",SUMIF('Courses Saison 3'!$J$55:$J$77,Tableau1[[#This Row],[Pilotes]],'Courses Saison 3'!$M$55:$M$77)) -> 8 | P6: =IF(P$1="","",SUMIF('Courses Saison 3'!$Q$55:$Q$77,Tableau1[[#This Row],[Pilotes]],'Courses Saison 3'!$T$55:$T$77)) -> 18 | Q6: =IF(Q$1="","",SUMIF('Courses Saison 3'!$C$81:$C$103,Tableau1[[#This Row],[Pilotes]],'Courses Saison 3'!$F$81:$F$103)) -> 12 | R6: =IF(R$1="","",SUMIF('Courses Saison 3'!$J$81:$J$103,Tableau1[[#This Row],[Pilotes]],'Courses Saison 3'!$M$81:$M$103)) -> 0 | S6: =IF(S$1="","",SUMIF('Courses Saison 3'!$Q$81:$Q$103,Tableau1[[#This Row],[Pilotes]],'Courses Saison 3'!$T$81:$T$103)) -> 0 | T6: =IF(T$1="","",SUMIF('Courses Saison 3'!$C$107:$C$128,Tableau1[[#This Row],[Pilotes]],'Courses Saison 3'!$F$107:$F$128)) -> 15 | U6: =IF(U$1="","",SUMIF('Courses Saison 3'!$J$107:$J$129,Tableau1[[#This Row],[Pilotes]],'Courses Saison 3'!$M$107:$M$129)) -> 1 | V6: =IF(V$1="","",SUMIF('Courses Saison 3'!$Q$107:$Q$129,Tableau1[[#This Row],[Pilotes]],'Courses Saison 3'!$T$107:$T$129)) | W6: =IF(W$1="","",SUMIF('Courses Saison 3'!$C$133:$C$155,Tableau1[[#This Row],[Pilotes]],'Courses Saison 3'!$F$133:$F$155)) | X6: =IF(X$1="","",SUMIF('Courses Saison 3'!$J$133:$J$155,Tableau1[[#This Row],[Pilotes]],'Courses Saison 3'!$M$133:$M$155)) | Y6: =IF(Y$1="","",SUMIF('Courses Saison 3'!$Q$133:$Q$155,Tableau1[[#This Row],[Pilotes]],'Courses Saison 3'!$T$133:$T$155)) | Z6: =IF(Z$1="","",SUMIF('Courses Saison 3'!$C$159:$C$181,Tableau1[[#This Row],[Pilotes]],'Courses Saison 3'!$F$159:$F$181)) | AA6: =IF(AA$1="","",SUMIF('Courses Saison 3'!$J$159:$J$181,Tableau1[[#This Row],[Pilotes]],'Courses Saison 3'!$M$159:$M$181)) | AB6: =IF(AB$1="","",SUMIF('Courses Saison 3'!$Q$159:$Q$181,Tableau1[[#This Row],[Pilotes]],'Courses Saison 3'!$T$159:$T$181)) | AC6: =IF(AC$1="","",SUMIF('Courses Saison 3'!$C$185:$C$207,Tableau1[[#This Row],[Pilotes]],'Courses Saison 3'!$F$185:$F$207)) | AD6: =IF(AD$1="","",SUMIF('Courses Saison 3'!$J$185:$J$207,Tableau1[[#This Row],[Pilotes]],'Courses Saison 3'!$M$185:$M$207)) | AE6: =IF(AE$1="","",SUMIF('Courses Saison 3'!$Q$185:$Q$207,Tableau1[[#This Row],[Pilotes]],'Courses Saison 3'!$T$185:$T$207)) | AF6: =AVERAGE(H6:AE6) -> 9.5714286
A7: 4 | B7: =IF(C7="","",(VLOOKUP(C7,Table!$A:$B,2,FALSE))) -> f_a_____ta_____ | C7: François TARDITI | D7: =IF(C7="","",(VLOOKUP(C7,Table!$A:$C,3,FALSE))) -> Stake Sauber | E7: =SUM(H7:AE7) -> 109 | F7: =E7-E6 -> -25 | G7: =E7-MAX($E$4:$E$34) -> -149 | H7: =IF(H$1="","",SUMIF('Courses Saison 3'!$C$3:$C$25,Tableau1[[#This Row],[Pilotes]],'Courses Saison 3'!$F$3:$F$25)) -> 26 | I7: =IF(I$1="","",SUMIF('Courses Saison 3'!$J$3:$J$25,Tableau1[[#This Row],[Pilotes]],'Courses Saison 3'!$M$3:$M$25)) -> 25 | J7: =IF(J$1="","",SUMIF('Courses Saison 3'!$Q$3:$Q$25,Tableau1[[#This Row],[Pilotes]],'Courses Saison 3'!$T$3:$T$25)) -> 0 | K7: =IF(K$1="","",SUMIF('Courses Saison 3'!$C$29:$C$51,Tableau1[[#This Row],[Pilotes]],'Courses Saison 3'!$F$29:$F$51)) -> 15 | L7: =IF(L$1="","",SUMIF('Courses Saison 3'!$J$29:$J$51,Tableau1[[#This Row],[Pilotes]],'Courses Saison 3'!$M$29:$M$51)) -> 18 | M7: =IF(M$1="","",SUMIF('Courses Saison 3'!$Q$29:$Q$51,Tableau1[[#This Row],[Pilotes]],'Courses Saison 3'!$T$29:$T$51)) -> 10 | N7: =IF(N$1="","",SUMIF('Courses Saison 3'!$C$55:$C$77,Tableau1[[#This Row],[Pilotes]],'Courses Saison 3'!$F$55:$F$77)) -> 0 | O7: =IF(O$1="","",SUMIF('Courses Saison 3'!$J$55:$J$77,Tableau1[[#This Row],[Pilotes]],'Courses Saison 3'!$M$55:$M$77)) -> 0 | P7: =IF(P$1="","",SUMIF('Courses Saison 3'!$Q$55:$Q$77,Tableau1[[#This Row],[Pilotes]],'Courses Saison 3'!$T$55:$T$77)) -> 0 | Q7: =IF(Q$1="","",SUMIF('Courses Saison 3'!$C$81:$C$103,Tableau1[[#This Row],[Pilotes]],'Courses Saison 3'!$F$81:$F$103)) -> 4 | R7: =IF(R$1="","",SUMIF('Courses Saison 3'!$J$81:$J$103,Tableau1[[#This Row],[Pilotes]],'Courses Saison 3'!$M$81:$M$103)) -> 10 | S7: =IF(S$1="","",SUMIF('Courses Saison 3'!$Q$81:$Q$103,Tableau1[[#This Row],[Pilotes]],'Courses Saison 3'!$T$81:$T$103)) -> 1 | T7: =IF(T$1="","",SUMIF('Courses Saison 3'!$C$107:$C$128,Tableau1[[#This Row],[Pilotes]],'Courses Saison 3'!$F$107:$F$128)) -> 0 | U7: =IF(U$1="","",SUMIF('Courses Saison 3'!$J$107:$J$129,Tableau1[[#This Row],[Pilotes]],'Courses Saison 3'!$M$107:$M$129)) -> 0 | V7: =IF(V$1="","",SUMIF('Courses Saison 3'!$Q$107:$Q$129,Tableau1[[#This Row],[Pilotes]],'Courses Saison 3'!$T$107:$T$129)) | W7: =IF(W$1="","",SUMIF('Courses Saison 3'!$C$133:$C$155,Tableau1[[#This Row],[Pilotes]],'Courses Saison 3'!$F$133:$F$155)) | X7: =IF(X$1="","",SUMIF('Courses Saison 3'!$J$133:$J$155,Tableau1[[#This Row],[Pilotes]],'Courses Saison 3'!$M$133:$M$155)) | Y7: =IF(Y$1="","",SUMIF('Courses Saison 3'!$Q$133:$Q$155,Tableau1[[#This Row],[Pilotes]],'Courses Saison 3'!$T$133:$T$155)) | Z7: =IF(Z$1="","",SUMIF('Courses Saison 3'!$C$159:$C$181,Tableau1[[#This Row],[Pilotes]],'Courses Saison 3'!$F$159:$F$181)) | AA7: =IF(AA$1="","",SUMIF('Courses Saison 3'!$J$159:$J$181,Tableau1[[#This Row],[Pilotes]],'Courses Saison 3'!$M$159:$M$181)) | AB7: =IF(AB$1="","",SUMIF('Courses Saison 3'!$Q$159:$Q$181,Tableau1[[#This Row],[Pilotes]],'Courses Saison 3'!$T$159:$T$181)) | AC7: =IF(AC$1="","",SUMIF('Courses Saison 3'!$C$185:$C$207,Tableau1[[#This Row],[Pilotes]],'Courses Saison 3'!$F$185:$F$207)) | AD7: =IF(AD$1="","",SUMIF('Courses Saison 3'!$J$185:$J$207,Tableau1[[#This Row],[Pilotes]],'Courses Saison 3'!$M$185:$M$207)) | AE7: =IF(AE$1="","",SUMIF('Courses Saison 3'!$Q$185:$Q$207,Tableau1[[#This Row],[Pilotes]],'Courses Saison 3'!$T$185:$T$207)) | AF7: =AVERAGE(H7:AE7) -> 7.7857143
A8: 5 | B8: =IF(C8="","",(VLOOKUP(C8,Table!$A:$B,2,FALSE))) -> Petibaske | C8: Mathieu BARBAUD | D8: =IF(C8="","",(VLOOKUP(C8,Table!$A:$C,3,FALSE))) -> Aston Martin | E8: =SUM(H8:AE8) -> 104 | F8: =E8-E7 -> -5 | G8: =E8-MAX($E$4:$E$34) -> -154 | H8: =IF(H$1="","",SUMIF('Courses Saison 3'!$C$3:$C$25,Tableau1[[#This Row],[Pilotes]],'Courses Saison 3'!$F$3:$F$25)) -> 10 | I8: =IF(I$1="","",SUMIF('Courses Saison 3'!$J$3:$J$25,Tableau1[[#This Row],[Pilotes]],'Courses Saison 3'!$M$3:$M$25)) -> 10 | J8: =IF(J$1="","",SUMIF('Courses Saison 3'!$Q$3:$Q$25,Tableau1[[#This Row],[Pilotes]],'Courses Saison 3'!$T$3:$T$25)) -> 0 | K8: =IF(K$1="","",SUMIF('Courses Saison 3'!$C$29:$C$51,Tableau1[[#This Row],[Pilotes]],'Courses Saison 3'!$F$29:$F$51)) -> 0 | L8: =IF(L$1="","",SUMIF('Courses Saison 3'!$J$29:$J$51,Tableau1[[#This Row],[Pilotes]],'Courses Saison 3'!$M$29:$M$51)) -> 15 | M8: =IF(M$1="","",SUMIF('Courses Saison 3'!$Q$29:$Q$51,Tableau1[[#This Row],[Pilotes]],'Courses Saison 3'!$T$29:$T$51)) -> 0 | N8: =IF(N$1="","",SUMIF('Courses Saison 3'!$C$55:$C$77,Tableau1[[#This Row],[Pilotes]],'Courses Saison 3'!$F$55:$F$77)) -> 0 | O8: =IF(O$1="","",SUMIF('Courses Saison 3'!$J$55:$J$77,Tableau1[[#This Row],[Pilotes]],'Courses Saison 3'!$M$55:$M$77)) -> 0 | P8: =IF(P$1="","",SUMIF('Courses Saison 3'!$Q$55:$Q$77,Tableau1[[#This Row],[Pilotes]],'Courses Saison 3'!$T$55:$T$77)) -> 15 | Q8: =IF(Q$1="","",SUMIF('Courses Saison 3'!$C$81:$C$103,Tableau1[[#This Row],[Pilotes]],'Courses Saison 3'!$F$81:$F$103)) -> 18 | R8: =IF(R$1="","",SUMIF('Courses Saison 3'!$J$81:$J$103,Tableau1[[#This Row],[Pilotes]],'Courses Saison 3'!$M$81:$M$103)) -> 18 | S8: =IF(S$1="","",SUMIF('Courses Saison 3'!$Q$81:$Q$103,Tableau1[[#This Row],[Pilotes]],'Courses Saison 3'!$T$81:$T$103)) -> 18 | T8: =IF(T$1="","",SUMIF('Courses Saison 3'!$C$107:$C$128,Tableau1[[#This Row],[Pilotes]],'Courses Saison 3'!$F$107:$F$128)) -> 0 | U8: =IF(U$1="","",SUMIF('Courses Saison 3'!$J$107:$J$129,Tableau1[[#This Row],[Pilotes]],'Courses Saison 3'!$M$107:$M$129)) -> 0 | V8: =IF(V$1="","",SUMIF('Courses Saison 3'!$Q$107:$Q$129,Tableau1[[#This Row],[Pilotes]],'Courses Saison 3'!$T$107:$T$129)) | W8: =IF(W$1="","",SUMIF('Courses Saison 3'!$C$133:$C$155,Tableau1[[#This Row],[Pilotes]],'Courses Saison 3'!$F$133:$F$155)) | X8: =IF(X$1="","",SUMIF('Courses Saison 3'!$J$133:$J$155,Tableau1[[#This Row],[Pilotes]],'Courses Saison 3'!$M$133:$M$155)) | Y8: =IF(Y$1="","",SUMIF('Courses Saison 3'!$Q$133:$Q$155,Tableau1[[#This Row],[Pilotes]],'Courses Saison 3'!$T$133:$T$155)) | Z8: =IF(Z$1="","",SUMIF('Courses Saison 3'!$C$159:$C$181,Tableau1[[#This Row],[Pilotes]],'Courses Saison 3'!$F$159:$F$181)) | AA8: =IF(AA$1="","",SUMIF('Courses Saison 3'!$J$159:$J$181,Tableau1[[#This Row],[Pilotes]],'Courses Saison 3'!$M$159:$M$181)) | AB8: =IF(AB$1="","",SUMIF('Courses Saison 3'!$Q$159:$Q$181,Tableau1[[#This Row],[Pilotes]],'Courses Saison 3'!$T$159:$T$181)) | AC8: =IF(AC$1="","",SUMIF('Courses Saison 3'!$C$185:$C$207,Tableau1[[#This Row],[Pilotes]],'Courses Saison 3'!$F$185:$F$207)) | AD8: =IF(AD$1="","",SUMIF('Courses Saison 3'!$J$185:$J$207,Tableau1[[#This Row],[Pilotes]],'Courses Saison 3'!$M$185:$M$207)) | AE8: =IF(AE$1="","",SUMIF('Courses Saison 3'!$Q$185:$Q$207,Tableau1[[#This Row],[Pilotes]],'Courses Saison 3'!$T$185:$T$207)) | AF8: =AVERAGE(H8:AE8) -> 7.4285714
A9: 6 | B9: =IF(C9="","",(VLOOKUP(C9,Table!$A:$B,2,FALSE))) -> IA | C9: Max VERSTAPPEN | D9: =IF(C9="","",(VLOOKUP(C9,Table!$A:$C,3,FALSE))) -> Red Bull | E9: =SUM(H9:AE9) -> 79 | F9: =E9-E8 -> -25 | G9: =E9-MAX($E$4:$E$34) -> -179 | H9: =IF(H$1="","",SUMIF('Courses Saison 3'!$C$3:$C$25,Tableau1[[#This Row],[Pilotes]],'Courses Saison 3'!$F$3:$F$25)) -> 0 | I9: =IF(I$1="","",SUMIF('Courses Saison 3'!$J$3:$J$25,Tableau1[[#This Row],[Pilotes]],'Courses Saison 3'!$M$3:$M$25)) -> 0 | J9: =IF(J$1="","",SUMIF('Courses Saison 3'!$Q$3:$Q$25,Tableau1[[#This Row],[Pilotes]],'Courses Saison 3'!$T$3:$T$25)) -> 0 | K9: =IF(K$1="","",SUMIF('Courses Saison 3'!$C$29:$C$51,Tableau1[[#This Row],[Pilotes]],'Courses Saison 3'!$F$29:$F$51)) -> 2 | L9: =IF(L$1="","",SUMIF('Courses Saison 3'!$J$29:$J$51,Tableau1[[#This Row],[Pilotes]],'Courses Saison 3'!$M$29:$M$51)) -> 8 | M9: =IF(M$1="","",SUMIF('Courses Saison 3'!$Q$29:$Q$51,Tableau1[[#This Row],[Pilotes]],'Courses Saison 3'!$T$29:$T$51)) -> 8 | N9: =IF(N$1="","",SUMIF('Courses Saison 3'!$C$55:$C$77,Tableau1[[#This Row],[Pilotes]],'Courses Saison 3'!$F$55:$F$77)) -> 10 | O9: =IF(O$1="","",SUMIF('Courses Saison 3'!$J$55:$J$77,Tableau1[[#This Row],[Pilotes]],'Courses Saison 3'!$M$55:$M$77)) -> 18 | P9: =IF(P$1="","",SUMIF('Courses Saison 3'!$Q$55:$Q$77,Tableau1[[#This Row],[Pilotes]],'Courses Saison 3'!$T$55:$T$77)) -> 12 | Q9: =IF(Q$1="","",SUMIF('Courses Saison 3'!$C$81:$C$103,Tableau1[[#This Row],[Pilotes]],'Courses Saison 3'!$F$81:$F$103)) -> 1 | R9: =IF(R$1="","",SUMIF('Courses Saison 3'!$J$81:$J$103,Tableau1[[#This Row],[Pilotes]],'Courses Saison 3'!$M$81:$M$103)) -> 2 | S9: =IF(S$1="","",SUMIF('Courses Saison 3'!$Q$81:$Q$103,Tableau1[[#This Row],[Pilotes]],'Courses Saison 3'!$T$81:$T$103)) -> 8 | T9: =IF(T$1="","",SUMIF('Courses Saison 3'!$C$107:$C$128,Tableau1[[#This Row],[Pilotes]],'Courses Saison 3'!$F$107:$F$128)) -> 10 | U9: =IF(U$1="","",SUMIF('Courses Saison 3'!$J$107:$J$129,Tableau1[[#This Row],[Pilotes]],'Courses Saison 3'!$M$107:$M$129)) -> 0 | V9: =IF(V$1="","",SUMIF('Courses Saison 3'!$Q$107:$Q$129,Tableau1[[#This Row],[Pilotes]],'Courses Saison 3'!$T$107:$T$129)) | W9: =IF(W$1="","",SUMIF('Courses Saison 3'!$C$133:$C$155,Tableau1[[#This Row],[Pilotes]],'Courses Saison 3'!$F$133:$F$155)) | X9: =IF(X$1="","",SUMIF('Courses Saison 3'!$J$133:$J$155,Tableau1[[#This Row],[Pilotes]],'Courses Saison 3'!$M$133:$M$155)) | Y9: =IF(Y$1="","",SUMIF('Courses Saison 3'!$Q$133:$Q$155,Tableau1[[#This Row],[Pilotes]],'Courses Saison 3'!$T$133:$T$155)) | Z9: =IF(Z$1="","",SUMIF('Courses Saison 3'!$C$159:$C$181,Tableau1[[#This Row],[Pilotes]],'Courses Saison 3'!$F$159:$F$181)) | AA9: =IF(AA$1="","",SUMIF('Courses Saison 3'!$J$159:$J$181,Tableau1[[#This Row],[Pilotes]],'Courses Saison 3'!$M$159:$M$181)) | AB9: =IF(AB$1="","",SUMIF('Courses Saison 3'!$Q$159:$Q$181,Tableau1[[#This Row],[Pilotes]],'Courses Saison 3'!$T$159:$T$181)) | AC9: =IF(AC$1="","",SUMIF('Courses Saison 3'!$C$185:$C$207,Tableau1[[#This Row],[Pilotes]],'Courses Saison 3'!$F$185:$F$207)) | AD9: =IF(AD$1="","",SUMIF('Courses Saison 3'!$J$185:$J$207,Tableau1[[#This Row],[Pilotes]],'Courses Saison 3'!$M$185:$M$207)) | AE9: =IF(AE$1="","",SUMIF('Courses Saison 3'!$Q$185:$Q$207,Tableau1[[#This Row],[Pilotes]],'Courses Saison 3'!$T$185:$T$207)) | AF9: =AVERAGE(H9:AE9) -> 5.6428571
A10: 7 | B10: =IF(C10="","",(VLOOKUP(C10,Table!$A:$B,2,FALSE))) -> GiOvA88mc | C10: Cédric GIOVANETTI | D10: =IF(C10="","",(VLOOKUP(C10,Table!$A:$C,3,FALSE))) -> Ferrari | E10: =SUM(H10:AE10) -> 65 | F10: =E10-E9 -> -14 | G10: =E10-MAX($E$4:$E$34) -> -193 | H10: =IF(H$1="","",SUMIF('Courses Saison 3'!$C$3:$C$25,Tableau1[[#This Row],[Pilotes]],'Courses Saison 3'!$F$3:$F$25)) -> 15 | I10: =IF(I$1="","",SUMIF('Courses Saison 3'!$J$3:$J$25,Tableau1[[#This Row],[Pilotes]],'Courses Saison 3'!$M$3:$M$25)) -> 15 | J10: =IF(J$1="","",SUMIF('Courses Saison 3'!$Q$3:$Q$25,Tableau1[[#This Row],[Pilotes]],'Courses Saison 3'!$T$3:$T$25)) -> 0 | K10: =IF(K$1="","",SUMIF('Courses Saison 3'!$C$29:$C$51,Tableau1[[#This Row],[Pilotes]],'Courses Saison 3'!$F$29:$F$51)) -> 0 | L10: =IF(L$1="","",SUMIF('Courses Saison 3'!$J$29:$J$51,Tableau1[[#This Row],[Pilotes]],'Courses Saison 3'!$M$29:$M$51)) -> 0 | M10: =IF(M$1="","",SUMIF('Courses Saison 3'!$Q$29:$Q$51,Tableau1[[#This Row],[Pilotes]],'Courses Saison 3'!$T$29:$T$51)) -> 0 | N10: =IF(N$1="","",SUMIF('Courses Saison 3'!$C$55:$C$77,Tableau1[[#This Row],[Pilotes]],'Courses Saison 3'!$F$55:$F$77)) -> 16 | O10: =IF(O$1="","",SUMIF('Courses Saison 3'!$J$55:$J$77,Tableau1[[#This Row],[Pilotes]],'Courses Saison 3'!$M$55:$M$77)) -> 0 | P10: =IF(P$1="","",SUMIF('Courses Saison 3'!$Q$55:$Q$77,Tableau1[[#This Row],[Pilotes]],'Courses Saison 3'!$T$55:$T$77)) -> 0 | Q10: =IF(Q$1="","",SUMIF('Courses Saison 3'!$C$81:$C$103,Tableau1[[#This Row],[Pilotes]],'Courses Saison 3'!$F$81:$F$103)) -> 0 | R10: =IF(R$1="","",SUMIF('Courses Saison 3'!$J$81:$J$103,Tableau1[[#This Row],[Pilotes]],'Courses Saison 3'!$M$81:$M$103)) -> 0 | S10: =IF(S$1="","",SUMIF('Courses Saison 3'!$Q$81:$Q$103,Tableau1[[#This Row],[Pilotes]],'Courses Saison 3'!$T$81:$T$103)) -> 0 | T10: =IF(T$1="","",SUMIF('Courses Saison 3'!$C$107:$C$128,Tableau1[[#This Row],[Pilotes]],'Courses Saison 3'!$F$107:$F$128)) -> 19 | U10: =IF(U$1="","",SUMIF('Courses Saison 3'!$J$107:$J$129,Tableau1[[#This Row],[Pilotes]],'Courses Saison 3'!$M$107:$M$129)) -> 0 | V10: =IF(V$1="","",SUMIF('Courses Saison 3'!$Q$107:$Q$129,Tableau1[[#This Row],[Pilotes]],'Courses Saison 3'!$T$107:$T$129)) | W10: =IF(W$1="","",SUMIF('Courses Saison 3'!$C$133:$C$155,Tableau1[[#This Row],[Pilotes]],'Courses Saison 3'!$F$133:$F$155)) | X10: =IF(X$1="","",SUMIF('Courses Saison 3'!$J$133:$J$155,Tableau1[[#This Row],[Pilotes]],'Courses Saison 3'!$M$133:$M$155)) | Y10: =IF(Y$1="","",SUMIF('Courses Saison 3'!$Q$133:$Q$155,Tableau1[[#This Row],[Pilotes]],'Courses Saison 3'!$T$133:$T$155)) | Z10: =IF(Z$1="","",SUMIF('Courses Saison 3'!$C$159:$C$181,Tableau1[[#This Row],[Pilotes]],'Courses Saison 3'!$F$159:$F$181)) | AA10: =IF(AA$1="","",SUMIF('Courses Saison 3'!$J$159:$J$181,Tableau1[[#This Row],[Pilotes]],'Courses Saison 3'!$M$159:$M$181)) | AB10: =IF(AB$1="","",SUMIF('Courses Saison 3'!$Q$159:$Q$181,Tableau1[[#This Row],[Pilotes]],'Courses Saison 3'!$T$159:$T$181)) | AC10: =IF(AC$1="","",SUMIF('Courses Saison 3'!$C$185:$C$207,Tableau1[[#This Row],[Pilotes]],'Courses Saison 3'!$F$185:$F$207)) | AD10: =IF(AD$1="","",SUMIF('Courses Saison 3'!$J$185:$J$207,Tableau1[[#This Row],[Pilotes]],'Courses Saison 3'!$M$185:$M$207)) | AE10: =IF(AE$1="","",SUMIF('Courses Saison 3'!$Q$185:$Q$207,Tableau1[[#This Row],[Pilotes]],'Courses Saison 3'!$T$185:$T$207)) | AF10: =AVERAGE(H10:AE10) -> 4.6428571
A11: 8 | B11: =IF(C11="","",(VLOOKUP(C11,Table!$A:$B,2,FALSE))) -> MacAdamO-34 | C11: Julien ADAMO | D11: =IF(C11="","",(VLOOKUP(C11,Table!$A:$C,3,FALSE))) -> McLaren | E11: =SUM(H11:AE11) -> 63 | F11: =E11-E10 -> -2 | G11: =E11-MAX($E$4:$E$34) -> -195 | H11: =IF(H$1="","",SUMIF('Courses Saison 3'!$C$3:$C$25,Tableau1[[#This Row],[Pilotes]],'Courses Saison 3'!$F$3:$F$25)) -> 7 | I11: =IF(I$1="","",SUMIF('Courses Saison 3'!$J$3:$J$25,Tableau1[[#This Row],[Pilotes]],'Courses Saison 3'!$M$3:$M$25)) -> 0 | J11: =IF(J$1="","",SUMIF('Courses Saison 3'!$Q$3:$Q$25,Tableau1[[#This Row],[Pilotes]],'Courses Saison 3'!$T$3:$T$25)) -> 0 | K11: =IF(K$1="","",SUMIF('Courses Saison 3'!$C$29:$C$51,Tableau1[[#This Row],[Pilotes]],'Courses Saison 3'!$F$29:$F$51)) -> 2 | L11: =IF(L$1="","",SUMIF('Courses Saison 3'!$J$29:$J$51,Tableau1[[#This Row],[Pilotes]],'Courses Saison 3'!$M$29:$M$51)) -> 0 | M11: =IF(M$1="","",SUMIF('Courses Saison 3'!$Q$29:$Q$51,Tableau1[[#This Row],[Pilotes]],'Courses Saison 3'!$T$29:$T$51)) -> 0 | N11: =IF(N$1="","",SUMIF('Courses Saison 3'!$C$55:$C$77,Tableau1[[#This Row],[Pilotes]],'Courses Saison 3'!$F$55:$F$77)) -> 0 | O11: =IF(O$1="","",SUMIF('Courses Saison 3'!$J$55:$J$77,Tableau1[[#This Row],[Pilotes]],'Courses Saison 3'!$M$55:$M$77)) -> 0 | P11: =IF(P$1="","",SUMIF('Courses Saison 3'!$Q$55:$Q$77,Tableau1[[#This Row],[Pilotes]],'Courses Saison 3'!$T$55:$T$77)) -> 0 | Q11: =IF(Q$1="","",SUMIF('Courses Saison 3'!$C$81:$C$103,Tableau1[[#This Row],[Pilotes]],'Courses Saison 3'!$F$81:$F$103)) -> 15 | R11: =IF(R$1="","",SUMIF('Courses Saison 3'!$J$81:$J$103,Tableau1[[#This Row],[Pilotes]],'Courses Saison 3'!$M$81:$M$103)) -> 12 | S11: =IF(S$1="","",SUMIF('Courses Saison 3'!$Q$81:$Q$103,Tableau1[[#This Row],[Pilotes]],'Courses Saison 3'!$T$81:$T$103)) -> 0 | T11: =IF(T$1="","",SUMIF('Courses Saison 3'!$C$107:$C$128,Tableau1[[#This Row],[Pilotes]],'Courses Saison 3'!$F$107:$F$128)) -> 0 | U11: =IF(U$1="","",SUMIF('Courses Saison 3'!$J$107:$J$129,Tableau1[[#This Row],[Pilotes]],'Courses Saison 3'!$M$107:$M$129)) -> 27 | V11: =IF(V$1="","",SUMIF('Courses Saison 3'!$Q$107:$Q$129,Tableau1[[#This Row],[Pilotes]],'Courses Saison 3'!$T$107:$T$129)) | W11: =IF(W$1="","",SUMIF('Courses Saison 3'!$C$133:$C$155,Tableau1[[#This Row],[Pilotes]],'Courses Saison 3'!$F$133:$F$155)) | X11: =IF(X$1="","",SUMIF('Courses Saison 3'!$J$133:$J$155,Tableau1[[#This Row],[Pilotes]],'Courses Saison 3'!$M$133:$M$155)) | Y11: =IF(Y$1="","",SUMIF('Courses Saison 3'!$Q$133:$Q$155,Tableau1[[#This Row],[Pilotes]],'Courses Saison 3'!$T$133:$T$155)) | Z11: =IF(Z$1="","",SUMIF('Courses Saison 3'!$C$159:$C$181,Tableau1[[#This Row],[Pilotes]],'Courses Saison 3'!$F$159:$F$181)) | AA11: =IF(AA$1="","",SUMIF('Courses Saison 3'!$J$159:$J$181,Tableau1[[#This Row],[Pilotes]],'Courses Saison 3'!$M$159:$M$181)) | AB11: =IF(AB$1="","",SUMIF('Courses Saison 3'!$Q$159:$Q$181,Tableau1[[#This Row],[Pilotes]],'Courses Saison 3'!$T$159:$T$181)) | AC11: =IF(AC$1="","",SUMIF('Courses Saison 3'!$C$185:$C$207,Tableau1[[#This Row],[Pilotes]],'Courses Saison 3'!$F$185:$F$207)) | AD11: =IF(AD$1="","",SUMIF('Courses Saison 3'!$J$185:$J$207,Tableau1[[#This Row],[Pilotes]],'Courses Saison 3'!$M$185:$M$207)) | AE11: =IF(AE$1="","",SUMIF('Courses Saison 3'!$Q$185:$Q$207,Tableau1[[#This Row],[Pilotes]],'Courses Saison 3'!$T$185:$T$207)) | AF11: =AVERAGE(H11:AE11) -> 4.5
A12: 9 | B12: =IF(C12="","",(VLOOKUP(C12,Table!$A:$B,2,FALSE))) -> IA | C12: Nico HULKENBERG | D12: =IF(C12="","",(VLOOKUP(C12,Table!$A:$C,3,FALSE))) -> Haas | E12: =SUM(H12:AE12) -> 54 | F12: =E12-E11 -> -9 | G12: =E12-MAX($E$4:$E$34) -> -204 | H12: =IF(H$1="","",SUMIF('Courses Saison 3'!$C$3:$C$25,Tableau1[[#This Row],[Pilotes]],'Courses Saison 3'!$F$3:$F$25)) -> 2 | I12: =IF(I$1="","",SUMIF('Courses Saison 3'!$J$3:$J$25,Tableau1[[#This Row],[Pilotes]],'Courses Saison 3'!$M$3:$M$25)) -> 2 | J12: =IF(J$1="","",SUMIF('Courses Saison 3'!$Q$3:$Q$25,Tableau1[[#This Row],[Pilotes]],'Courses Saison 3'!$T$3:$T$25)) -> 0 | K12: =IF(K$1="","",SUMIF('Courses Saison 3'!$C$29:$C$51,Tableau1[[#This Row],[Pilotes]],'Courses Saison 3'!$F$29:$F$51)) -> 6 | L12: =IF(L$1="","",SUMIF('Courses Saison 3'!$J$29:$J$51,Tableau1[[#This Row],[Pilotes]],'Courses Saison 3'!$M$29:$M$51)) -> 0 | M12: =IF(M$1="","",SUMIF('Courses Saison 3'!$Q$29:$Q$51,Tableau1[[#This Row],[Pilotes]],'Courses Saison 3'!$T$29:$T$51)) -> 12 | N12: =IF(N$1="","",SUMIF('Courses Saison 3'!$C$55:$C$77,Tableau1[[#This Row],[Pilotes]],'Courses Saison 3'!$F$55:$F$77)) -> 12 | O12: =IF(O$1="","",SUMIF('Courses Saison 3'!$J$55:$J$77,Tableau1[[#This Row],[Pilotes]],'Courses Saison 3'!$M$55:$M$77)) -> 5 | P12: =IF(P$1="","",SUMIF('Courses Saison 3'!$Q$55:$Q$77,Tableau1[[#This Row],[Pilotes]],'Courses Saison 3'!$T$55:$T$77)) -> 0 | Q12: =IF(Q$1="","",SUMIF('Courses Saison 3'!$C$81:$C$103,Tableau1[[#This Row],[Pilotes]],'Courses Saison 3'!$F$81:$F$103)) -> 2 | R12: =IF(R$1="","",SUMIF('Courses Saison 3'!$J$81:$J$103,Tableau1[[#This Row],[Pilotes]],'Courses Saison 3'!$M$81:$M$103)) -> 0 | S12: =IF(S$1="","",SUMIF('Courses Saison 3'!$Q$81:$Q$103,Tableau1[[#This Row],[Pilotes]],'Courses Saison 3'!$T$81:$T$103)) -> 1 | T12: =IF(T$1="","",SUMIF('Courses Saison 3'!$C$107:$C$128,Tableau1[[#This Row],[Pilotes]],'Courses Saison 3'!$F$107:$F$128)) -> 0 | U12: =IF(U$1="","",SUMIF('Courses Saison 3'!$J$107:$J$129,Tableau1[[#This Row],[Pilotes]],'Courses Saison 3'!$M$107:$M$129)) -> 12 | V12: =IF(V$1="","",SUMIF('Courses Saison 3'!$Q$107:$Q$129,Tableau1[[#This Row],[Pilotes]],'Courses Saison 3'!$T$107:$T$129)) | W12: =IF(W$1="","",SUMIF('Courses Saison 3'!$C$133:$C$155,Tableau1[[#This Row],[Pilotes]],'Courses Saison 3'!$F$133:$F$155)) | X12: =IF(X$1="","",SUMIF('Courses Saison 3'!$J$133:$J$155,Tableau1[[#This Row],[Pilotes]],'Courses Saison 3'!$M$133:$M$155)) | Y12: =IF(Y$1="","",SUMIF('Courses Saison 3'!$Q$133:$Q$155,Tableau1[[#This Row],[Pilotes]],'Courses Saison 3'!$T$133:$T$155)) | Z12: =IF(Z$1="","",SUMIF('Courses Saison 3'!$C$159:$C$181,Tableau1[[#This Row],[Pilotes]],'Courses Saison 3'!$F$159:$F$181)) | AA12: =IF(AA$1="","",SUMIF('Courses Saison 3'!$J$159:$J$181,Tableau1[[#This Row],[Pilotes]],'Courses Saison 3'!$M$159:$M$181)) | AB12: =IF(AB$1="","",SUMIF('Courses Saison 3'!$Q$159:$Q$181,Tableau1[[#This Row],[Pilotes]],'Courses Saison 3'!$T$159:$T$181)) | AC12: =IF(AC$1="","",SUMIF('Courses Saison 3'!$C$185:$C$207,Tableau1[[#This Row],[Pilotes]],'Courses Saison 3'!$F$185:$F$207)) | AD12: =IF(AD$1="","",SUMIF('Courses Saison 3'!$J$185:$J$207,Tableau1[[#This Row],[Pilotes]],'Courses Saison 3'!$M$185:$M$207)) | AE12: =IF(AE$1="","",SUMIF('Courses Saison 3'!$Q$185:$Q$207,Tableau1[[#This Row],[Pilotes]],'Courses Saison 3'!$T$185:$T$207)) | AF12: =AVERAGE(H12:AE12) -> 3.8571429
A13: 10 | B13: =IF(C13="","",(VLOOKUP(C13,Table!$A:$B,2,FALSE))) -> IA | C13: George RUSSELL | D13: =IF(C13="","",(VLOOKUP(C13,Table!$A:$C,3,FALSE))) -> Mercedes | E13: =SUM(H13:AE13) -> 54 | F13: =E13-E12 -> 0 | G13: =E13-MAX($E$4:$E$34) -> -204 | H13: =IF(H$1="","",SUMIF('Courses Saison 3'!$C$3:$C$25,Tableau1[[#This Row],[Pilotes]],'Courses Saison 3'!$F$3:$F$25)) -> 0 | I13: =IF(I$1="","",SUMIF('Courses Saison 3'!$J$3:$J$25,Tableau1[[#This Row],[Pilotes]],'Courses Saison 3'!$M$3:$M$25)) -> 0 | J13: =IF(J$1="","",SUMIF('Courses Saison 3'!$Q$3:$Q$25,Tableau1[[#This Row],[Pilotes]],'Courses Saison 3'!$T$3:$T$25)) -> 2 | K13: =IF(K$1="","",SUMIF('Courses Saison 3'!$C$29:$C$51,Tableau1[[#This Row],[Pilotes]],'Courses Saison 3'!$F$29:$F$51)) -> 0 | L13: =IF(L$1="","",SUMIF('Courses Saison 3'!$J$29:$J$51,Tableau1[[#This Row],[Pilotes]],'Courses Saison 3'!$M$29:$M$51)) -> 2 | M13: =IF(M$1="","",SUMIF('Courses Saison 3'!$Q$29:$Q$51,Tableau1[[#This Row],[Pilotes]],'Courses Saison 3'!$T$29:$T$51)) -> 0 | N13: =IF(N$1="","",SUMIF('Courses Saison 3'!$C$55:$C$77,Tableau1[[#This Row],[Pilotes]],'Courses Saison 3'!$F$55:$F$77)) -> 1 | O13: =IF(O$1="","",SUMIF('Courses Saison 3'!$J$55:$J$77,Tableau1[[#This Row],[Pilotes]],'Courses Saison 3'!$M$55:$M$77)) -> 15 | P13: =IF(P$1="","",SUMIF('Courses Saison 3'!$Q$55:$Q$77,Tableau1[[#This Row],[Pilotes]],'Courses Saison 3'!$T$55:$T$77)) -> 10 | Q13: =IF(Q$1="","",SUMIF('Courses Saison 3'!$C$81:$C$103,Tableau1[[#This Row],[Pilotes]],'Courses Saison 3'!$F$81:$F$103)) -> 0 | R13: =IF(R$1="","",SUMIF('Courses Saison 3'!$J$81:$J$103,Tableau1[[#This Row],[Pilotes]],'Courses Saison 3'!$M$81:$M$103)) -> 0 | S13: =IF(S$1="","",SUMIF('Courses Saison 3'!$Q$81:$Q$103,Tableau1[[#This Row],[Pilotes]],'Courses Saison 3'!$T$81:$T$103)) -> 12 | T13: =IF(T$1="","",SUMIF('Courses Saison 3'!$C$107:$C$128,Tableau1[[#This Row],[Pilotes]],'Courses Saison 3'!$F$107:$F$128)) -> 12 | U13: =IF(U$1="","",SUMIF('Courses Saison 3'!$J$107:$J$129,Tableau1[[#This Row],[Pilotes]],'Courses Saison 3'!$M$107:$M$129)) -> 0 | V13: =IF(V$1="","",SUMIF('Courses Saison 3'!$Q$107:$Q$129,Tableau1[[#This Row],[Pilotes]],'Courses Saison 3'!$T$107:$T$129)) | W13: =IF(W$1="","",SUMIF('Courses Saison 3'!$C$133:$C$155,Tableau1[[#This Row],[Pilotes]],'Courses Saison 3'!$F$133:$F$155)) | X13: =IF(X$1="","",SUMIF('Courses Saison 3'!$J$133:$J$155,Tableau1[[#This Row],[Pilotes]],'Courses Saison 3'!$M$133:$M$155)) | Y13: =IF(Y$1="","",SUMIF('Courses Saison 3'!$Q$133:$Q$155,Tableau1[[#This Row],[Pilotes]],'Courses Saison 3'!$T$133:$T$155)) | Z13: =IF(Z$1="","",SUMIF('Courses Saison 3'!$C$159:$C$181,Tableau1[[#This Row],[Pilotes]],'Courses Saison 3'!$F$159:$F$181)) | AA13: =IF(AA$1="","",SUMIF('Courses Saison 3'!$J$159:$J$181,Tableau1[[#This Row],[Pilotes]],'Courses Saison 3'!$M$159:$M$181)) | AB13: =IF(AB$1="","",SUMIF('Courses Saison 3'!$Q$159:$Q$181,Tableau1[[#This Row],[Pilotes]],'Courses Saison 3'!$T$159:$T$181)) | AC13: =IF(AC$1="","",SUMIF('Courses Saison 3'!$C$185:$C$207,Tableau1[[#This Row],[Pilotes]],'Courses Saison 3'!$F$185:$F$207)) | AD13: =IF(AD$1="","",SUMIF('Courses Saison 3'!$J$185:$J$207,Tableau1[[#This Row],[Pilotes]],'Courses Saison 3'!$M$185:$M$207)) | AE13: =IF(AE$1="","",SUMIF('Courses Saison 3'!$Q$185:$Q$207,Tableau1[[#This Row],[Pilotes]],'Courses Saison 3'!$T$185:$T$207)) | AF13: =AVERAGE(H13:AE13) -> 3.8571429
A14: 11 | B14: =IF(C14="","",(VLOOKUP(C14,Table!$A:$B,2,FALSE))) -> IA | C14: Kevin MAGNUSSEN | D14: =IF(C14="","",(VLOOKUP(C14,Table!$A:$C,3,FALSE))) -> Haas | E14: =SUM(H14:AE14) -> 47 | F14: =E14-E13 -> -7 | G14: =E14-MAX($E$4:$E$34) -> -211 | H14: =IF(H$1="","",SUMIF('Courses Saison 3'!$C$3:$C$25,Tableau1[[#This Row],[Pilotes]],'Courses Saison 3'!$F$3:$F$25)) -> 4 | I14: =IF(I$1="","",SUMIF('Courses Saison 3'!$J$3:$J$25,Tableau1[[#This Row],[Pilotes]],'Courses Saison 3'!$M$3:$M$25)) -> 0 | J14: =IF(J$1="","",SUMIF('Courses Saison 3'!$Q$3:$Q$25,Tableau1[[#This Row],[Pilotes]],'Courses Saison 3'!$T$3:$T$25)) -> 13 | K14: =IF(K$1="","",SUMIF('Courses Saison 3'!$C$29:$C$51,Tableau1[[#This Row],[Pilotes]],'Courses Saison 3'!$F$29:$F$51)) -> 4 | L14: =IF(L$1="","",SUMIF('Courses Saison 3'!$J$29:$J$51,Tableau1[[#This Row],[Pilotes]],'Courses Saison 3'!$M$29:$M$51)) -> 0 | M14: =IF(M$1="","",SUMIF('Courses Saison 3'!$Q$29:$Q$51,Tableau1[[#This Row],[Pilotes]],'Courses Saison 3'!$T$29:$T$51)) -> 0 | N14: =IF(N$1="","",SUMIF('Courses Saison 3'!$C$55:$C$77,Tableau1[[#This Row],[Pilotes]],'Courses Saison 3'!$F$55:$F$77)) -> 0 | O14: =IF(O$1="","",SUMIF('Courses Saison 3'!$J$55:$J$77,Tableau1[[#This Row],[Pilotes]],'Courses Saison 3'!$M$55:$M$77)) -> 12 | P14: =IF(P$1="","",SUMIF('Courses Saison 3'!$Q$55:$Q$77,Tableau1[[#This Row],[Pilotes]],'Courses Saison 3'!$T$55:$T$77)) -> 6 | Q14: =IF(Q$1="","",SUMIF('Courses Saison 3'!$C$81:$C$103,Tableau1[[#This Row],[Pilotes]],'Courses Saison 3'!$F$81:$F$103)) -> 0 | R14: =IF(R$1="","",SUMIF('Courses Saison 3'!$J$81:$J$103,Tableau1[[#This Row],[Pilotes]],'Courses Saison 3'!$M$81:$M$103)) -> 0 | S14: =IF(S$1="","",SUMIF('Courses Saison 3'!$Q$81:$Q$103,Tableau1[[#This Row],[Pilotes]],'Courses Saison 3'!$T$81:$T$103)) -> 0 | T14: =IF(T$1="","",SUMIF('Courses Saison 3'!$C$107:$C$128,Tableau1[[#This Row],[Pilotes]],'Courses Saison 3'!$F$107:$F$128)) -> 0 | U14: =IF(U$1="","",SUMIF('Courses Saison 3'!$J$107:$J$129,Tableau1[[#This Row],[Pilotes]],'Courses Saison 3'!$M$107:$M$129)) -> 8 | V14: =IF(V$1="","",SUMIF('Courses Saison 3'!$Q$107:$Q$129,Tableau1[[#This Row],[Pilotes]],'Courses Saison 3'!$T$107:$T$129)) | W14: =IF(W$1="","",SUMIF('Courses Saison 3'!$C$133:$C$155,Tableau1[[#This Row],[Pilotes]],'Courses Saison 3'!$F$133:$F$155)) | X14: =IF(X$1="","",SUMIF('Courses Saison 3'!$J$133:$J$155,Tableau1[[#This Row],[Pilotes]],'Courses Saison 3'!$M$133:$M$155)) | Y14: =IF(Y$1="","",SUMIF('Courses Saison 3'!$Q$133:$Q$155,Tableau1[[#This Row],[Pilotes]],'Courses Saison 3'!$T$133:$T$155)) | Z14: =IF(Z$1="","",SUMIF('Courses Saison 3'!$C$159:$C$181,Tableau1[[#This Row],[Pilotes]],'Courses Saison 3'!$F$159:$F$181)) | AA14: =IF(AA$1="","",SUMIF('Courses Saison 3'!$J$159:$J$181,Tableau1[[#This Row],[Pilotes]],'Courses Saison 3'!$M$159:$M$181)) | AB14: =IF(AB$1="","",SUMIF('Courses Saison 3'!$Q$159:$Q$181,Tableau1[[#This Row],[Pilotes]],'Courses Saison 3'!$T$159:$T$181)) | AC14: =IF(AC$1="","",SUMIF('Courses Saison 3'!$C$185:$C$207,Tableau1[[#This Row],[Pilotes]],'Courses Saison 3'!$F$185:$F$207)) | AD14: =IF(AD$1="","",SUMIF('Courses Saison 3'!$J$185:$J$207,Tableau1[[#This Row],[Pilotes]],'Courses Saison 3'!$M$185:$M$207)) | AE14: =IF(AE$1="","",SUMIF('Courses Saison 3'!$Q$185:$Q$207,Tableau1[[#This Row],[Pilotes]],'Courses Saison 3'!$T$185:$T$207)) | AF14: =AVERAGE(H14:AE14) -> 3.3571429
A15: 12 | B15: =IF(C15="","",(VLOOKUP(C15,Table!$A:$B,2,FALSE))) -> IA | C15: Yuki TSUNODA | D15: =IF(C15="","",(VLOOKUP(C15,Table!$A:$C,3,FALSE))) -> Alpha Tauri | E15: =SUM(H15:AE15) -> 42 | F15: =E15-E14 -> -5 | G15: =E15-MAX($E$4:$E$34) -> -216 | H15: =IF(H$1="","",SUMIF('Courses Saison 3'!$C$3:$C$25,Tableau1[[#This Row],[Pilotes]],'Courses Saison 3'!$F$3:$F$25)) -> 0 | I15: =IF(I$1="","",SUMIF('Courses Saison 3'!$J$3:$J$25,Tableau1[[#This Row],[Pilotes]],'Courses Saison 3'!$M$3:$M$25)) -> 4 | J15: =IF(J$1="","",SUMIF('Courses Saison 3'!$Q$3:$Q$25,Tableau1[[#This Row],[Pilotes]],'Courses Saison 3'!$T$3:$T$25)) -> 1 | K15: =IF(K$1="","",SUMIF('Courses Saison 3'!$C$29:$C$51,Tableau1[[#This Row],[Pilotes]],'Courses Saison 3'!$F$29:$F$51)) -> 0 | L15: =IF(L$1="","",SUMIF('Courses Saison 3'!$J$29:$J$51,Tableau1[[#This Row],[Pilotes]],'Courses Saison 3'!$M$29:$M$51)) -> 0 | M15: =IF(M$1="","",SUMIF('Courses Saison 3'!$Q$29:$Q$51,Tableau1[[#This Row],[Pilotes]],'Courses Saison 3'!$T$29:$T$51)) -> 6 | N15: =IF(N$1="","",SUMIF('Courses Saison 3'!$C$55:$C$77,Tableau1[[#This Row],[Pilotes]],'Courses Saison 3'!$F$55:$F$77)) -> 8 | O15: =IF(O$1="","",SUMIF('Courses Saison 3'!$J$55:$J$77,Tableau1[[#This Row],[Pilotes]],'Courses Saison 3'!$M$55:$M$77)) -> 0 | P15: =IF(P$1="","",SUMIF('Courses Saison 3'!$Q$55:$Q$77,Tableau1[[#This Row],[Pilotes]],'Courses Saison 3'!$T$55:$T$77)) -> 8 | Q15: =IF(Q$1="","",SUMIF('Courses Saison 3'!$C$81:$C$103,Tableau1[[#This Row],[Pilotes]],'Courses Saison 3'!$F$81:$F$103)) -> 0 | R15: =IF(R$1="","",SUMIF('Courses Saison 3'!$J$81:$J$103,Tableau1[[#This Row],[Pilotes]],'Courses Saison 3'!$M$81:$M$103)) -> 9 | S15: =IF(S$1="","",SUMIF('Courses Saison 3'!$Q$81:$Q$103,Tableau1[[#This Row],[Pilotes]],'Courses Saison 3'!$T$81:$T$103)) -> 0 | T15: =IF(T$1="","",SUMIF('Courses Saison 3'!$C$107:$C$128,Tableau1[[#This Row],[Pilotes]],'Courses Saison 3'!$F$107:$F$128)) -> 0 | U15: =IF(U$1="","",SUMIF('Courses Saison 3'!$J$107:$J$129,Tableau1[[#This Row],[Pilotes]],'Courses Saison 3'!$M$107:$M$129)) -> 6 | V15: =IF(V$1="","",SUMIF('Courses Saison 3'!$Q$107:$Q$129,Tableau1[[#This Row],[Pilotes]],'Courses Saison 3'!$T$107:$T$129)) | W15: =IF(W$1="","",SUMIF('Courses Saison 3'!$C$133:$C$155,Tableau1[[#This Row],[Pilotes]],'Courses Saison 3'!$F$133:$F$155)) | X15: =IF(X$1="","",SUMIF('Courses Saison 3'!$J$133:$J$155,Tableau1[[#This Row],[Pilotes]],'Courses Saison 3'!$M$133:$M$155)) | Y15: =IF(Y$1="","",SUMIF('Courses Saison 3'!$Q$133:$Q$155,Tableau1[[#This Row],[Pilotes]],'Courses Saison 3'!$T$133:$T$155)) | Z15: =IF(Z$1="","",SUMIF('Courses Saison 3'!$C$159:$C$181,Tableau1[[#This Row],[Pilotes]],'Courses Saison 3'!$F$159:$F$181)) | AA15: =IF(AA$1="","",SUMIF('Courses Saison 3'!$J$159:$J$181,Tableau1[[#This Row],[Pilotes]],'Courses Saison 3'!$M$159:$M$181)) | AB15: =IF(AB$1="","",SUMIF('Courses Saison 3'!$Q$159:$Q$181,Tableau1[[#This Row],[Pilotes]],'Courses Saison 3'!$T$159:$T$181)) | AC15: =IF(AC$1="","",SUMIF('Courses Saison 3'!$C$185:$C$207,Tableau1[[#This Row],[Pilotes]],'Courses Saison 3'!$F$185:$F$207)) | AD15: =IF(AD$1="","",SUMIF('Courses Saison 3'!$J$185:$J$207,Tableau1[[#This Row],[Pilotes]],'Courses Saison 3'!$M$185:$M$207)) | AE15: =IF(AE$1="","",SUMIF('Courses Saison 3'!$Q$185:$Q$207,Tableau1[[#This Row],[Pilotes]],'Courses Saison 3'!$T$185:$T$207)) | AF15: =AVERAGE(H15:AE15) -> 3
A16: 13 | B16: =IF(C16="","",(VLOOKUP(C16,Table!$A:$B,2,FALSE))) -> IA | C16: Logan SARGEANT | D16: =IF(C16="","",(VLOOKUP(C16,Table!$A:$C,3,FALSE))) -> Williams | E16: =SUM(H16:AE16) -> 41 | F16: =E16-E15 -> -1 | G16: =E16-MAX($E$4:$E$34) -> -217 | H16: =IF(H$1="","",SUMIF('Courses Saison 3'!$C$3:$C$25,Tableau1[[#This Row],[Pilotes]],'Courses Saison 3'!$F$3:$F$25)) -> 0 | I16: =IF(I$1="","",SUMIF('Courses Saison 3'!$J$3:$J$25,Tableau1[[#This Row],[Pilotes]],'Courses Saison 3'!$M$3:$M$25)) -> 0 | J16: =IF(J$1="","",SUMIF('Courses Saison 3'!$Q$3:$Q$25,Tableau1[[#This Row],[Pilotes]],'Courses Saison 3'!$T$3:$T$25)) -> 0 | K16: =IF(K$1="","",SUMIF('Courses Saison 3'!$C$29:$C$51,Tableau1[[#This Row],[Pilotes]],'Courses Saison 3'!$F$29:$F$51)) -> 18 | L16: =IF(L$1="","",SUMIF('Courses Saison 3'!$J$29:$J$51,Tableau1[[#This Row],[Pilotes]],'Courses Saison 3'!$M$29:$M$51)) -> 0 | M16: =IF(M$1="","",SUMIF('Courses Saison 3'!$Q$29:$Q$51,Tableau1[[#This Row],[Pilotes]],'Courses Saison 3'!$T$29:$T$51)) -> 4 | N16: =IF(N$1="","",SUMIF('Courses Saison 3'!$C$55:$C$77,Tableau1[[#This Row],[Pilotes]],'Courses Saison 3'!$F$55:$F$77)) -> 2 | O16: =IF(O$1="","",SUMIF('Courses Saison 3'!$J$55:$J$77,Tableau1[[#This Row],[Pilotes]],'Courses Saison 3'!$M$55:$M$77)) -> 6 | P16: =IF(P$1="","",SUMIF('Courses Saison 3'!$Q$55:$Q$77,Tableau1[[#This Row],[Pilotes]],'Courses Saison 3'!$T$55:$T$77)) -> 4 | Q16: =IF(Q$1="","",SUMIF('Courses Saison 3'!$C$81:$C$103,Tableau1[[#This Row],[Pilotes]],'Courses Saison 3'!$F$81:$F$103)) -> 0 | R16: =IF(R$1="","",SUMIF('Courses Saison 3'!$J$81:$J$103,Tableau1[[#This Row],[Pilotes]],'Courses Saison 3'!$M$81:$M$103)) -> 0 | S16: =IF(S$1="","",SUMIF('Courses Saison 3'!$Q$81:$Q$103,Tableau1[[#This Row],[Pilotes]],'Courses Saison 3'!$T$81:$T$103)) -> 2 | T16: =IF(T$1="","",SUMIF('Courses Saison 3'!$C$107:$C$128,Tableau1[[#This Row],[Pilotes]],'Courses Saison 3'!$F$107:$F$128)) -> 0 | U16: =IF(U$1="","",SUMIF('Courses Saison 3'!$J$107:$J$129,Tableau1[[#This Row],[Pilotes]],'Courses Saison 3'!$M$107:$M$129)) -> 5 | V16: =IF(V$1="","",SUMIF('Courses Saison 3'!$Q$107:$Q$129,Tableau1[[#This Row],[Pilotes]],'Courses Saison 3'!$T$107:$T$129)) | W16: =IF(W$1="","",SUMIF('Courses Saison 3'!$C$133:$C$155,Tableau1[[#This Row],[Pilotes]],'Courses Saison 3'!$F$133:$F$155)) | X16: =IF(X$1="","",SUMIF('Courses Saison 3'!$J$133:$J$155,Tableau1[[#This Row],[Pilotes]],'Courses Saison 3'!$M$133:$M$155)) | Y16: =IF(Y$1="","",SUMIF('Courses Saison 3'!$Q$133:$Q$155,Tableau1[[#This Row],[Pilotes]],'Courses Saison 3'!$T$133:$T$155)) | Z16: =IF(Z$1="","",SUMIF('Courses Saison 3'!$C$159:$C$181,Tableau1[[#This Row],[Pilotes]],'Courses Saison 3'!$F$159:$F$181)) | AA16: =IF(AA$1="","",SUMIF('Courses Saison 3'!$J$159:$J$181,Tableau1[[#This Row],[Pilotes]],'Courses Saison 3'!$M$159:$M$181)) | AB16: =IF(AB$1="","",SUMIF('Courses Saison 3'!$Q$159:$Q$181,Tableau1[[#This Row],[Pilotes]],'Courses Saison 3'!$T$159:$T$181)) | AC16: =IF(AC$1="","",SUMIF('Courses Saison 3'!$C$185:$C$207,Tableau1[[#This Row],[Pilotes]],'Courses Saison 3'!$F$185:$F$207)) | AD16: =IF(AD$1="","",SUMIF('Courses Saison 3'!$J$185:$J$207,Tableau1[[#This Row],[Pilotes]],'Courses Saison 3'!$M$185:$M$207)) | AE16: =IF(AE$1="","",SUMIF('Courses Saison 3'!$Q$185:$Q$207,Tableau1[[#This Row],[Pilotes]],'Courses Saison 3'!$T$185:$T$207)) | AF16: =AVERAGE(H16:AE16) -> 2.9285714
... A34: 31 | B34: =IF(C34="","",(VLOOKUP(C34,Table!$A:$B,2,FALSE))) -> IA | C34: Valtteri BOTTAS | D34: =IF(C34="","",(VLOOKUP(C34,Table!$A:$C,3,FALSE))) -> Stake Sauber | E34: =SUM(H34:AE34) -> 0 | F34: =E34-E33 -> 0 | G34: =E34-MAX($E$4:$E$34) -> -258 | H34: =IF(H$1="","",SUMIF('Courses Saison 3'!$C$3:$C$25,Tableau1[[#This Row],[Pilotes]],'Courses Saison 3'!$F$3:$F$25)) -> 0 | I34: =IF(I$1="","",SUMIF('Courses Saison 3'!$J$3:$J$25,Tableau1[[#This Row],[Pilotes]],'Courses Saison 3'!$M$3:$M$25)) -> 0 | J34: =IF(J$1="","",SUMIF('Courses Saison 3'!$Q$3:$Q$25,Tableau1[[#This Row],[Pilotes]],'Courses Saison 3'!$T$3:$T$25)) -> 0 | K34: =IF(K$1="","",SUMIF('Courses Saison 3'!$C$29:$C$51,Tableau1[[#This Row],[Pilotes]],'Courses Saison 3'!$F$29:$F$51)) -> 0 | L34: =IF(L$1="","",SUMIF('Courses Saison 3'!$J$29:$J$51,Tableau1[[#This Row],[Pilotes]],'Courses Saison 3'!$M$29:$M$51)) -> 0 | M34: =IF(M$1="","",SUMIF('Courses Saison 3'!$Q$29:$Q$51,Tableau1[[#This Row],[Pilotes]],'Courses Saison 3'!$T$29:$T$51)) -> 0 | N34: =IF(N$1="","",SUMIF('Courses Saison 3'!$C$55:$C$77,Tableau1[[#This Row],[Pilotes]],'Courses Saison 3'!$F$55:$F$77)) -> 0 | O34: =IF(O$1="","",SUMIF('Courses Saison 3'!$J$55:$J$77,Tableau1[[#This Row],[Pilotes]],'Courses Saison 3'!$M$55:$M$77)) -> 0 | P34: =IF(P$1="","",SUMIF('Courses Saison 3'!$Q$55:$Q$77,Tableau1[[#This Row],[Pilotes]],'Courses Saison 3'!$T$55:$T$77)) -> 0 | Q34: =IF(Q$1="","",SUMIF('Courses Saison 3'!$C$81:$C$103,Tableau1[[#This Row],[Pilotes]],'Courses Saison 3'!$F$81:$F$103)) -> 0 | R34: =IF(R$1="","",SUMIF('Courses Saison 3'!$J$81:$J$103,Tableau1[[#This Row],[Pilotes]],'Courses Saison 3'!$M$81:$M$103)) -> 0 | S34: =IF(S$1="","",SUMIF('Courses Saison 3'!$Q$81:$Q$103,Tableau1[[#This Row],[Pilotes]],'Courses Saison 3'!$T$81:$T$103)) -> 0 | T34: =IF(T$1="","",SUMIF('Courses Saison 3'!$C$107:$C$128,Tableau1[[#This Row],[Pilotes]],'Courses Saison 3'!$F$107:$F$128)) -> 0 | U34: =IF(U$1="","",SUMIF('Courses Saison 3'!$J$107:$J$129,Tableau1[[#This Row],[Pilotes]],'Courses Saison 3'!$M$107:$M$129)) -> 0 | V34: =IF(V$1="","",SUMIF('Courses Saison 3'!$Q$107:$Q$129,Tableau1[[#This Row],[Pilotes]],'Courses Saison 3'!$T$107:$T$129)) | W34: =IF(W$1="","",SUMIF('Courses Saison 3'!$C$133:$C$155,Tableau1[[#This Row],[Pilotes]],'Courses Saison 3'!$F$133:$F$155)) | X34: =IF(X$1="","",SUMIF('Courses Saison 3'!$J$133:$J$155,Tableau1[[#This Row],[Pilotes]],'Courses Saison 3'!$M$133:$M$155)) | Y34: =IF(Y$1="","",SUMIF('Courses Saison 3'!$Q$133:$Q$155,Tableau1[[#This Row],[Pilotes]],'Courses Saison 3'!$T$133:$T$155)) | Z34: =IF(Z$1="","",SUMIF('Courses Saison 3'!$C$159:$C$181,Tableau1[[#This Row],[Pilotes]],'Courses Saison 3'!$F$159:$F$181)) | AA34: =IF(AA$1="","",SUMIF('Courses Saison 3'!$J$159:$J$181,Tableau1[[#This Row],[Pilotes]],'Courses Saison 3'!$M$159:$M$181)) | AB34: =IF(AB$1="","",SUMIF('Courses Saison 3'!$Q$159:$Q$181,Tableau1[[#This Row],[Pilotes]],'Courses Saison 3'!$T$159:$T$181)) | AC34: =IF(AC$1="","",SUMIF('Courses Saison 3'!$C$185:$C$207,Tableau1[[#This Row],[Pilotes]],'Courses Saison 3'!$F$185:$F$207)) | AD34: =IF(AD$1="","",SUMIF('Courses Saison 3'!$J$185:$J$207,Tableau1[[#This Row],[Pilotes]],'Courses Saison 3'!$M$185:$M$207)) | AE34: =IF(AE$1="","",SUMIF('Courses Saison 3'!$Q$185:$Q$207,Tableau1[[#This Row],[Pilotes]],'Courses Saison 3'!$T$185:$T$207)) | AF34: =AVERAGE(H34:AE34) -> 0
B36: Mercedes | E36: =SUM(H36:AE36) -> 320 | G36: =E36-MAX($E$36:$E$45) -> 0 | H36: =IF(H$1="","",SUMIF($D$4:$D$34,$B36,H$4:H$34)) -> 0 | I36: =IF(I$1="","",SUMIF($D$4:$D$34,$B36,I$4:I$34)) -> 14 | J36: =IF(J$1="","",SUMIF($D$4:$D$34,$B36,J$4:J$34)) -> 29 | K36: =IF(K$1="","",SUMIF($D$4:$D$34,$B36,K$4:K$34)) -> 27 | L36: =IF(L$1="","",SUMIF($D$4:$D$34,$B36,L$4:L$34)) -> 29 | M36: =IF(M$1="","",SUMIF($D$4:$D$34,$B36,M$4:M$34)) -> 27 | N36: =IF(N$1="","",SUMIF($D$4:$D$34,$B36,N$4:N$34)) -> 27 | O36: =IF(O$1="","",SUMIF($D$4:$D$34,$B36,O$4:O$34)) -> 17 | ... AE36: =IF(AE$1="","",SUMIF($D$4:$D$34,$B36,AE$4:AE$34)) | AF36: =AVERAGE(H36:AE36) -> 22.857143
B37: Stake Sauber | E37: =SUM(H37:AE37) -> 294 | G37: =E37-MAX($E$36:$E$45) -> -26 | H37: =IF(H$1="","",SUMIF($D$4:$D$34,$B37,H$4:H$34)) -> 38 | I37: =IF(I$1="","",SUMIF($D$4:$D$34,$B37,I$4:I$34)) -> 33 | J37: =IF(J$1="","",SUMIF($D$4:$D$34,$B37,J$4:J$34)) -> 18 | K37: =IF(K$1="","",SUMIF($D$4:$D$34,$B37,K$4:K$34)) -> 15 | L37: =IF(L$1="","",SUMIF($D$4:$D$34,$B37,L$4:L$34)) -> 28 | M37: =IF(M$1="","",SUMIF($D$4:$D$34,$B37,M$4:M$34)) -> 28 | N37: =IF(N$1="","",SUMIF($D$4:$D$34,$B37,N$4:N$34)) -> 25 | O37: =IF(O$1="","",SUMIF($D$4:$D$34,$B37,O$4:O$34)) -> 25 | ... AE37: =IF(AE$1="","",SUMIF($D$4:$D$34,$B37,AE$4:AE$34)) | AF37: =AVERAGE(H37:AE37) -> 21
B38: Alpine | E38: =SUM(H38:AE38) -> 177 | G38: =E38-MAX($E$36:$E$45) -> -143 | H38: =IF(H$1="","",SUMIF($D$4:$D$34,$B38,H$4:H$34)) -> 27 | I38: =IF(I$1="","",SUMIF($D$4:$D$34,$B38,I$4:I$34)) -> 18 | J38: =IF(J$1="","",SUMIF($D$4:$D$34,$B38,J$4:J$34)) -> 19 | K38: =IF(K$1="","",SUMIF($D$4:$D$34,$B38,K$4:K$34)) -> 12 | L38: =IF(L$1="","",SUMIF($D$4:$D$34,$B38,L$4:L$34)) -> 13 | M38: =IF(M$1="","",SUMIF($D$4:$D$34,$B38,M$4:M$34)) -> 15 | N38: =IF(N$1="","",SUMIF($D$4:$D$34,$B38,N$4:N$34)) -> 0 | O38: =IF(O$1="","",SUMIF($D$4:$D$34,$B38,O$4:O$34)) -> 8 | ... AE38: =IF(AE$1="","",SUMIF($D$4:$D$34,$B38,AE$4:AE$34)) | AF38: =AVERAGE(H38:AE38) -> 12.642857
B39: Aston Martin | E39: =SUM(H39:AE39) -> 142 | G39: =E39-MAX($E$36:$E$45) -> -178 | H39: =IF(H$1="","",SUMIF($D$4:$D$34,$B39,H$4:H$34)) -> 10 | I39: =IF(I$1="","",SUMIF($D$4:$D$34,$B39,I$4:I$34)) -> 10 | J39: =IF(J$1="","",SUMIF($D$4:$D$34,$B39,J$4:J$34)) -> 10 | K39: =IF(K$1="","",SUMIF($D$4:$D$34,$B39,K$4:K$34)) -> 8 | L39: =IF(L$1="","",SUMIF($D$4:$D$34,$B39,L$4:L$34)) -> 15 | M39: =IF(M$1="","",SUMIF($D$4:$D$34,$B39,M$4:M$34)) -> 1 | N39: =IF(N$1="","",SUMIF($D$4:$D$34,$B39,N$4:N$34)) -> 0 | O39: =IF(O$1="","",SUMIF($D$4:$D$34,$B39,O$4:O$34)) -> 0 | ... AE39: =IF(AE$1="","",SUMIF($D$4:$D$34,$B39,AE$4:AE$34)) | AF39: =AVERAGE(H39:AE39) -> 10.142857
B40: Red Bull | E40: =SUM(H40:AE40) -> 108 | G40: =E40-MAX($E$36:$E$45) -> -212 | H40: =IF(H$1="","",SUMIF($D$4:$D$34,$B40,H$4:H$34)) -> 0 | I40: =IF(I$1="","",SUMIF($D$4:$D$34,$B40,I$4:I$34)) -> 7 | J40: =IF(J$1="","",SUMIF($D$4:$D$34,$B40,J$4:J$34)) -> 0 | K40: =IF(K$1="","",SUMIF($D$4:$D$34,$B40,K$4:K$34)) -> 2 | L40: =IF(L$1="","",SUMIF($D$4:$D$34,$B40,L$4:L$34)) -> 8 | M40: =IF(M$1="","",SUMIF($D$4:$D$34,$B40,M$4:M$34)) -> 8 | N40: =IF(N$1="","",SUMIF($D$4:$D$34,$B40,N$4:N$34)) -> 10 | O40: =IF(O$1="","",SUMIF($D$4:$D$34,$B40,O$4:O$34)) -> 18 | ... AE40: =IF(AE$1="","",SUMIF($D$4:$D$34,$B40,AE$4:AE$34)) | AF40: =AVERAGE(H40:AE40) -> 7.7142857
B41: Haas | E41: =SUM(H41:AE41) -> 101 | G41: =E41-MAX($E$36:$E$45) -> -219 | H41: =IF(H$1="","",SUMIF($D$4:$D$34,$B41,H$4:H$34)) -> 6 | I41: =IF(I$1="","",SUMIF($D$4:$D$34,$B41,I$4:I$34)) -> 2 | J41: =IF(J$1="","",SUMIF($D$4:$D$34,$B41,J$4:J$34)) -> 13 | K41: =IF(K$1="","",SUMIF($D$4:$D$34,$B41,K$4:K$34)) -> 10 | L41: =IF(L$1="","",SUMIF($D$4:$D$34,$B41,L$4:L$34)) -> 0 | M41: =IF(M$1="","",SUMIF($D$4:$D$34,$B41,M$4:M$34)) -> 12 | N41: =IF(N$1="","",SUMIF($D$4:$D$34,$B41,N$4:N$34)) -> 12 | O41: =IF(O$1="","",SUMIF($D$4:$D$34,$B41,O$4:O$34)) -> 17 | ... AE41: =IF(AE$1="","",SUMIF($D$4:$D$34,$B41,AE$4:AE$34)) | AF41: =AVERAGE(H41:AE41) -> 7.2142857
B42: Ferrari | E42: =SUM(H42:AE42) -> 100 | G42: =E42-MAX($E$36:$E$45) -> -220 | H42: =IF(H$1="","",SUMIF($D$4:$D$34,$B42,H$4:H$34)) -> 15 | I42: =IF(I$1="","",SUMIF($D$4:$D$34,$B42,I$4:I$34)) -> 15 | J42: =IF(J$1="","",SUMIF($D$4:$D$34,$B42,J$4:J$34)) -> 0 | K42: =IF(K$1="","",SUMIF($D$4:$D$34,$B42,K$4:K$34)) -> 0 | L42: =IF(L$1="","",SUMIF($D$4:$D$34,$B42,L$4:L$34)) -> 1 | M42: =IF(M$1="","",SUMIF($D$4:$D$34,$B42,M$4:M$34)) -> 3 | N42: =IF(N$1="","",SUMIF($D$4:$D$34,$B42,N$4:N$34)) -> 20 | O42: =IF(O$1="","",SUMIF($D$4:$D$34,$B42,O$4:O$34)) -> 0 | ... AE42: =IF(AE$1="","",SUMIF($D$4:$D$34,$B42,AE$4:AE$34)) | AF42: =AVERAGE(H42:AE42) -> 7.1428571
B43: McLaren | E43: =SUM(H43:AE43) -> 89 | G43: =E43-MAX($E$36:$E$45) -> -231 | H43: =IF(H$1="","",SUMIF($D$4:$D$34,$B43,H$4:H$34)) -> 7 | I43: =IF(I$1="","",SUMIF($D$4:$D$34,$B43,I$4:I$34)) -> 1 | J43: =IF(J$1="","",SUMIF($D$4:$D$34,$B43,J$4:J$34)) -> 0 | K43: =IF(K$1="","",SUMIF($D$4:$D$34,$B43,K$4:K$34)) -> 12 | L43: =IF(L$1="","",SUMIF($D$4:$D$34,$B43,L$4:L$34)) -> 0 | M43: =IF(M$1="","",SUMIF($D$4:$D$34,$B43,M$4:M$34)) -> 0 | N43: =IF(N$1="","",SUMIF($D$4:$D$34,$B43,N$4:N$34)) -> 0 | O43: =IF(O$1="","",SUMIF($D$4:$D$34,$B43,O$4:O$34)) -> 3 | ... AE43: =IF(AE$1="","",SUMIF($D$4:$D$34,$B43,AE$4:AE$34)) | AF43: =AVERAGE(H43:AE43) -> 6.3571429
B44: Alpha Tauri | E44: =SUM(H44:AE44) -> 64 | G44: =E44-MAX($E$36:$E$45) -> -256 | H44: =IF(H$1="","",SUMIF($D$4:$D$34,$B44,H$4:H$34)) -> 0 | I44: =IF(I$1="","",SUMIF($D$4:$D$34,$B44,I$4:I$34)) -> 4 | J44: =IF(J$1="","",SUMIF($D$4:$D$34,$B44,J$4:J$34)) -> 9 | K44: =IF(K$1="","",SUMIF($D$4:$D$34,$B44,K$4:K$34)) -> 0 | L44: =IF(L$1="","",SUMIF($D$4:$D$34,$B44,L$4:L$34)) -> 4 | M44: =IF(M$1="","",SUMIF($D$4:$D$34,$B44,M$4:M$34)) -> 6 | N44: =IF(N$1="","",SUMIF($D$4:$D$34,$B44,N$4:N$34)) -> 8 | O44: =IF(O$1="","",SUMIF($D$4:$D$34,$B44,O$4:O$34)) -> 10 | ... AE44: =IF(AE$1="","",SUMIF($D$4:$D$34,$B44,AE$4:AE$34)) | AF44: =AVERAGE(H44:AE44) -> 4.5714286
B45: Williams | E45: =SUM(H45:AE45) -> 60 | G45: =E45-MAX($E$36:$E$45) -> -260 | H45: =IF(H$1="","",SUMIF($D$4:$D$34,$B45,H$4:H$34)) -> 1 | I45: =IF(I$1="","",SUMIF($D$4:$D$34,$B45,I$4:I$34)) -> 0 | J45: =IF(J$1="","",SUMIF($D$4:$D$34,$B45,J$4:J$34)) -> 6 | K45: =IF(K$1="","",SUMIF($D$4:$D$34,$B45,K$4:K$34)) -> 18 | L45: =IF(L$1="","",SUMIF($D$4:$D$34,$B45,L$4:L$34)) -> 6 | M45: =IF(M$1="","",SUMIF($D$4:$D$34,$B45,M$4:M$34)) -> 4 | N45: =IF(N$1="","",SUMIF($D$4:$D$34,$B45,N$4:N$34)) -> 2 | O45: =IF(O$1="","",SUMIF($D$4:$D$34,$B45,O$4:O$34)) -> 6 | ... AE45: =IF(AE$1="","",SUMIF($D$4:$D$34,$B45,AE$4:AE$34)) | AF45: =AVERAGE(H45:AE45) -> 4.2857143

Sheet Résultats sans IA Saison 3
G1: =IF('Courses Saison 3'!$B$3="","","OK") -> OK | H1: =IF('Courses Saison 3'!$I$3="","","OK") -> OK | I1: =IF('Courses Saison 3'!$P$3="","","OK") -> OK | J1: =IF('Courses Saison 3'!$B$29="","","OK") -> OK | K1: =IF('Courses Saison 3'!$I$29="","","OK") -> OK | L1: =IF('Courses Saison 3'!$P$29="","","OK") -> OK | M1: =IF('Courses Saison 3'!$B$55="","","OK") -> OK | N1: =IF('Courses Saison 3'!$I$55="","","OK") -> OK | O1: =IF('Courses Saison 3'!$P$55="","","OK") -> OK | P1: =IF('Courses Saison 3'!$B$81="","","OK") -> OK | Q1: =IF('Courses Saison 3'!$I$81="","","OK") -> OK | R1: =IF('Courses Saison 3'!$P$81="","","OK") -> OK | S1: =IF('Courses Saison 3'!$B$107="","","OK") -> OK | T1: =IF('Courses Saison 3'!$I$107="","","OK") -> OK | U1: =IF('Courses Saison 3'!$P$107="","","OK") | V1: =IF('Courses Saison 3'!$B$133="","","OK") | W1: =IF('Courses Saison 3'!$I$133="","","OK") | X1: =IF('Courses Saison 3'!$P$133="","","OK") | Y1: =IF('Courses Saison 3'!$B$159="","","OK") | Z1: =IF('Courses Saison 3'!$I$159="","","OK") | AA1: =IF('Courses Saison 3'!$P$159="","","OK") | AB1: =IF('Courses Saison 3'!$B$185="","","OK") | AC1: =IF('Courses Saison 3'!$I$185="","","OK") | AD1: =IF('Courses Saison 3'!$P$185="","","OK")
A3: Pos. | B3: Surnoms | C3: Pilotes | D3: Ecuries | E3: Total Pts | F3: Ecart 1er | G3: Bahreïn | H3: Jeddah | I3: Melbourne | J3: Suzuka | K3: Shangaï | L3: Miami | M3: Imola | N3: Monaco | O3: Montréal | P3: Barcelone | Q3: Zeltweg | R3: Silverstone | S3: Budapest | T3: Spa-Francorchamps | U3: Zandwoort | V3: Monza | W3: Bakou | X3: Singapour | Y3: Austin | Z3: Mexico | AA3: Interlagos | AB3: Las Vegas | AC3: Losail | AD3: Abu Dhabi | AE3: Moyenne de points par course
A4: 1 | B4: =IF(C4="","",(VLOOKUP(C4,Table!$A:$B,2,FALSE))) -> Naim_Thr | C4: Naïm TAHRIOUI | D4: =IF(C4="","",(VLOOKUP(C4,Table!$A:$C,3,FALSE))) -> Mercedes | E4: =SUM(G4:AD4) -> 258 | F4: =E4-MAX($E$4:$E$14) -> 0 | G4: 0 | H4: 14 | I4: 27 | J4: 27 | K4: 27 | L4: 27 | M4: 26 | N4: 2 | O4: 27 | P4: 27 | Q4: 27 | R4: 27 | AE4: =AVERAGE(G4:AD4) -> 21.5 | AG4: 1
A5: 2 | B5: =IF(C5="","",(VLOOKUP(C5,Table!$A:$B,2,FALSE))) -> Hulkmc8 | C5: Christopher FRANCHET | D5: =IF(C5="","",(VLOOKUP(C5,Table!$A:$C,3,FALSE))) -> Stake Sauber | E5: =SUM(G5:AD5) -> 189 | F5: =E5-MAX($E$4:$E$14) -> -69 | G5: 12 | H5: 8 | I5: 18 | J5: 0 | K5: 10 | L5: 18 | M5: 19 | N5: 25 | O5: 10 | P5: 10 | Q5: 0 | R5: 15 | S5: 26 | T5: 18 | AE5: =AVERAGE(G5:AD5) -> 13.5 | AG5: 2
A6: 3 | B6: =IF(C6="","",(VLOOKUP(C6,Table!$A:$B,2,FALSE))) -> Giaquinho06 | C6: Jonathan GIACCO | D6: =IF(C6="","",(VLOOKUP(C6,Table!$A:$C,3,FALSE))) -> Alpine | E6: =SUM(G6:AD6) -> 161 | F6: =E6-MAX($E$4:$E$14) -> -97 | G6: 8 | H6: 18 | I6: 15 | J6: 15 | K6: 12 | L6: 15 | M6: 0 | N6: 18 | O6: 18 | P6: 12 | S6: 15 | T6: 15 | AE6: =AVERAGE(G6:AD6) -> 13.416667 | AG6: 3
A7: 4 | B7: =IF(C7="","",(VLOOKUP(C7,Table!$A:$B,2,FALSE))) -> f_a_____ta_____ | C7: François TARDITI | D7: =IF(C7="","",(VLOOKUP(C7,Table!$A:$C,3,FALSE))) -> Stake Sauber | E7: =SUM(G7:AD7) -> 136 | F7: =E7-MAX($E$4:$E$14) -> -122 | G7: 26 | H7: 25 | I7: 10 | J7: 18 | K7: 18 | L7: 12 | O7: 0 | P7: 6 | Q7: 10 | R7: 11 | AE7: =AVERAGE(G7:AD7) -> 13.6 | AG7: 4
A8: 5 | B8: =IF(C8="","",(VLOOKUP(C8,Table!$A:$B,2,FALSE))) -> MacAdamO-34 | C8: Julien ADAMO | D8: =IF(C8="","",(VLOOKUP(C8,Table!$A:$C,3,FALSE))) -> McLaren | E8: =SUM(G8:AD8) -> 122 | F8: =E8-MAX($E$4:$E$14) -> -136 | G8: 7 | H8: 0 | I8: 8 | J8: 13 | K8: 8 | L8: 0 | O8: 8 | P8: 15 | Q8: 12 | R8: 12 | S8: 12 | T8: 27 | AE8: =AVERAGE(G8:AD8) -> 10.166667 | AG8: 5
A9: 6 | B9: =IF(C9="","",(VLOOKUP(C9,Table!$A:$B,2,FALSE))) -> Petibaske | C9: Mathieu BARBAUD | D9: =IF(C9="","",(VLOOKUP(C9,Table!$A:$C,3,FALSE))) -> Aston Martin | E9: =SUM(G9:AD9) -> 104 | F9: =E9-MAX($E$4:$E$14) -> -154 | G9: 10 | H9: 10 | K9: 15 | L9: 0 | O9: 15 | P9: 18 | Q9: 18 | R9: 18 | AE9: =AVERAGE(G9:AD9) -> 13 | AG9: 6
A10: 7 | B10: =IF(C10="","",(VLOOKUP(C10,Table!$A:$B,2,FALSE))) -> GiOvA88mc | C10: Cédric GIOVANETTI | D10: =IF(C10="","",(VLOOKUP(C10,Table!$A:$C,3,FALSE))) -> Ferrari | E10: =SUM(G10:AD10) -> 80 | F10: =E10-MAX($E$4:$E$14) -> -178 | G10: 15 | H10: 15 | I10: 0 | J10: 0 | K10: 0 | L10: 0 | M10: 16 | N10: 15 | S10: 19 | T10: 0 | AE10: =AVERAGE(G10:AD10) -> 8 | AG10: 7
A11: 8 | B11: =IF(C11="","",(VLOOKUP(C11,Table!$A:$B,2,FALSE))) -> Ribe-888 | C11: Sébastien RIBERI | D11: =IF(C11="","",(VLOOKUP(C11,Table!$A:$C,3,FALSE))) -> Alpine | E11: =SUM(G11:AD11) -> 53 | F11: =E11-MAX($E$4:$E$14) -> -205 | G11: 19 | H11: 0 | I11: 12 | J11: 0 | K11: 7 | L11: 0 | Q11: 15 | R11: 0 | AE11: =AVERAGE(G11:AD11) -> 6.625 | AG11: 13
A12: 9 | B12: =IF(C12="","",(VLOOKUP(C12,Table!$A:$B,2,FALSE))) -> Chateau98000 | C12: Nicolas CASTEL | D12: =IF(C12="","",(VLOOKUP(C12,Table!$A:$C,3,FALSE))) -> Ferrari | E12: =SUM(G12:AD12) -> 30 | F12: =E12-MAX($E$4:$E$14) -> -228 | I12: 0 | J12: 10 | O12: 12 | P12: 8 | S12: 0 | AE12: =AVERAGE(G12:AD12) -> 6
A13: 10 | B13: =IF(C13="","",(VLOOKUP(C13,Table!$A:$B,2,FALSE))) -> Sharky06200 | C13: Tony BRUNET | D13: =IF(C13="","",(VLOOKUP(C13,Table!$A:$C,3,FALSE))) -> McLaren | E13: =SUM(G13:AD13) -> 0 | F13: =E13-MAX($E$4:$E$14) -> -258 | AE13: =AVERAGE(G13:AD13) -> #DIV/0!
A14: 11 | B14: =IF(C14="","",(VLOOKUP(C14,Table!$A:$B,2,FALSE))) -> thomasca | C14: Thomas CARREDA | D14: =IF(C14="","",(VLOOKUP(C14,Table!$A:$C,3,FALSE))) -> 0 | E14: =SUM(G14:AD14) -> 0 | F14: =E14-MAX($E$4:$E$14) -> -258 | AE14: =AVERAGE(G14:AD14) -> #DIV/0!
AG15: 16
A16: 1 | B16: Stake Sauber | E16: =SUM(G16:AD16) -> 325 | F16: =E16-MAX($E$16:$E$25) -> 0 | G16: =IF(G$1="","",SUMIF($D$4:$D$14,$B16,G$4:G$14)) -> 38 | H16: =IF(H$1="","",SUMIF($D$4:$D$14,$B16,H$4:H$14)) -> 33 | I16: =IF(I$1="","",SUMIF($D$4:$D$14,$B16,I$4:I$14)) -> 28 | J16: =IF(J$1="","",SUMIF($D$4:$D$14,$B16,J$4:J$14)) -> 18 | K16: =IF(K$1="","",SUMIF($D$4:$D$14,$B16,K$4:K$14)) -> 28 | L16: =IF(L$1="","",SUMIF($D$4:$D$14,$B16,L$4:L$14)) -> 30 | M16: =IF(M$1="","",SUMIF($D$4:$D$14,$B16,M$4:M$14)) -> 19 | N16: =IF(N$1="","",SUMIF($D$4:$D$14,$B16,N$4:N$14)) -> 25 | ... AD16: =IF(AD$1="","",SUMIF($D$4:$D$14,$B16,AD$4:AD$14)) | AE16: =AVERAGE(G16:AD16) -> 23.214286 | AG16: 17
A17: 2 | B17: Mercedes | E17: =SUM(G17:AD17) -> 258 | F17: =E17-MAX($E$16:$E$25) -> -67 | G17: =IF(G$1="","",SUMIF($D$4:$D$14,$B17,G$4:G$14)) -> 0 | H17: =IF(H$1="","",SUMIF($D$4:$D$14,$B17,H$4:H$14)) -> 14 | I17: =IF(I$1="","",SUMIF($D$4:$D$14,$B17,I$4:I$14)) -> 27 | J17: =IF(J$1="","",SUMIF($D$4:$D$14,$B17,J$4:J$14)) -> 27 | K17: =IF(K$1="","",SUMIF($D$4:$D$14,$B17,K$4:K$14)) -> 27 | L17: =IF(L$1="","",SUMIF($D$4:$D$14,$B17,L$4:L$14)) -> 27 | M17: =IF(M$1="","",SUMIF($D$4:$D$14,$B17,M$4:M$14)) -> 26 | N17: =IF(N$1="","",SUMIF($D$4:$D$14,$B17,N$4:N$14)) -> 2 | ... AD17: =IF(AD$1="","",SUMIF($D$4:$D$14,$B17,AD$4:AD$14)) | AE17: =AVERAGE(G17:AD17) -> 18.428571 | AG17: 18
A18: 3 | B18: Alpine | E18: =SUM(G18:AD18) -> 214 | F18: =E18-MAX($E$16:$E$25) -> -111 | G18: =IF(G$1="","",SUMIF($D$4:$D$14,$B18,G$4:G$14)) -> 27 | H18: =IF(H$1="","",SUMIF($D$4:$D$14,$B18,H$4:H$14)) -> 18 | I18: =IF(I$1="","",SUMIF($D$4:$D$14,$B18,I$4:I$14)) -> 27 | J18: =IF(J$1="","",SUMIF($D$4:$D$14,$B18,J$4:J$14)) -> 15 | K18: =IF(K$1="","",SUMIF($D$4:$D$14,$B18,K$4:K$14)) -> 19 | L18: =IF(L$1="","",SUMIF($D$4:$D$14,$B18,L$4:L$14)) -> 15 | M18: =IF(M$1="","",SUMIF($D$4:$D$14,$B18,M$4:M$14)) -> 0 | N18: =IF(N$1="","",SUMIF($D$4:$D$14,$B18,N$4:N$14)) -> 18 | ... AD18: =IF(AD$1="","",SUMIF($D$4:$D$14,$B18,AD$4:AD$14)) | AE18: =AVERAGE(G18:AD18) -> 15.285714 | AG18: 19
A19: 4 | B19: McLaren | E19: =SUM(G19:AD19) -> 122 | F19: =E19-MAX($E$16:$E$25) -> -203 | G19: =IF(G$1="","",SUMIF($D$4:$D$14,$B19,G$4:G$14)) -> 7 | H19: =IF(H$1="","",SUMIF($D$4:$D$14,$B19,H$4:H$14)) -> 0 | I19: =IF(I$1="","",SUMIF($D$4:$D$14,$B19,I$4:I$14)) -> 8 | J19: =IF(J$1="","",SUMIF($D$4:$D$14,$B19,J$4:J$14)) -> 13 | K19: =IF(K$1="","",SUMIF($D$4:$D$14,$B19,K$4:K$14)) -> 8 | L19: =IF(L$1="","",SUMIF($D$4:$D$14,$B19,L$4:L$14)) -> 0 | M19: =IF(M$1="","",SUMIF($D$4:$D$14,$B19,M$4:M$14)) -> 0 | N19: =IF(N$1="","",SUMIF($D$4:$D$14,$B19,N$4:N$14)) -> 0 | ... AD19: =IF(AD$1="","",SUMIF($D$4:$D$14,$B19,AD$4:AD$14)) | AE19: =AVERAGE(G19:AD19) -> 8.7142857 | AG19: 20
A20: 5 | B20: Ferrari | E20: =SUM(G20:AD20) -> 110 | F20: =E20-MAX($E$16:$E$25) -> -215 | G20: =IF(G$1="","",SUMIF($D$4:$D$14,$B20,G$4:G$14)) -> 15 | H20: =IF(H$1="","",SUMIF($D$4:$D$14,$B20,H$4:H$14)) -> 15 | I20: =IF(I$1="","",SUMIF($D$4:$D$14,$B20,I$4:I$14)) -> 0 | J20: =IF(J$1="","",SUMIF($D$4:$D$14,$B20,J$4:J$14)) -> 10 | K20: =IF(K$1="","",SUMIF($D$4:$D$14,$B20,K$4:K$14)) -> 0 | L20: =IF(L$1="","",SUMIF($D$4:$D$14,$B20,L$4:L$14)) -> 0 | M20: =IF(M$1="","",SUMIF($D$4:$D$14,$B20,M$4:M$14)) -> 16 | N20: =IF(N$1="","",SUMIF($D$4:$D$14,$B20,N$4:N$14)) -> 15 | ... AD20: =IF(AD$1="","",SUMIF($D$4:$D$14,$B20,AD$4:AD$14)) | AE20: =AVERAGE(G20:AD20) -> 7.8571429 | AG20: Pole
A21: 6 | B21: Aston Martin | E21: =SUM(G21:AD21) -> 104 | F21: =E21-MAX($E$16:$E$25) -> -221 | G21: =IF(G$1="","",SUMIF($D$4:$D$14,$B21,G$4:G$14)) -> 10 | H21: =IF(H$1="","",SUMIF($D$4:$D$14,$B21,H$4:H$14)) -> 10 | I21: =IF(I$1="","",SUMIF($D$4:$D$14,$B21,I$4:I$14)) -> 0 | J21: =IF(J$1="","",SUMIF($D$4:$D$14,$B21,J$4:J$14)) -> 0 | K21: =IF(K$1="","",SUMIF($D$4:$D$14,$B21,K$4:K$14)) -> 15 | L21: =IF(L$1="","",SUMIF($D$4:$D$14,$B21,L$4:L$14)) -> 0 | M21: =IF(M$1="","",SUMIF($D$4:$D$14,$B21,M$4:M$14)) -> 0 | N21: =IF(N$1="","",SUMIF($D$4:$D$14,$B21,N$4:N$14)) -> 0 | ... AD21: =IF(AD$1="","",SUMIF($D$4:$D$14,$B21,AD$4:AD$14)) | AE21: =AVERAGE(G21:AD21) -> 7.4285714 | AG21: MT
A22: 7 | B22: Haas | E22: =SUM(G22:AD22) -> 0 | F22: =E22-MAX($E$16:$E$25) -> -325 | G22: =IF(G$1="","",SUMIF($D$4:$D$14,$B22,G$4:G$14)) -> 0 | H22: =IF(H$1="","",SUMIF($D$4:$D$14,$B22,H$4:H$14)) -> 0 | I22: =IF(I$1="","",SUMIF($D$4:$D$14,$B22,I$4:I$14)) -> 0 | J22: =IF(J$1="","",SUMIF($D$4:$D$14,$B22,J$4:J$14)) -> 0 | K22: =IF(K$1="","",SUMIF($D$4:$D$14,$B22,K$4:K$14)) -> 0 | L22: =IF(L$1="","",SUMIF($D$4:$D$14,$B22,L$4:L$14)) -> 0 | M22: =IF(M$1="","",SUMIF($D$4:$D$14,$B22,M$4:M$14)) -> 0 | N22: =IF(N$1="","",SUMIF($D$4:$D$14,$B22,N$4:N$14)) -> 0 | ... AD22: =IF(AD$1="","",SUMIF($D$4:$D$14,$B22,AD$4:AD$14)) | AE22: =AVERAGE(G22:AD22) -> 0 | AG22: Pilote
A23: 8 | B23: Red Bull | E23: =SUM(G23:AD23) -> 0 | F23: =E23-MAX($E$16:$E$25) -> -325 | G23: =IF(G$1="","",SUMIF($D$4:$D$14,$B23,G$4:G$14)) -> 0 | H23: =IF(H$1="","",SUMIF($D$4:$D$14,$B23,H$4:H$14)) -> 0 | I23: =IF(I$1="","",SUMIF($D$4:$D$14,$B23,I$4:I$14)) -> 0 | J23: =IF(J$1="","",SUMIF($D$4:$D$14,$B23,J$4:J$14)) -> 0 | K23: =IF(K$1="","",SUMIF($D$4:$D$14,$B23,K$4:K$14)) -> 0 | L23: =IF(L$1="","",SUMIF($D$4:$D$14,$B23,L$4:L$14)) -> 0 | M23: =IF(M$1="","",SUMIF($D$4:$D$14,$B23,M$4:M$14)) -> 0 | N23: =IF(N$1="","",SUMIF($D$4:$D$14,$B23,N$4:N$14)) -> 0 | ... AD23: =IF(AD$1="","",SUMIF($D$4:$D$14,$B23,AD$4:AD$14)) | AE23: =AVERAGE(G23:AD23) -> 0
A24: 9 | B24: Alpha Tauri | E24: =SUM(G24:AD24) -> 0 | F24: =E24-MAX($E$16:$E$25) -> -325 | G24: =IF(G$1="","",SUMIF($D$4:$D$14,$B24,G$4:G$14)) -> 0 | H24: =IF(H$1="","",SUMIF($D$4:$D$14,$B24,H$4:H$14)) -> 0 | I24: =IF(I$1="","",SUMIF($D$4:$D$14,$B24,I$4:I$14)) -> 0 | J24: =IF(J$1="","",SUMIF($D$4:$D$14,$B24,J$4:J$14)) -> 0 | K24: =IF(K$1="","",SUMIF($D$4:$D$14,$B24,K$4:K$14)) -> 0 | L24: =IF(L$1="","",SUMIF($D$4:$D$14,$B24,L$4:L$14)) -> 0 | M24: =IF(M$1="","",SUMIF($D$4:$D$14,$B24,M$4:M$14)) -> 0 | N24: =IF(N$1="","",SUMIF($D$4:$D$14,$B24,N$4:N$14)) -> 0 | ... AD24: =IF(AD$1="","",SUMIF($D$4:$D$14,$B24,AD$4:AD$14)) | AE24: =AVERAGE(G24:AD24) -> 0
A25: 10 | B25: Williams | E25: =SUM(G25:AD25) -> 0 | F25: =E25-MAX($E$16:$E$25) -> -325 | G25: =IF(G$1="","",SUMIF($D$4:$D$14,$B25,G$4:G$14)) -> 0 | H25: =IF(H$1="","",SUMIF($D$4:$D$14,$B25,H$4:H$14)) -> 0 | I25: =IF(I$1="","",SUMIF($D$4:$D$14,$B25,I$4:I$14)) -> 0 | J25: =IF(J$1="","",SUMIF($D$4:$D$14,$B25,J$4:J$14)) -> 0 | K25: =IF(K$1="","",SUMIF($D$4:$D$14,$B25,K$4:K$14)) -> 0 | L25: =IF(L$1="","",SUMIF($D$4:$D$14,$B25,L$4:L$14)) -> 0 | M25: =IF(M$1="","",SUMIF($D$4:$D$14,$B25,M$4:M$14)) -> 0 | N25: =IF(N$1="","",SUMIF($D$4:$D$14,$B25,N$4:N$14)) -> 0 | ... AD25: =IF(AD$1="","",SUMIF($D$4:$D$14,$B25,AD$4:AD$14)) | AE25: =AVERAGE(G25:AD25) -> 0
