Workbook
Name FERIES: #REF!
Name HEURES: #REF!
Name Suivi_Consultants: 'Test suivi jour'!$A$8:$A$26
Name Suivi_Jours: 'Test suivi jour'!$B$8:$NB$26

Sheet Synthèse
B1: JT | C1: CP | D1: (CP) | E1: R | F1: (R) | G1: M | H1: I | I1: SS | J1: (SS) | K1: CO | L1: (CO) | M1: JF | N1: EF | O1: total | R1: PV
A2: Consultant 1 | B2: =SUMPRODUCT((Suivi_Consultants=$A2)*(Suivi_Jours=B$1)) -> 0 | C2: =SUMPRODUCT((Suivi_Consultants=$A2)*(Suivi_Jours=C$1)) -> 0 | D2: =SUMPRODUCT((Suivi_Consultants=$A2)*(Suivi_Jours=D$1)) -> 0 | E2: =SUMPRODUCT((Suivi_Consultants=$A2)*(Suivi_Jours=E$1)) -> 0 | F2: =SUMPRODUCT((Suivi_Consultants=$A2)*(Suivi_Jours=F$1)) -> 0 | G2: =SUMPRODUCT((Suivi_Consultants=$A2)*(Suivi_Jours=G$1)) -> 0 | H2: =SUMPRODUCT((Suivi_Consultants=$A2)*(Suivi_Jours=H$1)) -> 0 | I2: =SUMPRODUCT((Suivi_Consultants=$A2)*(Suivi_Jours=I$1)) -> 0 | ... N2: =SUMPRODUCT((Suivi_Consultants=$A2)*(Suivi_Jours=N$1)) -> 0 | O2: =SUM(B2:N2) -> 0 | R2: 465 | S2: =B2*R2 -> 0
A3: Consultant 2 | B3: =SUMPRODUCT((Suivi_Consultants=$A3)*(Suivi_Jours=B$1)) -> 62 | C3: =SUMPRODUCT((Suivi_Consultants=$A3)*(Suivi_Jours=C$1)) -> 0 | D3: =SUMPRODUCT((Suivi_Consultants=$A3)*(Suivi_Jours=D$1)) -> 0 | E3: =SUMPRODUCT((Suivi_Consultants=$A3)*(Suivi_Jours=E$1)) -> 3 | F3: =SUMPRODUCT((Suivi_Consultants=$A3)*(Suivi_Jours=F$1)) -> 0 | G3: =SUMPRODUCT((Suivi_Consultants=$A3)*(Suivi_Jours=G$1)) -> 0 | H3: =SUMPRODUCT((Suivi_Consultants=$A3)*(Suivi_Jours=H$1)) -> 0 | I3: =SUMPRODUCT((Suivi_Consultants=$A3)*(Suivi_Jours=I$1)) -> 0 | ... N3: =SUMPRODUCT((Suivi_Consultants=$A3)*(Suivi_Jours=N$1)) -> 0 | O3: =SUM(B3:N3) -> 65 | R3: 260 | S3: =B3*R3 -> 16120
A4: Consultant 3 | B4: =SUMPRODUCT((Suivi_Consultants=$A4)*(Suivi_Jours=B$1)) -> 41 | C4: =SUMPRODUCT((Suivi_Consultants=$A4)*(Suivi_Jours=C$1)) -> 10 | D4: =SUMPRODUCT((Suivi_Consultants=$A4)*(Suivi_Jours=D$1)) -> 0 | E4: =SUMPRODUCT((Suivi_Consultants=$A4)*(Suivi_Jours=E$1)) -> 5 | F4: =SUMPRODUCT((Suivi_Consultants=$A4)*(Suivi_Jours=F$1)) -> 0 | G4: =SUMPRODUCT((Suivi_Consultants=$A4)*(Suivi_Jours=G$1)) -> 0 | H4: =SUMPRODUCT((Suivi_Consultants=$A4)*(Suivi_Jours=H$1)) -> 9 | I4: =SUMPRODUCT((Suivi_Consultants=$A4)*(Suivi_Jours=I$1)) -> 0 | ... N4: =SUMPRODUCT((Suivi_Consultants=$A4)*(Suivi_Jours=N$1)) -> 0 | O4: =SUM(B4:N4) -> 65 | R4: 260 | S4: =B4*R4 -> 10660
A5: Consultant 4 | B5: =SUMPRODUCT((Suivi_Consultants=$A5)*(Suivi_Jours=B$1)) -> 64 | C5: =SUMPRODUCT((Suivi_Consultants=$A5)*(Suivi_Jours=C$1)) -> 0 | D5: =SUMPRODUCT((Suivi_Consultants=$A5)*(Suivi_Jours=D$1)) -> 0 | E5: =SUMPRODUCT((Suivi_Consultants=$A5)*(Suivi_Jours=E$1)) -> 1 | F5: =SUMPRODUCT((Suivi_Consultants=$A5)*(Suivi_Jours=F$1)) -> 0 | G5: =SUMPRODUCT((Suivi_Consultants=$A5)*(Suivi_Jours=G$1)) -> 0 | H5: =SUMPRODUCT((Suivi_Consultants=$A5)*(Suivi_Jours=H$1)) -> 0 | I5: =SUMPRODUCT((Suivi_Consultants=$A5)*(Suivi_Jours=I$1)) -> 0 | ... N5: =SUMPRODUCT((Suivi_Consultants=$A5)*(Suivi_Jours=N$1)) -> 0 | O5: =SUM(B5:N5) -> 65 | R5: 330 | S5: =B5*R5 -> 21120
A6: Consultant 5 | B6: =SUMPRODUCT((Suivi_Consultants=$A6)*(Suivi_Jours=B$1)) -> 62 | C6: =SUMPRODUCT((Suivi_Consultants=$A6)*(Suivi_Jours=C$1)) -> 0 | D6: =SUMPRODUCT((Suivi_Consultants=$A6)*(Suivi_Jours=D$1)) -> 0 | E6: =SUMPRODUCT((Suivi_Consultants=$A6)*(Suivi_Jours=E$1)) -> 0 | F6: =SUMPRODUCT((Suivi_Consultants=$A6)*(Suivi_Jours=F$1)) -> 0 | G6: =SUMPRODUCT((Suivi_Consultants=$A6)*(Suivi_Jours=G$1)) -> 1 | H6: =SUMPRODUCT((Suivi_Consultants=$A6)*(Suivi_Jours=H$1)) -> 2 | I6: =SUMPRODUCT((Suivi_Consultants=$A6)*(Suivi_Jours=I$1)) -> 0 | ... N6: =SUMPRODUCT((Suivi_Consultants=$A6)*(Suivi_Jours=N$1)) -> 0 | O6: =SUM(B6:N6) -> 65 | R6: 290 | S6: =B6*R6 -> 17980
A7: Consultant 6 | B7: =SUMPRODUCT((Suivi_Consultants=$A7)*(Suivi_Jours=B$1)) -> 64 | C7: =SUMPRODUCT((Suivi_Consultants=$A7)*(Suivi_Jours=C$1)) -> 3 | D7: =SUMPRODUCT((Suivi_Consultants=$A7)*(Suivi_Jours=D$1)) -> 0 | E7: =SUMPRODUCT((Suivi_Consultants=$A7)*(Suivi_Jours=E$1)) -> 0 | F7: =SUMPRODUCT((Suivi_Consultants=$A7)*(Suivi_Jours=F$1)) -> 0 | G7: =SUMPRODUCT((Suivi_Consultants=$A7)*(Suivi_Jours=G$1)) -> 0 | H7: =SUMPRODUCT((Suivi_Consultants=$A7)*(Suivi_Jours=H$1)) -> 0 | I7: =SUMPRODUCT((Suivi_Consultants=$A7)*(Suivi_Jours=I$1)) -> 0 | ... N7: =SUMPRODUCT((Suivi_Consultants=$A7)*(Suivi_Jours=N$1)) -> 0 | O7: =SUM(B7:N7) -> 67 | R7: 290 | S7: =B7*R7 -> 18560
A8: Consultant 7 | B8: =SUMPRODUCT((Suivi_Consultants=$A8)*(Suivi_Jours=B$1)) -> 64 | C8: =SUMPRODUCT((Suivi_Consultants=$A8)*(Suivi_Jours=C$1)) -> 0 | D8: =SUMPRODUCT((Suivi_Consultants=$A8)*(Suivi_Jours=D$1)) -> 0 | E8: =SUMPRODUCT((Suivi_Consultants=$A8)*(Suivi_Jours=E$1)) -> 1 | F8: =SUMPRODUCT((Suivi_Consultants=$A8)*(Suivi_Jours=F$1)) -> 0 | G8: =SUMPRODUCT((Suivi_Consultants=$A8)*(Suivi_Jours=G$1)) -> 0 | H8: =SUMPRODUCT((Suivi_Consultants=$A8)*(Suivi_Jours=H$1)) -> 0 | I8: =SUMPRODUCT((Suivi_Consultants=$A8)*(Suivi_Jours=I$1)) -> 0 | ... N8: =SUMPRODUCT((Suivi_Consultants=$A8)*(Suivi_Jours=N$1)) -> 0 | O8: =SUM(B8:N8) -> 65 | R8: 290 | S8: =B8*R8 -> 18560
A9: Consultant 8 | B9: =SUMPRODUCT((Suivi_Consultants=$A9)*(Suivi_Jours=B$1)) -> 62 | C9: =SUMPRODUCT((Suivi_Consultants=$A9)*(Suivi_Jours=C$1)) -> 0 | D9: =SUMPRODUCT((Suivi_Consultants=$A9)*(Suivi_Jours=D$1)) -> 0 | E9: =SUMPRODUCT((Suivi_Consultants=$A9)*(Suivi_Jours=E$1)) -> 2 | F9: =SUMPRODUCT((Suivi_Consultants=$A9)*(Suivi_Jours=F$1)) -> 1 | G9: =SUMPRODUCT((Suivi_Consultants=$A9)*(Suivi_Jours=G$1)) -> 0 | H9: =SUMPRODUCT((Suivi_Consultants=$A9)*(Suivi_Jours=H$1)) -> 0 | I9: =SUMPRODUCT((Suivi_Consultants=$A9)*(Suivi_Jours=I$1)) -> 0 | ... N9: =SUMPRODUCT((Suivi_Consultants=$A9)*(Suivi_Jours=N$1)) -> 0 | O9: =SUM(B9:N9) -> 65 | R9: 280 | S9: =B9*R9 -> 17360
A10: Consultant 9 | B10: =SUMPRODUCT((Suivi_Consultants=$A10)*(Suivi_Jours=B$1)) -> 60 | C10: =SUMPRODUCT((Suivi_Consultants=$A10)*(Suivi_Jours=C$1)) -> 0 | D10: =SUMPRODUCT((Suivi_Consultants=$A10)*(Suivi_Jours=D$1)) -> 0 | E10: =SUMPRODUCT((Suivi_Consultants=$A10)*(Suivi_Jours=E$1)) -> 0 | F10: =SUMPRODUCT((Suivi_Consultants=$A10)*(Suivi_Jours=F$1)) -> 0 | G10: =SUMPRODUCT((Suivi_Consultants=$A10)*(Suivi_Jours=G$1)) -> 3 | H10: =SUMPRODUCT((Suivi_Consultants=$A10)*(Suivi_Jours=H$1)) -> 0 | I10: =SUMPRODUCT((Suivi_Consultants=$A10)*(Suivi_Jours=I$1)) -> 0 | ... N10: =SUMPRODUCT((Suivi_Consultants=$A10)*(Suivi_Jours=N$1)) -> 0 | O10: =SUM(B10:N10) -> 65 | R10: 285 | S10: =B10*R10 -> 17100
A11: Consultant 10 | B11: =SUMPRODUCT((Suivi_Consultants=$A11)*(Suivi_Jours=B$1)) -> 51 | C11: =SUMPRODUCT((Suivi_Consultants=$A11)*(Suivi_Jours=C$1)) -> 1 | D11: =SUMPRODUCT((Suivi_Consultants=$A11)*(Suivi_Jours=D$1)) -> 0 | E11: =SUMPRODUCT((Suivi_Consultants=$A11)*(Suivi_Jours=E$1)) -> 1 | F11: =SUMPRODUCT((Suivi_Consultants=$A11)*(Suivi_Jours=F$1)) -> 1 | G11: =SUMPRODUCT((Suivi_Consultants=$A11)*(Suivi_Jours=G$1)) -> 0 | H11: =SUMPRODUCT((Suivi_Consultants=$A11)*(Suivi_Jours=H$1)) -> 0 | I11: =SUMPRODUCT((Suivi_Consultants=$A11)*(Suivi_Jours=I$1)) -> 0 | ... N11: =SUMPRODUCT((Suivi_Consultants=$A11)*(Suivi_Jours=N$1)) -> 11 | O11: =SUM(B11:N11) -> 65 | R11: 330 | S11: =B11*R11 -> 16830
A12: Consultant 11 | B12: =SUMPRODUCT((Suivi_Consultants=$A12)*(Suivi_Jours=B$1)) -> 63 | C12: =SUMPRODUCT((Suivi_Consultants=$A12)*(Suivi_Jours=C$1)) -> 1 | D12: =SUMPRODUCT((Suivi_Consultants=$A12)*(Suivi_Jours=D$1)) -> 0 | E12: =SUMPRODUCT((Suivi_Consultants=$A12)*(Suivi_Jours=E$1)) -> 1 | F12: =SUMPRODUCT((Suivi_Consultants=$A12)*(Suivi_Jours=F$1)) -> 0 | G12: =SUMPRODUCT((Suivi_Consultants=$A12)*(Suivi_Jours=G$1)) -> 0 | H12: =SUMPRODUCT((Suivi_Consultants=$A12)*(Suivi_Jours=H$1)) -> 0 | I12: =SUMPRODUCT((Suivi_Consultants=$A12)*(Suivi_Jours=I$1)) -> 0 | ... N12: =SUMPRODUCT((Suivi_Consultants=$A12)*(Suivi_Jours=N$1)) -> 0 | O12: =SUM(B12:N12) -> 65 | R12: 220 | S12: =B12*R12 -> 13860
A13: Consultant 12 | B13: =SUMPRODUCT((Suivi_Consultants=$A13)*(Suivi_Jours=B$1)) -> 64 | C13: =SUMPRODUCT((Suivi_Consultants=$A13)*(Suivi_Jours=C$1)) -> 1 | D13: =SUMPRODUCT((Suivi_Consultants=$A13)*(Suivi_Jours=D$1)) -> 0 | E13: =SUMPRODUCT((Suivi_Consultants=$A13)*(Suivi_Jours=E$1)) -> 0 | F13: =SUMPRODUCT((Suivi_Consultants=$A13)*(Suivi_Jours=F$1)) -> 0 | G13: =SUMPRODUCT((Suivi_Consultants=$A13)*(Suivi_Jours=G$1)) -> 0 | H13: =SUMPRODUCT((Suivi_Consultants=$A13)*(Suivi_Jours=H$1)) -> 0 | I13: =SUMPRODUCT((Suivi_Consultants=$A13)*(Suivi_Jours=I$1)) -> 0 | ... N13: =SUMPRODUCT((Suivi_Consultants=$A13)*(Suivi_Jours=N$1)) -> 0 | O13: =SUM(B13:N13) -> 65 | S13: =B13*R13 -> 0
A14: Consultant 13 | B14: =SUMPRODUCT((Suivi_Consultants=$A14)*(Suivi_Jours=B$1)) -> 64 | C14: =SUMPRODUCT((Suivi_Consultants=$A14)*(Suivi_Jours=C$1)) -> 1 | D14: =SUMPRODUCT((Suivi_Consultants=$A14)*(Suivi_Jours=D$1)) -> 0 | E14: =SUMPRODUCT((Suivi_Consultants=$A14)*(Suivi_Jours=E$1)) -> 0 | F14: =SUMPRODUCT((Suivi_Consultants=$A14)*(Suivi_Jours=F$1)) -> 0 | G14: =SUMPRODUCT((Suivi_Consultants=$A14)*(Suivi_Jours=G$1)) -> 0 | H14: =SUMPRODUCT((Suivi_Consultants=$A14)*(Suivi_Jours=H$1)) -> 0 | I14: =SUMPRODUCT((Suivi_Consultants=$A14)*(Suivi_Jours=I$1)) -> 0 | ... N14: =SUMPRODUCT((Suivi_Consultants=$A14)*(Suivi_Jours=N$1)) -> 0 | O14: =SUM(B14:N14) -> 65 | R14: 385 | S14: =B14*R14 -> 24640
A15: Consultant 14 | B15: =SUMPRODUCT((Suivi_Consultants=$A15)*(Suivi_Jours=B$1)) -> 63 | C15: =SUMPRODUCT((Suivi_Consultants=$A15)*(Suivi_Jours=C$1)) -> 0 | D15: =SUMPRODUCT((Suivi_Consultants=$A15)*(Suivi_Jours=D$1)) -> 0 | E15: =SUMPRODUCT((Suivi_Consultants=$A15)*(Suivi_Jours=E$1)) -> 2 | F15: =SUMPRODUCT((Suivi_Consultants=$A15)*(Suivi_Jours=F$1)) -> 0 | G15: =SUMPRODUCT((Suivi_Consultants=$A15)*(Suivi_Jours=G$1)) -> 0 | H15: =SUMPRODUCT((Suivi_Consultants=$A15)*(Suivi_Jours=H$1)) -> 0 | I15: =SUMPRODUCT((Suivi_Consultants=$A15)*(Suivi_Jours=I$1)) -> 0 | ... N15: =SUMPRODUCT((Suivi_Consultants=$A15)*(Suivi_Jours=N$1)) -> 0 | O15: =SUM(B15:N15) -> 65 | R15: 380 | S15: =B15*R15 -> 23940
A16: Consultant 15 | B16: =SUMPRODUCT((Suivi_Consultants=$A16)*(Suivi_Jours=B$1)) -> 35 | C16: =SUMPRODUCT((Suivi_Consultants=$A16)*(Suivi_Jours=C$1)) -> 0 | D16: =SUMPRODUCT((Suivi_Consultants=$A16)*(Suivi_Jours=D$1)) -> 0 | E16: =SUMPRODUCT((Suivi_Consultants=$A16)*(Suivi_Jours=E$1)) -> 5 | F16: =SUMPRODUCT((Suivi_Consultants=$A16)*(Suivi_Jours=F$1)) -> 0 | G16: =SUMPRODUCT((Suivi_Consultants=$A16)*(Suivi_Jours=G$1)) -> 25 | H16: =SUMPRODUCT((Suivi_Consultants=$A16)*(Suivi_Jours=H$1)) -> 0 | I16: =SUMPRODUCT((Suivi_Consultants=$A16)*(Suivi_Jours=I$1)) -> 0 | ... N16: =SUMPRODUCT((Suivi_Consultants=$A16)*(Suivi_Jours=N$1)) -> 0 | O16: =SUM(B16:N16) -> 65 | R16: 290 | S16: =B16*R16 -> 10150
A17: Consultant 16 | B17: =SUMPRODUCT((Suivi_Consultants=$A17)*(Suivi_Jours=B$1)) -> 62 | C17: =SUMPRODUCT((Suivi_Consultants=$A17)*(Suivi_Jours=C$1)) -> 0 | D17: =SUMPRODUCT((Suivi_Consultants=$A17)*(Suivi_Jours=D$1)) -> 0 | E17: =SUMPRODUCT((Suivi_Consultants=$A17)*(Suivi_Jours=E$1)) -> 1 | F17: =SUMPRODUCT((Suivi_Consultants=$A17)*(Suivi_Jours=F$1)) -> 0 | G17: =SUMPRODUCT((Suivi_Consultants=$A17)*(Suivi_Jours=G$1)) -> 0 | H17: =SUMPRODUCT((Suivi_Consultants=$A17)*(Suivi_Jours=H$1)) -> 0 | I17: =SUMPRODUCT((Suivi_Consultants=$A17)*(Suivi_Jours=I$1)) -> 0 | ... N17: =SUMPRODUCT((Suivi_Consultants=$A17)*(Suivi_Jours=N$1)) -> 0 | O17: =SUM(B17:N17) -> 65 | R17: 300 | S17: =B17*R17 -> 18600
A18: Consultant 17 | B18: =SUMPRODUCT((Suivi_Consultants=$A18)*(Suivi_Jours=B$1)) -> 59 | C18: =SUMPRODUCT((Suivi_Consultants=$A18)*(Suivi_Jours=C$1)) -> 0 | D18: =SUMPRODUCT((Suivi_Consultants=$A18)*(Suivi_Jours=D$1)) -> 0 | E18: =SUMPRODUCT((Suivi_Consultants=$A18)*(Suivi_Jours=E$1)) -> 1 | F18: =SUMPRODUCT((Suivi_Consultants=$A18)*(Suivi_Jours=F$1)) -> 0 | G18: =SUMPRODUCT((Suivi_Consultants=$A18)*(Suivi_Jours=G$1)) -> 0 | H18: =SUMPRODUCT((Suivi_Consultants=$A18)*(Suivi_Jours=H$1)) -> 3 | I18: =SUMPRODUCT((Suivi_Consultants=$A18)*(Suivi_Jours=I$1)) -> 0 | ... N18: =SUMPRODUCT((Suivi_Consultants=$A18)*(Suivi_Jours=N$1)) -> 0 | O18: =SUM(B18:N18) -> 65 | R18: 260 | S18: =B18*R18 -> 15340
A19: Consultant 18 | B19: =SUMPRODUCT((Suivi_Consultants=$A19)*(Suivi_Jours=B$1)) -> 5 | C19: =SUMPRODUCT((Suivi_Consultants=$A19)*(Suivi_Jours=C$1)) -> 0 | D19: =SUMPRODUCT((Suivi_Consultants=$A19)*(Suivi_Jours=D$1)) -> 0 | E19: =SUMPRODUCT((Suivi_Consultants=$A19)*(Suivi_Jours=E$1)) -> 0 | F19: =SUMPRODUCT((Suivi_Consultants=$A19)*(Suivi_Jours=F$1)) -> 0 | G19: =SUMPRODUCT((Suivi_Consultants=$A19)*(Suivi_Jours=G$1)) -> 0 | H19: =SUMPRODUCT((Suivi_Consultants=$A19)*(Suivi_Jours=H$1)) -> 0 | I19: =SUMPRODUCT((Suivi_Consultants=$A19)*(Suivi_Jours=I$1)) -> 0 | ... N19: =SUMPRODUCT((Suivi_Consultants=$A19)*(Suivi_Jours=N$1)) -> 0 | O19: =SUM(B19:N19) -> 5 | R19: 265 | S19: =B19*R19 -> 1325
A20: Consultant 19 | S20: =SUM(S2:S19) -> 262145
A21: Consultant 20

Sheet Synthèse mois
B1: JANVIER | S1: FEVRIER | AJ1: MARS
C2: JT | D2: CP | E2: CP | F2: (CP) | G2: R | H2: R | I2: (R) | J2: M | K2: I | L2: SS | M2: SS | N2: (SS) | O2: CO | P2: CO | Q2: (CO) | R2: JF | T2: JT | U2: CP | V2: CP | W2: (CP) | X2: R | Y2: R | Z2: (R) | AA2: M | AB2: I | AC2: SS | AD2: SS | AE2: (SS) | AF2: CO | AG2: CO | AH2: (CO) | AI2: JF | AK2: JT | AL2: CP | AM2: CP | AN2: (CP) | AO2: R | AP2: R | AQ2: (R) | AR2: M | AS2: I | AT2: SS | AU2: SS | AV2: (SS) | AW2: CO | AX2: CO | AY2: (CO) | AZ2: JF
A3: Consultant 1 | B3: JANVIER | C3: =COUNTIFS('Test suivi jour'!7:7,"JT",'Test suivi jour'!$1:$1,1) -> 21 | D3: =E3+F3 -> 0 | E3: =COUNTIFS('Test suivi jour'!7:7,"CP",'Test suivi jour'!$1:$1,1) -> 0 | F3: =(COUNTIFS('Test suivi jour'!7:7,"(CP)",'Test suivi jour'!$1:$1,1))/2 -> 0 | G3: =H3+I3 -> 0 | H3: =COUNTIFS('Test suivi jour'!7:7,"r",'Test suivi jour'!$1:$1,1) -> 0 | I3: =(COUNTIFS('Test suivi jour'!7:7,"(r)",'Test suivi jour'!$1:$1,1))/2 -> 0 | J3: =COUNTIFS('Test suivi jour'!7:7,"m",'Test suivi jour'!$1:$1,1) -> 0 | K3: =COUNTIFS('Test suivi jour'!7:7,"i",'Test suivi jour'!$1:$1,1) -> 0 | L3: =M3+N3 -> 1 | M3: =COUNTIFS('Test suivi jour'!7:7,"ss",'Test suivi jour'!$1:$1,1) -> 1 | N3: =(COUNTIFS('Test suivi jour'!7:7,"(ss)",'Test suivi jour'!$1:$1,1))/2 -> 0 | O3: =P3+Q3 -> 0 | P3: =COUNTIFS('Test suivi jour'!7:7,"co",'Test suivi jour'!$1:$1,1) -> 0 | Q3: =(COUNTIFS('Test suivi jour'!7:7,"(co)",'Test suivi jour'!$1:$1,1))/2 -> 0 | R3: =COUNTIFS('Test suivi jour'!7:7,"JF",'Test suivi jour'!$1:$1,1) -> 0 | S3: FEVRIER | T3: =COUNTIFS('Test suivi jour'!7:7,"JT",'Test suivi jour'!$1:$1,2) -> 20 | U3: =V3+W3 -> 0 | V3: =COUNTIFS('Test suivi jour'!7:7,"CP",'Test suivi jour'!$1:$1,2) -> 0 | W3: =(COUNTIFS('Test suivi jour'!7:7,"(CP)",'Test suivi jour'!$1:$1,2))/2 -> 0 | X3: =Y3+Z3 -> 0 | Y3: =COUNTIFS('Test suivi jour'!7:7,"r",'Test suivi jour'!$1:$1,2) -> 0 | Z3: =(COUNTIFS('Test suivi jour'!7:7,"(r)",'Test suivi jour'!$1:$1,2))/2 -> 0 | AA3: =COUNTIFS('Test suivi jour'!7:7,"m",'Test suivi jour'!$1:$1,2) -> 0 | AB3: =COUNTIFS('Test suivi jour'!7:7,"i",'Test suivi jour'!$1:$1,2) -> 0 | AC3: =AD3+AE3 -> 0 | AD3: =COUNTIFS('Test suivi jour'!7:7,"ss",'Test suivi jour'!$1:$1,2) -> 0 | AE3: =(COUNTIFS('Test suivi jour'!7:7,"(ss)",'Test suivi jour'!$1:$1,2))/2 -> 0 | AF3: =AG3+AH3 -> 0 | AG3: =COUNTIFS('Test suivi jour'!7:7,"co",'Test suivi jour'!$1:$1,2) -> 0 | AH3: =(COUNTIFS('Test suivi jour'!7:7,"(co)",'Test suivi jour'!$1:$1,2))/2 -> 0 | AI3: =COUNTIFS('Test suivi jour'!7:7,"JF",'Test suivi jour'!$1:$1,1) -> 0 | AJ3: MARS | AK3: =COUNTIFS('Test suivi jour'!7:7,"JT",'Test suivi jour'!$1:$1,3) -> 23 | AL3: =AM3+AN3 -> 0 | AM3: =COUNTIFS('Test suivi jour'!7:7,"CP",'Test suivi jour'!$1:$1,2) -> 0 | AN3: =(COUNTIFS('Test suivi jour'!7:7,"(CP)",'Test suivi jour'!$1:$1,2))/2 -> 0 | AO3: =AP3+AQ3 -> 0 | AP3: =COUNTIFS('Test suivi jour'!7:7,"r",'Test suivi jour'!$1:$1,2) -> 0 | AQ3: =(COUNTIFS('Test suivi jour'!7:7,"(r)",'Test suivi jour'!$1:$1,2))/2 -> 0 | AR3: =COUNTIFS('Test suivi jour'!7:7,"m",'Test suivi jour'!$1:$1,2) -> 0 | AS3: =COUNTIFS('Test suivi jour'!7:7,"i",'Test suivi jour'!$1:$1,2) -> 0 | AT3: =AU3+AV3 -> 0 | AU3: =COUNTIFS('Test suivi jour'!7:7,"ss",'Test suivi jour'!$1:$1,2) -> 0 | AV3: =(COUNTIFS('Test suivi jour'!7:7,"(ss)",'Test suivi jour'!$1:$1,2))/2 -> 0 | AW3: =AX3+AY3 -> 0 | AX3: =COUNTIFS('Test suivi jour'!7:7,"co",'Test suivi jour'!$1:$1,2) -> 0 | AY3: =(COUNTIFS('Test suivi jour'!7:7,"(co)",'Test suivi jour'!$1:$1,2))/2 -> 0 | AZ3: =COUNTIFS('Test suivi jour'!7:7,"JF",'Test suivi jour'!$1:$1,1) -> 0
A4: Consultant 2 | C4: =COUNTIFS('Test suivi jour'!8:8,"JT",'Test suivi jour'!$1:$1,1) -> 22 | D4: =E4+F4 -> 0 | E4: =COUNTIFS('Test suivi jour'!8:8,"CP",'Test suivi jour'!$1:$1,1) -> 0 | F4: =(COUNTIFS('Test suivi jour'!8:8,"(CP)",'Test suivi jour'!$1:$1,1))/2 -> 0 | G4: =H4+I4 -> 0 | H4: =COUNTIFS('Test suivi jour'!8:8,"r",'Test suivi jour'!$1:$1,1) -> 0 | I4: =(COUNTIFS('Test suivi jour'!8:8,"(r)",'Test suivi jour'!$1:$1,1))/2 -> 0 | J4: =COUNTIFS('Test suivi jour'!8:8,"m",'Test suivi jour'!$1:$1,1) -> 0 | K4: =COUNTIFS('Test suivi jour'!8:8,"i",'Test suivi jour'!$1:$1,1) -> 0 | L4: =M4+N4 -> 0 | M4: =COUNTIFS('Test suivi jour'!8:8,"ss",'Test suivi jour'!$1:$1,1) -> 0 | N4: =(COUNTIFS('Test suivi jour'!8:8,"(ss)",'Test suivi jour'!$1:$1,1))/2 -> 0 | O4: =P4+Q4 -> 0 | P4: =COUNTIFS('Test suivi jour'!8:8,"co",'Test suivi jour'!$1:$1,1) -> 0 | Q4: =(COUNTIFS('Test suivi jour'!8:8,"(co)",'Test suivi jour'!$1:$1,1))/2 -> 0 | R4: =COUNTIFS('Test suivi jour'!8:8,"JF",'Test suivi jour'!$1:$1,1) -> 0 | T4: =COUNTIFS('Test suivi jour'!8:8,"JT",'Test suivi jour'!$1:$1,2) -> 17 | U4: =V4+W4 -> 0 | V4: =COUNTIFS('Test suivi jour'!8:8,"CP",'Test suivi jour'!$1:$1,2) -> 0 | W4: =(COUNTIFS('Test suivi jour'!8:8,"(CP)",'Test suivi jour'!$1:$1,2))/2 -> 0 | X4: =Y4+Z4 -> 3 | Y4: =COUNTIFS('Test suivi jour'!8:8,"r",'Test suivi jour'!$1:$1,2) -> 3 | Z4: =(COUNTIFS('Test suivi jour'!8:8,"(r)",'Test suivi jour'!$1:$1,2))/2 -> 0 | AA4: =COUNTIFS('Test suivi jour'!8:8,"m",'Test suivi jour'!$1:$1,2) -> 0 | AB4: =COUNTIFS('Test suivi jour'!8:8,"i",'Test suivi jour'!$1:$1,2) -> 0 | AC4: =AD4+AE4 -> 0 | AD4: =COUNTIFS('Test suivi jour'!8:8,"ss",'Test suivi jour'!$1:$1,2) -> 0 | AE4: =(COUNTIFS('Test suivi jour'!8:8,"(ss)",'Test suivi jour'!$1:$1,2))/2 -> 0 | AF4: =AG4+AH4 -> 0 | AG4: =COUNTIFS('Test suivi jour'!8:8,"co",'Test suivi jour'!$1:$1,2) -> 0 | AH4: =(COUNTIFS('Test suivi jour'!8:8,"(co)",'Test suivi jour'!$1:$1,2))/2 -> 0 | AI4: =COUNTIFS('Test suivi jour'!8:8,"JF",'Test suivi jour'!$1:$1,1) -> 0 | AK4: =COUNTIFS('Test suivi jour'!8:8,"JT",'Test suivi jour'!$1:$1,2) -> 17 | AL4: =AM4+AN4 -> 0 | AM4: =COUNTIFS('Test suivi jour'!8:8,"CP",'Test suivi jour'!$1:$1,2) -> 0 | AN4: =(COUNTIFS('Test suivi jour'!8:8,"(CP)",'Test suivi jour'!$1:$1,2))/2 -> 0 | AO4: =AP4+AQ4 -> 3 | AP4: =COUNTIFS('Test suivi jour'!8:8,"r",'Test suivi jour'!$1:$1,2) -> 3 | AQ4: =(COUNTIFS('Test suivi jour'!8:8,"(r)",'Test suivi jour'!$1:$1,2))/2 -> 0 | AR4: =COUNTIFS('Test suivi jour'!8:8,"m",'Test suivi jour'!$1:$1,2) -> 0 | AS4: =COUNTIFS('Test suivi jour'!8:8,"i",'Test suivi jour'!$1:$1,2) -> 0 | AT4: =AU4+AV4 -> 0 | AU4: =COUNTIFS('Test suivi jour'!8:8,"ss",'Test suivi jour'!$1:$1,2) -> 0 | AV4: =(COUNTIFS('Test suivi jour'!8:8,"(ss)",'Test suivi jour'!$1:$1,2))/2 -> 0 | AW4: =AX4+AY4 -> 0 | AX4: =COUNTIFS('Test suivi jour'!8:8,"co",'Test suivi jour'!$1:$1,2) -> 0 | AY4: =(COUNTIFS('Test suivi jour'!8:8,"(co)",'Test suivi jour'!$1:$1,2))/2 -> 0 | AZ4: =COUNTIFS('Test suivi jour'!8:8,"JF",'Test suivi jour'!$1:$1,1) -> 0
A5: Consultant 3 | C5: =COUNTIFS('Test suivi jour'!9:9,"JT",'Test suivi jour'!$1:$1,1) -> 7 | D5: =E5+F5 -> 10 | E5: =COUNTIFS('Test suivi jour'!9:9,"CP",'Test suivi jour'!$1:$1,1) -> 10 | F5: =(COUNTIFS('Test suivi jour'!9:9,"(CP)",'Test suivi jour'!$1:$1,1))/2 -> 0 | G5: =H5+I5 -> 5 | H5: =COUNTIFS('Test suivi jour'!9:9,"r",'Test suivi jour'!$1:$1,1) -> 5 | I5: =(COUNTIFS('Test suivi jour'!9:9,"(r)",'Test suivi jour'!$1:$1,1))/2 -> 0 | J5: =COUNTIFS('Test suivi jour'!9:9,"m",'Test suivi jour'!$1:$1,1) -> 0 | K5: =COUNTIFS('Test suivi jour'!9:9,"i",'Test suivi jour'!$1:$1,1) -> 0 | L5: =M5+N5 -> 0 | M5: =COUNTIFS('Test suivi jour'!9:9,"ss",'Test suivi jour'!$1:$1,1) -> 0 | N5: =(COUNTIFS('Test suivi jour'!9:9,"(ss)",'Test suivi jour'!$1:$1,1))/2 -> 0 | O5: =P5+Q5 -> 0 | P5: =COUNTIFS('Test suivi jour'!9:9,"co",'Test suivi jour'!$1:$1,1) -> 0 | Q5: =(COUNTIFS('Test suivi jour'!9:9,"(co)",'Test suivi jour'!$1:$1,1))/2 -> 0 | R5: =COUNTIFS('Test suivi jour'!9:9,"JF",'Test suivi jour'!$1:$1,1) -> 0 | T5: =COUNTIFS('Test suivi jour'!9:9,"JT",'Test suivi jour'!$1:$1,2) -> 20 | U5: =V5+W5 -> 0 | V5: =COUNTIFS('Test suivi jour'!9:9,"CP",'Test suivi jour'!$1:$1,2) -> 0 | W5: =(COUNTIFS('Test suivi jour'!9:9,"(CP)",'Test suivi jour'!$1:$1,2))/2 -> 0 | X5: =Y5+Z5 -> 0 | Y5: =COUNTIFS('Test suivi jour'!9:9,"r",'Test suivi jour'!$1:$1,2) -> 0 | Z5: =(COUNTIFS('Test suivi jour'!9:9,"(r)",'Test suivi jour'!$1:$1,2))/2 -> 0 | AA5: =COUNTIFS('Test suivi jour'!9:9,"m",'Test suivi jour'!$1:$1,2) -> 0 | AB5: =COUNTIFS('Test suivi jour'!9:9,"i",'Test suivi jour'!$1:$1,2) -> 0 | AC5: =AD5+AE5 -> 0 | AD5: =COUNTIFS('Test suivi jour'!9:9,"ss",'Test suivi jour'!$1:$1,2) -> 0 | AE5: =(COUNTIFS('Test suivi jour'!9:9,"(ss)",'Test suivi jour'!$1:$1,2))/2 -> 0 | AF5: =AG5+AH5 -> 0 | AG5: =COUNTIFS('Test suivi jour'!9:9,"co",'Test suivi jour'!$1:$1,2) -> 0 | AH5: =(COUNTIFS('Test suivi jour'!9:9,"(co)",'Test suivi jour'!$1:$1,2))/2 -> 0 | AI5: =COUNTIFS('Test suivi jour'!9:9,"JF",'Test suivi jour'!$1:$1,1) -> 0 | AK5: =COUNTIFS('Test suivi jour'!9:9,"JT",'Test suivi jour'!$1:$1,2) -> 20 | AL5: =AM5+AN5 -> 0 | AM5: =COUNTIFS('Test suivi jour'!9:9,"CP",'Test suivi jour'!$1:$1,2) -> 0 | AN5: =(COUNTIFS('Test suivi jour'!9:9,"(CP)",'Test suivi jour'!$1:$1,2))/2 -> 0 | AO5: =AP5+AQ5 -> 0 | AP5: =COUNTIFS('Test suivi jour'!9:9,"r",'Test suivi jour'!$1:$1,2) -> 0 | AQ5: =(COUNTIFS('Test suivi jour'!9:9,"(r)",'Test suivi jour'!$1:$1,2))/2 -> 0 | AR5: =COUNTIFS('Test suivi jour'!9:9,"m",'Test suivi jour'!$1:$1,2) -> 0 | AS5: =COUNTIFS('Test suivi jour'!9:9,"i",'Test suivi jour'!$1:$1,2) -> 0 | AT5: =AU5+AV5 -> 0 | AU5: =COUNTIFS('Test suivi jour'!9:9,"ss",'Test suivi jour'!$1:$1,2) -> 0 | AV5: =(COUNTIFS('Test suivi jour'!9:9,"(ss)",'Test suivi jour'!$1:$1,2))/2 -> 0 | AW5: =AX5+AY5 -> 0 | AX5: =COUNTIFS('Test suivi jour'!9:9,"co",'Test suivi jour'!$1:$1,2) -> 0 | AY5: =(COUNTIFS('Test suivi jour'!9:9,"(co)",'Test suivi jour'!$1:$1,2))/2 -> 0 | AZ5: =COUNTIFS('Test suivi jour'!9:9,"JF",'Test suivi jour'!$1:$1,1) -> 0
A6: Consultant 4 | C6: =COUNTIFS('Test suivi jour'!10:10,"JT",'Test suivi jour'!$1:$1,1) -> 21 | D6: =E6+F6 -> 0 | E6: =COUNTIFS('Test suivi jour'!10:10,"CP",'Test suivi jour'!$1:$1,1) -> 0 | F6: =(COUNTIFS('Test suivi jour'!10:10,"(CP)",'Test suivi jour'!$1:$1,1))/2 -> 0 | G6: =H6+I6 -> 1 | H6: =COUNTIFS('Test suivi jour'!10:10,"r",'Test suivi jour'!$1:$1,1) -> 1 | I6: =(COUNTIFS('Test suivi jour'!10:10,"(r)",'Test suivi jour'!$1:$1,1))/2 -> 0 | J6: =COUNTIFS('Test suivi jour'!10:10,"m",'Test suivi jour'!$1:$1,1) -> 0 | K6: =COUNTIFS('Test suivi jour'!10:10,"i",'Test suivi jour'!$1:$1,1) -> 0 | L6: =M6+N6 -> 0 | M6: =COUNTIFS('Test suivi jour'!10:10,"ss",'Test suivi jour'!$1:$1,1) -> 0 | N6: =(COUNTIFS('Test suivi jour'!10:10,"(ss)",'Test suivi jour'!$1:$1,1))/2 -> 0 | O6: =P6+Q6 -> 0 | P6: =COUNTIFS('Test suivi jour'!10:10,"co",'Test suivi jour'!$1:$1,1) -> 0 | Q6: =(COUNTIFS('Test suivi jour'!10:10,"(co)",'Test suivi jour'!$1:$1,1))/2 -> 0 | R6: =COUNTIFS('Test suivi jour'!10:10,"JF",'Test suivi jour'!$1:$1,1) -> 0 | T6: =COUNTIFS('Test suivi jour'!10:10,"JT",'Test suivi jour'!$1:$1,2) -> 20 | U6: =V6+W6 -> 0 | V6: =COUNTIFS('Test suivi jour'!10:10,"CP",'Test suivi jour'!$1:$1,2) -> 0 | W6: =(COUNTIFS('Test suivi jour'!10:10,"(CP)",'Test suivi jour'!$1:$1,2))/2 -> 0 | X6: =Y6+Z6 -> 0 | Y6: =COUNTIFS('Test suivi jour'!10:10,"r",'Test suivi jour'!$1:$1,2) -> 0 | Z6: =(COUNTIFS('Test suivi jour'!10:10,"(r)",'Test suivi jour'!$1:$1,2))/2 -> 0 | AA6: =COUNTIFS('Test suivi jour'!10:10,"m",'Test suivi jour'!$1:$1,2) -> 0 | AB6: =COUNTIFS('Test suivi jour'!10:10,"i",'Test suivi jour'!$1:$1,2) -> 0 | AC6: =AD6+AE6 -> 0 | AD6: =COUNTIFS('Test suivi jour'!10:10,"ss",'Test suivi jour'!$1:$1,2) -> 0 | AE6: =(COUNTIFS('Test suivi jour'!10:10,"(ss)",'Test suivi jour'!$1:$1,2))/2 -> 0 | AF6: =AG6+AH6 -> 0 | AG6: =COUNTIFS('Test suivi jour'!10:10,"co",'Test suivi jour'!$1:$1,2) -> 0 | AH6: =(COUNTIFS('Test suivi jour'!10:10,"(co)",'Test suivi jour'!$1:$1,2))/2 -> 0 | AI6: =COUNTIFS('Test suivi jour'!10:10,"JF",'Test suivi jour'!$1:$1,1) -> 0 | AK6: =COUNTIFS('Test suivi jour'!10:10,"JT",'Test suivi jour'!$1:$1,2) -> 20 | AL6: =AM6+AN6 -> 0 | AM6: =COUNTIFS('Test suivi jour'!10:10,"CP",'Test suivi jour'!$1:$1,2) -> 0 | AN6: =(COUNTIFS('Test suivi jour'!10:10,"(CP)",'Test suivi jour'!$1:$1,2))/2 -> 0 | AO6: =AP6+AQ6 -> 0 | AP6: =COUNTIFS('Test suivi jour'!10:10,"r",'Test suivi jour'!$1:$1,2) -> 0 | AQ6: =(COUNTIFS('Test suivi jour'!10:10,"(r)",'Test suivi jour'!$1:$1,2))/2 -> 0 | AR6: =COUNTIFS('Test suivi jour'!10:10,"m",'Test suivi jour'!$1:$1,2) -> 0 | AS6: =COUNTIFS('Test suivi jour'!10:10,"i",'Test suivi jour'!$1:$1,2) -> 0 | AT6: =AU6+AV6 -> 0 | AU6: =COUNTIFS('Test suivi jour'!10:10,"ss",'Test suivi jour'!$1:$1,2) -> 0 | AV6: =(COUNTIFS('Test suivi jour'!10:10,"(ss)",'Test suivi jour'!$1:$1,2))/2 -> 0 | AW6: =AX6+AY6 -> 0 | AX6: =COUNTIFS('Test suivi jour'!10:10,"co",'Test suivi jour'!$1:$1,2) -> 0 | AY6: =(COUNTIFS('Test suivi jour'!10:10,"(co)",'Test suivi jour'!$1:$1,2))/2 -> 0 | AZ6: =COUNTIFS('Test suivi jour'!10:10,"JF",'Test suivi jour'!$1:$1,1) -> 0
A7: Consultant 5 | C7: =COUNTIFS('Test suivi jour'!11:11,"JT",'Test suivi jour'!$1:$1,1) -> 22 | D7: =E7+F7 -> 0 | E7: =COUNTIFS('Test suivi jour'!11:11,"CP",'Test suivi jour'!$1:$1,1) -> 0 | F7: =(COUNTIFS('Test suivi jour'!11:11,"(CP)",'Test suivi jour'!$1:$1,1))/2 -> 0 | G7: =H7+I7 -> 0 | H7: =COUNTIFS('Test suivi jour'!11:11,"r",'Test suivi jour'!$1:$1,1) -> 0 | I7: =(COUNTIFS('Test suivi jour'!11:11,"(r)",'Test suivi jour'!$1:$1,1))/2 -> 0 | J7: =COUNTIFS('Test suivi jour'!11:11,"m",'Test suivi jour'!$1:$1,1) -> 0 | K7: =COUNTIFS('Test suivi jour'!11:11,"i",'Test suivi jour'!$1:$1,1) -> 0 | L7: =M7+N7 -> 0 | M7: =COUNTIFS('Test suivi jour'!11:11,"ss",'Test suivi jour'!$1:$1,1) -> 0 | N7: =(COUNTIFS('Test suivi jour'!11:11,"(ss)",'Test suivi jour'!$1:$1,1))/2 -> 0 | O7: =P7+Q7 -> 0 | P7: =COUNTIFS('Test suivi jour'!11:11,"co",'Test suivi jour'!$1:$1,1) -> 0 | Q7: =(COUNTIFS('Test suivi jour'!11:11,"(co)",'Test suivi jour'!$1:$1,1))/2 -> 0 | R7: =COUNTIFS('Test suivi jour'!11:11,"JF",'Test suivi jour'!$1:$1,1) -> 0 | T7: =COUNTIFS('Test suivi jour'!11:11,"JT",'Test suivi jour'!$1:$1,2) -> 20 | U7: =V7+W7 -> 0 | V7: =COUNTIFS('Test suivi jour'!11:11,"CP",'Test suivi jour'!$1:$1,2) -> 0 | W7: =(COUNTIFS('Test suivi jour'!11:11,"(CP)",'Test suivi jour'!$1:$1,2))/2 -> 0 | X7: =Y7+Z7 -> 0 | Y7: =COUNTIFS('Test suivi jour'!11:11,"r",'Test suivi jour'!$1:$1,2) -> 0 | Z7: =(COUNTIFS('Test suivi jour'!11:11,"(r)",'Test suivi jour'!$1:$1,2))/2 -> 0 | AA7: =COUNTIFS('Test suivi jour'!11:11,"m",'Test suivi jour'!$1:$1,2) -> 0 | AB7: =COUNTIFS('Test suivi jour'!11:11,"i",'Test suivi jour'!$1:$1,2) -> 0 | AC7: =AD7+AE7 -> 0 | AD7: =COUNTIFS('Test suivi jour'!11:11,"ss",'Test suivi jour'!$1:$1,2) -> 0 | AE7: =(COUNTIFS('Test suivi jour'!11:11,"(ss)",'Test suivi jour'!$1:$1,2))/2 -> 0 | AF7: =AG7+AH7 -> 0 | AG7: =COUNTIFS('Test suivi jour'!11:11,"co",'Test suivi jour'!$1:$1,2) -> 0 | AH7: =(COUNTIFS('Test suivi jour'!11:11,"(co)",'Test suivi jour'!$1:$1,2))/2 -> 0 | AI7: =COUNTIFS('Test suivi jour'!11:11,"JF",'Test suivi jour'!$1:$1,1) -> 0 | AK7: =COUNTIFS('Test suivi jour'!11:11,"JT",'Test suivi jour'!$1:$1,2) -> 20 | AL7: =AM7+AN7 -> 0 | AM7: =COUNTIFS('Test suivi jour'!11:11,"CP",'Test suivi jour'!$1:$1,2) -> 0 | AN7: =(COUNTIFS('Test suivi jour'!11:11,"(CP)",'Test suivi jour'!$1:$1,2))/2 -> 0 | AO7: =AP7+AQ7 -> 0 | AP7: =COUNTIFS('Test suivi jour'!11:11,"r",'Test suivi jour'!$1:$1,2) -> 0 | AQ7: =(COUNTIFS('Test suivi jour'!11:11,"(r)",'Test suivi jour'!$1:$1,2))/2 -> 0 | AR7: =COUNTIFS('Test suivi jour'!11:11,"m",'Test suivi jour'!$1:$1,2) -> 0 | AS7: =COUNTIFS('Test suivi jour'!11:11,"i",'Test suivi jour'!$1:$1,2) -> 0 | AT7: =AU7+AV7 -> 0 | AU7: =COUNTIFS('Test suivi jour'!11:11,"ss",'Test suivi jour'!$1:$1,2) -> 0 | AV7: =(COUNTIFS('Test suivi jour'!11:11,"(ss)",'Test suivi jour'!$1:$1,2))/2 -> 0 | AW7: =AX7+AY7 -> 0 | AX7: =COUNTIFS('Test suivi jour'!11:11,"co",'Test suivi jour'!$1:$1,2) -> 0 | AY7: =(COUNTIFS('Test suivi jour'!11:11,"(co)",'Test suivi jour'!$1:$1,2))/2 -> 0 | AZ7: =COUNTIFS('Test suivi jour'!11:11,"JF",'Test suivi jour'!$1:$1,1) -> 0
A8: Consultant 6 | C8: =COUNTIFS('Test suivi jour'!12:12,"JT",'Test suivi jour'!$1:$1,1) -> 19 | D8: =E8+F8 -> 3 | E8: =COUNTIFS('Test suivi jour'!12:12,"CP",'Test suivi jour'!$1:$1,1) -> 3 | F8: =(COUNTIFS('Test suivi jour'!12:12,"(CP)",'Test suivi jour'!$1:$1,1))/2 -> 0 | G8: =H8+I8 -> 0 | H8: =COUNTIFS('Test suivi jour'!12:12,"r",'Test suivi jour'!$1:$1,1) -> 0 | I8: =(COUNTIFS('Test suivi jour'!12:12,"(r)",'Test suivi jour'!$1:$1,1))/2 -> 0 | J8: =COUNTIFS('Test suivi jour'!12:12,"m",'Test suivi jour'!$1:$1,1) -> 0 | K8: =COUNTIFS('Test suivi jour'!12:12,"i",'Test suivi jour'!$1:$1,1) -> 0 | L8: =M8+N8 -> 0 | M8: =COUNTIFS('Test suivi jour'!12:12,"ss",'Test suivi jour'!$1:$1,1) -> 0 | N8: =(COUNTIFS('Test suivi jour'!12:12,"(ss)",'Test suivi jour'!$1:$1,1))/2 -> 0 | O8: =P8+Q8 -> 0 | P8: =COUNTIFS('Test suivi jour'!12:12,"co",'Test suivi jour'!$1:$1,1) -> 0 | Q8: =(COUNTIFS('Test suivi jour'!12:12,"(co)",'Test suivi jour'!$1:$1,1))/2 -> 0 | R8: =COUNTIFS('Test suivi jour'!12:12,"JF",'Test suivi jour'!$1:$1,1) -> 0 | T8: =COUNTIFS('Test suivi jour'!12:12,"JT",'Test suivi jour'!$1:$1,2) -> 20 | U8: =V8+W8 -> 0 | V8: =COUNTIFS('Test suivi jour'!12:12,"CP",'Test suivi jour'!$1:$1,2) -> 0 | W8: =(COUNTIFS('Test suivi jour'!12:12,"(CP)",'Test suivi jour'!$1:$1,2))/2 -> 0 | X8: =Y8+Z8 -> 0 | Y8: =COUNTIFS('Test suivi jour'!12:12,"r",'Test suivi jour'!$1:$1,2) -> 0 | Z8: =(COUNTIFS('Test suivi jour'!12:12,"(r)",'Test suivi jour'!$1:$1,2))/2 -> 0 | AA8: =COUNTIFS('Test suivi jour'!12:12,"m",'Test suivi jour'!$1:$1,2) -> 0 | AB8: =COUNTIFS('Test suivi jour'!12:12,"i",'Test suivi jour'!$1:$1,2) -> 0 | AC8: =AD8+AE8 -> 0 | AD8: =COUNTIFS('Test suivi jour'!12:12,"ss",'Test suivi jour'!$1:$1,2) -> 0 | AE8: =(COUNTIFS('Test suivi jour'!12:12,"(ss)",'Test suivi jour'!$1:$1,2))/2 -> 0 | AF8: =AG8+AH8 -> 0 | AG8: =COUNTIFS('Test suivi jour'!12:12,"co",'Test suivi jour'!$1:$1,2) -> 0 | AH8: =(COUNTIFS('Test suivi jour'!12:12,"(co)",'Test suivi jour'!$1:$1,2))/2 -> 0 | AI8: =COUNTIFS('Test suivi jour'!12:12,"JF",'Test suivi jour'!$1:$1,1) -> 0 | AK8: =COUNTIFS('Test suivi jour'!12:12,"JT",'Test suivi jour'!$1:$1,2) -> 20 | AL8: =AM8+AN8 -> 0 | AM8: =COUNTIFS('Test suivi jour'!12:12,"CP",'Test suivi jour'!$1:$1,2) -> 0 | AN8: =(COUNTIFS('Test suivi jour'!12:12,"(CP)",'Test suivi jour'!$1:$1,2))/2 -> 0 | AO8: =AP8+AQ8 -> 0 | AP8: =COUNTIFS('Test suivi jour'!12:12,"r",'Test suivi jour'!$1:$1,2) -> 0 | AQ8: =(COUNTIFS('Test suivi jour'!12:12,"(r)",'Test suivi jour'!$1:$1,2))/2 -> 0 | AR8: =COUNTIFS('Test suivi jour'!12:12,"m",'Test suivi jour'!$1:$1,2) -> 0 | AS8: =COUNTIFS('Test suivi jour'!12:12,"i",'Test suivi jour'!$1:$1,2) -> 0 | AT8: =AU8+AV8 -> 0 | AU8: =COUNTIFS('Test suivi jour'!12:12,"ss",'Test suivi jour'!$1:$1,2) -> 0 | AV8: =(COUNTIFS('Test suivi jour'!12:12,"(ss)",'Test suivi jour'!$1:$1,2))/2 -> 0 | AW8: =AX8+AY8 -> 0 | AX8: =COUNTIFS('Test suivi jour'!12:12,"co",'Test suivi jour'!$1:$1,2) -> 0 | AY8: =(COUNTIFS('Test suivi jour'!12:12,"(co)",'Test suivi jour'!$1:$1,2))/2 -> 0 | AZ8: =COUNTIFS('Test suivi jour'!12:12,"JF",'Test suivi jour'!$1:$1,1) -> 0
A9: Consultant 7 | C9: =COUNTIFS('Test suivi jour'!13:13,"JT",'Test suivi jour'!$1:$1,1) -> 21 | D9: =E9+F9 -> 0 | E9: =COUNTIFS('Test suivi jour'!13:13,"CP",'Test suivi jour'!$1:$1,1) -> 0 | F9: =(COUNTIFS('Test suivi jour'!13:13,"(CP)",'Test suivi jour'!$1:$1,1))/2 -> 0 | G9: =H9+I9 -> 1 | H9: =COUNTIFS('Test suivi jour'!13:13,"r",'Test suivi jour'!$1:$1,1) -> 1 | I9: =(COUNTIFS('Test suivi jour'!13:13,"(r)",'Test suivi jour'!$1:$1,1))/2 -> 0 | J9: =COUNTIFS('Test suivi jour'!13:13,"m",'Test suivi jour'!$1:$1,1) -> 0 | K9: =COUNTIFS('Test suivi jour'!13:13,"i",'Test suivi jour'!$1:$1,1) -> 0 | L9: =M9+N9 -> 0 | M9: =COUNTIFS('Test suivi jour'!13:13,"ss",'Test suivi jour'!$1:$1,1) -> 0 | N9: =(COUNTIFS('Test suivi jour'!13:13,"(ss)",'Test suivi jour'!$1:$1,1))/2 -> 0 | O9: =P9+Q9 -> 0 | P9: =COUNTIFS('Test suivi jour'!13:13,"co",'Test suivi jour'!$1:$1,1) -> 0 | Q9: =(COUNTIFS('Test suivi jour'!13:13,"(co)",'Test suivi jour'!$1:$1,1))/2 -> 0 | R9: =COUNTIFS('Test suivi jour'!13:13,"JF",'Test suivi jour'!$1:$1,1) -> 0 | T9: =COUNTIFS('Test suivi jour'!13:13,"JT",'Test suivi jour'!$1:$1,2) -> 20 | U9: =V9+W9 -> 0 | V9: =COUNTIFS('Test suivi jour'!13:13,"CP",'Test suivi jour'!$1:$1,2) -> 0 | W9: =(COUNTIFS('Test suivi jour'!13:13,"(CP)",'Test suivi jour'!$1:$1,2))/2 -> 0 | X9: =Y9+Z9 -> 0 | Y9: =COUNTIFS('Test suivi jour'!13:13,"r",'Test suivi jour'!$1:$1,2) -> 0 | Z9: =(COUNTIFS('Test suivi jour'!13:13,"(r)",'Test suivi jour'!$1:$1,2))/2 -> 0 | AA9: =COUNTIFS('Test suivi jour'!13:13,"m",'Test suivi jour'!$1:$1,2) -> 0 | AB9: =COUNTIFS('Test suivi jour'!13:13,"i",'Test suivi jour'!$1:$1,2) -> 0 | AC9: =AD9+AE9 -> 0 | AD9: =COUNTIFS('Test suivi jour'!13:13,"ss",'Test suivi jour'!$1:$1,2) -> 0 | AE9: =(COUNTIFS('Test suivi jour'!13:13,"(ss)",'Test suivi jour'!$1:$1,2))/2 -> 0 | AF9: =AG9+AH9 -> 0 | AG9: =COUNTIFS('Test suivi jour'!13:13,"co",'Test suivi jour'!$1:$1,2) -> 0 | AH9: =(COUNTIFS('Test suivi jour'!13:13,"(co)",'Test suivi jour'!$1:$1,2))/2 -> 0 | AI9: =COUNTIFS('Test suivi jour'!13:13,"JF",'Test suivi jour'!$1:$1,1) -> 0 | AK9: =COUNTIFS('Test suivi jour'!13:13,"JT",'Test suivi jour'!$1:$1,2) -> 20 | AL9: =AM9+AN9 -> 0 | AM9: =COUNTIFS('Test suivi jour'!13:13,"CP",'Test suivi jour'!$1:$1,2) -> 0 | AN9: =(COUNTIFS('Test suivi jour'!13:13,"(CP)",'Test suivi jour'!$1:$1,2))/2 -> 0 | AO9: =AP9+AQ9 -> 0 | AP9: =COUNTIFS('Test suivi jour'!13:13,"r",'Test suivi jour'!$1:$1,2) -> 0 | AQ9: =(COUNTIFS('Test suivi jour'!13:13,"(r)",'Test suivi jour'!$1:$1,2))/2 -> 0 | AR9: =COUNTIFS('Test suivi jour'!13:13,"m",'Test suivi jour'!$1:$1,2) -> 0 | AS9: =COUNTIFS('Test suivi jour'!13:13,"i",'Test suivi jour'!$1:$1,2) -> 0 | AT9: =AU9+AV9 -> 0 | AU9: =COUNTIFS('Test suivi jour'!13:13,"ss",'Test suivi jour'!$1:$1,2) -> 0 | AV9: =(COUNTIFS('Test suivi jour'!13:13,"(ss)",'Test suivi jour'!$1:$1,2))/2 -> 0 | AW9: =AX9+AY9 -> 0 | AX9: =COUNTIFS('Test suivi jour'!13:13,"co",'Test suivi jour'!$1:$1,2) -> 0 | AY9: =(COUNTIFS('Test suivi jour'!13:13,"(co)",'Test suivi jour'!$1:$1,2))/2 -> 0 | AZ9: =COUNTIFS('Test suivi jour'!13:13,"JF",'Test suivi jour'!$1:$1,1) -> 0
A10: Consultant 8 | C10: =COUNTIFS('Test suivi jour'!14:14,"JT",'Test suivi jour'!$1:$1,1) -> 19 | D10: =E10+F10 -> 0 | E10: =COUNTIFS('Test suivi jour'!14:14,"CP",'Test suivi jour'!$1:$1,1) -> 0 | F10: =(COUNTIFS('Test suivi jour'!14:14,"(CP)",'Test suivi jour'!$1:$1,1))/2 -> 0 | G10: =H10+I10 -> 2.5 | H10: =COUNTIFS('Test suivi jour'!14:14,"r",'Test suivi jour'!$1:$1,1) -> 2 | I10: =(COUNTIFS('Test suivi jour'!14:14,"(r)",'Test suivi jour'!$1:$1,1))/2 -> 0.5 | J10: =COUNTIFS('Test suivi jour'!14:14,"m",'Test suivi jour'!$1:$1,1) -> 0 | K10: =COUNTIFS('Test suivi jour'!14:14,"i",'Test suivi jour'!$1:$1,1) -> 0 | L10: =M10+N10 -> 0 | M10: =COUNTIFS('Test suivi jour'!14:14,"ss",'Test suivi jour'!$1:$1,1) -> 0 | N10: =(COUNTIFS('Test suivi jour'!14:14,"(ss)",'Test suivi jour'!$1:$1,1))/2 -> 0 | O10: =P10+Q10 -> 0 | P10: =COUNTIFS('Test suivi jour'!14:14,"co",'Test suivi jour'!$1:$1,1) -> 0 | Q10: =(COUNTIFS('Test suivi jour'!14:14,"(co)",'Test suivi jour'!$1:$1,1))/2 -> 0 | R10: =COUNTIFS('Test suivi jour'!14:14,"JF",'Test suivi jour'!$1:$1,1) -> 0 | T10: =COUNTIFS('Test suivi jour'!14:14,"JT",'Test suivi jour'!$1:$1,2) -> 20 | U10: =V10+W10 -> 0 | V10: =COUNTIFS('Test suivi jour'!14:14,"CP",'Test suivi jour'!$1:$1,2) -> 0 | W10: =(COUNTIFS('Test suivi jour'!14:14,"(CP)",'Test suivi jour'!$1:$1,2))/2 -> 0 | X10: =Y10+Z10 -> 0 | Y10: =COUNTIFS('Test suivi jour'!14:14,"r",'Test suivi jour'!$1:$1,2) -> 0 | Z10: =(COUNTIFS('Test suivi jour'!14:14,"(r)",'Test suivi jour'!$1:$1,2))/2 -> 0 | AA10: =COUNTIFS('Test suivi jour'!14:14,"m",'Test suivi jour'!$1:$1,2) -> 0 | AB10: =COUNTIFS('Test suivi jour'!14:14,"i",'Test suivi jour'!$1:$1,2) -> 0 | AC10: =AD10+AE10 -> 0 | AD10: =COUNTIFS('Test suivi jour'!14:14,"ss",'Test suivi jour'!$1:$1,2) -> 0 | AE10: =(COUNTIFS('Test suivi jour'!14:14,"(ss)",'Test suivi jour'!$1:$1,2))/2 -> 0 | AF10: =AG10+AH10 -> 0 | AG10: =COUNTIFS('Test suivi jour'!14:14,"co",'Test suivi jour'!$1:$1,2) -> 0 | AH10: =(COUNTIFS('Test suivi jour'!14:14,"(co)",'Test suivi jour'!$1:$1,2))/2 -> 0 | AI10: =COUNTIFS('Test suivi jour'!14:14,"JF",'Test suivi jour'!$1:$1,1) -> 0 | AK10: =COUNTIFS('Test suivi jour'!14:14,"JT",'Test suivi jour'!$1:$1,2) -> 20 | AL10: =AM10+AN10 -> 0 | AM10: =COUNTIFS('Test suivi jour'!14:14,"CP",'Test suivi jour'!$1:$1,2) -> 0 | AN10: =(COUNTIFS('Test suivi jour'!14:14,"(CP)",'Test suivi jour'!$1:$1,2))/2 -> 0 | AO10: =AP10+AQ10 -> 0 | AP10: =COUNTIFS('Test suivi jour'!14:14,"r",'Test suivi jour'!$1:$1,2) -> 0 | AQ10: =(COUNTIFS('Test suivi jour'!14:14,"(r)",'Test suivi jour'!$1:$1,2))/2 -> 0 | AR10: =COUNTIFS('Test suivi jour'!14:14,"m",'Test suivi jour'!$1:$1,2) -> 0 | AS10: =COUNTIFS('Test suivi jour'!14:14,"i",'Test suivi jour'!$1:$1,2) -> 0 | AT10: =AU10+AV10 -> 0 | AU10: =COUNTIFS('Test suivi jour'!14:14,"ss",'Test suivi jour'!$1:$1,2) -> 0 | AV10: =(COUNTIFS('Test suivi jour'!14:14,"(ss)",'Test suivi jour'!$1:$1,2))/2 -> 0 | AW10: =AX10+AY10 -> 0 | AX10: =COUNTIFS('Test suivi jour'!14:14,"co",'Test suivi jour'!$1:$1,2) -> 0 | AY10: =(COUNTIFS('Test suivi jour'!14:14,"(co)",'Test suivi jour'!$1:$1,2))/2 -> 0 | AZ10: =COUNTIFS('Test suivi jour'!14:14,"JF",'Test suivi jour'!$1:$1,1) -> 0
A11: Consultant 9 | C11: =COUNTIFS('Test suivi jour'!15:15,"JT",'Test suivi jour'!$1:$1,1) -> 22 | D11: =E11+F11 -> 0 | E11: =COUNTIFS('Test suivi jour'!15:15,"CP",'Test suivi jour'!$1:$1,1) -> 0 | F11: =(COUNTIFS('Test suivi jour'!15:15,"(CP)",'Test suivi jour'!$1:$1,1))/2 -> 0 | G11: =H11+I11 -> 0 | H11: =COUNTIFS('Test suivi jour'!15:15,"r",'Test suivi jour'!$1:$1,1) -> 0 | I11: =(COUNTIFS('Test suivi jour'!15:15,"(r)",'Test suivi jour'!$1:$1,1))/2 -> 0 | J11: =COUNTIFS('Test suivi jour'!15:15,"m",'Test suivi jour'!$1:$1,1) -> 0 | K11: =COUNTIFS('Test suivi jour'!15:15,"i",'Test suivi jour'!$1:$1,1) -> 0 | L11: =M11+N11 -> 0 | M11: =COUNTIFS('Test suivi jour'!15:15,"ss",'Test suivi jour'!$1:$1,1) -> 0 | N11: =(COUNTIFS('Test suivi jour'!15:15,"(ss)",'Test suivi jour'!$1:$1,1))/2 -> 0 | O11: =P11+Q11 -> 0 | P11: =COUNTIFS('Test suivi jour'!15:15,"co",'Test suivi jour'!$1:$1,1) -> 0 | Q11: =(COUNTIFS('Test suivi jour'!15:15,"(co)",'Test suivi jour'!$1:$1,1))/2 -> 0 | R11: =COUNTIFS('Test suivi jour'!15:15,"JF",'Test suivi jour'!$1:$1,1) -> 0 | T11: =COUNTIFS('Test suivi jour'!15:15,"JT",'Test suivi jour'!$1:$1,2) -> 20 | U11: =V11+W11 -> 0 | V11: =COUNTIFS('Test suivi jour'!15:15,"CP",'Test suivi jour'!$1:$1,2) -> 0 | W11: =(COUNTIFS('Test suivi jour'!15:15,"(CP)",'Test suivi jour'!$1:$1,2))/2 -> 0 | X11: =Y11+Z11 -> 0 | Y11: =COUNTIFS('Test suivi jour'!15:15,"r",'Test suivi jour'!$1:$1,2) -> 0 | Z11: =(COUNTIFS('Test suivi jour'!15:15,"(r)",'Test suivi jour'!$1:$1,2))/2 -> 0 | AA11: =COUNTIFS('Test suivi jour'!15:15,"m",'Test suivi jour'!$1:$1,2) -> 0 | AB11: =COUNTIFS('Test suivi jour'!15:15,"i",'Test suivi jour'!$1:$1,2) -> 0 | AC11: =AD11+AE11 -> 0 | AD11: =COUNTIFS('Test suivi jour'!15:15,"ss",'Test suivi jour'!$1:$1,2) -> 0 | AE11: =(COUNTIFS('Test suivi jour'!15:15,"(ss)",'Test suivi jour'!$1:$1,2))/2 -> 0 | AF11: =AG11+AH11 -> 0 | AG11: =COUNTIFS('Test suivi jour'!15:15,"co",'Test suivi jour'!$1:$1,2) -> 0 | AH11: =(COUNTIFS('Test suivi jour'!15:15,"(co)",'Test suivi jour'!$1:$1,2))/2 -> 0 | AI11: =COUNTIFS('Test suivi jour'!15:15,"JF",'Test suivi jour'!$1:$1,1) -> 0 | AK11: =COUNTIFS('Test suivi jour'!15:15,"JT",'Test suivi jour'!$1:$1,2) -> 20 | AL11: =AM11+AN11 -> 0 | AM11: =COUNTIFS('Test suivi jour'!15:15,"CP",'Test suivi jour'!$1:$1,2) -> 0 | AN11: =(COUNTIFS('Test suivi jour'!15:15,"(CP)",'Test suivi jour'!$1:$1,2))/2 -> 0 | AO11: =AP11+AQ11 -> 0 | AP11: =COUNTIFS('Test suivi jour'!15:15,"r",'Test suivi jour'!$1:$1,2) -> 0 | AQ11: =(COUNTIFS('Test suivi jour'!15:15,"(r)",'Test suivi jour'!$1:$1,2))/2 -> 0 | AR11: =COUNTIFS('Test suivi jour'!15:15,"m",'Test suivi jour'!$1:$1,2) -> 0 | AS11: =COUNTIFS('Test suivi jour'!15:15,"i",'Test suivi jour'!$1:$1,2) -> 0 | AT11: =AU11+AV11 -> 0 | AU11: =COUNTIFS('Test suivi jour'!15:15,"ss",'Test suivi jour'!$1:$1,2) -> 0 | AV11: =(COUNTIFS('Test suivi jour'!15:15,"(ss)",'Test suivi jour'!$1:$1,2))/2 -> 0 | AW11: =AX11+AY11 -> 0 | AX11: =COUNTIFS('Test suivi jour'!15:15,"co",'Test suivi jour'!$1:$1,2) -> 0 | AY11: =(COUNTIFS('Test suivi jour'!15:15,"(co)",'Test suivi jour'!$1:$1,2))/2 -> 0 | AZ11: =COUNTIFS('Test suivi jour'!15:15,"JF",'Test suivi jour'!$1:$1,1) -> 0
A12: Consultant 10 | C12: =COUNTIFS('Test suivi jour'!16:16,"JT",'Test suivi jour'!$1:$1,1) -> 19 | D12: =E12+F12 -> 1 | E12: =COUNTIFS('Test suivi jour'!16:16,"CP",'Test suivi jour'!$1:$1,1) -> 1 | F12: =(COUNTIFS('Test suivi jour'!16:16,"(CP)",'Test suivi jour'!$1:$1,1))/2 -> 0 | G12: =H12+I12 -> 1.5 | H12: =COUNTIFS('Test suivi jour'!16:16,"r",'Test suivi jour'!$1:$1,1) -> 1 | I12: =(COUNTIFS('Test suivi jour'!16:16,"(r)",'Test suivi jour'!$1:$1,1))/2 -> 0.5 | J12: =COUNTIFS('Test suivi jour'!16:16,"m",'Test suivi jour'!$1:$1,1) -> 0 | K12: =COUNTIFS('Test suivi jour'!16:16,"i",'Test suivi jour'!$1:$1,1) -> 0 | L12: =M12+N12 -> 0 | M12: =COUNTIFS('Test suivi jour'!16:16,"ss",'Test suivi jour'!$1:$1,1) -> 0 | N12: =(COUNTIFS('Test suivi jour'!16:16,"(ss)",'Test suivi jour'!$1:$1,1))/2 -> 0 | O12: =P12+Q12 -> 0 | P12: =COUNTIFS('Test suivi jour'!16:16,"co",'Test suivi jour'!$1:$1,1) -> 0 | Q12: =(COUNTIFS('Test suivi jour'!16:16,"(co)",'Test suivi jour'!$1:$1,1))/2 -> 0 | R12: =COUNTIFS('Test suivi jour'!16:16,"JF",'Test suivi jour'!$1:$1,1) -> 0 | T12: =COUNTIFS('Test suivi jour'!16:16,"JT",'Test suivi jour'!$1:$1,2) -> 20 | U12: =V12+W12 -> 0 | V12: =COUNTIFS('Test suivi jour'!16:16,"CP",'Test suivi jour'!$1:$1,2) -> 0 | W12: =(COUNTIFS('Test suivi jour'!16:16,"(CP)",'Test suivi jour'!$1:$1,2))/2 -> 0 | X12: =Y12+Z12 -> 0 | Y12: =COUNTIFS('Test suivi jour'!16:16,"r",'Test suivi jour'!$1:$1,2) -> 0 | Z12: =(COUNTIFS('Test suivi jour'!16:16,"(r)",'Test suivi jour'!$1:$1,2))/2 -> 0 | AA12: =COUNTIFS('Test suivi jour'!16:16,"m",'Test suivi jour'!$1:$1,2) -> 0 | AB12: =COUNTIFS('Test suivi jour'!16:16,"i",'Test suivi jour'!$1:$1,2) -> 0 | AC12: =AD12+AE12 -> 0 | AD12: =COUNTIFS('Test suivi jour'!16:16,"ss",'Test suivi jour'!$1:$1,2) -> 0 | AE12: =(COUNTIFS('Test suivi jour'!16:16,"(ss)",'Test suivi jour'!$1:$1,2))/2 -> 0 | AF12: =AG12+AH12 -> 0 | AG12: =COUNTIFS('Test suivi jour'!16:16,"co",'Test suivi jour'!$1:$1,2) -> 0 | AH12: =(COUNTIFS('Test suivi jour'!16:16,"(co)",'Test suivi jour'!$1:$1,2))/2 -> 0 | AI12: =COUNTIFS('Test suivi jour'!16:16,"JF",'Test suivi jour'!$1:$1,1) -> 0 | AK12: =COUNTIFS('Test suivi jour'!16:16,"JT",'Test suivi jour'!$1:$1,2) -> 20 | AL12: =AM12+AN12 -> 0 | AM12: =COUNTIFS('Test suivi jour'!16:16,"CP",'Test suivi jour'!$1:$1,2) -> 0 | AN12: =(COUNTIFS('Test suivi jour'!16:16,"(CP)",'Test suivi jour'!$1:$1,2))/2 -> 0 | AO12: =AP12+AQ12 -> 0 | AP12: =COUNTIFS('Test suivi jour'!16:16,"r",'Test suivi jour'!$1:$1,2) -> 0 | AQ12: =(COUNTIFS('Test suivi jour'!16:16,"(r)",'Test suivi jour'!$1:$1,2))/2 -> 0 | AR12: =COUNTIFS('Test suivi jour'!16:16,"m",'Test suivi jour'!$1:$1,2) -> 0 | AS12: =COUNTIFS('Test suivi jour'!16:16,"i",'Test suivi jour'!$1:$1,2) -> 0 | AT12: =AU12+AV12 -> 0 | AU12: =COUNTIFS('Test suivi jour'!16:16,"ss",'Test suivi jour'!$1:$1,2) -> 0 | AV12: =(COUNTIFS('Test suivi jour'!16:16,"(ss)",'Test suivi jour'!$1:$1,2))/2 -> 0 | AW12: =AX12+AY12 -> 0 | AX12: =COUNTIFS('Test suivi jour'!16:16,"co",'Test suivi jour'!$1:$1,2) -> 0 | AY12: =(COUNTIFS('Test suivi jour'!16:16,"(co)",'Test suivi jour'!$1:$1,2))/2 -> 0 | AZ12: =COUNTIFS('Test suivi jour'!16:16,"JF",'Test suivi jour'!$1:$1,1) -> 0
A13: Consultant 11 | C13: =COUNTIFS('Test suivi jour'!17:17,"JT",'Test suivi jour'!$1:$1,1) -> 21 | D13: =E13+F13 -> 1 | E13: =COUNTIFS('Test suivi jour'!17:17,"CP",'Test suivi jour'!$1:$1,1) -> 1 | F13: =(COUNTIFS('Test suivi jour'!17:17,"(CP)",'Test suivi jour'!$1:$1,1))/2 -> 0 | G13: =H13+I13 -> 0 | H13: =COUNTIFS('Test suivi jour'!17:17,"r",'Test suivi jour'!$1:$1,1) -> 0 | I13: =(COUNTIFS('Test suivi jour'!17:17,"(r)",'Test suivi jour'!$1:$1,1))/2 -> 0 | J13: =COUNTIFS('Test suivi jour'!17:17,"m",'Test suivi jour'!$1:$1,1) -> 0 | K13: =COUNTIFS('Test suivi jour'!17:17,"i",'Test suivi jour'!$1:$1,1) -> 0 | L13: =M13+N13 -> 0 | M13: =COUNTIFS('Test suivi jour'!17:17,"ss",'Test suivi jour'!$1:$1,1) -> 0 | N13: =(COUNTIFS('Test suivi jour'!17:17,"(ss)",'Test suivi jour'!$1:$1,1))/2 -> 0 | O13: =P13+Q13 -> 0 | P13: =COUNTIFS('Test suivi jour'!17:17,"co",'Test suivi jour'!$1:$1,1) -> 0 | Q13: =(COUNTIFS('Test suivi jour'!17:17,"(co)",'Test suivi jour'!$1:$1,1))/2 -> 0 | R13: =COUNTIFS('Test suivi jour'!17:17,"JF",'Test suivi jour'!$1:$1,1) -> 0 | T13: =COUNTIFS('Test suivi jour'!17:17,"JT",'Test suivi jour'!$1:$1,2) -> 20 | U13: =V13+W13 -> 0 | V13: =COUNTIFS('Test suivi jour'!17:17,"CP",'Test suivi jour'!$1:$1,2) -> 0 | W13: =(COUNTIFS('Test suivi jour'!17:17,"(CP)",'Test suivi jour'!$1:$1,2))/2 -> 0 | X13: =Y13+Z13 -> 0 | Y13: =COUNTIFS('Test suivi jour'!17:17,"r",'Test suivi jour'!$1:$1,2) -> 0 | Z13: =(COUNTIFS('Test suivi jour'!17:17,"(r)",'Test suivi jour'!$1:$1,2))/2 -> 0 | AA13: =COUNTIFS('Test suivi jour'!17:17,"m",'Test suivi jour'!$1:$1,2) -> 0 | AB13: =COUNTIFS('Test suivi jour'!17:17,"i",'Test suivi jour'!$1:$1,2) -> 0 | AC13: =AD13+AE13 -> 0 | AD13: =COUNTIFS('Test suivi jour'!17:17,"ss",'Test suivi jour'!$1:$1,2) -> 0 | AE13: =(COUNTIFS('Test suivi jour'!17:17,"(ss)",'Test suivi jour'!$1:$1,2))/2 -> 0 | AF13: =AG13+AH13 -> 0 | AG13: =COUNTIFS('Test suivi jour'!17:17,"co",'Test suivi jour'!$1:$1,2) -> 0 | AH13: =(COUNTIFS('Test suivi jour'!17:17,"(co)",'Test suivi jour'!$1:$1,2))/2 -> 0 | AI13: =COUNTIFS('Test suivi jour'!17:17,"JF",'Test suivi jour'!$1:$1,1) -> 0 | AK13: =COUNTIFS('Test suivi jour'!17:17,"JT",'Test suivi jour'!$1:$1,2) -> 20 | AL13: =AM13+AN13 -> 0 | AM13: =COUNTIFS('Test suivi jour'!17:17,"CP",'Test suivi jour'!$1:$1,2) -> 0 | AN13: =(COUNTIFS('Test suivi jour'!17:17,"(CP)",'Test suivi jour'!$1:$1,2))/2 -> 0 | AO13: =AP13+AQ13 -> 0 | AP13: =COUNTIFS('Test suivi jour'!17:17,"r",'Test suivi jour'!$1:$1,2) -> 0 | AQ13: =(COUNTIFS('Test suivi jour'!17:17,"(r)",'Test suivi jour'!$1:$1,2))/2 -> 0 | AR13: =COUNTIFS('Test suivi jour'!17:17,"m",'Test suivi jour'!$1:$1,2) -> 0 | AS13: =COUNTIFS('Test suivi jour'!17:17,"i",'Test suivi jour'!$1:$1,2) -> 0 | AT13: =AU13+AV13 -> 0 | AU13: =COUNTIFS('Test suivi jour'!17:17,"ss",'Test suivi jour'!$1:$1,2) -> 0 | AV13: =(COUNTIFS('Test suivi jour'!17:17,"(ss)",'Test suivi jour'!$1:$1,2))/2 -> 0 | AW13: =AX13+AY13 -> 0 | AX13: =COUNTIFS('Test suivi jour'!17:17,"co",'Test suivi jour'!$1:$1,2) -> 0 | AY13: =(COUNTIFS('Test suivi jour'!17:17,"(co)",'Test suivi jour'!$1:$1,2))/2 -> 0 | AZ13: =COUNTIFS('Test suivi jour'!17:17,"JF",'Test suivi jour'!$1:$1,1) -> 0
A14: Consultant 12 | C14: =COUNTIFS('Test suivi jour'!18:18,"JT",'Test suivi jour'!$1:$1,1) -> 21 | D14: =E14+F14 -> 1 | E14: =COUNTIFS('Test suivi jour'!18:18,"CP",'Test suivi jour'!$1:$1,1) -> 1 | F14: =(COUNTIFS('Test suivi jour'!18:18,"(CP)",'Test suivi jour'!$1:$1,1))/2 -> 0 | G14: =H14+I14 -> 0 | H14: =COUNTIFS('Test suivi jour'!18:18,"r",'Test suivi jour'!$1:$1,1) -> 0 | I14: =(COUNTIFS('Test suivi jour'!18:18,"(r)",'Test suivi jour'!$1:$1,1))/2 -> 0 | J14: =COUNTIFS('Test suivi jour'!18:18,"m",'Test suivi jour'!$1:$1,1) -> 0 | K14: =COUNTIFS('Test suivi jour'!18:18,"i",'Test suivi jour'!$1:$1,1) -> 0 | L14: =M14+N14 -> 0 | M14: =COUNTIFS('Test suivi jour'!18:18,"ss",'Test suivi jour'!$1:$1,1) -> 0 | N14: =(COUNTIFS('Test suivi jour'!18:18,"(ss)",'Test suivi jour'!$1:$1,1))/2 -> 0 | O14: =P14+Q14 -> 0 | P14: =COUNTIFS('Test suivi jour'!18:18,"co",'Test suivi jour'!$1:$1,1) -> 0 | Q14: =(COUNTIFS('Test suivi jour'!18:18,"(co)",'Test suivi jour'!$1:$1,1))/2 -> 0 | R14: =COUNTIFS('Test suivi jour'!18:18,"JF",'Test suivi jour'!$1:$1,1) -> 0 | T14: =COUNTIFS('Test suivi jour'!18:18,"JT",'Test suivi jour'!$1:$1,2) -> 20 | U14: =V14+W14 -> 0 | V14: =COUNTIFS('Test suivi jour'!18:18,"CP",'Test suivi jour'!$1:$1,2) -> 0 | W14: =(COUNTIFS('Test suivi jour'!18:18,"(CP)",'Test suivi jour'!$1:$1,2))/2 -> 0 | X14: =Y14+Z14 -> 0 | Y14: =COUNTIFS('Test suivi jour'!18:18,"r",'Test suivi jour'!$1:$1,2) -> 0 | Z14: =(COUNTIFS('Test suivi jour'!18:18,"(r)",'Test suivi jour'!$1:$1,2))/2 -> 0 | AA14: =COUNTIFS('Test suivi jour'!18:18,"m",'Test suivi jour'!$1:$1,2) -> 0 | AB14: =COUNTIFS('Test suivi jour'!18:18,"i",'Test suivi jour'!$1:$1,2) -> 0 | AC14: =AD14+AE14 -> 0 | AD14: =COUNTIFS('Test suivi jour'!18:18,"ss",'Test suivi jour'!$1:$1,2) -> 0 | AE14: =(COUNTIFS('Test suivi jour'!18:18,"(ss)",'Test suivi jour'!$1:$1,2))/2 -> 0 | AF14: =AG14+AH14 -> 0 | AG14: =COUNTIFS('Test suivi jour'!18:18,"co",'Test suivi jour'!$1:$1,2) -> 0 | AH14: =(COUNTIFS('Test suivi jour'!18:18,"(co)",'Test suivi jour'!$1:$1,2))/2 -> 0 | AI14: =COUNTIFS('Test suivi jour'!18:18,"JF",'Test suivi jour'!$1:$1,1) -> 0 | AK14: =COUNTIFS('Test suivi jour'!18:18,"JT",'Test suivi jour'!$1:$1,2) -> 20 | AL14: =AM14+AN14 -> 0 | AM14: =COUNTIFS('Test suivi jour'!18:18,"CP",'Test suivi jour'!$1:$1,2) -> 0 | AN14: =(COUNTIFS('Test suivi jour'!18:18,"(CP)",'Test suivi jour'!$1:$1,2))/2 -> 0 | AO14: =AP14+AQ14 -> 0 | AP14: =COUNTIFS('Test suivi jour'!18:18,"r",'Test suivi jour'!$1:$1,2) -> 0 | AQ14: =(COUNTIFS('Test suivi jour'!18:18,"(r)",'Test suivi jour'!$1:$1,2))/2 -> 0 | AR14: =COUNTIFS('Test suivi jour'!18:18,"m",'Test suivi jour'!$1:$1,2) -> 0 | AS14: =COUNTIFS('Test suivi jour'!18:18,"i",'Test suivi jour'!$1:$1,2) -> 0 | AT14: =AU14+AV14 -> 0 | AU14: =COUNTIFS('Test suivi jour'!18:18,"ss",'Test suivi jour'!$1:$1,2) -> 0 | AV14: =(COUNTIFS('Test suivi jour'!18:18,"(ss)",'Test suivi jour'!$1:$1,2))/2 -> 0 | AW14: =AX14+AY14 -> 0 | AX14: =COUNTIFS('Test suivi jour'!18:18,"co",'Test suivi jour'!$1:$1,2) -> 0 | AY14: =(COUNTIFS('Test suivi jour'!18:18,"(co)",'Test suivi jour'!$1:$1,2))/2 -> 0 | AZ14: =COUNTIFS('Test suivi jour'!18:18,"JF",'Test suivi jour'!$1:$1,1) -> 0
A15: Consultant 13 | C15: =COUNTIFS('Test suivi jour'!19:19,"JT",'Test suivi jour'!$1:$1,1) -> 21 | D15: =E15+F15 -> 1 | E15: =COUNTIFS('Test suivi jour'!19:19,"CP",'Test suivi jour'!$1:$1,1) -> 1 | F15: =(COUNTIFS('Test suivi jour'!19:19,"(CP)",'Test suivi jour'!$1:$1,1))/2 -> 0 | G15: =H15+I15 -> 0 | H15: =COUNTIFS('Test suivi jour'!19:19,"r",'Test suivi jour'!$1:$1,1) -> 0 | I15: =(COUNTIFS('Test suivi jour'!19:19,"(r)",'Test suivi jour'!$1:$1,1))/2 -> 0 | J15: =COUNTIFS('Test suivi jour'!19:19,"m",'Test suivi jour'!$1:$1,1) -> 0 | K15: =COUNTIFS('Test suivi jour'!19:19,"i",'Test suivi jour'!$1:$1,1) -> 0 | L15: =M15+N15 -> 0 | M15: =COUNTIFS('Test suivi jour'!19:19,"ss",'Test suivi jour'!$1:$1,1) -> 0 | N15: =(COUNTIFS('Test suivi jour'!19:19,"(ss)",'Test suivi jour'!$1:$1,1))/2 -> 0 | O15: =P15+Q15 -> 0 | P15: =COUNTIFS('Test suivi jour'!19:19,"co",'Test suivi jour'!$1:$1,1) -> 0 | Q15: =(COUNTIFS('Test suivi jour'!19:19,"(co)",'Test suivi jour'!$1:$1,1))/2 -> 0 | R15: =COUNTIFS('Test suivi jour'!19:19,"JF",'Test suivi jour'!$1:$1,1) -> 0 | T15: =COUNTIFS('Test suivi jour'!19:19,"JT",'Test suivi jour'!$1:$1,2) -> 20 | U15: =V15+W15 -> 0 | V15: =COUNTIFS('Test suivi jour'!19:19,"CP",'Test suivi jour'!$1:$1,2) -> 0 | W15: =(COUNTIFS('Test suivi jour'!19:19,"(CP)",'Test suivi jour'!$1:$1,2))/2 -> 0 | X15: =Y15+Z15 -> 0 | Y15: =COUNTIFS('Test suivi jour'!19:19,"r",'Test suivi jour'!$1:$1,2) -> 0 | Z15: =(COUNTIFS('Test suivi jour'!19:19,"(r)",'Test suivi jour'!$1:$1,2))/2 -> 0 | AA15: =COUNTIFS('Test suivi jour'!19:19,"m",'Test suivi jour'!$1:$1,2) -> 0 | AB15: =COUNTIFS('Test suivi jour'!19:19,"i",'Test suivi jour'!$1:$1,2) -> 0 | AC15: =AD15+AE15 -> 0 | AD15: =COUNTIFS('Test suivi jour'!19:19,"ss",'Test suivi jour'!$1:$1,2) -> 0 | AE15: =(COUNTIFS('Test suivi jour'!19:19,"(ss)",'Test suivi jour'!$1:$1,2))/2 -> 0 | AF15: =AG15+AH15 -> 0 | AG15: =COUNTIFS('Test suivi jour'!19:19,"co",'Test suivi jour'!$1:$1,2) -> 0 | AH15: =(COUNTIFS('Test suivi jour'!19:19,"(co)",'Test suivi jour'!$1:$1,2))/2 -> 0 | AI15: =COUNTIFS('Test suivi jour'!19:19,"JF",'Test suivi jour'!$1:$1,1) -> 0 | AK15: =COUNTIFS('Test suivi jour'!19:19,"JT",'Test suivi jour'!$1:$1,2) -> 20 | AL15: =AM15+AN15 -> 0 | AM15: =COUNTIFS('Test suivi jour'!19:19,"CP",'Test suivi jour'!$1:$1,2) -> 0 | AN15: =(COUNTIFS('Test suivi jour'!19:19,"(CP)",'Test suivi jour'!$1:$1,2))/2 -> 0 | AO15: =AP15+AQ15 -> 0 | AP15: =COUNTIFS('Test suivi jour'!19:19,"r",'Test suivi jour'!$1:$1,2) -> 0 | AQ15: =(COUNTIFS('Test suivi jour'!19:19,"(r)",'Test suivi jour'!$1:$1,2))/2 -> 0 | AR15: =COUNTIFS('Test suivi jour'!19:19,"m",'Test suivi jour'!$1:$1,2) -> 0 | AS15: =COUNTIFS('Test suivi jour'!19:19,"i",'Test suivi jour'!$1:$1,2) -> 0 | AT15: =AU15+AV15 -> 0 | AU15: =COUNTIFS('Test suivi jour'!19:19,"ss",'Test suivi jour'!$1:$1,2) -> 0 | AV15: =(COUNTIFS('Test suivi jour'!19:19,"(ss)",'Test suivi jour'!$1:$1,2))/2 -> 0 | AW15: =AX15+AY15 -> 0 | AX15: =COUNTIFS('Test suivi jour'!19:19,"co",'Test suivi jour'!$1:$1,2) -> 0 | AY15: =(COUNTIFS('Test suivi jour'!19:19,"(co)",'Test suivi jour'!$1:$1,2))/2 -> 0 | AZ15: =COUNTIFS('Test suivi jour'!19:19,"JF",'Test suivi jour'!$1:$1,1) -> 0
A16: Consultant 14 | C16: =COUNTIFS('Test suivi jour'!20:20,"JT",'Test suivi jour'!$1:$1,1) -> 22 | D16: =E16+F16 -> 0 | E16: =COUNTIFS('Test suivi jour'!20:20,"CP",'Test suivi jour'!$1:$1,1) -> 0 | F16: =(COUNTIFS('Test suivi jour'!20:20,"(CP)",'Test suivi jour'!$1:$1,1))/2 -> 0 | G16: =H16+I16 -> 0 | H16: =COUNTIFS('Test suivi jour'!20:20,"r",'Test suivi jour'!$1:$1,1) -> 0 | I16: =(COUNTIFS('Test suivi jour'!20:20,"(r)",'Test suivi jour'!$1:$1,1))/2 -> 0 | J16: =COUNTIFS('Test suivi jour'!20:20,"m",'Test suivi jour'!$1:$1,1) -> 0 | K16: =COUNTIFS('Test suivi jour'!20:20,"i",'Test suivi jour'!$1:$1,1) -> 0 | L16: =M16+N16 -> 0 | M16: =COUNTIFS('Test suivi jour'!20:20,"ss",'Test suivi jour'!$1:$1,1) -> 0 | N16: =(COUNTIFS('Test suivi jour'!20:20,"(ss)",'Test suivi jour'!$1:$1,1))/2 -> 0 | O16: =P16+Q16 -> 0 | P16: =COUNTIFS('Test suivi jour'!20:20,"co",'Test suivi jour'!$1:$1,1) -> 0 | Q16: =(COUNTIFS('Test suivi jour'!20:20,"(co)",'Test suivi jour'!$1:$1,1))/2 -> 0 | R16: =COUNTIFS('Test suivi jour'!20:20,"JF",'Test suivi jour'!$1:$1,1) -> 0 | T16: =COUNTIFS('Test suivi jour'!20:20,"JT",'Test suivi jour'!$1:$1,2) -> 20 | U16: =V16+W16 -> 0 | V16: =COUNTIFS('Test suivi jour'!20:20,"CP",'Test suivi jour'!$1:$1,2) -> 0 | W16: =(COUNTIFS('Test suivi jour'!20:20,"(CP)",'Test suivi jour'!$1:$1,2))/2 -> 0 | X16: =Y16+Z16 -> 0 | Y16: =COUNTIFS('Test suivi jour'!20:20,"r",'Test suivi jour'!$1:$1,2) -> 0 | Z16: =(COUNTIFS('Test suivi jour'!20:20,"(r)",'Test suivi jour'!$1:$1,2))/2 -> 0 | AA16: =COUNTIFS('Test suivi jour'!20:20,"m",'Test suivi jour'!$1:$1,2) -> 0 | AB16: =COUNTIFS('Test suivi jour'!20:20,"i",'Test suivi jour'!$1:$1,2) -> 0 | AC16: =AD16+AE16 -> 0 | AD16: =COUNTIFS('Test suivi jour'!20:20,"ss",'Test suivi jour'!$1:$1,2) -> 0 | AE16: =(COUNTIFS('Test suivi jour'!20:20,"(ss)",'Test suivi jour'!$1:$1,2))/2 -> 0 | AF16: =AG16+AH16 -> 0 | AG16: =COUNTIFS('Test suivi jour'!20:20,"co",'Test suivi jour'!$1:$1,2) -> 0 | AH16: =(COUNTIFS('Test suivi jour'!20:20,"(co)",'Test suivi jour'!$1:$1,2))/2 -> 0 | AI16: =COUNTIFS('Test suivi jour'!20:20,"JF",'Test suivi jour'!$1:$1,1) -> 0 | AK16: =COUNTIFS('Test suivi jour'!20:20,"JT",'Test suivi jour'!$1:$1,2) -> 20 | AL16: =AM16+AN16 -> 0 | AM16: =COUNTIFS('Test suivi jour'!20:20,"CP",'Test suivi jour'!$1:$1,2) -> 0 | AN16: =(COUNTIFS('Test suivi jour'!20:20,"(CP)",'Test suivi jour'!$1:$1,2))/2 -> 0 | AO16: =AP16+AQ16 -> 0 | AP16: =COUNTIFS('Test suivi jour'!20:20,"r",'Test suivi jour'!$1:$1,2) -> 0 | AQ16: =(COUNTIFS('Test suivi jour'!20:20,"(r)",'Test suivi jour'!$1:$1,2))/2 -> 0 | AR16: =COUNTIFS('Test suivi jour'!20:20,"m",'Test suivi jour'!$1:$1,2) -> 0 | AS16: =COUNTIFS('Test suivi jour'!20:20,"i",'Test suivi jour'!$1:$1,2) -> 0 | AT16: =AU16+AV16 -> 0 | AU16: =COUNTIFS('Test suivi jour'!20:20,"ss",'Test suivi jour'!$1:$1,2) -> 0 | AV16: =(COUNTIFS('Test suivi jour'!20:20,"(ss)",'Test suivi jour'!$1:$1,2))/2 -> 0 | AW16: =AX16+AY16 -> 0 | AX16: =COUNTIFS('Test suivi jour'!20:20,"co",'Test suivi jour'!$1:$1,2) -> 0 | AY16: =(COUNTIFS('Test suivi jour'!20:20,"(co)",'Test suivi jour'!$1:$1,2))/2 -> 0 | AZ16: =COUNTIFS('Test suivi jour'!20:20,"JF",'Test suivi jour'!$1:$1,1) -> 0
A17: Consultant 15 | C17: =COUNTIFS('Test suivi jour'!21:21,"JT",'Test suivi jour'!$1:$1,1) -> 0 | D17: =E17+F17 -> 0 | E17: =COUNTIFS('Test suivi jour'!21:21,"CP",'Test suivi jour'!$1:$1,1) -> 0 | F17: =(COUNTIFS('Test suivi jour'!21:21,"(CP)",'Test suivi jour'!$1:$1,1))/2 -> 0 | G17: =H17+I17 -> 0 | H17: =COUNTIFS('Test suivi jour'!21:21,"r",'Test suivi jour'!$1:$1,1) -> 0 | I17: =(COUNTIFS('Test suivi jour'!21:21,"(r)",'Test suivi jour'!$1:$1,1))/2 -> 0 | J17: =COUNTIFS('Test suivi jour'!21:21,"m",'Test suivi jour'!$1:$1,1) -> 22 | K17: =COUNTIFS('Test suivi jour'!21:21,"i",'Test suivi jour'!$1:$1,1) -> 0 | L17: =M17+N17 -> 0 | M17: =COUNTIFS('Test suivi jour'!21:21,"ss",'Test suivi jour'!$1:$1,1) -> 0 | N17: =(COUNTIFS('Test suivi jour'!21:21,"(ss)",'Test suivi jour'!$1:$1,1))/2 -> 0 | O17: =P17+Q17 -> 0 | P17: =COUNTIFS('Test suivi jour'!21:21,"co",'Test suivi jour'!$1:$1,1) -> 0 | Q17: =(COUNTIFS('Test suivi jour'!21:21,"(co)",'Test suivi jour'!$1:$1,1))/2 -> 0 | R17: =COUNTIFS('Test suivi jour'!21:21,"JF",'Test suivi jour'!$1:$1,1) -> 0 | T17: =COUNTIFS('Test suivi jour'!21:21,"JT",'Test suivi jour'!$1:$1,2) -> 12 | U17: =V17+W17 -> 0 | V17: =COUNTIFS('Test suivi jour'!21:21,"CP",'Test suivi jour'!$1:$1,2) -> 0 | W17: =(COUNTIFS('Test suivi jour'!21:21,"(CP)",'Test suivi jour'!$1:$1,2))/2 -> 0 | X17: =Y17+Z17 -> 5 | Y17: =COUNTIFS('Test suivi jour'!21:21,"r",'Test suivi jour'!$1:$1,2) -> 5 | Z17: =(COUNTIFS('Test suivi jour'!21:21,"(r)",'Test suivi jour'!$1:$1,2))/2 -> 0 | AA17: =COUNTIFS('Test suivi jour'!21:21,"m",'Test suivi jour'!$1:$1,2) -> 3 | AB17: =COUNTIFS('Test suivi jour'!21:21,"i",'Test suivi jour'!$1:$1,2) -> 0 | AC17: =AD17+AE17 -> 0 | AD17: =COUNTIFS('Test suivi jour'!21:21,"ss",'Test suivi jour'!$1:$1,2) -> 0 | AE17: =(COUNTIFS('Test suivi jour'!21:21,"(ss)",'Test suivi jour'!$1:$1,2))/2 -> 0 | AF17: =AG17+AH17 -> 0 | AG17: =COUNTIFS('Test suivi jour'!21:21,"co",'Test suivi jour'!$1:$1,2) -> 0 | AH17: =(COUNTIFS('Test suivi jour'!21:21,"(co)",'Test suivi jour'!$1:$1,2))/2 -> 0 | AI17: =COUNTIFS('Test suivi jour'!21:21,"JF",'Test suivi jour'!$1:$1,1) -> 0 | AK17: =COUNTIFS('Test suivi jour'!21:21,"JT",'Test suivi jour'!$1:$1,2) -> 12 | AL17: =AM17+AN17 -> 0 | AM17: =COUNTIFS('Test suivi jour'!21:21,"CP",'Test suivi jour'!$1:$1,2) -> 0 | AN17: =(COUNTIFS('Test suivi jour'!21:21,"(CP)",'Test suivi jour'!$1:$1,2))/2 -> 0 | AO17: =AP17+AQ17 -> 5 | AP17: =COUNTIFS('Test suivi jour'!21:21,"r",'Test suivi jour'!$1:$1,2) -> 5 | AQ17: =(COUNTIFS('Test suivi jour'!21:21,"(r)",'Test suivi jour'!$1:$1,2))/2 -> 0 | AR17: =COUNTIFS('Test suivi jour'!21:21,"m",'Test suivi jour'!$1:$1,2) -> 3 | AS17: =COUNTIFS('Test suivi jour'!21:21,"i",'Test suivi jour'!$1:$1,2) -> 0 | AT17: =AU17+AV17 -> 0 | AU17: =COUNTIFS('Test suivi jour'!21:21,"ss",'Test suivi jour'!$1:$1,2) -> 0 | AV17: =(COUNTIFS('Test suivi jour'!21:21,"(ss)",'Test suivi jour'!$1:$1,2))/2 -> 0 | AW17: =AX17+AY17 -> 0 | AX17: =COUNTIFS('Test suivi jour'!21:21,"co",'Test suivi jour'!$1:$1,2) -> 0 | AY17: =(COUNTIFS('Test suivi jour'!21:21,"(co)",'Test suivi jour'!$1:$1,2))/2 -> 0 | AZ17: =COUNTIFS('Test suivi jour'!21:21,"JF",'Test suivi jour'!$1:$1,1) -> 0
A18: Consultant 16 | C18: =COUNTIFS('Test suivi jour'!22:22,"JT",'Test suivi jour'!$1:$1,1) -> 21 | D18: =E18+F18 -> 0 | E18: =COUNTIFS('Test suivi jour'!22:22,"CP",'Test suivi jour'!$1:$1,1) -> 0 | F18: =(COUNTIFS('Test suivi jour'!22:22,"(CP)",'Test suivi jour'!$1:$1,1))/2 -> 0 | G18: =H18+I18 -> 1 | H18: =COUNTIFS('Test suivi jour'!22:22,"r",'Test suivi jour'!$1:$1,1) -> 1 | I18: =(COUNTIFS('Test suivi jour'!22:22,"(r)",'Test suivi jour'!$1:$1,1))/2 -> 0 | J18: =COUNTIFS('Test suivi jour'!22:22,"m",'Test suivi jour'!$1:$1,1) -> 0 | K18: =COUNTIFS('Test suivi jour'!22:22,"i",'Test suivi jour'!$1:$1,1) -> 0 | L18: =M18+N18 -> 0 | M18: =COUNTIFS('Test suivi jour'!22:22,"ss",'Test suivi jour'!$1:$1,1) -> 0 | N18: =(COUNTIFS('Test suivi jour'!22:22,"(ss)",'Test suivi jour'!$1:$1,1))/2 -> 0 | O18: =P18+Q18 -> 0 | P18: =COUNTIFS('Test suivi jour'!22:22,"co",'Test suivi jour'!$1:$1,1) -> 0 | Q18: =(COUNTIFS('Test suivi jour'!22:22,"(co)",'Test suivi jour'!$1:$1,1))/2 -> 0 | R18: =COUNTIFS('Test suivi jour'!22:22,"JF",'Test suivi jour'!$1:$1,1) -> 0 | T18: =COUNTIFS('Test suivi jour'!22:22,"JT",'Test suivi jour'!$1:$1,2) -> 20 | U18: =V18+W18 -> 0 | V18: =COUNTIFS('Test suivi jour'!22:22,"CP",'Test suivi jour'!$1:$1,2) -> 0 | W18: =(COUNTIFS('Test suivi jour'!22:22,"(CP)",'Test suivi jour'!$1:$1,2))/2 -> 0 | X18: =Y18+Z18 -> 0 | Y18: =COUNTIFS('Test suivi jour'!22:22,"r",'Test suivi jour'!$1:$1,2) -> 0 | Z18: =(COUNTIFS('Test suivi jour'!22:22,"(r)",'Test suivi jour'!$1:$1,2))/2 -> 0 | AA18: =COUNTIFS('Test suivi jour'!22:22,"m",'Test suivi jour'!$1:$1,2) -> 0 | AB18: =COUNTIFS('Test suivi jour'!22:22,"i",'Test suivi jour'!$1:$1,2) -> 0 | AC18: =AD18+AE18 -> 0 | AD18: =COUNTIFS('Test suivi jour'!22:22,"ss",'Test suivi jour'!$1:$1,2) -> 0 | AE18: =(COUNTIFS('Test suivi jour'!22:22,"(ss)",'Test suivi jour'!$1:$1,2))/2 -> 0 | AF18: =AG18+AH18 -> 0 | AG18: =COUNTIFS('Test suivi jour'!22:22,"co",'Test suivi jour'!$1:$1,2) -> 0 | AH18: =(COUNTIFS('Test suivi jour'!22:22,"(co)",'Test suivi jour'!$1:$1,2))/2 -> 0 | AI18: =COUNTIFS('Test suivi jour'!22:22,"JF",'Test suivi jour'!$1:$1,1) -> 0 | AK18: =COUNTIFS('Test suivi jour'!22:22,"JT",'Test suivi jour'!$1:$1,2) -> 20 | AL18: =AM18+AN18 -> 0 | AM18: =COUNTIFS('Test suivi jour'!22:22,"CP",'Test suivi jour'!$1:$1,2) -> 0 | AN18: =(COUNTIFS('Test suivi jour'!22:22,"(CP)",'Test suivi jour'!$1:$1,2))/2 -> 0 | AO18: =AP18+AQ18 -> 0 | AP18: =COUNTIFS('Test suivi jour'!22:22,"r",'Test suivi jour'!$1:$1,2) -> 0 | AQ18: =(COUNTIFS('Test suivi jour'!22:22,"(r)",'Test suivi jour'!$1:$1,2))/2 -> 0 | AR18: =COUNTIFS('Test suivi jour'!22:22,"m",'Test suivi jour'!$1:$1,2) -> 0 | AS18: =COUNTIFS('Test suivi jour'!22:22,"i",'Test suivi jour'!$1:$1,2) -> 0 | AT18: =AU18+AV18 -> 0 | AU18: =COUNTIFS('Test suivi jour'!22:22,"ss",'Test suivi jour'!$1:$1,2) -> 0 | AV18: =(COUNTIFS('Test suivi jour'!22:22,"(ss)",'Test suivi jour'!$1:$1,2))/2 -> 0 | AW18: =AX18+AY18 -> 0 | AX18: =COUNTIFS('Test suivi jour'!22:22,"co",'Test suivi jour'!$1:$1,2) -> 0 | AY18: =(COUNTIFS('Test suivi jour'!22:22,"(co)",'Test suivi jour'!$1:$1,2))/2 -> 0 | AZ18: =COUNTIFS('Test suivi jour'!22:22,"JF",'Test suivi jour'!$1:$1,1) -> 0
A19: Consultant 17 | C19: =COUNTIFS('Test suivi jour'!23:23,"JT",'Test suivi jour'!$1:$1,1) -> 22 | D19: =E19+F19 -> 0 | E19: =COUNTIFS('Test suivi jour'!23:23,"CP",'Test suivi jour'!$1:$1,1) -> 0 | F19: =(COUNTIFS('Test suivi jour'!23:23,"(CP)",'Test suivi jour'!$1:$1,1))/2 -> 0 | G19: =H19+I19 -> 0 | H19: =COUNTIFS('Test suivi jour'!23:23,"r",'Test suivi jour'!$1:$1,1) -> 0 | I19: =(COUNTIFS('Test suivi jour'!23:23,"(r)",'Test suivi jour'!$1:$1,1))/2 -> 0 | J19: =COUNTIFS('Test suivi jour'!23:23,"m",'Test suivi jour'!$1:$1,1) -> 0 | K19: =COUNTIFS('Test suivi jour'!23:23,"i",'Test suivi jour'!$1:$1,1) -> 0 | L19: =M19+N19 -> 0 | M19: =COUNTIFS('Test suivi jour'!23:23,"ss",'Test suivi jour'!$1:$1,1) -> 0 | N19: =(COUNTIFS('Test suivi jour'!23:23,"(ss)",'Test suivi jour'!$1:$1,1))/2 -> 0 | O19: =P19+Q19 -> 0 | P19: =COUNTIFS('Test suivi jour'!23:23,"co",'Test suivi jour'!$1:$1,1) -> 0 | Q19: =(COUNTIFS('Test suivi jour'!23:23,"(co)",'Test suivi jour'!$1:$1,1))/2 -> 0 | R19: =COUNTIFS('Test suivi jour'!23:23,"JF",'Test suivi jour'!$1:$1,1) -> 0 | T19: =COUNTIFS('Test suivi jour'!23:23,"JT",'Test suivi jour'!$1:$1,2) -> 18 | U19: =V19+W19 -> 0 | V19: =COUNTIFS('Test suivi jour'!23:23,"CP",'Test suivi jour'!$1:$1,2) -> 0 | W19: =(COUNTIFS('Test suivi jour'!23:23,"(CP)",'Test suivi jour'!$1:$1,2))/2 -> 0 | X19: =Y19+Z19 -> 0 | Y19: =COUNTIFS('Test suivi jour'!23:23,"r",'Test suivi jour'!$1:$1,2) -> 0 | Z19: =(COUNTIFS('Test suivi jour'!23:23,"(r)",'Test suivi jour'!$1:$1,2))/2 -> 0 | AA19: =COUNTIFS('Test suivi jour'!23:23,"m",'Test suivi jour'!$1:$1,2) -> 0 | AB19: =COUNTIFS('Test suivi jour'!23:23,"i",'Test suivi jour'!$1:$1,2) -> 0 | AC19: =AD19+AE19 -> 0 | AD19: =COUNTIFS('Test suivi jour'!23:23,"ss",'Test suivi jour'!$1:$1,2) -> 0 | AE19: =(COUNTIFS('Test suivi jour'!23:23,"(ss)",'Test suivi jour'!$1:$1,2))/2 -> 0 | AF19: =AG19+AH19 -> 2 | AG19: =COUNTIFS('Test suivi jour'!23:23,"co",'Test suivi jour'!$1:$1,2) -> 2 | AH19: =(COUNTIFS('Test suivi jour'!23:23,"(co)",'Test suivi jour'!$1:$1,2))/2 -> 0 | AI19: =COUNTIFS('Test suivi jour'!23:23,"JF",'Test suivi jour'!$1:$1,1) -> 0 | AK19: =COUNTIFS('Test suivi jour'!23:23,"JT",'Test suivi jour'!$1:$1,2) -> 18 | AL19: =AM19+AN19 -> 0 | AM19: =COUNTIFS('Test suivi jour'!23:23,"CP",'Test suivi jour'!$1:$1,2) -> 0 | AN19: =(COUNTIFS('Test suivi jour'!23:23,"(CP)",'Test suivi jour'!$1:$1,2))/2 -> 0 | AO19: =AP19+AQ19 -> 0 | AP19: =COUNTIFS('Test suivi jour'!23:23,"r",'Test suivi jour'!$1:$1,2) -> 0 | AQ19: =(COUNTIFS('Test suivi jour'!23:23,"(r)",'Test suivi jour'!$1:$1,2))/2 -> 0 | AR19: =COUNTIFS('Test suivi jour'!23:23,"m",'Test suivi jour'!$1:$1,2) -> 0 | AS19: =COUNTIFS('Test suivi jour'!23:23,"i",'Test suivi jour'!$1:$1,2) -> 0 | AT19: =AU19+AV19 -> 0 | AU19: =COUNTIFS('Test suivi jour'!23:23,"ss",'Test suivi jour'!$1:$1,2) -> 0 | AV19: =(COUNTIFS('Test suivi jour'!23:23,"(ss)",'Test suivi jour'!$1:$1,2))/2 -> 0 | AW19: =AX19+AY19 -> 2 | AX19: =COUNTIFS('Test suivi jour'!23:23,"co",'Test suivi jour'!$1:$1,2) -> 2 | AY19: =(COUNTIFS('Test suivi jour'!23:23,"(co)",'Test suivi jour'!$1:$1,2))/2 -> 0 | AZ19: =COUNTIFS('Test suivi jour'!23:23,"JF",'Test suivi jour'!$1:$1,1) -> 0
A20: Consultant 18
A21: Consultant 19
A22: Consultant 20

Sheet Test suivi jour
B1: =MONTH(B6) -> 1 | C1: =MONTH(C6) -> 1 | D1: =MONTH(D6) -> 1 | E1: =MONTH(E6) -> 1 | F1: =MONTH(F6) -> 1 | G1: =MONTH(G6) -> 1 | H1: =MONTH(H6) -> 1 | I1: =MONTH(I6) -> 1 | ... NB1: =MONTH(NB6) -> 12
B2: JAN | AG2: FEV | BI2: MAR | CN2: AVR | DR2: MAI | EW2: JUI | GA2: JUILLET | HF2: AOU | IK2: SEP | JO2: OCT | KT2: NOV | LX2: DEC
B3: =WEEKDAY(B6) -> 1 | C3: =WEEKDAY(C6) -> 2 | D3: =WEEKDAY(D6) -> 3 | E3: =WEEKDAY(E6) -> 4 | F3: =WEEKDAY(F6) -> 5 | G3: =WEEKDAY(G6) -> 6 | H3: =WEEKDAY(H6) -> 7 | I3: =WEEKDAY(I6) -> 1 | ... AIF3: =WEEKDAY(AIF6) -> 7
B4: =WEEKNUM(B6,21) -> 52 | C4: =WEEKNUM(C6,21) -> 1 | D4: =WEEKNUM(D6,21) -> 1 | E4: =WEEKNUM(E6,21) -> 1 | F4: =WEEKNUM(F6,21) -> 1 | G4: =WEEKNUM(G6,21) -> 1 | H4: =WEEKNUM(H6,21) -> 1 | I4: =WEEKNUM(I6,21) -> 1 | ... NB4: =WEEKNUM(NB6,21) -> 52
B5: =IF(B$3=5,"J",IF(B$3=6,"V",IF(B$3=7, "S",IF(B$3=1,"D", IF(B$3=2,"L", IF(B$3=3,"Ma",IF(B$3=4,"Me"))))))) -> D | C5: =IF(C$3=5,"J",IF(C$3=6,"V",IF(C$3=7, "S",IF(C$3=1,"D", IF(C$3=2,"L", IF(C$3=3,"Ma",IF(C$3=4,"Me"))))))) -> L | D5: =IF(D$3=5,"J",IF(D$3=6,"V",IF(D$3=7, "S",IF(D$3=1,"D", IF(D$3=2,"L", IF(D$3=3,"Ma",IF(D$3=4,"Me"))))))) -> Ma | E5: =IF(E$3=5,"J",IF(E$3=6,"V",IF(E$3=7, "S",IF(E$3=1,"D", IF(E$3=2,"L", IF(E$3=3,"Ma",IF(E$3=4,"Me"))))))) -> Me | F5: =IF(F$3=5,"J",IF(F$3=6,"V",IF(F$3=7, "S",IF(F$3=1,"D", IF(F$3=2,"L", IF(F$3=3,"Ma",IF(F$3=4,"Me"))))))) -> J | G5: =IF(G$3=5,"J",IF(G$3=6,"V",IF(G$3=7, "S",IF(G$3=1,"D", IF(G$3=2,"L", IF(G$3=3,"Ma",IF(G$3=4,"Me"))))))) -> V | H5: =IF(H$3=5,"J",IF(H$3=6,"V",IF(H$3=7, "S",IF(H$3=1,"D", IF(H$3=2,"L", IF(H$3=3,"Ma",IF(H$3=4,"Me"))))))) -> S | I5: =IF(I$3=5,"J",IF(I$3=6,"V",IF(I$3=7, "S",IF(I$3=1,"D", IF(I$3=2,"L", IF(I$3=3,"Ma",IF(I$3=4,"Me"))))))) -> D | ... NB5: =IF(NB$3=5,"J",IF(NB$3=6,"V",IF(NB$3=7, "S",IF(NB$3=1,"D", IF(NB$3=2,"L", IF(NB$3=3,"Ma",IF(NB$3=4,"Me"))))))) -> D
B6: 42736 | C6: 42737 | D6: 42738 | E6: 42739 | F6: 42740 | G6: 42741 | H6: 42742 | I6: 42743 | J6: 42744 | K6: 42745 | L6: 42746 | M6: 42747 | N6: 42748 | O6: 42749 | P6: 42750 | Q6: 42751 | R6: 42752 | S6: 42753 | T6: 42754 | U6: 42755 | V6: 42756 | W6: 42757 | X6: 42758 | Y6: 42759 | Z6: 42760 | AA6: 42761 | AB6: 42762 | AC6: 42763 | AD6: 42764 | AE6: 42765 | AF6: 42766 | AG6: 42767 | AH6: 42768 | AI6: 42769 | AJ6: 42770 | AK6: 42771 | AL6: 42772 | AM6: 42773 | AN6: 42774 | AO6: 42775 | AP6: 42776 | AQ6: 42777 | AR6: 42778 | AS6: 42779 | AT6: 42780 | AU6: 42781 | AV6: 42782 | AW6: 42783 | AX6: 42784 | AY6: 42785 | AZ6: 42786 | BA6: 42787 | BB6: 42788 | BC6: 42789 | BD6: 42790 | BE6: 42791 | BF6: 42792 | BG6: 42793 | BH6: 42794 | BI6: 42795 | BJ6: 42796 | BK6: 42797 | BL6: 42798 | BM6: 42799 | BN6: 42800 | BO6: 42801 | BP6: 42802 | BQ6: 42803 | BR6: 42804 | BS6: 42805 | BT6: 42806 | BU6: 42807 | BV6: 42808 | BW6: 42809 | BX6: 42810 | BY6: 42811 | BZ6: 42812 | CA6: 42813 | CB6: 42814 | CC6: 42815 | CD6: 42816 | CE6: 42817 | CF6: 42818 | CG6: 42819 | CH6: 42820 | CI6: 42821 | CJ6: 42822 | CK6: 42823 | CL6: 42824 | CM6: 42825 | CN6: 42826 | CO6: 42827 | CP6: 42828 | CQ6: 42829 | CR6: 42830 | CS6: 42831 | CT6: 42832 | CU6: 42833 | CV6: 42834 | CW6: 42835 | CX6: 42836 | CY6: 42837 | CZ6: 42838 | DA6: 42839 | DB6: 42840 | DC6: 42841 | DD6: 42842 | DE6: 42843 | DF6: 42844 | DG6: 42845 | DH6: 42846 | DI6: 42847 | DJ6: 42848 | DK6: 42849 | DL6: 42850 | DM6: 42851 | DN6: 42852 | DO6: 42853 | DP6: 42854 | DQ6: 42855 | DR6: 42856 | DS6: 42857 | DT6: 42858 | DU6: 42859 | DV6: 42860 | DW6: 42861 | DX6: 42862 | DY6: 42863 | DZ6: 42864 | EA6: 42865 | EB6: 42866 | EC6: 42867 | ED6: 42868 | EE6: 42869 | EF6: 42870 | EG6: 42871 | EH6: 42872 | EI6: 42873 | EJ6: 42874 | EK6: 42875 | EL6: 42876 | EM6: 42877 | EN6: 42878 | EO6: 42879 | EP6: 42880 | EQ6: 42881 | ER6: 42882 | ES6: 42883 | ET6: 42884 | EU6: 42885 | EV6: 42886 | EW6: 42887 | EX6: 42888 | EY6: 42889 | EZ6: 42890 | FA6: 42891 | FB6: 42892 | FC6: 42893 | FD6: 42894 | FE6: 42895 | FF6: 42896 | FG6: 42897 | FH6: 42898 | FI6: 42899 | FJ6: 42900 | FK6: 42901 | FL6: 42902 | FM6: 42903 | FN6: 42904 | FO6: 42905 | FP6: 42906 | FQ6: 42907 | FR6: 42908 | FS6: 42909 | FT6: 42910 | FU6: 42911 | FV6: 42912 | FW6: 42913 | FX6: 42914 | FY6: 42915 | FZ6: 42916 | GA6: 42917 | GB6: 42918 | GC6: 42919 | GD6: 42920 | GE6: 42921 | GF6: 42922 | GG6: 42923 | GH6: 42924 | GI6: 42925 | GJ6: 42926 | GK6: 42927 | GL6: 42928 | GM6: 42929 | GN6: 42930 | GO6: 42931 | GP6: 42932 | GQ6: 42933 | GR6: 42934 | GS6: 42935 | GT6: 42936 | GU6: 42937 | GV6: 42938 | GW6: 42939 | GX6: 42940 | GY6: 42941 | GZ6: 42942 | HA6: 42943 | HB6: 42944 | HC6: 42945 | HD6: 42946 | HE6: 42947 | HF6: 42948 | HG6: 42949 | HH6: 42950 | HI6: 42951 | HJ6: 42952 | HK6: 42953 | HL6: 42954 | HM6: 42955 | HN6: 42956 | HO6: 42957 | HP6: 42958 | HQ6: 42959 | HR6: 42960 | HS6: 42961 | HT6: 42962 | HU6: 42963 | HV6: 42964 | HW6: 42965 | HX6: 42966 | HY6: 42967 | HZ6: 42968 | IA6: 42969 | IB6: 42970 | IC6: 42971 | ID6: 42972 | IE6: 42973 | IF6: 42974 | IG6: 42975 | IH6: 42976 | II6: 42977 | IJ6: 42978 | IK6: 42979 | IL6: 42980 | IM6: 42981 | IN6: 42982 | IO6: 42983 | IP6: 42984 | IQ6: 42985 | IR6: 42986 | IS6: 42987 | IT6: 42988 | IU6: 42989 | IV6: 42990 | IW6: 42991 | IX6: 42992 | IY6: 42993 | IZ6: 42994 | JA6: 42995 | JB6: 42996 | JC6: 42997 | JD6: 42998 | JE6: 42999 | JF6: 43000 | JG6: 43001 | JH6: 43002 | JI6: 43003 | JJ6: 43004 | JK6: 43005 | JL6: 43006 | JM6: 43007 | JN6: 43008 | JO6: 43009 | JP6: 43010 | JQ6: 43011 | JR6: 43012 | JS6: 43013 | JT6: 43014 | JU6: 43015 | JV6: 43016 | JW6: 43017 | JX6: 43018 | JY6: 43019 | JZ6: 43020 | KA6: 43021 | KB6: 43022 | KC6: 43023 | KD6: 43024 | KE6: 43025 | KF6: 43026 | KG6: 43027 | KH6: 43028 | KI6: 43029 | KJ6: 43030 | KK6: 43031 | KL6: 43032 | KM6: 43033 | KN6: 43034 | KO6: 43035 | KP6: 43036 | KQ6: 43037 | KR6: 43038 | KS6: 43039 | KT6: 43040 | KU6: 43041 | KV6: 43042 | KW6: 43043 | KX6: 43044 | KY6: 43045 | KZ6: 43046 | LA6: 43047 | LB6: 43048 | LC6: 43049 | LD6: 43050 | LE6: 43051 | LF6: 43052 | LG6: 43053 | LH6: 43054 | LI6: 43055 | LJ6: 43056 | LK6: 43057 | LL6: 43058 | LM6: 43059 | LN6: 43060 | LO6: 43061 | LP6: 43062 | LQ6: 43063 | LR6: 43064 | LS6: 43065 | LT6: 43066 | LU6: 43067 | LV6: 43068 | LW6: 43069 | LX6: 43070 | LY6: 43071 | LZ6: 43072 | MA6: 43073 | MB6: 43074 | MC6: 43075 | MD6: 43076 | ME6: 43077 | MF6: 43078 | MG6: 43079 | MH6: 43080 | MI6: 43081 | MJ6: 43082 | MK6: 43083 | ML6: 43084 | MM6: 43085 | MN6: 43086 | MO6: 43087 | MP6: 43088 | MQ6: 43089 | MR6: 43090 | MS6: 43091 | MT6: 43092 | MU6: 43093 | MV6: 43094 | MW6: 43095 | MX6: 43096 | MY6: 43097 | MZ6: 43098 | NA6: 43099 | NB6: 43100
A7: Consultant 1 | C7: SS | D7: JT | E7: JT | F7: JT | G7: JT | J7: JT | K7: JT | L7: JT | M7: JT | N7: JT | Q7: JT | R7: JT | S7: JT | T7: JT | U7: JT | X7: JT | Y7: JT | Z7: JT | AA7: JT | AB7: JT | AE7: JT | AF7: JT | AG7: JT | AH7: JT | AI7: JT | AL7: JT | AM7: JT | AN7: JT | AO7: JT | AP7: JT | AS7: JT | AT7: JT | AU7: JT | AV7: JT | AW7: JT | AZ7: JT | BA7: JT | BB7: JT | BC7: JT | BD7: JT | BG7: JT | BH7: JT | BI7: JT | BJ7: JT | BK7: JT | BN7: JT | BO7: JT | BP7: JT | BQ7: JT | BR7: JT | BU7: JT | BV7: JT | BW7: JT | BX7: JT | BY7: JT | CB7: JT | CC7: JT | CD7: JT | CE7: JT | CF7: JT | CI7: JT | CJ7: JT | CK7: JT | CL7: JT | CM7: JT
A8: Consultant 2 | C8: JT | D8: JT | E8: JT | F8: JT | G8: JT | J8: JT | K8: JT | L8: JT | M8: JT | N8: JT | Q8: JT | R8: JT | S8: JT | T8: JT | U8: JT | X8: JT | Y8: JT | Z8: JT | AA8: JT | AB8: JT | AE8: JT | AF8: JT | AG8: JT | AH8: JT | AI8: JT | AL8: JT | AM8: JT | AN8: R | AO8: R | AP8: R | AS8: JT | AT8: JT | AU8: JT | AV8: JT | AW8: JT | AZ8: JT | BA8: JT | BB8: JT | BC8: JT | BD8: JT | BG8: JT | BH8: JT | BI8: JT | BJ8: JT | BK8: JT | BN8: JT | BO8: JT | BP8: JT | BQ8: JT | BR8: JT | BU8: JT | BV8: JT | BW8: JT | BX8: JT | BY8: JT | CB8: JT | CC8: JT | CD8: JT | CE8: JT | CF8: JT | CI8: JT | CJ8: JT | CK8: JT | CL8: JT | CM8: JT
A9: Consultant 3 | C9: CP | D9: CP | E9: CP | F9: CP | G9: CP | J9: CP | K9: CP | L9: CP | M9: CP | N9: CP | Q9: R | R9: R | S9: R | T9: R | U9: R | X9: JT | Y9: JT | Z9: JT | AA9: JT | AB9: JT | AE9: JT | AF9: JT | AG9: JT | AH9: JT | AI9: JT | AL9: JT | AM9: JT | AN9: JT | AO9: JT | AP9: JT | AS9: JT | AT9: JT | AU9: JT | AV9: JT | AW9: JT | AZ9: JT | BA9: JT | BB9: JT | BC9: JT | BD9: JT | BG9: JT | BH9: JT | BI9: JT | BJ9: JT | BK9: JT | BN9: JT | BO9: JT | BP9: JT | BQ9: JT | BR9: JT | BU9: JT | BV9: JT | BW9: JT | BX9: I | BY9: I | CB9: JT | CC9: JT | CD9: JT | CE9: I | CF9: I | CI9: I | CJ9: I | CK9: I | CL9: I | CM9: I
A10: Consultant 4 | C10: R | D10: JT | E10: JT | F10: JT | G10: JT | J10: JT | K10: JT | L10: JT | M10: JT | N10: JT | Q10: JT | R10: JT | S10: JT | T10: JT | U10: JT | X10: JT | Y10: JT | Z10: JT | AA10: JT | AB10: JT | AE10: JT | AF10: JT | AG10: JT | AH10: JT | AI10: JT | AL10: JT | AM10: JT | AN10: JT | AO10: JT | AP10: JT | AS10: JT | AT10: JT | AU10: JT | AV10: JT | AW10: JT | AZ10: JT | BA10: JT | BB10: JT | BC10: JT | BD10: JT | BG10: JT | BH10: JT | BI10: JT | BJ10: JT | BK10: JT | BN10: JT | BO10: JT | BP10: JT | BQ10: JT | BR10: JT | BU10: JT | BV10: JT | BW10: JT | BX10: JT | BY10: JT | CB10: JT | CC10: JT | CD10: JT | CE10: JT | CF10: JT | CI10: JT | CJ10: JT | CK10: JT | CL10: JT | CM10: JT
A11: Consultant 5 | C11: JT | D11: JT | E11: JT | F11: JT | G11: JT | J11: JT | K11: JT | L11: JT | M11: JT | N11: JT | Q11: JT | R11: JT | S11: JT | T11: JT | U11: JT | X11: JT | Y11: JT | Z11: JT | AA11: JT | AB11: JT | AE11: JT | AF11: JT | AG11: JT | AH11: JT | AI11: JT | AL11: JT | AM11: JT | AN11: JT | AO11: JT | AP11: JT | AS11: JT | AT11: JT | AU11: JT | AV11: JT | AW11: JT | AZ11: JT | BA11: JT | BB11: JT | BC11: JT | BD11: JT | BG11: JT | BH11: JT | BI11: JT | BJ11: JT | BK11: JT | BN11: JT | BO11: JT | BP11: JT | BQ11: JT | BR11: JT | BU11: JT | BV11: JT | BW11: JT | BX11: M | BY11: JT | CB11: JT | CC11: JT | CD11: JT | CE11: I | CF11: I | CI11: JT | CJ11: JT | CK11: JT | CL11: JT | CM11: JT
A12: Consultant 6 | C12: CP | D12: JT | E12: JT | F12: JT | G12: JT | J12: JT | K12: JT | L12: JT | M12: JT | N12: JT | Q12: JT | R12: JT | S12: JT | T12: JT | U12: JT | X12: JT | Y12: JT | Z12: JT | AA12: JT | AB12: JT | AE12: CP | AF12: CP | AG12: JT | AH12: JT | AI12: JT | AL12: JT | AM12: JT | AN12: JT | AO12: JT | AP12: JT | AS12: JT | AT12: JT | AU12: JT | AV12: JT | AW12: JT | AZ12: JT | BA12: JT | BB12: JT | BC12: JT | BD12: JT | BG12: JT | BH12: JT | BI12: JT | BJ12: JT | BK12: JT | BN12: JT | BO12: JT | BP12: JT | BQ12: JT | BR12: JT | BU12: JT | BV12: JT | BW12: JT | BX12: JT | BY12: JT | BZ12: JT | CB12: JT | CC12: JT | CD12: JT | CE12: JT | CF12: JT | CG12: JT | CI12: JT | CJ12: JT | CK12: JT | CL12: JT | CM12: JT
A13: Consultant 7 | C13: R | D13: JT | E13: JT | F13: JT | G13: JT | J13: JT | K13: JT | L13: JT | M13: JT | N13: JT | Q13: JT | R13: JT | S13: JT | T13: JT | U13: JT | X13: JT | Y13: JT | Z13: JT | AA13: JT | AB13: JT | AE13: JT | AF13: JT | AG13: JT | AH13: JT | AI13: JT | AL13: JT | AM13: JT | AN13: JT | AO13: JT | AP13: JT | AS13: JT | AT13: JT | AU13: JT | AV13: JT | AW13: JT | AZ13: JT | BA13: JT | BB13: JT | BC13: JT | BD13: JT | BG13: JT | BH13: JT | BI13: JT | BJ13: JT | BK13: JT | BN13: JT | BO13: JT | BP13: JT | BQ13: JT | BR13: JT | BU13: JT | BV13: JT | BW13: JT | BX13: JT | BY13: JT | CB13: JT | CC13: JT | CD13: JT | CE13: JT | CF13: JT | CI13: JT | CJ13: JT | CK13: JT | CL13: JT | CM13: JT
A14: Consultant 8 | C14: R | D14: R | E14: JT | F14: JT | G14: JT | J14: JT | K14: JT | L14: JT | M14: JT | N14: JT | Q14: JT | R14: JT | S14: JT | T14: JT | U14: JT | X14: (R) | Y14: JT | Z14: JT | AA14: JT | AB14: JT | AE14: JT | AF14: JT | AG14: JT | AH14: JT | AI14: JT | AL14: JT | AM14: JT | AN14: JT | AO14: JT | AP14: JT | AS14: JT | AT14: JT | AU14: JT | AV14: JT | AW14: JT | AZ14: JT | BA14: JT | BB14: JT | BC14: JT | BD14: JT | BG14: JT | BH14: JT | BI14: JT | BJ14: JT | BK14: JT | BN14: JT | BO14: JT | BP14: JT | BQ14: JT | BR14: JT | BU14: JT | BV14: JT | BW14: JT | BX14: JT | BY14: JT | CB14: JT | CC14: JT | CD14: JT | CE14: JT | CF14: JT | CI14: JT | CJ14: JT | CK14: JT | CL14: JT | CM14: JT
A15: Consultant 9 | C15: JT | D15: JT | E15: JT | F15: JT | G15: JT | J15: JT | K15: JT | L15: JT | M15: JT | N15: JT | Q15: JT | R15: JT | S15: JT | T15: JT | U15: JT | X15: JT | Y15: JT | Z15: JT | AA15: JT | AB15: JT | AE15: JT | AF15: JT | AG15: JT | AH15: JT | AI15: JT | AL15: JT | AM15: JT | AN15: JT | AO15: JT | AP15: JT | AS15: JT | AT15: JT | AU15: JT | AV15: JT | AW15: JT | AZ15: JT | BA15: JT | BB15: JT | BC15: JT | BD15: JT | BG15: JT | BH15: JT | BI15: JT | BJ15: JT | BK15: JT | BN15: CO | BO15: CO | BP15: M | BQ15: M | BR15: M | BU15: JT | BV15: JT | BW15: JT | BX15: JT | BY15: JT | CB15: JT | CC15: JT | CD15: JT | CE15: JT | CF15: JT | CI15: JT | CJ15: JT | CK15: JT | CL15: JT | CM15: JT
A16: Consultant 10 | C16: CP | D16: JT | E16: JT | F16: JT | G16: JT | J16: JT | K16: JT | L16: (R) | M16: JT | N16: JT | Q16: JT | R16: JT | S16: JT | T16: R | U16: JT | X16: JT | Y16: JT | Z16: JT | AA16: JT | AB16: JT | AE16: JT | AF16: JT | AG16: JT | AH16: JT | AI16: JT | AL16: JT | AM16: JT | AN16: JT | AO16: JT | AP16: JT | AS16: JT | AT16: JT | AU16: JT | AV16: JT | AW16: JT | AZ16: JT | BA16: JT | BB16: JT | BC16: JT | BD16: JT | BG16: JT | BH16: JT | BI16: JT | BJ16: JT | BK16: JT | BN16: JT | BO16: JT | BP16: JT | BQ16: JT | BR16: EF | BU16: EF | BV16: EF | BW16: EF | BX16: EF | BY16: EF | CB16: EF | CC16: EF | CD16: EF | CE16: EF | CF16: EF | CI16: JT | CJ16: JT | CK16: JT | CL16: JT | CM16: JT
A17: Consultant 11 | C17: CP | D17: JT | E17: JT | F17: JT | G17: JT | J17: JT | K17: JT | L17: JT | M17: JT | N17: JT | Q17: JT | R17: JT | S17: JT | T17: JT | U17: JT | X17: JT | Y17: JT | Z17: JT | AA17: JT | AB17: JT | AE17: JT | AF17: JT | AG17: JT | AH17: JT | AI17: JT | AL17: JT | AM17: JT | AN17: JT | AO17: JT | AP17: JT | AS17: JT | AT17: JT | AU17: JT | AV17: JT | AW17: JT | AZ17: JT | BA17: JT | BB17: JT | BC17: JT | BD17: JT | BG17: JT | BH17: JT | BI17: JT | BJ17: JT | BK17: JT | BN17: JT | BO17: JT | BP17: JT | BQ17: JT | BR17: JT | BU17: JT | BV17: JT | BW17: JT | BX17: R | BY17: JT | CB17: JT | CC17: JT | CD17: JT | CE17: JT | CF17: JT | CI17: JT | CJ17: JT | CK17: JT | CL17: JT | CM17: JT
A18: Consultant 12 | C18: JT | D18: JT | E18: JT | F18: JT | G18: JT | J18: JT | K18: JT | L18: JT | M18: JT | N18: JT | Q18: CP | R18: JT | S18: JT | T18: JT | U18: JT | X18: JT | Y18: JT | Z18: JT | AA18: JT | AB18: JT | AE18: JT | AF18: JT | AG18: JT | AH18: JT | AI18: JT | AL18: JT | AM18: JT | AN18: JT | AO18: JT | AP18: JT | AS18: JT | AT18: JT | AU18: JT | AV18: JT | AW18: JT | AZ18: JT | BA18: JT | BB18: JT | BC18: JT | BD18: JT | BG18: JT | BH18: JT | BI18: JT | BJ18: JT | BK18: JT | BN18: JT | BO18: JT | BP18: JT | BQ18: JT | BR18: JT | BU18: JT | BV18: JT | BW18: JT | BX18: JT | BY18: JT | CB18: JT | CC18: JT | CD18: JT | CE18: JT | CF18: JT | CI18: JT | CJ18: JT | CK18: JT | CL18: JT | CM18: JT
A19: Consultant 13 | C19: CP | D19: JT | E19: JT | F19: JT | G19: JT | J19: JT | K19: JT | L19: JT | M19: JT | N19: JT | Q19: JT | R19: JT | S19: JT | T19: JT | U19: JT | X19: JT | Y19: JT | Z19: JT | AA19: JT | AB19: JT | AE19: JT | AF19: JT | AG19: JT | AH19: JT | AI19: JT | AL19: JT | AM19: JT | AN19: JT | AO19: JT | AP19: JT | AS19: JT | AT19: JT | AU19: JT | AV19: JT | AW19: JT | AZ19: JT | BA19: JT | BB19: JT | BC19: JT | BD19: JT | BG19: JT | BH19: JT | BI19: JT | BJ19: JT | BK19: JT | BN19: JT | BO19: JT | BP19: JT | BQ19: JT | BR19: JT | BU19: JT | BV19: JT | BW19: JT | BX19: JT | BY19: JT | CB19: JT | CC19: JT | CD19: JT | CE19: JT | CF19: JT | CI19: JT | CJ19: JT | CK19: JT | CL19: JT | CM19: JT
A20: Consultant 14 | C20: JT | D20: JT | E20: JT | F20: JT | G20: JT | J20: JT | K20: JT | L20: JT | M20: JT | N20: JT | Q20: JT | R20: JT | S20: JT | T20: JT | U20: JT | X20: JT | Y20: JT | Z20: JT | AA20: JT | AB20: JT | AE20: JT | AF20: JT | AG20: JT | AH20: JT | AI20: JT | AL20: JT | AM20: JT | AN20: JT | AO20: JT | AP20: JT | AS20: JT | AT20: JT | AU20: JT | AV20: JT | AW20: JT | AZ20: JT | BA20: JT | BB20: JT | BC20: JT | BD20: JT | BG20: JT | BH20: JT | BI20: JT | BJ20: JT | BK20: R | BN20: JT | BO20: JT | BP20: JT | BQ20: JT | BR20: JT | BU20: JT | BV20: JT | BW20: JT | BX20: JT | BY20: JT | CB20: JT | CC20: JT | CD20: JT | CE20: JT | CF20: JT | CI20: R | CJ20: JT | CK20: JT | CL20: JT | CM20: JT
A21: Consultant 15 | C21: M | D21: M | E21: M | F21: M | G21: M | J21: M | K21: M | L21: M | M21: M | N21: M | Q21: M | R21: M | S21: M | T21: M | U21: M | X21: M | Y21: M | Z21: M | AA21: M | AB21: M | AE21: M | AF21: M | AG21: M | AH21: M | AI21: M | AL21: R | AM21: R | AN21: R | AO21: R | AP21: R | AS21: JT | AT21: JT | AU21: JT | AV21: JT | AW21: JT | AZ21: JT | BA21: JT | BB21: JT | BC21: JT | BD21: JT | BG21: JT | BH21: JT | BI21: JT | BJ21: JT | BK21: JT | BN21: JT | BO21: JT | BP21: JT | BQ21: JT | BR21: JT | BU21: JT | BV21: JT | BW21: JT | BX21: JT | BY21: JT | CB21: JT | CC21: JT | CD21: JT | CE21: JT | CF21: JT | CI21: JT | CJ21: JT | CK21: JT | CL21: JT | CM21: JT
A22: Consultant 16 | C22: R | D22: JT | E22: JT | F22: JT | G22: JT | J22: JT | K22: JT | L22: JT | M22: JT | N22: JT | Q22: JT | R22: JT | S22: JT | T22: JT | U22: JT | X22: JT | Y22: JT | Z22: JT | AA22: JT | AB22: JT | AE22: JT | AF22: JT | AG22: JT | AH22: JT | AI22: JT | AL22: JT | AM22: JT | AN22: JT | AO22: JT | AP22: JT | AS22: JT | AT22: JT | AU22: JT | AV22: JT | AW22: JT | AZ22: JT | BA22: JT | BB22: JT | BC22: JT | BD22: JT | BG22: JT | BH22: JT | BI22: JT | BJ22: JT | BK22: JT | BN22: CO | BO22: CO | BP22: JT | BQ22: JT | BR22: JT | BU22: JT | BV22: JT | BW22: JT | BX22: JT | BY22: JT | CB22: JT | CC22: JT | CD22: JT | CE22: JT | CF22: JT | CI22: JT | CJ22: JT | CK22: JT | CL22: JT | CM22: JT
A23: Consultant 17 | C23: JT | D23: JT | E23: JT | F23: JT | G23: JT | J23: JT | K23: JT | L23: JT | M23: JT | N23: JT | Q23: JT | R23: JT | S23: JT | T23: JT | U23: JT | X23: JT | Y23: JT | Z23: JT | AA23: JT | AB23: JT | AE23: JT | AF23: JT | AG23: JT | AH23: JT | AI23: JT | AL23: JT | AM23: JT | AN23: JT | AO23: JT | AP23: JT | AS23: JT | AT23: JT | AU23: JT | AV23: JT | AW23: JT | AZ23: JT | BA23: JT | BB23: JT | BC23: JT | BD23: JT | BG23: CO | BH23: CO | BI23: I | BJ23: I | BK23: I | BN23: R | BO23: JT | BP23: JT | BQ23: JT | BR23: JT | BU23: JT | BV23: JT | BW23: JT | BX23: JT | BY23: JT | CB23: JT | CC23: JT | CD23: JT | CE23: JT | CF23: JT | CI23: JT | CJ23: JT | CK23: JT | CL23: JT | CM23: JT
A24: Consultant 18 | CI24: JT | CJ24: JT | CK24: JT | CL24: JT | CM24: JT
A25: Consultant 19
A26: Consultant 20
D28: =SUMPRODUCT((Suivi_Consultants=A9)*(Suivi_Jours="CP")) -> 10

Sheet ,,,
A2: JT | B2: Jours travaillés
A3: CP | B3: Congés payés
A4: (CP) | B4: demi CP
A5: R | B5: RTT
A6: (R) | B6: demi RTT
A7: JF | B7: Jours fériés
A8: M | B8: Maladie
A9: I | B9: Intercontrat
A10: SS | B10: Sans solde
A11: (SS) | B11: demi SS
A12: CO | B12: Congés offerts
A13: (CO)
A14: EF | B14: Evenements familiaux
