Workbook
Name FERIES: #REF!
Name HEURES: #REF!
Name Suivi_Consultants: 'Test suivi jour'!$A$8:$A$26
Name Suivi_Jours: 'Test suivi jour'!$B$8:$NB$26

Sheet Synthèse
B1: JT | C1: CP | D1: (CP) | E1: R | F1: (R) | G1: M | H1: I | I1: SS | J1: (SS) | K1: CO | L1: (CO) | M1: JF | N1: EF | O1: total | R1: PV
A2: Consultant 1 | B2: =SUMPRODUCT((Suivi_Consultants=$A2)*(Suivi_Jours=B$1)) -> 0 | C2: =SUMPRODUCT((Suivi_Consultants=$A2)*(Suivi_Jours=C$1)) -> 0 | D2: =SUMPRODUCT((Suivi_Consultants=$A2)*(Suivi_Jours=D$1)) -> 0 | E2: =SUMPRODUCT((Suivi_Consultants=$A2)*(Suivi_Jours=E$1)) -> 0 | F2: =SUMPRODUCT((Suivi_Consultants=$A2)*(Suivi_Jours=F$1)) -> 0 | G2: =SUMPRODUCT((Suivi_Consultants=$A2)*(Suivi_Jours=G$1)) -> 0 | H2: =SUMPRODUCT((Suivi_Consultants=$A2)*(Suivi_Jours=H$1)) -> 0 | I2: =SUMPRODUCT((Suivi_Consultants=$A2)*(Suivi_Jours=I$1)) -> 0 | ... N2: =SUMPRODUCT((Suivi_Consultants=$A2)*(Suivi_Jours=N$1)) -> 0 | O2: =SUM(B2:N2) -> 0 | R2: 465 | S2: =B2*R2 -> 0
A3: Consultant 2 | B3: =SUMPRODUCT((Suivi_Consultants=$A3)*(Suivi_Jours=B$1)) -> 62 | C3: =SUMPRODUCT((Suivi_Consultants=$A3)*(Suivi_Jours=C$1)) -> 0 | D3: =SUMPRODUCT((Suivi_Consultants=$A3)*(Suivi_Jours=D$1)) -> 0 | E3: =SUMPRODUCT((Suivi_Consultants=$A3)*(Suivi_Jours=E$1)) -> 3 | F3: =SUMPRODUCT((Suivi_Consultants=$A3)*(Suivi_Jours=F$1)) -> 0 | G3: =SUMPRODUCT((Suivi_Consultants=$A3)*(Suivi_Jours=G$1)) -> 0 | H3: =SUMPRODUCT((Suivi_Consultants=$A3)*(Suivi_Jours=H$1)) -> 0 | I3: =SUMPRODUCT((Suivi_Consultants=$A3)*(Suivi_Jours=I$1)) -> 0 | ... N3: =SUMPRODUCT((Suivi_Consultants=$A3)*(Suivi_Jours=N$1)) -> 0 | O3: =SUM(B3:N3) -> 65 | R3: 260 | S3: =B3*R3 -> 16120
A4: Consultant 3 | B4: =SUMPRODUCT((Suivi_Consultants=$A4)*(Suivi_Jours=B$1)) -> 41 | C4: =SUMPRODUCT((Suivi_Consultants=$A4)*(Suivi_Jours=C$1)) -> 10 | D4: =SUMPRODUCT((Suivi_Consultants=$A4)*(Suivi_Jours=D$1)) -> 0 | E4: =SUMPRODUCT((Suivi_Consultants=$A4)*(Suivi_Jours=E$1)) -> 5 | F4: =SUMPRODUCT((Suivi_Consultants=$A4)*(Suivi_Jours=F$1)) -> 0 | G4: =SUMPRODUCT((Suivi_Consultants=$A4)*(Suivi_Jours=G$1)) -> 0 | H4: =SUMPRODUCT((Suivi_Consultants=$A4)*(Suivi_Jours=H$1)) -> 9 | I4: =SUMPRODUCT((Suivi_Consultants=$A4)*(Suivi_Jours=I$1)) -> 0 | ... N4: =SUMPRODUCT((Suivi_Consultants=$A4)*(Suivi_Jours=N$1)) -> 0 | O4: =SUM(B4:N4) -> 65 | R4: 260 | S4: =B4*R4 -> 10660
A5: Consultant 4 | B5: =SUMPRODUCT((Suivi_Consultants=$A5)*(Suivi_Jours=B$1)) -> 64 | C5: =SUMPRODUCT((Suivi_Consultants=$A5)*(Suivi_Jours=C$1)) -> 0 | D5: =SUMPRODUCT((Suivi_Consultants=$A5)*(Suivi_Jours=D$1)) -> 0 | E5: =SUMPRODUCT((Suivi_Consultants=$A5)*(Suivi_Jours=E$1)) -> 1 | F5: =SUMPRODUCT((Suivi_Consultants=$A5)*(Suivi_Jours=F$1)) -> 0 | G5: =SUMPRODUCT((Suivi_Consultants=$A5)*(Suivi_Jours=G$1)) -> 0 | H5: =SUMPRODUCT((Suivi_Consultants=$A5)*(Suivi_Jours=H$1)) -> 0 | I5: =SUMPRODUCT((Suivi_Consultants=$A5)*(Suivi_Jours=I$1)) -> 0 | ... N5: =SUMPRODUCT((Suivi_Consultants=$A5)*(Suivi_Jours=N$1)) -> 0 | O5: =SUM(B5:N5) -> 65 | R5: 330 | S5: =B5*R5 -> 21120
A6: Consultant 5 | B6: =SUMPRODUCT((Suivi_Consultants=$A6)*(Suivi_Jours=B$1)) -> 62 | C6: =SUMPRODUCT((Suivi_Consultants=$A6)*(Suivi_Jours=C$1)) -> 0 | D6: =SUMPRODUCT((Suivi_Consultants=$A6)*(Suivi_Jours=D$1)) -> 0 | E6: =SUMPRODUCT((Suivi_Consultants=$A6)*(Suivi_Jours=E$1)) -> 0 | F6: =SUMPRODUCT((Suivi_Consultants=$A6)*(Suivi_Jours=F$1)) -> 0 | G6: =SUMPRODUCT((Suivi_Consultants=$A6)*(Suivi_Jours=G$1)) -> 1 | H6: =SUMPRODUCT((Suivi_Consultants=$A6)*(Suivi_Jours=H$1)) -> 2 | I6: =SUMPRODUCT((Suivi_Consultants=$A6)*(Suivi_Jours=I$1)) -> 0 | ... N6: =SUMPRODUCT((Suivi_Consultants=$A6)*(Suivi_Jours=N$1)) -> 0 | O6: =SUM(B6:N6) -> 65 | R6: 290 | S6: =B6*R6 -> 17980
A7: Consultant 6 | B7: =SUMPRODUCT((Suivi_Consultants=$A7)*(Suivi_Jours=B$1)) -> 64 | C7: =SUMPRODUCT((Suivi_Consultants=$A7)*(Suivi_Jours=C$1)) -> 3 | D7: =SUMPRODUCT((Suivi_Consultants=$A7)*(Suivi_Jours=D$1)) -> 0 | E7: =SUMPRODUCT((Suivi_Consultants=$A7)*(Suivi_Jours=E$1)) -> 0 | F7: =SUMPRODUCT((Suivi_Consultants=$A7)*(Suivi_Jours=F$1)) -> 0 | G7: =SUMPRODUCT((Suivi_Consultants=$A7)*(Suivi_Jours=G$1)) -> 0 | H7: =SUMPRODUCT((Suivi_Consultants=$A7)*(Suivi_Jours=H$1)) -> 0 | I7: =SUMPRODUCT((Suivi_Consultants=$A7)*(Suivi_Jours=I$1)) -> 0 | ... N7: =SUMPRODUCT((Suivi_Consultants=$A7)*(Suivi_Jours=N$1)) -> 0 | O7: =SUM(B7:N7) -> 67 | R7: 290 | S7: =B7*R7 -> 18560
A8: Consultant 7 | B8: =SUMPRODUCT((Suivi_Consultants=$A8)*(Suivi_Jours=B$1)) -> 64 | C8: =SUMPRODUCT((Suivi_Consultants=$A8)*(Suivi_Jours=C$1)) -> 0 | D8: =SUMPRODUCT((Suivi_Consultants=$A8)*(Suivi_Jours=D$1)) -> 0 | E8: =SUMPRODUCT((Suivi_Consultants=$A8)*(Suivi_Jours=E$1)) -> 1 | F8: =SUMPRODUCT((Suivi_Consultants=$A8)*(Suivi_Jours=F$1)) -> 0 | G8: =SUMPRODUCT((Suivi_Consultants=$A8)*(Suivi_Jours=G$1)) -> 0 | H8: =SUMPRODUCT((Suivi_Consultants=$A8)*(Suivi_Jours=H$1)) -> 0 | I8: =SUMPRODUCT((Suivi_Consultants=$A8)*(Suivi_Jours=I$1)) -> 0 | ... N8: =SUMPRODUCT((Suivi_Consultants=$A8)*(Suivi_Jours=N$1)) -> 0 | O8: =SUM(B8:N8) -> 65 | R8: 290 | S8: =B8*R8 -> 18560
A9: Consultant 8 | B9: =SUMPRODUCT((Suivi_Consultants=$A9)*(Suivi_Jours=B$1)) -> 62 | C9: =SUMPRODUCT((Suivi_Consultants=$A9)*(Suivi_Jours=C$1)) -> 0 | D9: =SUMPRODUCT((Suivi_Consultants=$A9)*(Suivi_Jours=D$1)) -> 0 | E9: =SUMPRODUCT((Suivi_Consultants=$A9)*(Suivi_Jours=E$1)) -> 2 | F9: =SUMPRODUCT((Suivi_Consultants=$A9)*(Suivi_Jours=F$1)) -> 1 | G9: =SUMPRODUCT((Suivi_Consultants=$A9)*(Suivi_Jours=G$1)) -> 0 | H9: =SUMPRODUCT((Suivi_Consultants=$A9)*(Suivi_Jours=H$1)) -> 0 | I9: =SUMPRODUCT((Suivi_Consultants=$A9)*(Suivi_Jours=I$1)) -> 0 | ... N9: =SUMPRODUCT((Suivi_Consultants=$A9)*(Suivi_Jours=N$1)) -> 0 | O9: =SUM(B9:N9) -> 65 | R9: 280 | S9: =B9*R9 -> 17360
A10: Consultant 9 | B10: =SUMPRODUCT((Suivi_Consultants=$A10)*(Suivi_Jours=B$1)) -> 60 | C10: =SUMPRODUCT((Suivi_Consultants=$A10)*(Suivi_Jours=C$1)) -> 0 | D10: =SUMPRODUCT((Suivi_Consultants=$A10)*(Suivi_Jours=D$1)) -> 0 | E10: =SUMPRODUCT((Suivi_Consultants=$A10)*(Suivi_Jours=E$1)) -> 0 | F10: =SUMPRODUCT((Suivi_Consultants=$A10)*(Suivi_Jours=F$1)) -> 0 | G10: =SUMPRODUCT((Suivi_Consultants=$A10)*(Suivi_Jours=G$1)) -> 3 | H10: =SUMPRODUCT((Suivi_Consultants=$A10)*(Suivi_Jours=H$1)) -> 0 | I10: =SUMPRODUCT((Suivi_Consultants=$A10)*(Suivi_Jours=I$1)) -> 0 | ... N10: =SUMPRODUCT((Suivi_Consultants=$A10)*(Suivi_Jours=N$1)) -> 0 | O10: =SUM(B10:N10) -> 65 | R10: 285 | S10: =B10*R10 -> 17100
A11: Consultant 10 | B11: =SUMPRODUCT((Suivi_Consultants=$A11)*(Suivi_Jours=B$1)) -> 51 | C11: =SUMPRODUCT((Suivi_Consultants=$A11)*(Suivi_Jours=C$1)) -> 1 | D11: =SUMPRODUCT((Suivi_Consultants=$A11)*(Suivi_Jours=D$1)) -> 0 | E11: =SUMPRODUCT((Suivi_Consultants=$A11)*(Suivi_Jours=E$1)) -> 1 | F11: =SUMPRODUCT((Suivi_Consultants=$A11)*(Suivi_Jours=F$1)) -> 1 | G11: =SUMPRODUCT((Suivi_Consultants=$A11)*(Suivi_Jours=G$1)) -> 0 | H11: =SUMPRODUCT((Suivi_Consultants=$A11)*(Suivi_Jours=H$1)) -> 0 | I11: =SUMPRODUCT((Suivi_Consultants=$A11)*(Suivi_Jours=I$1)) -> 0 | ... N11: =SUMPRODUCT((Suivi_Consultants=$A11)*(Suivi_Jours=N$1)) -> 11 | O11: =SUM(B11:N11) -> 65 | R11: 330 | S11: =B11*R11 -> 16830
A12: Consultant 11 | B12: =SUMPRODUCT((Suivi_Consultants=$A12)*(Suivi_Jours=B$1)) -> 63 | C12: =SUMPRODUCT((Suivi_Consultants=$A12)*(Suivi_Jours=C$1)) -> 1 | D12: =SUMPRODUCT((Suivi_Consultants=$A12)*(Suivi_Jours=D$1)) -> 0 | E12: =SUMPRODUCT((Suivi_Consultants=$A12)*(Suivi_Jours=E$1)) -> 1 | F12: =SUMPRODUCT((Suivi_Consultants=$A12)*(Suivi_Jours=F$1)) -> 0 | G12: =SUMPRODUCT((Suivi_Consultants=$A12)*(Suivi_Jours=G$1)) -> 0 | H12: =SUMPRODUCT((Suivi_Consultants=$A12)*(Suivi_Jours=H$1)) -> 0 | I12: =SUMPRODUCT((Suivi_Consultants=$A12)*(Suivi_Jours=I$1)) -> 0 | ... N12: =SUMPRODUCT((Suivi_Consultants=$A12)*(Suivi_Jours=N$1)) -> 0 | O12: =SUM(B12:N12) -> 65 | R12: 220 | S12: =B12*R12 -> 13860
A13: Consultant 12 | B13: =SUMPRODUCT((Suivi_Consultants=$A13)*(Suivi_Jours=B$1)) -> 64 | C13: =SUMPRODUCT((Suivi_Consultants=$A13)*(Suivi_Jours=C$1)) -> 1 | D13: =SUMPRODUCT((Suivi_Consultants=$A13)*(Suivi_Jours=D$1)) -> 0 | E13: =SUMPRODUCT((Suivi_Consultants=$A13)*(Suivi_Jours=E$1)) -> 0 | F13: =SUMPRODUCT((Suivi_Consultants=$A13)*(Suivi_Jours=F$1)) -> 0 | G13: =SUMPRODUCT((Suivi_Consultants=$A13)*(Suivi_Jours=G$1)) -> 0 | H13: =SUMPRODUCT((Suivi_Consultants=$A13)*(Suivi_Jours=H$1)) -> 0 | I13: =SUMPRODUCT((Suivi_Consultants=$A13)*(Suivi_Jours=I$1)) -> 0 | ... N13: =SUMPRODUCT((Suivi_Consultants=$A13)*(Suivi_Jours=N$1)) -> 0 | O13: =SUM(B13:N13) -> 65 | S13: =B13*R13 -> 0
A14: Consultant 13 | B14: =SUMPRODUCT((Suivi_Consultants=$A14)*(Suivi_Jours=B$1)) -> 64 | C14: =SUMPRODUCT((Suivi_Consultants=$A14)*(Suivi_Jours=C$1)) -> 1 | D14: =SUMPRODUCT((Suivi_Consultants=$A14)*(Suivi_Jours=D$1)) -> 0 | E14: =SUMPRODUCT((Suivi_Consultants=$A14)*(Suivi_Jours=E$1)) -> 0 | F14: =SUMPRODUCT((Suivi_Consultants=$A14)*(Suivi_Jours=F$1)) -> 0 | G14: =SUMPRODUCT((Suivi_Consultants=$A14)*(Suivi_Jours=G$1)) -> 0 | H14: =SUMPRODUCT((Suivi_Consultants=$A14)*(Suivi_Jours=H$1)) -> 0 | I14: =SUMPRODUCT((Suivi_Consultants=$A14)*(Suivi_Jours=I$1)) -> 0 | ... N14: =SUMPRODUCT((Suivi_Consultants=$A14)*(Suivi_Jours=N$1)) -> 0 | O14: =SUM(B14:N14) -> 65 | R14: 385 | S14: =B14*R14 -> 24640
A15: Consultant 14 | B15: =SUMPRODUCT((Suivi_Consultants=$A15)*(Suivi_Jours=B$1)) -> 63 | C15: =SUMPRODUCT((Suivi_Consultants=$A15)*(Suivi_Jours=C$1)) -> 0 | D15: =SUMPRODUCT((Suivi_Consultants=$A15)*(Suivi_Jours=D$1)) -> 0 | E15: =SUMPRODUCT((Suivi_Consultants=$A15)*(Suivi_Jours=E$1)) -> 2 | F15: =SUMPRODUCT((Suivi_Consultants=$A15)*(Suivi_Jours=F$1)) -> 0 | G15: =SUMPRODUCT((Suivi_Consultants=$A15)*(Suivi_Jours=G$1)) -> 0 | H15: =SUMPRODUCT((Suivi_Consultants=$A15)*(Suivi_Jours=H$1)) -> 0 | I15: =SUMPRODUCT((Suivi_Consultants=$A15)*(Suivi_Jours=I$1)) -> 0 | ... N15: =SUMPRODUCT((Suivi_Consultants=$A15)*(Suivi_Jours=N$1)) -> 0 | O15: =SUM(B15:N15) -> 65 | R15: 380 | S15: =B15*R15 -> 23940
A16: Consultant 15 | B16: =SUMPRODUCT((Suivi_Consultants=$A16)*(Suivi_Jours=B$1)) -> 35 | C16: =SUMPRODUCT((Suivi_Consultants=$A16)*(Suivi_Jours=C$1)) -> 0 | D16: =SUMPRODUCT((Suivi_Consultants=$A16)*(Suivi_Jours=D$1)) -> 0 | E16: =SUMPRODUCT((Suivi_Consultants=$A16)*(Suivi_Jours=E$1)) -> 5 | F16: =SUMPRODUCT((Suivi_Consultants=$A16)*(Suivi_Jours=F$1)) -> 0 | G16: =SUMPRODUCT((Suivi_Consultants=$A16)*(Suivi_Jours=G$1)) -> 25 | H16: =SUMPRODUCT((Suivi_Consultants=$A16)*(Suivi_Jours=H$1)) -> 0 | I16: =SUMPRODUCT((Suivi_Consultants=$A16)*(Suivi_Jours=I$1)) -> 0 | ... N16: =SUMPRODUCT((Suivi_Consultants=$A16)*(Suivi_Jours=N$1)) -> 0 | O16: =SUM(B16:N16) -> 65 | R16: 290 | S16: =B16*R16 -> 10150
A17: Consultant 16 | B17: =SUMPRODUCT((Suivi_Consultants=$A17)*(Suivi_Jours=B$1)) -> 62 | C17: =SUMPRODUCT((Suivi_Consultants=$A17)*(Suivi_Jours=C$1)) -> 0 | D17: =SUMPRODUCT((Suivi_Consultants=$A17)*(Suivi_Jours=D$1)) -> 0 | E17: =SUMPRODUCT((Suivi_Consultants=$A17)*(Suivi_Jours=E$1)) -> 1 | F17: =SUMPRODUCT((Suivi_Consultants=$A17)*(Suivi_Jours=F$1)) -> 0 | G17: =SUMPRODUCT((Suivi_Consultants=$A17)*(Suivi_Jours=G$1)) -> 0 | H17: =SUMPRODUCT((Suivi_Consultants=$A17)*(Suivi_Jours=H$1)) -> 0 | I17: =SUMPRODUCT((Suivi_Consultants=$A17)*(Suivi_Jours=I$1)) -> 0 | ... N17: =SUMPRODUCT((Suivi_Consultants=$A17)*(Suivi_Jours=N$1)) -> 0 | O17: =SUM(B17:N17) -> 65 | R17: 300 | S17: =B17*R17 -> 18600
A18: Consultant 17 | B18: =SUMPRODUCT((Suivi_Consultants=$A18)*(Suivi_Jours=B$1)) -> 59 | C18: =SUMPRODUCT((Suivi_Consultants=$A18)*(Suivi_Jours=C$1)) -> 0 | D18: =SUMPRODUCT((Suivi_Consultants=$A18)*(Suivi_Jours=D$1)) -> 0 | E18: =SUMPRODUCT((Suivi_Consultants=$A18)*(Suivi_Jours=E$1)) -> 1 | F18: =SUMPRODUCT((Suivi_Consultants=$A18)*(Suivi_Jours=F$1)) -> 0 | G18: =SUMPRODUCT((Suivi_Consultants=$A18)*(Suivi_Jours=G$1)) -> 0 | H18: =SUMPRODUCT((Suivi_Consultants=$A18)*(Suivi_Jours=H$1)) -> 3 | I18: =SUMPRODUCT((Suivi_Consultants=$A18)*(Suivi_Jours=I$1)) -> 0 | ... N18: =SUMPRODUCT((Suivi_Consultants=$A18)*(Suivi_Jours=N$1)) -> 0 | O18: =SUM(B18:N18) -> 65 | R18: 260 | S18: =B18*R18 -> 15340
A19: Consultant 18 | B19: =SUMPRODUCT((Suivi_Consultants=$A19)*(Suivi_Jours=B$1)) -> 5 | C19: =SUMPRODUCT((Suivi_Consultants=$A19)*(Suivi_Jours=C$1)) -> 0 | D19: =SUMPRODUCT((Suivi_Consultants=$A19)*(Suivi_Jours=D$1)) -> 0 | E19: =SUMPRODUCT((Suivi_Consultants=$A19)*(Suivi_Jours=E$1)) -> 0 | F19: =SUMPRODUCT((Suivi_Consultants=$A19)*(Suivi_Jours=F$1)) -> 0 | G19: =SUMPRODUCT((Suivi_Consultants=$A19)*(Suivi_Jours=G$1)) -> 0 | H19: =SUMPRODUCT((Suivi_Consultants=$A19)*(Suivi_Jours=H$1)) -> 0 | I19: =SUMPRODUCT((Suivi_Consultants=$A19)*(Suivi_Jours=I$1)) -> 0 | ... N19: =SUMPRODUCT((Suivi_Consultants=$A19)*(Suivi_Jours=N$1)) -> 0 | O19: =SUM(B19:N19) -> 5 | R19: 265 | S19: =B19*R19 -> 1325
A20: Consultant 19 | S20: =SUM(S2:S19) -> 262145
A21: Consultant 20

Sheet Synthèse mois
B1: JANVIER | S1: FEVRIER | AJ1: MARS
C2: JT | D2: CP | E2: CP | F2: (CP) | G2: R | H2: R | I2: (R) | J2: M | K2: I | L2: SS | M2: SS | N2: (SS) | O2: CO | P2: CO | Q2: (CO) | R2: JF | T2: JT | U2: CP | V2: CP | W2: (CP) | X2: R | Y2: R | Z2: (R) | AA2: M | AB2: I | AC2: SS | AD2: SS | AE2: (SS) | AF2: CO | AG2: CO | AH2: (CO) | AI2: JF | AK2: JT | AL2: CP | AM2: CP | AN2: (CP) | AO2: R | AP2: R | AQ2: (R) | AR2: M | AS2: I | AT2: SS | AU2: SS | AV2: (SS) | AW2: CO | AX2: CO | AY2: (CO) | AZ2: JF
A3: Consultant 1 | B3: JANVIER | C3: =COUNTIFS('Test suivi jour'!7:7,"JT",'Test suivi jour'!$1:$1,1) -> 21 | D3: =E3+F3 -> 0 | E3: =COUNTIFS('Test suivi jour'!7:7,"CP",'Test suivi jour'!$1:$1,1) -> 0 | F3: =(COUNTIFS('Test suivi jour'!7:7,"(CP)",'Test suivi jour'!$1:$1,1))/2 -> 0 | G3: =H3+I3 -> 0 | H3: =COUNTIFS('Test suivi jour'!7:7,"r",'Test suivi jour'!$1:$1,1) -> 0 | I3: =(COUNTIFS('Test suivi jour'!7:7,"(r)",'Test suivi jour'!$1:$1,1))/2 -> 0 | J3: =COUNTIFS('Test suivi jour'!7:7,"m",'Test suivi jour'!$1:$1,1) -> 0 | K3: =COUNTIFS('Test suivi jour'!7:7,"i",'Test suivi jour'!$1:$1,1) -> 0 | L3: =M3+N3 -> 1 | M3: =COUNTIFS('Test suivi jour'!7:7,"ss",'Test suivi jour'!$1:$1,1) -> 1 | N3: =(COUNTIFS('Test suivi jour'!7:7,"(ss)",'Test suivi jour'!$1:$1,1))/2 -> 0 | O3: =P3+Q3 -> 0 | P3: =COUNTIFS('Test suivi jour'!7:7,"co",'Test suivi jour'!$1:$1,1) -> 0 | Q3: =(COUNTIFS('Test suivi jour'!7:7,"(co)",'Test suivi jour'!$1:$1,1))/2 -> 0 | R3: =COUNTIFS('Test suivi jour'!7:7,"JF",'Test suivi jour'!$1:$1,1) -> 0 | S3: FEVRIER | T3: =COUNTIFS('Test suivi jour'!7:7,"JT",'Test suivi jour'!$1:$1,2) -> 20 | U3: =V3+W3 -> 0 | V3: =COUNTIFS('Test suivi jour'!7:7,"CP",'Test suivi jour'!$1:$1,2) -> 0 | W3: =(COUNTIFS('Test suivi jour'!7:7,"(CP)",'Test suivi jour'!$1:$1,2))/2 -> 0 | X3: =Y3+Z3 -> 0 | Y3: =COUNTIFS('Test suivi jour'!7:7,"r",'Test suivi jour'!$1:$1,2) -> 0 | Z3: =(COUNTIFS('Test suivi jour'!7:7,"(r)",'Test suivi jour'!$1:$1,2))/2 -> 0 | AA3: =COUNTIFS('Test suivi jour'!7:7,"m",'Test suivi jour'!$1:$1,2) -> 0 | AB3: =COUNTIFS('Test suivi jour'!7:7,"i",'Test suivi jour'!$1:$1,2) -> 0 | AC3: =AD3+AE3 -> 0 | AD3: =COUNTIFS('Test suivi jour'!7:7,"ss",'Test suivi jour'!$1:$1,2) -> 0 | AE3: =(COUNTIFS('Test suivi jour'!7:7,"(ss)",'Test suivi jour'!$1:$1,2))/2 -> 0 | AF3: =AG3+AH3 -> 0 | AG3: =COUNTIFS('Test suivi jour'!7:7,"co",'Test suivi jour'!$1:$1,2) -> 0 | AH3: =(COUNTIFS('Test suivi jour'!7:7,"(co)",'Test suivi jour'!$1:$1,2))/2 -> 0 | AI3: =COUNTIFS('Test suivi jour'!7:7,"JF",'Test suivi jour'!$1:$1,1) -> 0 | AJ3: MARS | AK3: =COUNTIFS('Test suivi jour'!7:7,"JT",'Test suivi jour'!$1:$1,3) -> 23 | AL3: =AM3+AN3 -> 0 | AM3: =COUNTIFS('Test suivi jour'!7:7,"CP",'Test suivi jour'!$1:$1,2) -> 0 | AN3: =(COUNTIFS('Test suivi jour'!7:7,"(CP)",'Test suivi jour'!$1:$1,2))/2 -> 0 | AO3: =AP3+AQ3 -> 0 | AP3: =COUNTIFS('Test suivi jour'!7:7,"r",'Test suivi jour'!$1:$1,2) -> 0 | AQ3: =(COUNTIFS('Test suivi jour'!7:7,"(r)",'Test suivi jour'!$1:$1,2))/2 -> 0 | AR3: =COUNTIFS('Test suivi jour'!7:7,"m",'Test suivi jour'!$1:$1,2) -> 0 | AS3: =COUNTIFS('Test suivi jour'!7:7,"i",'Test suivi jour'!$1:$1,2) -> 0 | AT3: =AU3+AV3 -> 0 | AU3: =COUNTIFS('Test suivi jour'!7:7,"ss",'Test suivi jour'!$1:$1,2) -> 0 | AV3: =(COUNTIFS('Test suivi jour'!7:7,"(ss)",'Test suivi jour'!$1:$1,2))/2 -> 0 | AW3: =AX3+AY3 -> 0 | AX3: =COUNTIFS('Test suivi jour'!7:7,"co",'Test suivi jour'!$1:$1,2) -> 0 | AY3: =(COUNTIFS('Test suivi jour'!7:7,"(co)",'Test suivi jour'!$1:$1,2))/2 -> 0 | AZ3: =COUNTIFS('Test suivi jour'!7:7,"JF",'Test suivi jour'!$1:$1,1) -> 0
A4: Consultant 2 | C4: =COUNTIFS('Test suivi jour'!8:8,"JT",'Test suivi jour'!$1:$1,1) -> 22 | D4: =E4+F4 -> 0 | E4: =COUNTIFS('Test suivi jour'!8:8,"CP",'Test suivi jour'!$1:$1,1) -> 0 | F4: =(COUNTIFS('Test suivi jour'!8:8,"(CP)",'Test suivi jour'!$1:$1,1))/2 -> 0 | G4: =H4+I4 -> 0 | H4: =COUNTIFS('Test suivi jour'!8:8,"r",'Test suivi jour'!$1:$1,1) -> 0 | I4: =(COUNTIFS('Test suivi jour'!8:8,"(r)",'Test suivi jour'!$1:$1,1))/2 -> 0 | J4: =COUNTIFS('Test suivi jour'!8:8,"m",'Test suivi jour'!$1:$1,1) -> 0 | K4: =COUNTIFS('Test suivi jour'!8:8,"i",'Test suivi jour'!$1:$1,1) -> 0 | L4: =M4+N4 -> 0 | M4: =COUNTIFS('Test suivi jour'!8:8,"ss",'Test suivi jour'!$1:$1,1) -> 0 | N4: =(COUNTIFS('Test suivi jour'!8:8,"(ss)",'Test suivi jour'!$1:$1,1))/2 -> 0 | O4: =P4+Q4 -> 0 | P4: =COUNTIFS('Test suivi jour'!8:8,"co",'Test suivi jour'!$1:$1,1) -> 0 | Q4: =(COUNTIFS('Test suivi jour'!8:8,"(co)",'Test suivi jour'!$1:$1,1))/2 -> 0 | R4: =COUNTIFS('Test suivi jour'!8:8,"JF",'Test suivi jour'!$1:$1,1) -> 0 | T4: =COUNTIFS('Test suivi jour'!8:8,"JT",'Test suivi jour'!$1:$1,2) -> 17 | U4: =V4+W4 -> 0 | V4: =COUNTIFS('Test suivi jour'!8:8,"CP",'Test suivi jour'!$1:$1,2) -> 0 | W4: =(COUNTIFS('Test suivi jour'!8:8,"(CP)",'Test suivi jour'!$1:$1,2))/2 -> 0 | X4: =Y4+Z4 -> 3 | Y4: =COUNTIFS('Test suivi jour'!8:8,"r",'Test suivi jour'!$1:$1,2) -> 3 | Z4: =(COUNTIFS('Test suivi jour'!8:8,"(r)",'Test suivi jour'!$1:$1,2))/2 -> 0 | AA4: =COUNTIFS('Test suivi jour'!8:8,"m",'Test suivi jour'!$1:$1,2) -> 0 | AB4: =COUNTIFS('Test suivi jour'!8:8,"i",'Test suivi jour'!$1:$1,2) -> 0 | AC4: =AD4+AE4 -> 0 | AD4: =COUNTIFS('Test suivi jour'!8:8,"ss",'Test suivi jour'!$1:$1,2) -> 0 | AE4: =(COUNTIFS('Test suivi jour'!8:8,"(ss)",'Test suivi jour'!$1:$1,2))/2 -> 0 | AF4: =AG4+AH4 -> 0 | AG4: =COUNTIFS('Test suivi jour'!8:8,"co",'Test suivi jour'!$1:$1,2) -> 0 | AH4: =(COUNTIFS('Test suivi jour'!8:8,"(co)",'Test suivi jour'!$1:$1,2))/2 -> 0 | AI4: =COUNTIFS('Test suivi jour'!8:8,"JF",'Test suivi jour'!$1:$1,1) -> 0 | AK4: =COUNTIFS('Test suivi jour'!8:8,"JT",'Test suivi jour'!$1:$1,2) -> 17 | AL4: =AM4+AN4 -> 0 | AM4: =COUNTIFS('Test suivi jour'!8:8,"CP",'Test suivi jour'!$1:$1,2) -> 0 | AN4: =(COUNTIFS('Test suivi jour'!8:8,"(CP)",'Test suivi jour'!$1:$1,2))/2 -> 0 | AO4: =AP4+AQ4 -> 3 | AP4: =COUNTIFS('Test suivi jour'!8:8,"r",'Test suivi jour'!$1:$1,2) -> 3 | AQ4: =(COUNTIFS('Test suivi jour'!8:8,"(r)",'Test suivi jour'!$1:$1,2))/2 -> 0 | AR4: =COUNTIFS('Test suivi jour'!8:8,"m",'Test suivi jour'!$1:$1,2) -> 0 | AS4: =COUNTIFS('Test suivi jour'!8:8,"i",'Test suivi jour'!$1:$1,2) -> 0 | AT4: =AU4+AV4 -> 0 | AU4: =COUNTIFS('Test suivi jour'!8:8,"ss",'Test suivi jour'!$1:$1,2) -> 0 | AV4: =(COUNTIFS('Test suivi jour'!8:8,"(ss)",'Test suivi jour'!$1:$1,2))/2 -> 0 | AW4: =AX4+AY4 -> 0 | AX4: =COUNTIFS('Test suivi jour'!8:8,"co",'Test suivi jour'!$1:$1,2) -> 0 | AY4: =(COUNTIFS('Test suivi jour'!8:8,"(co)",'Test suivi jour'!$1:$1,2))/2 -> 0 | AZ4: =COUNTIFS('Test suivi jour'!8:8,"JF",'Test suivi jour'!$1:$1,1) -> 0
A5: Consultant 3 | C5: =COUNTIFS('Test suivi jour'!9:9,"JT",'Test suivi jour'!$1:$1,1) -> 7 | D5: =E5+F5 -> 10 | E5: =COUNTIFS('Test suivi jour'!9:9,"CP",'Test suivi jour'!$1:$1,1) -> 10 | F5: =(COUNTIFS('Test suivi jour'!9:9,"(CP)",'Test suivi jour'!$1:$1,1))/2 -> 0 | G5: =H5+I5 -> 5 | H5: =COUNTIFS('Test suivi jour'!9:9,"r",'Test suivi jour'!$1:$1,1) -> 5 | I5: =(COUNTIFS('Test suivi jour'!9:9,"(r)",'Test suivi jour'!$1:$1,1))/2 -> 0 | J5: =COUNTIFS('Test suivi jour'!9:9,"m",'Test suivi jour'!$1:$1,1) -> 0 | K5: =COUNTIFS('Test suivi jour'!9:9,"i",'Test suivi jour'!$1:$1,1) -> 0 | L5: =M5+N5 -> 0 | M5: =COUNTIFS('Test suivi jour'!9:9,"ss",'Test suivi jour'!$1:$1,1) -> 0 | N5: =(COUNTIFS('Test suivi jour'!9:9,"(ss)",'Test suivi jour'!$1:$1,1))/2 -> 0 | O5: =P5+Q5 -> 0 | P5: =COUNTIFS('Test suivi jour'!9:9,"co",'Test suivi jour'!$1:$1,1) -> 0 | Q5: =(COUNTIFS('Test suivi jour'!9:9,"(co)",'Test suivi jour'!$1:$1,1))/2 -> 0 | R5: =COUNTIFS('Test suivi jour'!9:9,"JF",'Test suivi jour'!$1:$1,1) -> 0 | T5: =COUNTIFS('Test suivi jour'!9:9,"JT",'Test suivi jour'!$1:$1,2) -> 20 | U5: =V5+W5 -> 0 | V5: =COUNTIFS('Test suivi jour'!9:9,"CP",'Test suivi jour'!$1:$1,2) -> 0 | W5: =(COUNTIFS('Test suivi jour'!9:9,"(CP)",'Test suivi jour'!$1:$1,2))/2 -> 0 | X5: =Y5+Z5 -> 0 | Y5: =COUNTIFS('Test suivi jour'!9:9,"r",'Test suivi jour'!$1:$1,2) -> 0 | Z5: =(COUNTIFS('Test suivi jour'!9:9,"(r)",'Test suivi jour'!$1:$1,2))/2 -> 0 | AA5: =COUNTIFS('Test suivi jour'!9:9,"m",'Test suivi jour'!$1:$1,2) -> 0 | AB5: =COUNTIFS('Test suivi jour'!9:9,"i",'Test suivi jour'!$1:$1,2) -> 0 | AC5: =AD5+AE5 -> 0 | AD5: =COUNTIFS('Test suivi jour'!9:9,"ss",'Test suivi jour'!$1:$1,2) -> 0 | AE5: =(COUNTIFS('Test suivi jour'!9:9,"(ss)",'Test suivi jour'!$1:$1,2))/2 -> 0 | AF5: =AG5+AH5 -> 0 | AG5: =COUNTIFS('Test suivi jour'!9:9,"co",'Test suivi jour'!$1:$1,2) -> 0 | AH5: =(COUNTIFS('Test suivi jour'!9:9,"(co)",'Test suivi jour'!$1:$1,2))/2 -> 0 | AI5: =COUNTIFS('Test suivi jour'!9:9,"JF",'Test suivi jour'!$1:$1,1) -> 0 | AK5: =COUNTIFS('Test suivi jour'!9:9,"JT",'Test suivi jour'!$1:$1,2) -> 20 | AL5: =AM5+AN5 -> 0 | AM5: =COUNTIFS('Test suivi jour'!9:9,"CP",'Test suivi jour'!$1:$1,2) -> 0 | AN5: =(COUNTIFS('Test suivi jour'!9:9,"(CP)",'Test suivi jour'!$1:$1,2))/2 -> 0 | AO5: =AP5+AQ5 -> 0 | AP5: =COUNTIFS('Test suivi jour'!9:9,"r",'Test suivi jour'!$1:$1,2) -> 0 | AQ5: =(COUNTIFS('Test suivi jour'!9:9,"(r)",'Test suivi jour'!$1:$1,2))/2 -> 0 | AR5: =COUNTIFS('Test suivi jour'!9:9,"m",'Test suivi jour'!$1:$1,2) -> 0 | AS5: =COUNTIFS('Test suivi jour'!9:9,"i",'Test suivi jour'!$1:$1,2) -> 0 | AT5: =AU5+AV5 -> 0 | AU5: =COUNTIFS('Test suivi jour'!9:9,"ss",'Test suivi jour'!$1:$1,2) -> 0 | AV5: =(COUNTIFS('Test suivi jour'!9:9,"(ss)",'Test suivi jour'!$1:$1,2))/2 -> 0 | AW5: =AX5+AY5 -> 0 | AX5: =COUNTIFS('Test suivi jour'!9:9,"co",'Test suivi jour'!$1:$1,2) -> 0 | AY5: =(COUNTIFS('Test suivi jour'!9:9,"(co)",'Test suivi jour'!$1:$1,2))/2 -> 0 | AZ5: =COUNTIFS('Test suivi jour'!9:9,"JF",'Test suivi jour'!$1:$1,1) -> 0
A6: Consultant 4 | C6: =COUNTIFS('Test suivi jour'!10:10,"JT",'Test suivi jour'!$1:$1,1) -> 21 | D6: =E6+F6 -> 0 | E6: =COUNTIFS('Test suivi jour'!10:10,"CP",'Test suivi jour'!$1:$1,1) -> 0 | F6: =(COUNTIFS('Test suivi jour'!10:10,"(CP)",'Test suivi jour'!$1:$1,1))/2 -> 0 | G6: =H6+I6 -> 1 | H6: =COUNTIFS('Test suivi jour'!10:10,"r",'Test suivi jour'!$1:$1,1) -> 1 | I6: =(COUNTIFS('Test suivi jour'!10:10,"(r)",'Test suivi jour'!$1:$1,1))/2 -> 0 | J6: =COUNTIFS('Test suivi jour'!10:10,"m",'Test suivi jour'!$1:$1,1) -> 0 | K6: =COUNTIFS('Test suivi jour'!10:10,"i",'Test suivi jour'!$1:$1,1) -> 0 | L6: =M6+N6 -> 0 | M6: =COUNTIFS('Test suivi jour'!10:10,"ss",'Test suivi jour'!$1:$1,1) -> 0 | N6: =(COUNTIFS('Test suivi jour'!10:10,"(ss)",'Test suivi jour'!$1:$1,1))/2 -> 0 | O6: =P6+Q6 -> 0 | P6: =COUNTIFS('Test suivi jour'!10:10,"co",'Test suivi jour'!$1:$1,1) -> 0 | Q6: =(COUNTIFS('Test suivi jour'!10:10,"(co)",'Test suivi jour'!$1:$1,1))/2 -> 0 | R6: =COUNTIFS('Test suivi jour'!10:10,"JF",'Test suivi jour'!$1:$1,1) -> 0 | T6: =COUNTIFS('Test suivi jour'!10:10,"JT",'Test suivi jour'!$1:$1,2) -> 20 | U6: =V6+W6 -> 0 | V6: =COUNTIFS('Test suivi jour'!10:10,"CP",'Test suivi jour'!$1:$1,2) -> 0 | W6: =(COUNTIFS('Test suivi jour'!10:10,"(CP)",'Test suivi jour'!$1:$1,2))/2 -> 0 | X6: =Y6+Z6 -> 0 | Y6: =COUNTIFS('Test suivi jour'!10:10,"r",'Test suivi jour'!$1:$1,2) -> 0 | Z6: =(COUNTIFS('Test suivi jour'!10:10,"(r)",'Test suivi jour'!$1:$1,2))/2 -> 0 | AA6: =COUNTIFS('Test suivi jour'!10:10,"m",'Test suivi jour'!$1:$1,2) -> 0 | AB6: =COUNTIFS('Test suivi jour'!10:10,"i",'Test suivi jour'!$1:$1,2) -> 0 | AC6: =AD6+AE6 -> 0 | AD6: =COUNTIFS('Test suivi jour'!10:10,"ss",'Test suivi jour'!$1:$1,2) -> 0 | AE6: =(COUNTIFS('Test suivi jour'!10:10,"(ss)",'Test suivi jour'!$1:$1,2))/2 -> 0 | AF6: =AG6+AH6 -> 0 | AG6: =COUNTIFS('Test suivi jour'!10:10,"co",'Test suivi jour'!$1:$1,2) -> 0 | AH6: =(COUNTIFS('Test suivi jour'!10:10,"(co)",'Test suivi jour'!$1:$1,2))/2 -> 0 | AI6: =COUNTIFS('Test suivi jour'!10:10,"JF",'Test suivi jour'!$1:$1,1) -> 0 | AK6: =COUNTIFS('Test suivi jour'!10:10,"JT",'Test suivi jour'!$1:$1,2) -> 20 | AL6: =AM6+AN6 -> 0 | AM6: =COUNTIFS('Test suivi jour'!10:10,"CP",'Test suivi jour'!$1:$1,2) -> 0 | AN6: =(COUNTIFS('Test suivi jour'!10:10,"(CP)",'Test suivi jour'!$1:$1,2))/2 -> 0 | AO6: =AP6+AQ6 -> 0 | AP6: =COUNTIFS('Test suivi jour'!10:10,"r",'Test suivi jour'!$1:$1,2) -> 0 | AQ6: =(COUNTIFS('Test suivi jour'!10:10,"(r)",'Test suivi jour'!$1:$1,2))/2 -> 0 | AR6: =COUNTIFS('Test suivi jour'!10:10,"m",'Test suivi jour'!$1:$1,2) -> 0 | AS6: =COUNTIFS('Test suivi jour'!10:10,"i",'Test suivi jour'!$1:$1,2) -> 0 | AT6: =AU6+AV6 -> 0 | AU6: =COUNTIFS('Test suivi jour'!10:10,"ss",'Test suivi jour'!$1:$1,2) -> 0 | AV6: =(COUNTIFS('Test suivi jour'!10:10,"(ss)",'Test suivi jour'!$1:$1,2))/2 -> 0 | AW6: =AX6+AY6 -> 0 | AX6: =COUNTIFS('Test suivi jour'!10:10,"co",'Test suivi jour'!$1:$1,2) -> 0 | AY6: =(COUNTIFS('Test suivi jour'!10:10,"(co)",'Test suivi jour'!$1:$1,2))/2 -> 0 | AZ6: =COUNTIFS('Test suivi jour'!10:10,"JF",'Test suivi jour'!$1:$1,1) -> 0
A7: Consultant 5 | C7: =COUNTIFS('Test suivi jour'!11:11,"JT",'Test suivi jour'!$1:$1,1) -> 22 | D7: =E7+F7 -> 0 | E7: =COUNTIFS('Test suivi jour'!11:11,"CP",'Test suivi jour'!$1:$1,1) -> 0 | F7: =(COUNTIFS('Test suivi jour'!11:11,"(CP)",'Test suivi jour'!$1:$1,1))/2 -> 0 | G7: =H7+I7 -> 0 | H7: =COUNTIFS('Test suivi jour'!11:11,"r",'Test suivi jour'!$1:$1,1) -> 0 | I7: =(COUNTIFS('Test suivi jour'!11:11,"(r)",'Test suivi jour'!$1:$1,1))/2 -> 0 | J7: =COUNTIFS('Test suivi jour'!11:11,"m",'Test suivi jour'!$1:$1,1) -> 0 | K7: =COUNTIFS('Test suivi jour'!11:11,"i",'Test suivi jour'!$1:$1,1) -> 0 | L7: =M7+N7 -> 0 | M7: =COUNTIFS('Test suivi jour'!11:11,"ss",'Test suivi jour'!$1:$1,1) -> 0 | N7: =(COUNTIFS('Test suivi jour'!11:11,"(ss)",'Test suivi jour'!$1:$1,1))/2 -> 0 | O7: =P7+Q7 -> 0 | P7: =COUNTIFS('Test suivi jour'!11:11,"co",'Test suivi jour'!$1:$1,1) -> 0 | Q7: =(COUNTIFS('Test suivi jour'!11:11,"(co)",'Test suivi jour'!$1:$1,1))/2 -> 0 | R7: =COUNTIFS('Test suivi jour'!11:11,"JF",'Test suivi jour'!$1:$1,1) -> 0 | T7: =COUNTIFS('Test suivi jour'!11:11,"JT",'Test suivi jour'!$1:$1,2) -> 20 | U7: =V7+W7 -> 0 | V7: =COUNTIFS('Test suivi jour'!11:11,"CP",'Test suivi jour'!$1:$1,2) -> 0 | W7: =(COUNTIFS('Test suivi jour'!11:11,"(CP)",'Test suivi jour'!$1:$1,2))/2 -> 0 | X7: =Y7+Z7 -> 0 | Y7: =COUNTIFS('Test suivi jour'!11:11,"r",'Test suivi jour'!$1:$1,2) -> 0 | Z7: =(COUNTIFS('Test suivi jour'!11:11,"(r)",'Test suivi jour'!$1:$1,2))/2 -> 0 | AA7: =COUNTIFS('Test suivi jour'!11:11,"m",'Test suivi jour'!$1:$1,2) -> 0 | AB7: =COUNTIFS('Test suivi jour'!11:11,"i",'Test suivi jour'!$1:$1,2) -> 0 | AC7: =AD7+AE7 -> 0 | AD7: =COUNTIFS('Test suivi jour'!11:11,"ss",'Test suivi jour'!$1:$1,2) -> 0 | AE7: =(COUNTIFS('Test suivi jour'!11:11,"(ss)",'Test suivi jour'!$1:$1,2))/2 -> 0 | AF7: =AG7+AH7 -> 0 | AG7: =COUNTIFS('Test suivi jour'!11:11,"co",'Test suivi jour'!$1:$1,2) -> 0 | AH7: =(COUNTIFS('Test suivi jour'!11:11,"(co)",'Test suivi jour'!$1:$1,2))/2 -> 0 | AI7: =COUNTIFS('Test suivi jour'!11:11,"JF",'Test suivi jour'!$1:$1,1) -> 0 | AK7: =COUNTIFS('Test suivi jour'!11:11,"JT",'Test suivi jour'!$1:$1,2) -> 20 | AL7: =AM7+AN7 -> 0 | AM7: =COUNTIFS('Test suivi jour'!11:11,"CP",'Test suivi jour'!$1:$1,2) -> 0 | AN7: =(COUNTIFS('Test suivi jour'!11:11,"(CP)",'Test suivi jour'!$1:$1,2))/2 -> 0 | AO7: =AP7+AQ7 -> 0 | AP7: =COUNTIFS('Test suivi jour'!11:11,"r",'Test suivi jour'!$1:$1,2) -> 0 | AQ7: =(COUNTIFS('Test suivi jour'!11:11,"(r)",'Test suivi jour'!$1:$1,2))/2 -> 0 | AR7: =COUNTIFS('Test suivi jour'!11:11,"m",'Test suivi jour'!$1:$1,2) -> 0 | AS7: =COUNTIFS('Test suivi jour'!11:11,"i",'Test suivi jour'!$1:$1,2) -> 0 | AT7: =AU7+AV7 -> 0 | AU7: =COUNTIFS('Test suivi jour'!11:11,"ss",'Test suivi jour'!$1:$1,2) -> 0 | AV7: =(COUNTIFS('Test suivi jour'!11:11,"(ss)",'Test suivi jour'!$1:$1,2))/2 -> 0 | AW7: =AX7+AY7 -> 0 | AX7: =COUNTIFS('Test suivi jour'!11:11,"co",'Test suivi jour'!$1:$1,2) -> 0 | AY7: =(COUNTIFS('Test suivi jour'!11:11,"(co)",'Test suivi jour'!$1:$1,2))/2 -> 0 | AZ7: =COUNTIFS('Test suivi jour'!11:11,"JF",'Test suivi jour'!$1:$1,1) -> 0
A8: Consultant 6 | C8: =COUNTIFS('Test suivi jour'!12:12,"JT",'Test suivi jour'!$1:$1,1) -> 19 | D8: =E8+F8 -> 3 | E8: =COUNTIFS('Test suivi jour'!12:12,"CP",'Test suivi jour'!$1:$1,1) -> 3 | F8: =(COUNTIFS('Test suivi jour'!12:12,"(CP)",'Test suivi jour'!$1:$1,1))/2 -> 0 | G8: =H8+I8 -> 0 | H8: =COUNTIFS('Test suivi jour'!12:12,"r",'Test suivi jour'!$1:$1,1) -> 0 | I8: =(COUNTIFS('Test suivi jour'!12:12,"(r)",'Test suivi jour'!$1:$1,1))/2 -> 0 | J8: =COUNTIFS('Test suivi jour'!12:12,"m",'Test suivi jour'!$1:$1,1) -> 0 | K8: =COUNTIFS('Test suivi jour'!12:12,"i",'Test suivi jour'!$1:$1,1) -> 0 | L8: =M8+N8 -> 0 | M8: =COUNTIFS('Test suivi jour'!12:12,"ss",'Test suivi jour'!$1:$1,1) -> 0 | N8: =(COUNTIFS('Test suivi jour'!12:12,"(ss)",'Test suivi jour'!$1:$1,1))/2 -> 0 | O8: =P8+Q8 -> 0 | P8: =COUNTIFS('Test suivi jour'!12:12,"co",'Test suivi jour'!$1:$1,1) -> 0 | Q8: =(COUNTIFS('Test suivi jour'!12:12,"(co)",'Test suivi jour'!$1:$1,1))/2 -> 0 | R8: =COUNTIFS('Test suivi jour'!12:12,"JF",'Test suivi jour'!$1:$1,1) -> 0 | T8: =COUNTIFS('Test suivi jour'!12:12,"JT",'Test suivi jour'!$1:$1,2) -> 20 | U8: =V8+W8 -> 0 | V8: =COUNTIFS('Test suivi jour'!12:12,"CP",'Test suivi jour'!$1:$1,2) -> 0 | W8: =(COUNTIFS('Test suivi jour'!12:12,"(CP)",'Test suivi jour'!$1:$1,2))/2 -> 0 | X8: =Y8+Z8 -> 0 | Y8: =COUNTIFS('Test suivi jour'!12:12,"r",'Test suivi jour'!$1:$1,2) -> 0 | Z8: =(COUNTIFS('Test suivi jour'!12:12,"(r)",'Test suivi jour'!$1:$1,2))/2 -> 0 | AA8: =COUNTIFS('Test suivi jour'!12:12,"m",'Test suivi jour'!$1:$1,2) -> 0 | AB8: =COUNTIFS('Test suivi jour'!12:12,"i",'Test suivi jour'!$1:$1,2) -> 0 | AC8: =AD8+AE8 -> 0 | AD8: =COUNTIFS('Test suivi jour'!12:12,"ss",'Test suivi jour'!$1:$1,2) -> 0 | AE8: =(COUNTIFS('Test suivi jour'!12:12,"(ss)",'Test suivi jour'!$1:$1,2))/2 -> 0 | AF8: =AG8+AH8 -> 0 | AG8: =COUNTIFS('Test suivi jour'!12:12,"co",'Test suivi jour'!$1:$1,2) -> 0 | AH8: =(COUNTIFS('Test suivi jour'!12:12,"(co)",'Test suivi jour'!$1:$1,2))/2 -> 0 | AI8: =COUNTIFS('Test suivi jour'!12:12,"JF",'Test suivi jour'!$1:$1,1) -> 0 | AK8: =COUNTIFS('Test suivi jour'!12:12,"JT",'Test suivi jour'!$1:$1,2) -> 20 | AL8: =AM8+AN8 -> 0 | AM8: =COUNTIFS('Test suivi jour'!12:12,"CP",'Test suivi jour'!$1:$1,2) -> 0 | AN8: =(COUNTIFS('Test suivi jour'!12:12,"(CP)",'Test suivi jour'!$1:$1,2))/2 -> 0 | AO8: =AP8+AQ8 -> 0 | AP8: =COUNTIFS('Test suivi jour'!12:12,"r",'Test suivi jour'!$1:$1,2) -> 0 | AQ8: =(COUNTIFS('Test suivi jour'!12:12,"(r)",'Test suivi jour'!$1:$1,2))/2 -> 0 | AR8: =COUNTIFS('Test suivi jour'!12:12,"m",'Test suivi jour'!$1:$1,2) -> 0 | AS8: =COUNTIFS('Test suivi jour'!12:12,"i",'Test suivi jour'!$1:$1,2) -> 0 | AT8: =AU8+AV8 -> 0 | AU8: =COUNTIFS('Test suivi jour'!12:12,"ss",'Test suivi jour'!$1:$1,2) -> 0 | AV8: =(COUNTIFS('Test suivi jour'!12:12,"(ss)",'Test suivi jour'!$1:$1,2))/2 -> 0 | AW8: =AX8+AY8 -> 0 | AX8: =COUNTIFS('Test suivi jour'!12:12,"co",'Test suivi jour'!$1:$1,2) -> 0 | AY8: =(COUNTIFS('Test suivi jour'!12:12,"(co)",'Test suivi jour'!$1:$1,2))/2 -> 0 | AZ8: =COUNTIFS('Test suivi jour'!12:12,"JF",'Test suivi jour'!$1:$1,1) -> 0
A9: Consultant 7 | C9: =COUNTIFS('Test suivi jour'!13:13,"JT",'Test suivi jour'!$1:$1,1) -> 21 | D9: =E9+F9 -> 0 | E9: =COUNTIFS('Test suivi jour'!13:13,"CP",'Test suivi jour'!$1:$1,1) -> 0 | F9: =(COUNTIFS('Test suivi jour'!13:13,"(CP)",'Test suivi jour'!$1:$1,1))/2 -> 0 | G9: =H9+I9 -> 1 | H9: =COUNTIFS('Test suivi jour'!13:13,"r",'Test suivi jour'!$1:$1,1) -> 1 | I9: =(COUNTIFS('Test suivi jour'!13:13,"(r)",'Test suivi jour'!$1:$1,1))/2 -> 0 | J9: =COUNTIFS('Test suivi jour'!13:13,"m",'Test suivi jour'!$1:$1,1) -> 0 | K9: =COUNTIFS('Test suivi jour'!13:13,"i",'Test suivi jour'!$1:$1,1) -> 0 | L9: =M9+N9 -> 0 | M9: =COUNTIFS('Test suivi jour'!13:13,"ss",'Test suivi jour'!$1:$1,1) -> 0 | N9: =(COUNTIFS('Test suivi jour'!13:13,"(ss)",'Test suivi jour'!$1:$1,1))/2 -> 0 | O9: =P9+Q9 -> 0 | P9: =COUNTIFS('Test suivi jour'!13:13,"co",'Test suivi jour'!$1:$1,1) -> 0 | Q9: =(COUNTIFS('Test suivi jour'!13:13,"(co)",'Test suivi jour'!$1:$1,1))/2 -> 0 | R9: =COUNTIFS('Test suivi jour'!13:13,"JF",'Test suivi jour'!$1:$1,1) -> 0 | T9: =COUNTIFS('Test suivi jour'!13:13,"JT",'Test suivi jour'!$1:$1,2) -> 20 | U9: =V9+W9 -> 0 | V9: =COUNTIFS('Test suivi jour'!13:13,"CP",'Test suivi jour'!$1:$1,2) -> 0 | W9: =(COUNTIFS('Test suivi jour'!13:13,"(CP)",'Test suivi jour'!$1:$1,2))/2 -> 0 | X9: =Y9+Z9 -> 0 | Y9: =COUNTIFS('Test suivi jour'!13:13,"r",'Test suivi jour'!$1:$1,2) -> 0 | Z9: =(COUNTIFS('Test suivi jour'!13:13,"(r)",'Test suivi jour'!$1:$1,2))/2 -> 0 | AA9: =COUNTIFS('Test suivi jour'!13:13,"m",'Test suivi jour'!$1:$1,2) -> 0 | AB9: =COUNTIFS('Test suivi jour'!13:13,"i",'Test suivi jour'!$1:$1,2) -> 0 | AC9: =AD9+AE9 -> 0 | AD9: =COUNTIFS('Test suivi jour'!13:13,"ss",'Test suivi jour'!$1:$1,2) -> 0 | AE9: =(COUNTIFS('Test suivi jour'!13:13,"(ss)",'Test suivi jour'!$1:$1,2))/2 -> 0 | AF9: =AG9+AH9 -> 0 | AG9: =COUNTIFS('Test suivi jour'!13:13,"co",'Test suivi jour'!$1:$1,2) -> 0 | AH9: =(COUNTIFS('Test suivi jour'!13:13,"(co)",'Test suivi jour'!$1:$1,2))/2 -> 0 | AI9: =COUNTIFS('Test suivi jour'!13:13,"JF",'Test suivi jour'!$1:$1,1) -> 0 | AK9: =COUNTIFS('Test suivi jour'!13:13,"JT",'Test suivi jour'!$1:$1,2) -> 20 | AL9: =AM9+AN9 -> 0 | AM9: =COUNTIFS('Test suivi jour'!13:13,"CP",'Test suivi jour'!$1:$1,2) -> 0 | AN9: =(COUNTIFS('Test suivi jour'!13:13,"(CP)",'Test suivi jour'!$1:$1,2))/2 -> 0 | AO9: =AP9+AQ9 -> 0 | AP9: =COUNTIFS('Test suivi jour'!13:13,"r",'Test suivi jour'!$1:$1,2) -> 0 | AQ9: =(COUNTIFS('Test suivi jour'!13:13,"(r)",'Test suivi jour'!$1:$1,2))/2 -> 0 | AR9: =COUNTIFS('Test suivi jour'!13:13,"m",'Test suivi jour'!$1:$1,2) -> 0 | AS9: =COUNTIFS('Test suivi jour'!13:13,"i",'Test suivi jour'!$1:$1,2) -> 0 | AT9: =AU9+AV9 -> 0 | AU9: =COUNTIFS('Test suivi jour'!13:13,"ss",'Test suivi jour'!$1:$1,2) -> 0 | AV9: =(COUNTIFS('Test suivi jour'!13:13,"(ss)",'Test suivi jour'!$1:$1,2))/2 -> 0 | AW9: =AX9+AY9 -> 0 | AX9: =COUNTIFS('Test suivi jour'!13:13,"co",'Test suivi jour'!$1:$1,2) -> 0 | AY9: =(COUNTIFS('Test suivi jour'!13:13,"(co)",'Test suivi jour'!$1:$1,2))/2 -> 0 | AZ9: =COUNTIFS('Test suivi jour'!13:13,"JF",'Test suivi jour'!$1:$1,1) -> 0
A10: Consultant 8 | C10: =COUNTIFS('Test suivi jour'!14:14,"JT",'Test suivi jour'!$1:$1,1) -> 19 | D10: =E10+F10 -> 0 | E10: =COUNTIFS('Test suivi jour'!14:14,"CP",'Test suivi jour'!$1:$1,1) -> 0 | F10: =(COUNTIFS('Test suivi jour'!14:14,"(CP)",'Test suivi jour'!$1:$1,1))/2 -> 0 | G10: =H10+I10 -> 2.5 | H10: =COUNTIFS('Test suivi jour'!14:14,"r",'Test suivi jour'!$1:$1,1) -> 2 | I10: =(COUNTIFS('Test suivi jour'!14:14,"(r)",'Test suivi jour'!$1:$1,1))/2 -> 0.5 | J10: =COUNTIFS('Test suivi jour'!14:14,"m",'Test suivi jour'!$1:$1,1) -> 0 | K10: =COUNTIFS('Test suivi jour'!14:14,"i",'Test suivi jour'!$1:$1,1) -> 0 | L10: =M10+N10 -> 0 | M10: =COUNTIFS('Test suivi jour'!14:14,"ss",'Test suivi jour'!$1:$1,1) -> 0 | N10: =(COUNTIFS('Test suivi jour'!14:14,"(ss)",'Test suivi jour'!$1:$1,1))/2 -> 0 | O10: =P10+Q10 -> 0 | P10: =COUNTIFS('Test suivi jour'!14:14,"co",'Test suivi jour'!$1:$1,1) -> 0 | Q10: =(COUNTIFS('Test suivi jour'!14:14,"(co)",'Test suivi jour'!$1:$1,1))/2 -> 0 | R10: =COUNTIFS('Test suivi jour'!14:14,"JF",'Test suivi jour'!$1:$1,1) -> 0 | T10: =COUNTIFS('Test suivi jour'!14:14,"JT",'Test suivi jour'!$1:$1,2) -> 20 | U10: =V10+W10 -> 0 | V10: =COUNTIFS('Test suivi jour'!14:14,"CP",'Test suivi jour'!$1:$1,2) -> 0 | W10: =(COUNTIFS('Test suivi jour'!14:14,"(CP)",'Test suivi jour'!$1:$1,2))/2 -> 0 | X10: =Y10+Z10 -> 0 | Y10: =COUNTIFS('Test suivi jour'!14:14,"r",'Test suivi jour'!$1:$1,2) -> 0 | Z10: =(COUNTIFS('Test suivi jour'!14:14,"(r)",'Test suivi jour'!$1:$1,2))/2 -> 0 | AA10: =COUNTIFS('Test suivi jour'!14:14,"m",'Test suivi jour'!$1:$1,2) -> 0 | AB10: =COUNTIFS('Test suivi jour'!14:14,"i",'Test suivi jour'!$1:$1,2) -> 0 | AC10: =AD10+AE10 -> 0 | AD10: =COUNTIFS('Test suivi jour'!14:14,"ss",'Test suivi jour'!$1:$1,2) -> 0 | AE10: =(COUNTIFS('Test suivi jour'!14:14,"(ss)",'Test suivi jour'!$1:$1,2))/2 -> 0 | AF10: =AG10+AH10 -> 0 | AG10: =COUNTIFS('Test suivi jour'!14:14,"co",'Test suivi jour'!$1:$1,2) -> 0 | AH10: =(COUNTIFS('Test suivi jour'!14:14,"(co)",'Test suivi jour'!$1:$1,2))/2 -> 0 | AI10: =COUNTIFS('Test suivi jour'!14:14,"JF",'Test suivi jour'!$1:$1,1) -> 0 | AK10: =COUNTIFS('Test suivi jour'!14:14,"JT",'Test suivi jour'!$1:$1,2) -> 20 | AL10: =AM10+AN10 -> 0 | AM10: =COUNTIFS('Test suivi jour'!14:14,"CP",'Test suivi jour'!$1:$1,2) -> 0 | AN10: =(COUNTIFS('Test suivi jour'!14:14,"(CP)",'Test suivi jour'!$1:$1,2))/2 -> 0 | AO10: =AP10+AQ10 -> 0 | AP10: =COUNTIFS('Test suivi jour'!14:14,"r",'Test suivi jour'!$1:$1,2) -> 0 | AQ10: =(COUNTIFS('Test suivi jour'!14:14,"(r)",'Test suivi jour'!$1:$1,2))/2 -> 0 | AR10: =COUNTIFS('Test suivi jour'!14:14,"m",'Test suivi jour'!$1:$1,2) -> 0 | AS10: =COUNTIFS('Test suivi jour'!14:14,"i",'Test suivi jour'!$1:$1,2) -> 0 | AT10: =AU10+AV10 -> 0 | AU10: =COUNTIFS('Test suivi jour'!14:14,"ss",'Test suivi jour'!$1:$1,2) -> 0 | AV10: =(COUNTIFS('Test suivi jour'!14:14,"(ss)",'Test suivi jour'!$1:$1,2))/2 -> 0 | AW10: =AX10+AY10 -> 0 | AX10: =COUNTIFS('Test suivi jour'!14:14,"co",'Test suivi jour'!$1:$1,2) -> 0 | AY10: =(COUNTIFS('Test suivi jour'!14:14,"(co)",'Test suivi jour'!$1:$1,2))/2 -> 0 | AZ10: =COUNTIFS('Test suivi jour'!14:14,"JF",'Test suivi jour'!$1:$1,1) -> 0
A11: Consultant 9 | C11: =COUNTIFS('Test suivi jour'!15:15,"JT",'Test suivi jour'!$1:$1,1) -> 22 | D11: =E11+F11 -> 0 | E11: =COUNTIFS('Test suivi jour'!15:15,"CP",'Test suivi jour'!$1:$1,1) -> 0 | F11: =(COUNTIFS('Test suivi jour'!15:15,"(CP)",'Test suivi jour'!$1:$1,1))/2 -> 0 | G11: =H11+I11 -> 0 | H11: =COUNTIFS('Test suivi jour'!15:15,"r",'Test suivi jour'!$1:$1,1) -> 0 | I11: =(COUNTIFS('Test suivi jour'!15:15,"(r)",'Test suivi jour'!$1:$1,1))/2 -> 0 | J11: =COUNTIFS('Test suivi jour'!15:15,"m",'Test suivi jour'!$1:$1,1) -> 0 | K11: =COUNTIFS('Test suivi jour'!15:15,"i",'Test suivi jour'!$1:$1,1) -> 0 | L11: =M11+N11 -> 0 | M11: =COUNTIFS('Test suivi jour'!15:15,"ss",'Test suivi jour'!$1:$1,1) -> 0 | N11: =(COUNTIFS('Test suivi jour'!15:15,"(ss)",'Test suivi jour'!$1:$1,1))/2 -> 0 | O11: =P11+Q11 -> 0 | P11: =COUNTIFS('Test suivi jour'!15:15,"co",'Test suivi jour'!$1:$1,1) -> 0 | Q11: =(COUNTIFS('Test suivi jour'!15:15,"(co)",'Test suivi jour'!$1:$1,1))/2 -> 0 | R11: =COUNTIFS('Test suivi jour'!15:15,"JF",'Test suivi jour'!$1:$1,1) -> 0 | T11: =COUNTIFS('Test suivi jour'!15:15,"JT",'Test suivi jour'!$1:$1,2) -> 20 | U11: =V11+W11 -> 0 | V11: =COUNTIFS('Test suivi jour'!15:15,"CP",'Test suivi jour'!$1:$1,2) -> 0 | W11: =(COUNTIFS('Test suivi jour'!15:15,"(CP)",'Test suivi jour'!$1:$1,2))/2 -> 0 | X11: =Y11+Z11 -> 0 | Y11: =COUNTIFS('Test suivi jour'!15:15,"r",'Test suivi jour'!$1:$1,2) -> 0 | Z11: =(COUNTIFS('Test suivi jour'!15:15,"(r)",'Test suivi jour'!$1:$1,2))/2 -> 0 | AA11: =COUNTIFS('Test suivi jour'!15:15,"m",'Test suivi jour'!$1:$1,2) -> 0 | AB11: =COUNTIFS('Test suivi jour'!15:15,"i",'Test suivi jour'!$1:$1,2) -> 0 | AC11: =AD11+AE11 -> 0 | AD11: =COUNTIFS('Test suivi jour'!15:15,"ss",'Test suivi jour'!$1:$1,2) -> 0 | AE11: =(COUNTIFS('Test suivi jour'!15:15,"(ss)",'Test suivi jour'!$1:$1,2))/2 -> 0 | AF11: =AG11+AH11 -> 0 | AG11: =COUNTIFS('Test suivi jour'!15:15,"co",'Test suivi jour'!$1:$1,2) -> 0 | AH11: =(COUNTIFS('Test suivi jour'!15:15,"(co)",'Test suivi jour'!$1:$1,2))/2 -> 0 | AI11: =COUNTIFS('Test suivi jour'!15:15,"JF",'Test suivi jour'!$1:$1,1) -> 0 | AK11: =COUNTIFS('Test suivi jour'!15:15,"JT",'Test suivi jour'!$1:$1,2) -> 20 | AL11: =AM11+AN11 -> 0 | AM11: =COUNTIFS('Test suivi jour'!15:15,"CP",'Test suivi jour'!$1:$1,2) -> 0 | AN11: =(COUNTIFS('Test suivi jour'!15:15,"(CP)",'Test suivi jour'!$1:$1,2))/2 -> 0 | AO11: =AP11+AQ11 -> 0 | AP11: =COUNTIFS('Test suivi jour'!15:15,"r",'Test suivi jour'!$1:$1,2) -> 0 | AQ11: =(COUNTIFS('Test suivi jour'!15:15,"(r)",'Test suivi jour'!$1:$1,2))/2 -> 0 | AR11: =COUNTIFS('Test suivi jour'!15:15,"m",'Test suivi jour'!$1:$1,2) -> 0 | AS11: =COUNTIFS('Test suivi jour'!15:15,"i",'Test suivi jour'!$1:$1,2) -> 0 | AT11: =AU11+AV11 -> 0 | AU11: =COUNTIFS('Test suivi jour'!15:15,"ss",'Test suivi jour'!$1:$1,2) -> 0 | AV11: =(COUNTIFS('Test suivi jour'!15:15,"(ss)",'Test suivi jour'!$1:$1,2))/2 -> 0 | AW11: =AX11+AY11 -> 0 | AX11: =COUNTIFS('Test suivi jour'!15:15,"co",'Test suivi jour'!$1:$1,2) -> 0 | AY11: =(COUNTIFS('Test suivi jour'!15:15,"(co)",'Test suivi jour'!$1:$1,2))/2 -> 0 | AZ11: =COUNTIFS('Test suivi jour'!15:15,"JF",'Test suivi jour'!$1:$1,1) -> 0
A12: Consultant 10 | C12: =COUNTIFS('Test suivi jour'!16:16,"JT",'Test suivi jour'!$1:$1,1) -> 19 | D12: =E12+F12 -> 1 | E12: =COUNTIFS('Test suivi jour'!16:16,"CP",'Test suivi jour'!$1:$1,1) -> 1 | F12: =(COUNTIFS('Test suivi jour'!16:16,"(CP)",'Test suivi jour'!$1:$1,1))/2 -> 0 | G12: =H12+I12 -> 1.5 | H12: =COUNTIFS('Test suivi jour'!16:16,"r",'Test suivi jour'!$1:$1,1) -> 1 | I12: =(COUNTIFS('Test suivi jour'!16:16,"(r)",'Test suivi jour'!$1:$1,1))/2 -> 0.5 | J12: =COUNTIFS('Test suivi jour'!16:16,"m",'Test suivi jour'!$1:$1,1) -> 0 | K12: =COUNTIFS('Test suivi jour'!16:16,"i",'Test suivi jour'!$1:$1,1) -> 0 | L12: =M12+N12 -> 0 | M12: =COUNTIFS('Test suivi jour'!16:16,"ss",'Test suivi jour'!$1:$1,1) -> 0 | N12: =(COUNTIFS('Test suivi jour'!16:16,"(ss)",'Test suivi jour'!$1:$1,1))/2 -> 0 | O12: =P12+Q12 -> 0 | P12: =COUNTIFS('Test suivi jour'!16:16,"co",'Test suivi jour'!$1:$1,1) -> 0 | Q12: =(COUNTIFS('Test suivi jour'!16:16,"(co)",'Test suivi jour'!$1:$1,1))/2 -> 0 | R12: =COUNTIFS('Test suivi jour'!16:16,"JF",'Test suivi jour'!$1:$1,1) -> 0 | T12: =COUNTIFS('Test suivi jour'!16:16,"JT",'Test suivi jour'!$1:$1,2) -> 20 | U12: =V12+W12 -> 0 | V12: =COUNTIFS('Test suivi jour'!16:16,"CP",'Test suivi jour'!$1:$1,2) -> 0 | W12: =(COUNTIFS('Test suivi jour'!16:16,"(CP)",'Test suivi jour'!$1:$1,2))/2 -> 0 | X12: =Y12+Z12 -> 0 | Y12: =COUNTIFS('Test suivi jour'!16:16,"r",'Test suivi jour'!$1:$1,2) -> 0 | Z12: =(COUNTIFS('Test suivi jour'!16:16,"(r)",'Test suivi jour'!$1:$1,2))/2 -> 0 | AA12: =COUNTIFS('Test suivi jour'!16:16,"m",'Test suivi jour'!$1:$1,2) -> 0 | AB12: =COUNTIFS('Test suivi jour'!16:16,"i",'Test suivi jour'!$1:$1,2) -> 0 | AC12: =AD12+AE12 -> 0 | AD12: =COUNTIFS('Test suivi jour'!16:16,"ss",'Test suivi jour'!$1:$1,2) -> 0 | AE12: =(COUNTIFS('Test suivi jour'!16:16,"(ss)",'Test suivi jour'!$1:$1,2))/2 -> 0 | AF12: =AG12+AH12 -> 0 | AG12: =COUNTIFS('Test suivi jour'!16:16,"co",'Test suivi jour'!$1:$1,2) -> 0 | AH12: =(COUNTIFS('Test suivi jour'!16:16,"(co)",'Test suivi jour'!$1:$1,2))/2 -> 0 | AI12: =COUNTIFS('Test suivi jour'!16:16,"JF",'Test suivi jour'!$1:$1,1) -> 0 | AK12: =COUNTIFS('Test suivi jour'!16:16,"JT",'Test suivi jour'!$1:$1,2) -> 20 | AL12: =AM12+AN12 -> 0 | AM12: =COUNTIFS('Test suivi jour'!16:16,"CP",'Test suivi jour'!$1:$1,2) -> 0 | AN12: =(COUNTIFS('Test suivi jour'!16:16,"(CP)",'Test suivi jour'!$1:$1,2))/2 -> 0 | AO12: =AP12+AQ12 -> 0 | AP12: =COUNTIFS('Test suivi jour'!16:16,"r",'Test suivi jour'!$1:$1,2) -> 0 | AQ12: =(COUNTIFS('Test suivi jour'!16:16,"(r)",'Test suivi jour'!$1:$1,2))/2 -> 0 | AR12: =COUNTIFS('Test suivi jour'!16:16,"m",'Test suivi jour'!$1:$1,2) -> 0 | AS12: =COUNTIFS('Test suivi jour'!16:16,"i",'Test suivi jour'!$1:$1,2) -> 0 | AT12: =AU12+AV12 -> 0 | AU12: =COUNTIFS('Test suivi jour'!16:16,"ss",'Test suivi jour'!$1:$1,2) -> 0 | AV12: =(COUNTIFS('Test suivi jour'!16:16,"(ss)",'Test suivi jour'!$1:$1,2))/2 -> 0 | AW12: =AX12+AY12 -> 0 | AX12: =COUNTIFS('Test suivi jour'!16:16,"co",'Test suivi jour'!$1:$1,2) -> 0 | AY12: =(COUNTIFS('Test suivi jour'!16:16,"(co)",'Test suivi jour'!$1:$1,2))/2 -> 0 | AZ12: =COUNTIFS('Test suivi jour'!16:16,"JF",'Test suivi jour'!$1:$1,1) -> 0
A13: Consultant 11 | C13: =COUNTIFS('Test suivi jour'!17:17,"JT",'Test suivi jour'!$1:$1,1) -> 21 | D13: =E13+F13 -> 1 | E13: =COUNTIFS('Test suivi jour'!17:17,"CP",'Test suivi jour'!$1:$1,1) -> 1 | F13: =(COUNTIFS('Test suivi jour'!17:17,"(CP)",'Test suivi jour'!$1:$1,1))/2 -> 0 | G13: =H13+I13 -> 0 | H13: =COUNTIFS('Test suivi jour'!17:17,"r",'Test suivi jour'!$1:$1,1) -> 0 | I13: =(COUNTIFS('Test suivi jour'!17:17,"(r)",'Test suivi jour'!$1:$1,1))/2 -> 0 | J13: =COUNTIFS('Test suivi jour'!17:17,"m",'Test suivi jour'!$1:$1,1) -> 0 | K13: =COUNTIFS('Test suivi jour'!17:17,"i",'Test suivi jour'!$1:$1,1) -> 0 | L13: =M13+N13 -> 0 | M13: =COUNTIFS('Test suivi jour'!17:17,"ss",'Test suivi jour'!$1:$1,1) -> 0 | N13: =(COUNTIFS('Test suivi jour'!17:17,"(ss)",'Test suivi jour'!$1:$1,1))/2 -> 0 | O13: =P13+Q13 -> 0 | P13: =COUNTIFS('Test suivi jour'!17:17,"co",'Test suivi jour'!$1:$1,1) -> 0 | Q13: =(COUNTIFS('Test suivi jour'!17:17,"(co)",'Test suivi jour'!$1:$1,1))/2 -> 0 | R13: =COUNTIFS('Test suivi jour'!17:17,"JF",'Test suivi jour'!$1:$1,1) -> 0 | T13: =COUNTIFS('Test suivi jour'!17:17,"JT",'Test suivi jour'!$1:$1,2) -> 20 | U13: =V13+W13 -> 0 | V13: =COUNTIFS('Test suivi jour'!17:17,"CP",'Test suivi jour'!$1:$1,2) -> 0 | W13: =(COUNTIFS('Test suivi jour'!17:17,"(CP)",'Test suivi jour'!$1:$1,2))/2 -> 0 | X13: =Y13+Z13 -> 0 | Y13: =COUNTIFS('Test suivi jour'!17:17,"r",'Test suivi jour'!$1:$1,2) -> 0 | Z13: =(COUNTIFS('Test suivi jour'!17:17,"(r)",'Test suivi jour'!$1:$1,2))/2 -> 0 | AA13: =COUNTIFS('Test suivi jour'!17:17,"m",'Test suivi jour'!$1:$1,2) -> 0 | AB13: =COUNTIFS('Test suivi jour'!17:17,"i",'Test suivi jour'!$1:$1,2) -> 0 | AC13: =AD13+AE13 -> 0 | AD13: =COUNTIFS('Test suivi jour'!17:17,"ss",'Test suivi jour'!$1:$1,2) -> 0 | AE13: =(COUNTIFS('Test suivi jour'!17:17,"(ss)",'Test suivi jour'!$1:$1,2))/2 -> 0 | AF13: =AG13+AH13 -> 0 | AG13: =COUNTIFS('Test suivi jour'!17:17,"co",'Test suivi jour'!$1:$1,2) -> 0 | AH13: =(COUNTIFS('Test suivi jour'!17:17,"(co)",'Test suivi jour'!$1:$1,2))/2 -> 0 | AI13: =COUNTIFS('Test suivi jour'!17:17,"JF",'Test suivi jour'!$1:$1,1) -> 0 | AK13: =COUNTIFS('Test suivi jour'!17:17,"JT",'Test suivi jour'!$1:$1,2) -> 20 | AL13: =AM13+AN13 -> 0 | AM13: =COUNTIFS('Test suivi jour'!17:17,"CP",'Test suivi jour'!$1:$1,2) -> 0 | AN13: =(COUNTIFS('Test suivi jour'!17:17,"(CP)",'Test suivi jour'!$1:$1,2))/2 -> 0 | AO13: =AP13+AQ13 -> 0 | AP13: =COUNTIFS('Test suivi jour'!17:17,"r",'Test suivi jour'!$1:$1,2) -> 0 | AQ13: =(COUNTIFS('Test suivi jour'!17:17,"(r)",'Test suivi jour'!$1:$1,2))/2 -> 0 | AR13: =COUNTIFS('Test suivi jour'!17:17,"m",'Test suivi jour'!$1:$1,2) -> 0 | AS13: =COUNTIFS('Test suivi jour'!17:17,"i",'Test suivi jour'!$1:$1,2) -> 0 | AT13: =AU13+AV13 -> 0 | AU13: =COUNTIFS('Test suivi jour'!17:17,"ss",'Test suivi jour'!$1:$1,2) -> 0 | AV13: =(COUNTIFS('Test suivi jour'!17:17,"(ss)",'Test suivi jour'!$1:$1,2))/2 -> 0 | AW13: =AX13+AY13 -> 0 | AX13: =COUNTIFS('Test suivi jour'!17:17,"co",'Test suivi jour'!$1:$1,2) -> 0 | AY13: =(COUNTIFS('Test suivi jour'!17:17,"(co)",'Test suivi jour'!$1:$1,2))/2 -> 0 | AZ13: =COUNTIFS('Test suivi jour'!17:17,"JF",'Test suivi jour'!$1:$1,1) -> 0
A14: Consultant 12 | C14: =COUNTIFS('Test suivi jour'!18:18,"JT",'Test suivi jour'!$1:$1,1) -> 21 | D14: =E14+F14 -> 1 | E14: =COUNTIFS('Test suivi jour'!18:18,"CP",'Test suivi jour'!$1:$1,1) -> 1 | F14: =(COUNTIFS('Test suivi jour'!18:18,"(CP)",'Test suivi jour'!$1:$1,1))/2 -> 0 | G14: =H14+I14 -> 0 | H14: =COUNTIFS('Test suivi jour'!18:18,"r",'Test suivi jour'!$1:$1,1) -> 0 | I14: =(COUNTIFS('Test suivi jour'!18:18,"(r)",'Test suivi jour'!$1:$1,1))/2 -> 0 | J14: =COUNTIFS('Test suivi jour'!18:18,"m",'Test suivi jour'!$1:$1,1) -> 0 | K14: =COUNTIFS('Test suivi jour'!18:18,"i",'Test suivi jour'!$1:$1,1) -> 0 | L14: =M14+N14 -> 0 | M14: =COUNTIFS('Test suivi jour'!18:18,"ss",'Test suivi jour'!$1:$1,1) -> 0 | N14: =(COUNTIFS('Test suivi jour'!18:18,"(ss)",'Test suivi jour'!$1:$1,1))/2 -> 0 | O14: =P14+Q14 -> 0 | P14: =COUNTIFS('Test suivi jour'!18:18,"co",'Test suivi jour'!$1:$1,1) -> 0 | Q14: =(COUNTIFS('Test suivi jour'!18:18,"(co)",'Test suivi jour'!$1:$1,1))/2 -> 0 | R14: =COUNTIFS('Test suivi jour'!18:18,"JF",'Test suivi jour'!$1:$1,1) -> 0 | T14: =COUNTIFS('Test suivi jour'!18:18,"JT",'Test suivi jour'!$1:$1,2) -> 20 | U14: =V14+W14 -> 0 | V14: =COUNTIFS('Test suivi jour'!18:18,"CP",'Test suivi jour'!$1:$1,2) -> 0 | W14: =(COUNTIFS('Test suivi jour'!18:18,"(CP)",'Test suivi jour'!$1:$1,2))/2 -> 0 | X14: =Y14+Z14 -> 0 | Y14: =COUNTIFS('Test suivi jour'!18:18,"r",'Test suivi jour'!$1:$1,2) -> 0 | Z14: =(COUNTIFS('Test suivi jour'!18:18,"(r)",'Test suivi jour'!$1:$1,2))/2 -> 0 | AA14: =COUNTIFS('Test suivi jour'!18:18,"m",'Test suivi jour'!$1:$1,2) -> 0 | AB14: =COUNTIFS('Test suivi jour'!18:18,"i",'Test suivi jour'!$1:$1,2) -> 0 | AC14: =AD14+AE14 -> 0 | AD14: =COUNTIFS('Test suivi jour'!18:18,"ss",'Test suivi jour'!$1:$1,2) -> 0 | AE14: =(COUNTIFS('Test suivi jour'!18:18,"(ss)",'Test suivi jour'!$1:$1,2))/2 -> 0 | AF14: =AG14+AH14 -> 0 | AG14: =COUNTIFS('Test suivi jour'!18:18,"co",'Test suivi jour'!$1:$1,2) -> 0 | AH14: =(COUNTIFS('Test suivi jour'!18:18,"(co)",'Test suivi jour'!$1:$1,2))/2 -> 0 | AI14: =COUNTIFS('Test suivi jour'!18:18,"JF",'Test suivi jour'!$1:$1,1) -> 0 | AK14: =COUNTIFS('Test suivi jour'!18:18,"JT",'Test suivi jour'!$1:$1,2) -> 20 | AL14: =AM14+AN14 -> 0 | AM14: =COUNTIFS('Test suivi jour'!18:18,"CP",'Test suivi jour'!$1:$1,2) -> 0 | AN14: =(COUNTIFS('Test suivi jour'!18:18,"(CP)",'Test suivi jour'!$1:$1,2))/2 -> 0 | AO14: =AP14+AQ14 -> 0 | AP14: =COUNTIFS('Test suivi jour'!18:18,"r",'Test suivi jour'!$1:$1,2) -> 0 | AQ14: =(COUNTIFS('Test suivi jour'!18:18,"(r)",'Test suivi jour'!$1:$1,2))/2 -> 0 | AR14: =COUNTIFS('Test suivi jour'!18:18,"m",'Test suivi jour'!$1:$1,2) -> 0 | AS14: =COUNTIFS('Test suivi jour'!18:18,"i",'Test suivi jour'!$1:$1,2) -> 0 | AT14: =AU14+AV14 -> 0 | AU14: =COUNTIFS('Test suivi jour'!18:18,"ss",'Test suivi jour'!$1:$1,2) -> 0 | AV14: =(COUNTIFS('Test suivi jour'!18:18,"(ss)",'Test suivi jour'!$1:$1,2))/2 -> 0 | AW14: =AX14+AY14 -> 0 | AX14: =COUNTIFS('Test suivi jour'!18:18,"co",'Test suivi jour'!$1:$1,2) -> 0 | AY14: =(COUNTIFS('Test suivi jour'!18:18,"(co)",'Test suivi jour'!$1:$1,2))/2 -> 0 | AZ14: =COUNTIFS('Test suivi jour'!18:18,"JF",'Test suivi jour'!$1:$1,1) -> 0
A15: Consultant 13 | C15: =COUNTIFS('Test suivi jour'!19:19,"JT",'Test suivi jour'!$1:$1,1) -> 21 | D15: =E15+F15 -> 1 | E15: =COUNTIFS('Test suivi jour'!19:19,"CP",'Test suivi jour'!$1:$1,1) -> 1 | F15: =(COUNTIFS('Test suivi jour'!19:19,"(CP)",'Test suivi jour'!$1:$1,1))/2 -> 0 | G15: =H15+I15 -> 0 | H15: =COUNTIFS('Test suivi jour'!19:19,"r",'Test suivi jour'!$1:$1,1) -> 0 | I15: =(COUNTIFS('Test suivi jour'!19:19,"(r)",'Test suivi jour'!$1:$1,1))/2 -> 0 | J15: =COUNTIFS('Test suivi jour'!19:19,"m",'Test suivi jour'!$1:$1,1) -> 0 | K15: =COUNTIFS('Test suivi jour'!19:19,"i",'Test suivi jour'!$1:$1,1) -> 0 | L15: =M15+N15 -> 0 | M15: =COUNTIFS('Test suivi jour'!19:19,"ss",'Test suivi jour'!$1:$1,1) -> 0 | N15: =(COUNTIFS('Test suivi jour'!19:19,"(ss)",'Test suivi jour'!$1:$1,1))/2 -> 0 | O15: =P15+Q15 -> 0 | P15: =COUNTIFS('Test suivi jour'!19:19,"co",'Test suivi jour'!$1:$1,1) -> 0 | Q15: =(COUNTIFS('Test suivi jour'!19:19,"(co)",'Test suivi jour'!$1:$1,1))/2 -> 0 | R15: =COUNTIFS('Test suivi jour'!19:19,"JF",'Test suivi jour'!$1:$1,1) -> 0 | T15: =COUNTIFS('Test suivi jour'!19:19,"JT",'Test suivi jour'!$1:$1,2) -> 20 | U15: =V15+W15 -> 0 | V15: =COUNTIFS('Test suivi jour'!19:19,"CP",'Test suivi jour'!$1:$1,2) -> 0 | W15: =(COUNTIFS('Test suivi jour'!19:19,"(CP)",'Test suivi jour'!$1:$1,2))/2 -> 0 | X15: =Y15+Z15 -> 0 | Y15: =COUNTIFS('Test suivi jour'!19:19,"r",'Test suivi jour'!$1:$1,2) -> 0 | Z15: =(COUNTIFS('Test suivi jour'!19:19,"(r)",'Test suivi jour'!$1:$1,2))/2 -> 0 | AA15: =COUNTIFS('Test suivi jour'!19:19,"m",'Test suivi jour'!$1:$1,2) -> 0 | AB15: =COUNTIFS('Test suivi jour'!19:19,"i",'Test suivi jour'!$1:$1,2) -> 0 | AC15: =AD15+AE15 -> 0 | AD15: =COUNTIFS('Test suivi jour'!19:19,"ss",'Test suivi jour'!$1:$1,2) -> 0 | AE15: =(COUNTIFS('Test suivi jour'!19:19,"(ss)",'Test suivi jour'!$1:$1,2))/2 -> 0 | AF15: =AG15+AH15 -> 0 | AG15: =COUNTIFS('Test suivi jour'!19:19,"co",'Test suivi jour'!$1:$1,2) -> 0 | AH15: =(COUNTIFS('Test suivi jour'!19:19,"(co)",'Test suivi jour'!$1:$1,2))/2 -> 0 | AI15: =COUNTIFS('Test suivi jour'!19:19,"JF",'Test suivi jour'!$1:$1,1) -> 0 | AK15: =COUNTIFS('Test suivi jour'!19:19,"JT",'Test suivi jour'!$1:$1,2) -> 20 | AL15: =AM15+AN15 -> 0 | AM15: =COUNTIFS('Test suivi jour'!19:19,"CP",'Test suivi jour'!$1:$1,2) -> 0 | AN15: =(COUNTIFS('Test suivi jour'!19:19,"(CP)",'Test suivi jour'!$1:$1,2))/2 -> 0 | AO15: =AP15+AQ15 -> 0 | AP15: =COUNTIFS('Test suivi jour'!19:19,"r",'Test suivi jour'!$1:$1,2) -> 0 | AQ15: =(COUNTIFS('Test suivi jour'!19:19,"(r)",'Test suivi jour'!$1:$1,2))/2 -> 0 | AR15: =COUNTIFS('Test suivi jour'!19:19,"m",'Test suivi jour'!$1:$1,2) -> 0 | AS15: =COUNTIFS('Test suivi jour'!19:19,"i",'Test suivi jour'!$1:$1,2) -> 0 | AT15: =AU15+AV15 -> 0 | AU15: =COUNTIFS('Test suivi jour'!19:19,"ss",'Test suivi jour'!$1:$1,2) -> 0 | AV15: =(COUNTIFS('Test suivi jour'!19:19,"(ss)",'Test suivi jour'!$1:$1,2))/2 -> 0 | AW15: =AX15+AY15 -> 0 | AX15: =COUNTIFS('Test suivi jour'!19:19,"co",'Test suivi jour'!$1:$1,2) -> 0 | AY15: =(COUNTIFS('Test suivi jour'!19:19,"(co)",'Test suivi jour'!$1:$1,2))/2 -> 0 | AZ15: =COUNTIFS('Test suivi jour'!19:19,"JF",'Test suivi jour'!$1:$1,1) -> 0
A16: Consultant 14 | C16: =COUNTIFS('Test suivi jour'!20:20,"JT",'Test suivi jour'!$1:$1,1) -> 22 | D16: =E16+F16 -> 0 | E16: =COUNTIFS('Test suivi jour'!20:20,"CP",'Test suivi jour'!$1:$1,1) -> 0 | F16: =(COUNTIFS('Test suivi jour'!20:20,"(CP)",'Test suivi jour'!$1:$1,1))/2 -> 0 | G16: =H16+I16 -> 0 | H16: =COUNTIFS('Test suivi jour'!20:20,"r",'Test suivi jour'!$1:$1,1) -> 0 | I16: =(COUNTIFS('Test suivi jour'!20:20,"(r)",'Test suivi jour'!$1:$1,1))/2 -> 0 | J16: =COUNTIFS('Test suivi jour'!20:20,"m",'Test suivi jour'!$1:$1,1) -> 0 | K16: =COUNTIFS('Test suivi jour'!20:20,"i",'Test suivi jour'!$1:$1,1) -> 0 | L16: =M16+N16 -> 0 | M16: =COUNTIFS('Test suivi jour'!20:20,"ss",'Test suivi jour'!$1:$1,1) -> 0 | N16: =(COUNTIFS('Test suivi jour'!20:20,"(ss)",'Test suivi jour'!$1:$1,1))/2 -> 0 | O16: =P16+Q16 -> 0 | P16: =COUNTIFS('Test suivi jour'!20:20,"co",'Test suivi jour'!$1:$1,1) -> 0 | Q16: =(COUNTIFS('Test suivi jour'!20:20,"(co)",'Test suivi jour'!$1:$1,1))/2 -> 0 | R16: =COUNTIFS('Test suivi jour'!20:20,"JF",'Test suivi jour'!$1:$1,1) -> 0 | T16: =COUNTIFS('Test suivi jour'!20:20,"JT",'Test suivi jour'!$1:$1,2) -> 20 | U16: =V16+W16 -> 0 | V16: =COUNTIFS('Test suivi jour'!20:20,"CP",'Test suivi jour'!$1:$1,2) -> 0 | W16: =(COUNTIFS('Test suivi jour'!20:20,"(CP)",'Test suivi jour'!$1:$1,2))/2 -> 0 | X16: =Y16+Z16 -> 0 | Y16: =COUNTIFS('Test suivi jour'!20:20,"r",'Test suivi jour'!$1:$1,2) -> 0 | Z16: =(COUNTIFS('Test suivi jour'!20:20,"(r)",'Test suivi jour'!$1:$1,2))/2 -> 0 | AA16: =COUNTIFS('Test suivi jour'!20:20,"m",'Test suivi jour'!$1:$1,2) -> 0 | AB16: =COUNTIFS('Test suivi jour'!20:20,"i",'Test suivi jour'!$1:$1,2) -> 0 | AC16: =AD16+AE16 -> 0 | AD16: =COUNTIFS('Test suivi jour'!20:20,"ss",'Test suivi jour'!$1:$1,2) -> 0 | AE16: =(COUNTIFS('Test suivi jour'!20:20,"(ss)",'Test suivi jour'!$1:$1,2))/2 -> 0 | AF16: =AG16+AH16 -> 0 | AG16: =COUNTIFS('Test suivi jour'!20:20,"co",'Test suivi jour'!$1:$1,2) -> 0 | AH16: =(COUNTIFS('Test suivi jour'!20:20,"(co)",'Test suivi jour'!$1:$1,2))/2 -> 0 | AI16: =COUNTIFS('Test suivi jour'!20:20,"JF",'Test suivi jour'!$1:$1,1) -> 0 | AK16: =COUNTIFS('Test suivi jour'!20:20,"JT",'Test suivi jour'!$1:$1,2) -> 20 | AL16: =AM16+AN16 -> 0 | AM16: =COUNTIFS('Test suivi jour'!20:20,"CP",'Test suivi jour'!$1:$1,2) -> 0 | AN16: =(COUNTIFS('Test suivi jour'!20:20,"(CP)",'Test suivi jour'!$1:$1,2))/2 -> 0 | AO16: =AP16+AQ16 -> 0 | AP16: =COUNTIFS('Test suivi jour'!20:20,"r",'Test suivi jour'!$1:$1,2) -> 0 | AQ16: =(COUNTIFS('Test suivi jour'!20:20,"(r)",'Test suivi jour'!$1:$1,2))/2 -> 0 | AR16: =COUNTIFS('Test suivi jour'!20:20,"m",'Test suivi jour'!$1:$1,2) -> 0 | AS16: =COUNTIFS('Test suivi jour'!20:20,"i",'Test suivi jour'!$1:$1,2) -> 0 | AT16: =AU16+AV16 -> 0 | AU16: =COUNTIFS('Test suivi jour'!20:20,"ss",'Test suivi jour'!$1:$1,2) -> 0 | AV16: =(COUNTIFS('Test suivi jour'!20:20,"(ss)",'Test suivi jour'!$1:$1,2))/2 -> 0 | AW16: =AX16+AY16 -> 0 | AX16: =COUNTIFS('Test suivi jour'!20:20,"co",'Test suivi jour'!$1:$1,2) -> 0 | AY16: =(COUNTIFS('Test suivi jour'!20:20,"(co)",'Test suivi jour'!$1:$1,2))/2 -> 0 | AZ16: =COUNTIFS('Test suivi jour'!20:20,"JF",'Test suivi jour'!$1:$1,1) -> 0
