Workbook

Sheet Feuil1
B1: bilan
B5: JANVIER | C5: FÉVRIER | D5: MARS | E5: AVRIL | F5: MAI | G5: JUIN | H5: JUILLET | I5: AOÛT | J5: SEPTEMBRE | K5: OCTOBRE | L5: NOVEMBRE | M5: DÉCEMBRE
B6: =VLOOKUP("Total",Feuil2!$F$3:$R$9,MONTH(1&B$5)+1,0) -> 1 | C6: =VLOOKUP("Total",Feuil2!$F$3:$R$9,MONTH(1&C$5)+1,0) -> 2 | D6: =VLOOKUP("Total",Feuil2!$F$3:$R$9,MONTH(1&D$5)+1,0) -> 4 | E6: =VLOOKUP("Total",Feuil2!$F$3:$R$9,MONTH(1&E$5)+1,0) -> 3 | F6: =VLOOKUP("Total",Feuil2!$F$3:$R$9,MONTH(1&F$5)+1,0) -> 4 | G6: =VLOOKUP("Total",Feuil2!$F$3:$R$9,MONTH(1&G$5)+1,0) -> 4 | H6: =VLOOKUP("Total",Feuil2!$F$3:$R$9,MONTH(1&H$5)+1,0) -> 4 | I6: =VLOOKUP("Total",Feuil2!$F$3:$R$9,MONTH(1&I$5)+1,0) -> 4 | ... M6: =VLOOKUP("Total",Feuil2!$F$3:$R$9,MONTH(1&M$5)+1,0) -> 3

Sheet Feuil2
H1: janvier | I1: février | J1: mars | K1: avril | L1: mai | M1: juin | N1: juillet | O1: août | P1: septembre | Q1: octobre | R1: novembre | S1: décembre
A3: agents | G3: janvier | H3: février | I3: mars | J3: avril | K3: mai | L3: juin | M3: juillet | N3: août | O3: septembre | P3: octobre | Q3: novembre | R3: décembre | S3: janvier
A4: aaa | B4: Marine | G4: 1 | H4: 1 | I4: 1 | J4: 0 | K4: 0 | L4: 0 | M4: 0 | N4: 0 | O4: 0 | P4: 0 | Q4: 0 | R4: 0 | S4: 0
A5: bbb | B5: Marine | G5: 0 | H5: 0 | I5: 1 | J5: 1 | K5: 1 | L5: 1 | M5: 1 | N5: 1 | O5: 1 | P5: 1 | Q5: 1 | R5: 1 | S5: 1
A6: ccc | B6: Marine | G6: 0 | H6: 0 | I6: 0 | J6: 0 | K6: 1 | L6: 1 | M6: 1 | N6: 1 | O6: 1 | P6: 1 | Q6: 1 | R6: 1 | S6: 1
A7: ddd | B7: Marine | G7: 0 | H7: 0 | I7: 1 | J7: 1 | K7: 1 | L7: 1 | M7: 1 | N7: 1 | O7: 1 | P7: 1 | Q7: 1 | R7: 1 | S7: 0
A8: eee | B8: Marine | G8: 0 | H8: 1 | I8: 1 | J8: 1 | K8: 1 | L8: 1 | M8: 1 | N8: 1 | O8: 1 | P8: 1 | Q8: 1 | R8: 0 | S8: 0
F9: total | G9: =SUM(G4:G8) -> 1 | H9: =SUM(H4:H8) -> 2 | I9: =SUM(I4:I8) -> 4 | J9: =SUM(J4:J8) -> 3 | K9: =SUM(K4:K8) -> 4 | L9: =SUM(L4:L8) -> 4 | M9: =SUM(M4:M8) -> 4 | N9: =SUM(N4:N8) -> 4 | ... S9: =SUM(S4:S8) -> 2
A13: mars | B13: =SUMPRODUCT((G3:R3=$A$13)*(G9:R9)) -> 4
