Workbook

Sheet jour  férié
A1: N° | B1: 2026 | C1: Date | D1: Type | E1: date via power query
A2: {=_xlfn.SEQUENCE(16)} -> 1 | B2: Jour de l’An | C2: 46023
A3: 2 | B3: Korité | C3: =TRIM(MID(TRIM(E3),SEARCH(" ",TRIM(E3)),99)) -> 31 mars 2026 | E3: ='Texte affiché - OLD'!A8 -> Vendredi 31 mars 2026
A4: 3 | B4: Paque | C4: =ROUND(DATE(B1,4,MOD(234-11*MOD(B1,19),30))/7,0)*7-6 -> 46117
A5: 4 | B5: Lundi de paques | C5: =ROUND(DATE(B1,4,MOD(234-11*MOD(B1,19),30))/7,0)*7-6+1 -> 46118
A6: 5 | B6: Fete de l'independance | C6: 46116
A7: 6 | B7: Fête du Travail | C7: 46143
A8: 7 | B8: Ascension | C8: =ROUND(DATE(B1,4,MOD(234-11*MOD(B1,19),30))/7,0)*7-6+39 -> 46156
A9: 8 | B9: Pentecôte | C9: 46166
A10: 9 | B10: Tabaski (Aïd el-Adha) | C10: =TRIM(MID(TRIM(E10),SEARCH(" ",TRIM(E10)),99)) -> 27 mai 2026 | E10: ='Texte affiché - OLD'!A16 -> Mercredi 27 mai 2026 | G10: =SUBSTITUTE(E10,CHAR(160),"") -> Mercredi 27 mai 2026 | J10: =DATEVALUE(_xlfn.TEXTAFTER(SUBSTITUTE(E10,CHAR(160),"")," ")) -> 46169 | L10: {=MID(G10,_xlfn.SEQUENCE(LEN(G10)),1)} -> M | M10: {=_xlfn.UNICODE(_xlfn.ANCHORARRAY(L10))} -> 77
A11: 10 | B11: Fête du travail | C11: 46143 | L11: e | M11: 101
A12: 11 | B12: Tamkharite | C12: =TRIM(MID(TRIM(E12),SEARCH(" ",TRIM(E12)),99)) -> 6 juin 2026 | E12: ='Texte affiché - OLD'!A18 -> Vendredi 6 juin 2026 | L12: r | M12: 114
A13: 12 | B13: Magal Touba | C13: =TRIM(MID(TRIM(E13),SEARCH(" ",TRIM(E13)),99)) -> 3 août 2026 | E13: ='Texte affiché - OLD'!A22 -> Lundi 3 août 2026 | L13: c | M13: 99
A14: 13 | B14: Assomption | C14: 15/05/2026 | H14: =G10 -> Mercredi 27 mai 2026 | L14: r | M14: 114
A15: 14 | B15: Maouloud | C15: =TRIM(MID(TRIM(E15),SEARCH(" ",TRIM(E15)),99)) -> 26 août 2026 | E15: ='Texte affiché - OLD'!A24 -> Mercredi 26 août 2026 | L15: e | M15: 101
A16: 15 | B16: Toussaint | C16: 46327 | L16: d | M16: 100
A17: 16 | B17: Noël | C17: 25/12/ 2026 | L17: i | M17: 105
M18: 32
L19: 2 | M19: 50
L20: 7 | M20: 55
M21: 32
L22: m | M22: 109
L23: a | M23: 97
L24: i | M24: 105
M25: 32
L26: 2 | M26: 50
L27: 0 | M27: 48
L28: 2 | M28: 50
L29: 6 | M29: 54

Sheet Jours Fériés - Sénégal
B3: Date | C3: Jour férié | E3: https://forum.excel-pratique.com/s/goto/1261863
B4: 46023 | C4: Jour de l’An
B5: 46111 | C5: Lundi de Pâques
B6: 46112 | C6: Aid al-Fitr
B7: 46116 | C7: Jour de l’Indépendance qui célèbre l'indépendance du Sénégal
B8: 46143 | C8: Fête du Travail
B9: 46156 | C9: Jour de l’Ascension
B10: 46169 | C10: Fête du sacrifice
B11: 46179 | C11: Tamkharit
B12: 46198 | C12: Lundi de Pentecôte
B13: 46237 | C13: Magal de Touba
B14: 46249 | C14: Assomption
B15: 46260 | C15: Naissance du prophète (Mawlid Ennabawi ou Mouloud). Dans les pays arabes
... B17: 46381 | C17: Noël

Sheet Texte affiché - OLD
A1: Column1 | B1: Column2
A2: Jeudi 1er janvier 2026 | B2: Jour de l’An
A4: Lundi 30 mars 2026 | B4: Lundi de Pâques, lendemain de Pâques, fête chrétienne qui célèbre la résurrection de Jésus Christ.
A6: Samedi 4 avril 2026 | B6: Jour de l’Indépendance qui célèbre l'indépendance du Sénégal, proclamée le 4 avril 1960.
A8: Vendredi 31 mars 2026 | B8: Aid al-Fitr, le mois du ramadan, moment sacré dans le calendrier musulman, se termine avec l’Aid el-Fitr, la fête de la rupture du jeûne.
A10: Vendredi 1er mai 2026 | B10: Fête du Travail, le 1er mai est un jour férié au Sénégal.
A12: Jeudi 14 mai 2026 | B12: Jour de l’Ascension, fête chrétienne qui a lieu 40 jours après Pâques et marque la montée de Jésus au ciel.
A14: Lundi 25 juin 2026 | B14: Lundi de Pentecôte, Les chrétiens fêtent la venue de l’Esprit Saint sur les apôtres de Jésus. La Pentecôte a lieu 50 jours après Pâques.
A16: Mercredi 27 mai 2026 | B16: Fête du sacrifice, Tabaski est l'une des fêtes les plus importantes des musulmans. Aussi appelée Aïd al-Adha, elle commémore la force de la foi d'Ibrahim envers son Dieu. La date de la Tabaski varie chaque année en fonction du calendrier lunaire islamique.
A18: Vendredi 6 juin 2026 | B18: Tamkharit
A20: Samedi 15 août 2026 | B20: Assomption, fête chrétienne qui commémore la montée de la Vierge Marie au ciel.
A22: Lundi 3 août 2026 | B22: Magal de Touba, fête religieuse musulmane commémore le départ en exil au Gabon du Cheikh Ahmadou Bamba, fondateur de la confrérie mouride. Cette fête est célébrée depuis 1928 dans la ville de Touba.
... A28: Vendredi 25 décembre 2026 | B28: Noël

Sheet Sheet1
E1: Jours Fériés Fixes | F1: Date | G1: Formule
A2: Année | B2: 2026 | E2: 1 er janvier | F2: 46023 | G2: =DATE($B$2,1,1) -> 46023 | J2: Année | K2: Début Ramadan (estimé) | L2: Durée Ramadan (jours | M2: Aid al-Fitr (estimée) | N2: Jour de la semaine | O2: Aid selon le site Les jours fériés au Sénégal en 2026
E3: Aid al-Fitr | F3: 46101 | G3: {=INDEX(M3:M7,MATCH(B2,YEAR(M3:M7),0))} -> 46102 | J3: 2026 | K3: 46072 | L3: 30 | M3: =K3+L3 -> 46102 | N3: =TEXT(M3,"dddd") -> samedi | O3: ='Texte affiché - OLD'!A8 -> Vendredi 31 mars 2026
E4: Tabaski | F4: 46169 | J4: Année | M4: Tabaski ( estimée) | N4: =TEXT(M4,"dddd") -> Tabaski ( estimée) | O4: Aid selon le site Les jours fériés au Sénégal en 2026
E5: Fête du travail | F5: 46143 | G5: =DATE(B2,5,1) -> 46143 | J5: 2026 | M5: 46168 | N5: =TEXT(M5,"dddd") -> mardi | O5: ='Texte affiché - OLD'!A16 -> Mercredi 27 mai 2026
E6: Fete nationale | F6: 46116 | G6: =DATE(B2,4,4) -> 46116 | J6: Année | M6: Tamkharite ( estimée) | N6: =TEXT(M6,"dddd") -> Tamkharite ( estimée) | O6: Aid selon le site Les jours fériés au Sénégal en 2026
E7: Pâques | G7: =ROUND(DATE(B2,4,MOD(234-11*MOD(B2,19),30))/7,0)*7-6 -> 46117 | J7: 2026 | O7: ='Texte affiché - OLD'!A18 -> Vendredi 6 juin 2026
E8: Lundi de Pâques | G8: =ROUND(DATE(B2,4,MOD(234-11*MOD(B2,19),30))/7,0)*7-6+1 -> 46118
E9: Ascension | G9: =ROUND(DATE(B2,4,MOD(234-11*MOD(B2,19),30))/7,0)*7-6+39 -> 46156
E10: Pentecoe | G10: =ROUND(DATE(B2,4,MOD(234-11*MOD(B2,19),30))/7,0)*7-6+49 -> 46166
E11: Magal | F11: 46237
E12: 15 Aout | F12: 46249 | G12: =DATE($B$2,8,15) -> 46249
E13: Toussaint | F13: 46327
E14: Noêl | F14: 46381 | G14: =DATE(B2,12,25) -> 46381
H19: =F4-F3 -> 68
F20: =_xlfn.XLOOKUP(B2,J3:J7,M3:M7,"") -> 46102
F22: =FLOOR(DAY(MINUTE(B2/38)/2+56)&"/5/"&B2,7)-34 -> 46117
