Workbook

Sheet Source
A3: N°projet | B3: Nom projet | C3: budget | D3: date de fin du projet | E3: Nom centre | F3: date de fin du centre
A4: 1 | B4: AA | C4: 60000 | D4: 45813 | E4: Centre1 | F4: =VLOOKUP(E4,'listing centre'!$A$1:$B$6,2,FALSE) -> 47829
A5: 2 | B5: BB | C5: 40000 | D5: 46001 | E5: Centre4 | F5: =VLOOKUP(E5,'listing centre'!$A$1:$B$6,2,FALSE) -> 47646
A6: 3 | B6: CC | C6: 90000 | D6: 46147 | E6: Centre1 | F6: =VLOOKUP(E6,'listing centre'!$A$1:$B$6,2,FALSE) -> 47829
A7: 4 | B7: DD | C7: 100000 | D7: 45971 | E7: Centre2 | F7: =VLOOKUP(E7,'listing centre'!$A$1:$B$6,2,FALSE) -> 46934
A8: 5 | B8: EE | C8: 50000 | D8: 46508 | E8: Centre3 | F8: =VLOOKUP(E8,'listing centre'!$A$1:$B$6,2,FALSE) -> 47464
A13: N°projet | B13: Nom projet | C13: budget | D13: date de fin du projet | E13: Nom centre | F13: date de fin du centre | G13: 2025_07 | H13: 2026_01 | I13: 2026_07 | J13: 2027_01 | K13: 2027_07 | L13: 2028_01 | M13: 2028_07 | N13: 2029_01 | O13: 2029_07 | P13: 2030_01 | Q13: 2030_07
A14: 1 | B14: AA | C14: 60000 | D14: 45813 | E14: Centre1 | F14: 47829 | G14: 5454.55 | H14: 5454.55 | I14: 5454.55 | J14: 5454.55 | K14: 5454.55 | L14: 5454.55 | M14: 5454.55 | N14: 5454.55 | O14: 5454.55 | P14: 5454.55 | Q14: 5454.55
A15: 2 | B15: BB | C15: 40000 | D15: 46001 | E15: Centre4 | F15: 47646 | H15: 4444.44 | I15: 4444.44 | J15: 4444.44 | K15: 4444.44 | L15: 4444.44 | M15: 4444.44 | N15: 4444.44 | O15: 4444.44 | P15: 4444.44
A16: 3 | B16: CC | C16: 90000 | D16: 46147 | E16: Centre1 | F16: 47829 | I16: 10000 | J16: 10000 | K16: 10000 | L16: 10000 | M16: 10000 | N16: 10000 | O16: 10000 | P16: 10000 | Q16: 10000
A17: 4 | B17: DD | C17: 100000 | D17: 45971 | E17: Centre2 | F17: 46934 | H17: 20000 | I17: 20000 | J17: 20000 | K17: 20000 | L17: 20000
A18: 5 | B18: EE | C18: 50000 | D18: 46508 | E18: Centre3 | F18: 47464 | K18: 10000 | L18: 10000 | M18: 10000 | N18: 10000 | O18: 10000

Sheet Old
A1: Données récupérables | G1: A créer
G2: 2025 | I2: 2026 | K2: 2027 | M2: 2028 | O2: 2029 | Q2: 2030 | S2: 2031 | V2: Total vérif
A3: N°projet | B3: Nom projet | C3: budget | D3: date de fin du projet | E3: Nom centre | F3: date de fin du centre | G3: S1 | H3: S2 | I3: S1 | J3: S2 | K3: S1 | L3: S2 | M3: S1 | N3: S2 | O3: S1 | P3: S2 | Q3: S1 | R3: S2 | S3: S1 | T3: S2 | U3: ….
A4: 1 | B4: AA | C4: 60000 | D4: 45813 | E4: Centre1 | F4: =VLOOKUP(E4,'listing centre'!$A$1:$B$6,2,FALSE) -> 47829 | H4: =60000/11 -> 5454.5455 | I4: =60000/11 -> 5454.5455 | J4: =60000/11 -> 5454.5455 | K4: =60000/11 -> 5454.5455 | L4: =60000/11 -> 5454.5455 | M4: =60000/11 -> 5454.5455 | N4: =60000/11 -> 5454.5455 | O4: =60000/11 -> 5454.5455 | ... R4: =60000/11 -> 5454.5455 | S4: 0 | T4: 0 | V4: =SUM(H4:T4) -> 60000
A5: 2 | B5: BB | C5: 40000 | D5: 46001 | E5: Centre4 | F5: =VLOOKUP(E5,'listing centre'!$A$1:$B$6,2,FALSE) -> 47646 | I5: =40000/9 -> 4444.4444 | J5: =40000/9 -> 4444.4444 | K5: =40000/9 -> 4444.4444 | L5: =40000/9 -> 4444.4444 | M5: =40000/9 -> 4444.4444 | N5: =40000/9 -> 4444.4444 | O5: =40000/9 -> 4444.4444 | P5: =40000/9 -> 4444.4444 | Q5: =40000/9 -> 4444.4444 | V5: =SUM(H5:T5) -> 40000
A6: 3 | B6: CC | C6: 90000 | D6: 46147 | E6: Centre1 | F6: =VLOOKUP(E6,'listing centre'!$A$1:$B$6,2,FALSE) -> 47829 | J6: 10000 | K6: 10000 | L6: 10000 | M6: 10000 | N6: 10000 | O6: 10000 | P6: 10000 | Q6: 10000 | R6: 10000 | V6: =SUM(H6:T6) -> 90000
A7: 4 | B7: DD | C7: 100000 | D7: 45971 | E7: Centre2 | F7: =VLOOKUP(E7,'listing centre'!$A$1:$B$6,2,FALSE) -> 46934 | I7: 16666.667 | J7: 16666.667 | K7: 16666.667 | L7: 16666.667 | M7: 16666.667 | N7: 16666.667 | V7: =SUM(H7:T7) -> 100000
A8: 5 | B8: EE | C8: 50000 | D8: 46508 | E8: Centre3 | F8: =VLOOKUP(E8,'listing centre'!$A$1:$B$6,2,FALSE) -> 47464 | L8: 10000 | M8: 10000 | N8: 10000 | O8: 10000 | P8: 10000 | V8: =SUM(H8:T8) -> 50000
A9: ETC….

Sheet listing centre
A1: centre | B1: date de fin du centre
A2: Centre1 | B2: 47829
A3: Centre2 | B3: 46934
A4: Centre3 | B4: 47464
A5: Centre4 | B5: 47646
A6: Centre5 | B6: 46934
