Workbook

Sheet tableau initial
A1: date | B1: Tâche
A2: 45616 | B2: faire tâche 1
A3: =A2+2 -> 45618 | B3: faire tâche 8
A4: =A2+5 -> 45621 | B4: faire tâche 4
A5: =A3+1 -> 45619 | B5: faire tâche 2
A6: =A3-5 -> 45613 | B6: faire tâche 10
A7: =A4+6 -> 45627 | B7: faire tâche 6
A8: 45543 | B8: faire tâche 3
A9: 45516 | B9: faire tâche 5
A10: =A8+2 -> 45545 | B10: faire tâche 9
A11: =A6-20 -> 45593 | B11: faire tâche 7

Sheet Proposition
F1: https://forum.excel-pratique.com/s/goto/1227062
B2: date | C2: Tâche
B3: =IFERROR(SMALL('tableau initial'!$A$2:$A$11,ROWS($A$1:A1)),"") -> 45516 | C3: =IFERROR(VLOOKUP(B3,'tableau initial'!$A$2:$B$11,2,0),"") -> faire tâche 5
B4: =IFERROR(SMALL('tableau initial'!$A$2:$A$11,ROWS($A$1:A2)),"") -> 45543 | C4: =IFERROR(VLOOKUP(B4,'tableau initial'!$A$2:$B$11,2,0),"") -> faire tâche 3
B5: =IFERROR(SMALL('tableau initial'!$A$2:$A$11,ROWS($A$1:A3)),"") -> 45545 | C5: =IFERROR(VLOOKUP(B5,'tableau initial'!$A$2:$B$11,2,0),"") -> faire tâche 9
B6: =IFERROR(SMALL('tableau initial'!$A$2:$A$11,ROWS($A$1:A4)),"") -> 45593 | C6: =IFERROR(VLOOKUP(B6,'tableau initial'!$A$2:$B$11,2,0),"") -> faire tâche 7
B7: =IFERROR(SMALL('tableau initial'!$A$2:$A$11,ROWS($A$1:A5)),"") -> 45613 | C7: =IFERROR(VLOOKUP(B7,'tableau initial'!$A$2:$B$11,2,0),"") -> faire tâche 10
B8: =IFERROR(SMALL('tableau initial'!$A$2:$A$11,ROWS($A$1:A6)),"") -> 45616 | C8: =IFERROR(VLOOKUP(B8,'tableau initial'!$A$2:$B$11,2,0),"") -> faire tâche 1
B9: =IFERROR(SMALL('tableau initial'!$A$2:$A$11,ROWS($A$1:A7)),"") -> 45618 | C9: =IFERROR(VLOOKUP(B9,'tableau initial'!$A$2:$B$11,2,0),"") -> faire tâche 8
B10: =IFERROR(SMALL('tableau initial'!$A$2:$A$11,ROWS($A$1:A8)),"") -> 45619 | C10: =IFERROR(VLOOKUP(B10,'tableau initial'!$A$2:$B$11,2,0),"") -> faire tâche 2
B11: =IFERROR(SMALL('tableau initial'!$A$2:$A$11,ROWS($A$1:A9)),"") -> 45621 | C11: =IFERROR(VLOOKUP(B11,'tableau initial'!$A$2:$B$11,2,0),"") -> faire tâche 4
B12: =IFERROR(SMALL('tableau initial'!$A$2:$A$11,ROWS($A$1:A10)),"") -> 45627 | C12: =IFERROR(VLOOKUP(B12,'tableau initial'!$A$2:$B$11,2,0),"") -> faire tâche 6
B13: =IFERROR(SMALL('tableau initial'!$A$2:$A$11,ROWS($A$1:A11)),"") | C13: =IFERROR(VLOOKUP(B13,'tableau initial'!$A$2:$B$11,2,0),"")

Sheet tableau trié
A1: date | B1: Tâche
A2: 45516 | B2: faire tâche 5
A3: 45543 | B3: faire tâche 3
A4: =A2+2 -> 45518 | B4: faire tâche 9
A5: =#REF!-20 -> #REF! | B5: faire tâche 7
A6: =A3-5 -> 45538 | B6: faire tâche 10
A7: 45616 | B7: faire tâche 1
A8: =A7+2 -> 45618 | B8: faire tâche 8
A9: =A7+1 -> 45617 | B9: faire tâche 2
A10: =A8+5 -> 45623 | B10: faire tâche 4
A11: =A8+6 -> 45624 | B11: faire tâche 6
