Workbook

Sheet Canalisation
D1: Proposition
A2: Cana1 | B2: BV1+BV2 | C2: =(VLOOKUP("BV1", 'Données BV'!A:B,2,FALSE)+VLOOKUP("BV2", 'Données BV'!A:B,2,FALSE)) -> 25.38 | D2: {=IFERROR( SUM( _xlfn.LET( _xlpm.f, _xlfn.TEXTSPLIT(SUBSTITUTE(B2," ",""), , "+"), IFERROR(VLOOKUP(_xlpm.f, 'Données BV'!A:B, 2, 0), VLOOKUP(_xlpm.f, A:C, 3, 0)) ) ), 0 )} -> 25.38
A3: Cana2 | B3: BV5+BV6 | C3: =(VLOOKUP("BV5", 'Données BV'!A:B,2,FALSE)+VLOOKUP("BV6", 'Données BV'!A:B,2,FALSE)) -> 35.35 | D3: {=IFERROR( SUM( _xlfn.LET( _xlpm.f, _xlfn.TEXTSPLIT(SUBSTITUTE(B3," ",""), , "+"), IFERROR(VLOOKUP(_xlpm.f, 'Données BV'!A:B, 2, 0), VLOOKUP(_xlpm.f, A:C, 3, 0)) ) ), 0 )} -> 35.35
A4: Cana3 | B4: Cana 1 + Cana 2 + BV 3 + BV 4 | C4: =IFERROR(VLOOKUP("Cana1",'Données BV'!A:B,2,FALSE),VLOOKUP("Cana1",A:C,3,FALSE))+IFERROR(VLOOKUP("Cana2",'Données BV'!A:B,2,FALSE),VLOOKUP("Cana2",A:C,3,FALSE))+IFERROR(VLOOKUP("BV3",'Données BV'!A:B,2,FALSE),VLOOKUP("BV3",A:C,3,FALSE))+IFERROR(VLOOKUP("BV4",'Données BV'!A:B,2,FALSE),VLOOKUP("BV4",A:C,3,FALSE)) -> 93.84 | D4: {=IFERROR( SUM( _xlfn.LET( _xlpm.f, _xlfn.TEXTSPLIT(SUBSTITUTE(B4," ",""), , "+"), IFERROR(VLOOKUP(_xlpm.f, 'Données BV'!A:B, 2, 0), VLOOKUP(_xlpm.f, A:C, 3, 0)) ) ), 0 )} -> 93.84
A5: Cana4 | B5: BV34 | C5: =IFERROR(VLOOKUP(B5,'Données BV'!A:B,2,FALSE),VLOOKUP(B5,A:C,3,FALSE)) -> 6 | D5: {=IFERROR( SUM( _xlfn.LET( _xlpm.f, _xlfn.TEXTSPLIT(SUBSTITUTE(B5," ",""), , "+"), IFERROR(VLOOKUP(_xlpm.f, 'Données BV'!A:B, 2, 0), VLOOKUP(_xlpm.f, A:C, 3, 0)) ) ), 0 )} -> 6
A6: Cana5 | B6: Cana3 | C6: =C4 -> 93.84 | D6: {=IFERROR( SUM( _xlfn.LET( _xlpm.f, _xlfn.TEXTSPLIT(SUBSTITUTE(B6," ",""), , "+"), IFERROR(VLOOKUP(_xlpm.f, 'Données BV'!A:B, 2, 0), VLOOKUP(_xlpm.f, A:C, 3, 0)) ) ), 0 )} -> 93.84
A7: Cana6 | B7: Pas de données | D7: {=IFERROR( SUM( _xlfn.LET( _xlpm.f, _xlfn.TEXTSPLIT(SUBSTITUTE(B7," ",""), , "+"), IFERROR(VLOOKUP(_xlpm.f, 'Données BV'!A:B, 2, 0), VLOOKUP(_xlpm.f, A:C, 3, 0)) ) ), 0 )} -> 0
A8: Cana7 | B8: Cana 4 + Cana 5 | D8: {=IFERROR( SUM( _xlfn.LET( _xlpm.f, _xlfn.TEXTSPLIT(SUBSTITUTE(B8," ",""), , "+"), IFERROR(VLOOKUP(_xlpm.f, 'Données BV'!A:B, 2, 0), VLOOKUP(_xlpm.f, A:C, 3, 0)) ) ), 0 )} -> 99.84
A9: Cana8 | B9: Cana7 | C9: =C8 -> 0 | D9: {=IFERROR( SUM( _xlfn.LET( _xlpm.f, _xlfn.TEXTSPLIT(SUBSTITUTE(B9," ",""), , "+"), IFERROR(VLOOKUP(_xlpm.f, 'Données BV'!A:B, 2, 0), VLOOKUP(_xlpm.f, A:C, 3, 0)) ) ), 0 )} -> 0
A10: Cana9 | B10: Cana11 | C10: =C12 -> 0 | D10: {=IFERROR( SUM( _xlfn.LET( _xlpm.f, _xlfn.TEXTSPLIT(SUBSTITUTE(B10," ",""), , "+"), IFERROR(VLOOKUP(_xlpm.f, 'Données BV'!A:B, 2, 0), VLOOKUP(_xlpm.f, A:C, 3, 0)) ) ), 0 )} -> 0
A11: Cana10 | D11: {=IFERROR( SUM( _xlfn.LET( _xlpm.f, _xlfn.TEXTSPLIT(SUBSTITUTE(B11," ",""), , "+"), IFERROR(VLOOKUP(_xlpm.f, 'Données BV'!A:B, 2, 0), VLOOKUP(_xlpm.f, A:C, 3, 0)) ) ), 0 )} -> 0
A12: Cana11 | B12: Cana12 + Cana13 | D12: {=IFERROR( SUM( _xlfn.LET( _xlpm.f, _xlfn.TEXTSPLIT(SUBSTITUTE(B12," ",""), , "+"), IFERROR(VLOOKUP(_xlpm.f, 'Données BV'!A:B, 2, 0), VLOOKUP(_xlpm.f, A:C, 3, 0)) ) ), 0 )} -> 0
A13: Cana12 | D13: {=IFERROR( SUM( _xlfn.LET( _xlpm.f, _xlfn.TEXTSPLIT(SUBSTITUTE(B13," ",""), , "+"), IFERROR(VLOOKUP(_xlpm.f, 'Données BV'!A:B, 2, 0), VLOOKUP(_xlpm.f, A:C, 3, 0)) ) ), 0 )} -> 0
A14: Cana13 | D14: {=IFERROR( SUM( _xlfn.LET( _xlpm.f, _xlfn.TEXTSPLIT(SUBSTITUTE(B14," ",""), , "+"), IFERROR(VLOOKUP(_xlpm.f, 'Données BV'!A:B, 2, 0), VLOOKUP(_xlpm.f, A:C, 3, 0)) ) ), 0 )} -> 0
A15: Cana14 | B15: Cana8 + Cana9 + Cana10 | D15: {=IFERROR( SUM( _xlfn.LET( _xlpm.f, _xlfn.TEXTSPLIT(SUBSTITUTE(B15," ",""), , "+"), IFERROR(VLOOKUP(_xlpm.f, 'Données BV'!A:B, 2, 0), VLOOKUP(_xlpm.f, A:C, 3, 0)) ) ), 0 )} -> 0
A16: Cana15 | D16: {=IFERROR( SUM( _xlfn.LET( _xlpm.f, _xlfn.TEXTSPLIT(SUBSTITUTE(B16," ",""), , "+"), IFERROR(VLOOKUP(_xlpm.f, 'Données BV'!A:B, 2, 0), VLOOKUP(_xlpm.f, A:C, 3, 0)) ) ), 0 )} -> 0
A17: Cana16 | B17: Cana14 + Cana15 | D17: {=IFERROR( SUM( _xlfn.LET( _xlpm.f, _xlfn.TEXTSPLIT(SUBSTITUTE(B17," ",""), , "+"), IFERROR(VLOOKUP(_xlpm.f, 'Données BV'!A:B, 2, 0), VLOOKUP(_xlpm.f, A:C, 3, 0)) ) ), 0 )} -> 0
A18: Cana17 | B18: Cana16 | C18: =C17 -> 0 | D18: {=IFERROR( SUM( _xlfn.LET( _xlpm.f, _xlfn.TEXTSPLIT(SUBSTITUTE(B18," ",""), , "+"), IFERROR(VLOOKUP(_xlpm.f, 'Données BV'!A:B, 2, 0), VLOOKUP(_xlpm.f, A:C, 3, 0)) ) ), 0 )} -> 0
A19: Cana18 | B19: BV47 | C19: =IFERROR(VLOOKUP(B19,'Données BV'!A:B,2,FALSE),VLOOKUP(B19,A:C,3,FALSE)) -> 0 | D19: {=IFERROR( SUM( _xlfn.LET( _xlpm.f, _xlfn.TEXTSPLIT(SUBSTITUTE(B19," ",""), , "+"), IFERROR(VLOOKUP(_xlpm.f, 'Données BV'!A:B, 2, 0), VLOOKUP(_xlpm.f, A:C, 3, 0)) ) ), 0 )} -> 0
A20: Cana19 | B20: Cana17 + Cana 18 + Cana22 + BV44 | D20: {=IFERROR( SUM( _xlfn.LET( _xlpm.f, _xlfn.TEXTSPLIT(SUBSTITUTE(B20," ",""), , "+"), IFERROR(VLOOKUP(_xlpm.f, 'Données BV'!A:B, 2, 0), VLOOKUP(_xlpm.f, A:C, 3, 0)) ) ), 0 )} -> 0
A21: Cana20 | B21: BV52 | C21: =IFERROR(VLOOKUP(B21,'Données BV'!A:B,2,FALSE),VLOOKUP(B21,A:C,3,FALSE)) -> 0 | D21: {=IFERROR( SUM( _xlfn.LET( _xlpm.f, _xlfn.TEXTSPLIT(SUBSTITUTE(B21," ",""), , "+"), IFERROR(VLOOKUP(_xlpm.f, 'Données BV'!A:B, 2, 0), VLOOKUP(_xlpm.f, A:C, 3, 0)) ) ), 0 )} -> 0
A22: Cana21 | B22: Cana19 + Cana20 | D22: {=IFERROR( SUM( _xlfn.LET( _xlpm.f, _xlfn.TEXTSPLIT(SUBSTITUTE(B22," ",""), , "+"), IFERROR(VLOOKUP(_xlpm.f, 'Données BV'!A:B, 2, 0), VLOOKUP(_xlpm.f, A:C, 3, 0)) ) ), 0 )} -> 0
A23: Cana22 | B23: Cana23 | D23: {=IFERROR( SUM( _xlfn.LET( _xlpm.f, _xlfn.TEXTSPLIT(SUBSTITUTE(B23," ",""), , "+"), IFERROR(VLOOKUP(_xlpm.f, 'Données BV'!A:B, 2, 0), VLOOKUP(_xlpm.f, A:C, 3, 0)) ) ), 0 )} -> 0
A24: Cana23 | B24: Cana24 + Cana25 + Cana24 | D24: {=IFERROR( SUM( _xlfn.LET( _xlpm.f, _xlfn.TEXTSPLIT(SUBSTITUTE(B24," ",""), , "+"), IFERROR(VLOOKUP(_xlpm.f, 'Données BV'!A:B, 2, 0), VLOOKUP(_xlpm.f, A:C, 3, 0)) ) ), 0 )} -> 0
A25: Cana24 | B25: BV43 | C25: =IFERROR(VLOOKUP(B25,'Données BV'!A:B,2,FALSE),VLOOKUP(B25,A:C,3,FALSE)) -> 0 | D25: {=IFERROR( SUM( _xlfn.LET( _xlpm.f, _xlfn.TEXTSPLIT(SUBSTITUTE(B25," ",""), , "+"), IFERROR(VLOOKUP(_xlpm.f, 'Données BV'!A:B, 2, 0), VLOOKUP(_xlpm.f, A:C, 3, 0)) ) ), 0 )} -> 0
A26: Cana25 | B26: Cana26 + Cana27 + Cana28 + BV42 | D26: {=IFERROR( SUM( _xlfn.LET( _xlpm.f, _xlfn.TEXTSPLIT(SUBSTITUTE(B26," ",""), , "+"), IFERROR(VLOOKUP(_xlpm.f, 'Données BV'!A:B, 2, 0), VLOOKUP(_xlpm.f, A:C, 3, 0)) ) ), 0 )} -> 0
A27: Cana26 | B27: BV37 | C27: =IFERROR(VLOOKUP(B27,'Données BV'!A:B,2,FALSE),VLOOKUP(B27,A:C,3,FALSE)) -> 0 | D27: {=IFERROR( SUM( _xlfn.LET( _xlpm.f, _xlfn.TEXTSPLIT(SUBSTITUTE(B27," ",""), , "+"), IFERROR(VLOOKUP(_xlpm.f, 'Données BV'!A:B, 2, 0), VLOOKUP(_xlpm.f, A:C, 3, 0)) ) ), 0 )} -> 0
A28: Cana27 | B28: Cana33 | D28: {=IFERROR( SUM( _xlfn.LET( _xlpm.f, _xlfn.TEXTSPLIT(SUBSTITUTE(B28," ",""), , "+"), IFERROR(VLOOKUP(_xlpm.f, 'Données BV'!A:B, 2, 0), VLOOKUP(_xlpm.f, A:C, 3, 0)) ) ), 0 )} -> 0
A29: Cana28 | B29: BV45 + BV46 + Cana29 | D29: {=IFERROR( SUM( _xlfn.LET( _xlpm.f, _xlfn.TEXTSPLIT(SUBSTITUTE(B29," ",""), , "+"), IFERROR(VLOOKUP(_xlpm.f, 'Données BV'!A:B, 2, 0), VLOOKUP(_xlpm.f, A:C, 3, 0)) ) ), 0 )} -> 0
A30: Cana29 | B30: BV50 | C30: =IFERROR(VLOOKUP(B30,'Données BV'!A:B,2,FALSE),VLOOKUP(B30,A:C,3,FALSE)) -> 0 | D30: {=IFERROR( SUM( _xlfn.LET( _xlpm.f, _xlfn.TEXTSPLIT(SUBSTITUTE(B30," ",""), , "+"), IFERROR(VLOOKUP(_xlpm.f, 'Données BV'!A:B, 2, 0), VLOOKUP(_xlpm.f, A:C, 3, 0)) ) ), 0 )} -> 0
A31: Cana30 | B31: BV51 | C31: =IFERROR(VLOOKUP(B31,'Données BV'!A:B,2,FALSE),VLOOKUP(B31,A:C,3,FALSE)) -> 0 | D31: {=IFERROR( SUM( _xlfn.LET( _xlpm.f, _xlfn.TEXTSPLIT(SUBSTITUTE(B31," ",""), , "+"), IFERROR(VLOOKUP(_xlpm.f, 'Données BV'!A:B, 2, 0), VLOOKUP(_xlpm.f, A:C, 3, 0)) ) ), 0 )} -> 0
A32: Cana31 | B32: Cana30 | D32: {=IFERROR( SUM( _xlfn.LET( _xlpm.f, _xlfn.TEXTSPLIT(SUBSTITUTE(B32," ",""), , "+"), IFERROR(VLOOKUP(_xlpm.f, 'Données BV'!A:B, 2, 0), VLOOKUP(_xlpm.f, A:C, 3, 0)) ) ), 0 )} -> 0
A33: Cana32 | B33: Cana31 | D33: {=IFERROR( SUM( _xlfn.LET( _xlpm.f, _xlfn.TEXTSPLIT(SUBSTITUTE(B33," ",""), , "+"), IFERROR(VLOOKUP(_xlpm.f, 'Données BV'!A:B, 2, 0), VLOOKUP(_xlpm.f, A:C, 3, 0)) ) ), 0 )} -> 0
A34: Cana33 | B34: Poste EP 230 | D34: {=IFERROR( SUM( _xlfn.LET( _xlpm.f, _xlfn.TEXTSPLIT(SUBSTITUTE(B34," ",""), , "+"), IFERROR(VLOOKUP(_xlpm.f, 'Données BV'!A:B, 2, 0), VLOOKUP(_xlpm.f, A:C, 3, 0)) ) ), 0 )} -> 0
A35: Cana34 | B35: Cana32 + Cana35 + Cana 36 | D35: {=IFERROR( SUM( _xlfn.LET( _xlpm.f, _xlfn.TEXTSPLIT(SUBSTITUTE(B35," ",""), , "+"), IFERROR(VLOOKUP(_xlpm.f, 'Données BV'!A:B, 2, 0), VLOOKUP(_xlpm.f, A:C, 3, 0)) ) ), 0 )} -> 0
A36: Cana35 | B36: BV49 | C36: =IFERROR(VLOOKUP(B36,'Données BV'!A:B,2,FALSE),VLOOKUP(B36,A:C,3,FALSE)) -> 0 | D36: {=IFERROR( SUM( _xlfn.LET( _xlpm.f, _xlfn.TEXTSPLIT(SUBSTITUTE(B36," ",""), , "+"), IFERROR(VLOOKUP(_xlpm.f, 'Données BV'!A:B, 2, 0), VLOOKUP(_xlpm.f, A:C, 3, 0)) ) ), 0 )} -> 0
A37: Cana36 | B37: Cana37 | D37: {=IFERROR( SUM( _xlfn.LET( _xlpm.f, _xlfn.TEXTSPLIT(SUBSTITUTE(B37," ",""), , "+"), IFERROR(VLOOKUP(_xlpm.f, 'Données BV'!A:B, 2, 0), VLOOKUP(_xlpm.f, A:C, 3, 0)) ) ), 0 )} -> 0
A38: Cana37 | B38: Pas de données | D38: {=IFERROR( SUM( _xlfn.LET( _xlpm.f, _xlfn.TEXTSPLIT(SUBSTITUTE(B38," ",""), , "+"), IFERROR(VLOOKUP(_xlpm.f, 'Données BV'!A:B, 2, 0), VLOOKUP(_xlpm.f, A:C, 3, 0)) ) ), 0 )} -> 0
A39: Cana38 | D39: {=IFERROR( SUM( _xlfn.LET( _xlpm.f, _xlfn.TEXTSPLIT(SUBSTITUTE(B39," ",""), , "+"), IFERROR(VLOOKUP(_xlpm.f, 'Données BV'!A:B, 2, 0), VLOOKUP(_xlpm.f, A:C, 3, 0)) ) ), 0 )} -> 0
A40: Cana39 | D40: {=IFERROR( SUM( _xlfn.LET( _xlpm.f, _xlfn.TEXTSPLIT(SUBSTITUTE(B40," ",""), , "+"), IFERROR(VLOOKUP(_xlpm.f, 'Données BV'!A:B, 2, 0), VLOOKUP(_xlpm.f, A:C, 3, 0)) ) ), 0 )} -> 0
A41: Cana40 | D41: {=IFERROR( SUM( _xlfn.LET( _xlpm.f, _xlfn.TEXTSPLIT(SUBSTITUTE(B41," ",""), , "+"), IFERROR(VLOOKUP(_xlpm.f, 'Données BV'!A:B, 2, 0), VLOOKUP(_xlpm.f, A:C, 3, 0)) ) ), 0 )} -> 0
A42: Cana41 | D42: {=IFERROR( SUM( _xlfn.LET( _xlpm.f, _xlfn.TEXTSPLIT(SUBSTITUTE(B42," ",""), , "+"), IFERROR(VLOOKUP(_xlpm.f, 'Données BV'!A:B, 2, 0), VLOOKUP(_xlpm.f, A:C, 3, 0)) ) ), 0 )} -> 0
A43: Cana42 | D43: {=IFERROR( SUM( _xlfn.LET( _xlpm.f, _xlfn.TEXTSPLIT(SUBSTITUTE(B43," ",""), , "+"), IFERROR(VLOOKUP(_xlpm.f, 'Données BV'!A:B, 2, 0), VLOOKUP(_xlpm.f, A:C, 3, 0)) ) ), 0 )} -> 0
A44: Cana43 | D44: {=IFERROR( SUM( _xlfn.LET( _xlpm.f, _xlfn.TEXTSPLIT(SUBSTITUTE(B44," ",""), , "+"), IFERROR(VLOOKUP(_xlpm.f, 'Données BV'!A:B, 2, 0), VLOOKUP(_xlpm.f, A:C, 3, 0)) ) ), 0 )} -> 0
A45: Cana44 | D45: {=IFERROR( SUM( _xlfn.LET( _xlpm.f, _xlfn.TEXTSPLIT(SUBSTITUTE(B45," ",""), , "+"), IFERROR(VLOOKUP(_xlpm.f, 'Données BV'!A:B, 2, 0), VLOOKUP(_xlpm.f, A:C, 3, 0)) ) ), 0 )} -> 0
A46: Cana45 | D46: {=IFERROR( SUM( _xlfn.LET( _xlpm.f, _xlfn.TEXTSPLIT(SUBSTITUTE(B46," ",""), , "+"), IFERROR(VLOOKUP(_xlpm.f, 'Données BV'!A:B, 2, 0), VLOOKUP(_xlpm.f, A:C, 3, 0)) ) ), 0 )} -> 0
A47: Cana46 | D47: {=IFERROR( SUM( _xlfn.LET( _xlpm.f, _xlfn.TEXTSPLIT(SUBSTITUTE(B47," ",""), , "+"), IFERROR(VLOOKUP(_xlpm.f, 'Données BV'!A:B, 2, 0), VLOOKUP(_xlpm.f, A:C, 3, 0)) ) ), 0 )} -> 0
A48: Cana47 | D48: {=IFERROR( SUM( _xlfn.LET( _xlpm.f, _xlfn.TEXTSPLIT(SUBSTITUTE(B48," ",""), , "+"), IFERROR(VLOOKUP(_xlpm.f, 'Données BV'!A:B, 2, 0), VLOOKUP(_xlpm.f, A:C, 3, 0)) ) ), 0 )} -> 0
A49: Cana48 | D49: {=IFERROR( SUM( _xlfn.LET( _xlpm.f, _xlfn.TEXTSPLIT(SUBSTITUTE(B49," ",""), , "+"), IFERROR(VLOOKUP(_xlpm.f, 'Données BV'!A:B, 2, 0), VLOOKUP(_xlpm.f, A:C, 3, 0)) ) ), 0 )} -> 0
A50: Cana49 | D50: {=IFERROR( SUM( _xlfn.LET( _xlpm.f, _xlfn.TEXTSPLIT(SUBSTITUTE(B50," ",""), , "+"), IFERROR(VLOOKUP(_xlpm.f, 'Données BV'!A:B, 2, 0), VLOOKUP(_xlpm.f, A:C, 3, 0)) ) ), 0 )} -> 0
... A336: Cana336 | D336: {=IFERROR( SUM( _xlfn.LET( _xlpm.f, _xlfn.TEXTSPLIT(SUBSTITUTE(B336," ",""), , "+"), IFERROR(VLOOKUP(_xlpm.f, 'Données BV'!A:B, 2, 0), VLOOKUP(_xlpm.f, A:C, 3, 0)) ) ), 0 )} -> 0

Sheet Données BV
A1: BV1 | B1: 18.6
A2: BV2 | B2: 6.78
A3: BV3 | B3: 21.35
A4: BV4 | B4: 11.76
A5: BV5 | B5: 21.27
A6: BV6 | B6: 14.08
A7: BV7 | B7: 9.22
A8: BV8 | B8: 8.94
A9: BV9 | B9: 9.18
A10: BV10 | B10: 12.47
A11: BV11
A12: BV12
A13: BV13
A14: BV14
A15: BV15
A16: BV16
A17: BV17 | B17: 2.93
A18: BV18 | B18: 6.53
A19: BV19 | B19: 6.53
A20: BV20 | B20: 2.75
A21: BV21
A22: BV22 | B22: 7.2
A23: BV23
A24: BV24
A25: BV25
A26: BV26
A27: BV27
A28: BV28
A29: BV29 | B29: 4.2
A30: BV30
A31: BV31
A32: BV32
A33: BV33
A34: BV34 | B34: 6
A35: BV35
A36: BV36
A37: BV37
A38: BV38
A39: BV39
A40: BV40
A41: BV41
A42: BV42
A43: BV43
A44: BV44
A45: BV45
A46: BV46
... A53: BV53
