Workbook

Sheet matrice décision initiale
A1: A remplir
A2: NOMS DU TRINOME:
A3: FA 2022
B6: Somme pondérée de type Saaty : arbre de décision
A7: Etape 1 | B7: Récupérer les valeurs du TP1.1 après normalisation 2 | H7: travail attendu : en bleu pour chaque cellule remplir la formule correspondante | I7: pour chaque cellule remplir la formule correspondante
A8: Etape 2 | B8: calcul des poids du niveau 1
A9: Etape 3 | B9: calcul des poids de niveau 2
A10: Etape 4 | B10: calcul et choix du poids de chaque chemin dans l'arbre
A11: Etape 5 | B11: répondre au QCM feuille suivante
C13: ARBRE DE SAATY
B14: Niveau Racine | F14: Objet de la décision
B15: niveau 1 | C15: C1 : Aménagement du four | E15: C2 : Configuration du procédé lié au four | H15: Environnement de travail four et risques
B16: niveau 2 : | C16: C1.1 " Facilités du procédé " | D16: C1.2 Modification du procédé " | E16: C2.1 " Aménagement infrastructure " | F16: C2.2 " Raccordement Energie'" | G16: C2.3 "Conduite du procédé " | H16: C3.1 " Accessibilité opérateurs" | I16: C3.2 " Raccordement allée piétonne" | J16: C3.3 "Risque liés aux équipements"
A20: Critères choisis | C20: " Facilités du procédé " | D20: "Modification du procédé " | E20: " Aménagement infrastructure " | F20: " Raccordement Energie'" | G20: "Conduite du procédé " | H20: " Accessibilité opérateurs" | I20: " Raccordement allée piétonne" | J20: "Risque liés aux équipements"
C22: Distance four/trempe en m | D22: Potentiel pour faire évoluer le procédé | E22: couts des infrastructures à déplacer ou modifier en euros | F22: couts de raccordements des infrastructures gaz en euros | G22: cout connexion supervision du four en euros | H22: Surface autour du four disponible pour accéder au four en m2 / sécurité | I22: distance a la première allée piétonne en m | J22: Risques associés a la proximité des équipements : four - trempe, charriot, bâche trempage, automoteur …
A23: Données initiales
A24: Matrice de décision | B24: Données : ne pas modifier
B25: N° Position | C25: C1.1 (C4 TP1.1) | D25: C1.2( C5 TP1.1) | E25: C2.1 (C1 TP1.1) | F25: C2.2 (C2 dans TP1.1) | G25: C2.3 ( C3 dans TP1.1) | H25: C3.1( C6 dans TP1.1) | I25: C3.2 (C7 dans TP1.1) | J25: C3.3 (C8 dans TP1.1)
B26: A | C26: 3 | D26: 1 | E26: 150000 | F26: 2000 | G26: 2000 | H26: 57 | I26: 4 | J26: 5
B27: B | C27: 15 | D27: 1 | E27: 20000 | F27: 5500 | G27: 10500 | H27: 88 | I27: 2 | J27: 7
B28: C | C28: 10 | D28: 2 | E28: 20000 | F28: 17000 | G28: 22500 | H28: 55 | I28: 1 | J28: 8
B29: D | C29: 3 | D29: 3 | E29: 30000 | F29: 77000 | G29: 47500 | H29: 40 | I29: 1.5 | J29: 5
B30: E | C30: 80 | D30: 1 | E30: 7000 | F30: 85000 | G30: 55000 | H30: 51 | I30: 0 | J30: 2
B31: F | C31: 6 | D31: 3 | E31: 40000 | F31: 34000 | G31: 30000 | H31: 57 | I31: 0 | J31: 6
B32: G | C32: 7 | D32: 1 | E32: 5000 | F32: 4500 | G32: 11500 | H32: 51 | I32: 1 | J32: 5
A36: récupérer la formule/données après normalisation N°2 du TP1.1
A41: Valeurs des solutions apres Normalisation N°2 du TP1.1
A43: Critères | B43: Critères | C43: C1.1 " Facilités du procédé " | D43: C1.2 Modification du procédé " | E43: C2.1 " Aménagement infrastructure " | F43: C2.2 " Raccordement Energie'" | G43: C2.3 "Conduite du procédé " | H43: C3.1 " Accessibilité opérateurs" | I43: C3.2 " Raccordement allée piétonne" | J43: C3.3 "Risque liés aux équipements"
C44: Distance four/trempe en m | D44: Potentiel pour faire évoluer le procédé | E44: couts des infrastructures à déplacer ou modifier en euros | F44: couts de raccordements des infrastructures gaz en euros | G44: cout connexion supervision du four en euros | H44: Surface autour du four disponible pour accéder au four en m2 / sécurité | I44: distance a la première allée piétonne en m | J44: Risques associés a la proximité des équipements : four - trempe, charriot, bâche trempage, automoteur …
B46: N° Position four | C46: C1.1 (C4 TP1.1) | D46: C1.2( C5 TP1.1) | E46: C2.1 (C1 TP1.1) | F46: C2.2 (C2 dans TP1.1) | G46: C2.3 ( C3 dans TP1.1) | H46: C3.1( C6 dans TP1.1) | I46: C3.2 (C7 dans TP1.1) | J46: C3.3 (C8 dans TP1.1)
B47: A | C47: 0 | D47: 0.22432432 | E47: 0.25728155 | F47: 0.1766055 | G47: 0.083333333 | H47: 0.14285714 | I47: 0.42105263 | J47: 0.16666667
B48: B | C48: 0.16709512 | D48: 0.21486486 | E48: 0.21601942 | F48: 0.14908257 | G48: 0.083333333 | H48: 0.22055138 | I48: 0.21052632 | J48: 0.055555556
B49: C | C49: 0.16709512 | D49: 0.18378378 | E49: 0.15776699 | F49: 0.16055046 | G49: 0.16666667 | H49: 0.13784461 | I49: 0.10526316 | J49: 0
B50: D | C50: 0.15424165 | D50: 0.021621622 | E50: 0.036407767 | F50: 0.1766055 | G50: 0.25 | H50: 0.10025063 | I50: 0.15789474 | J50: 0.16666667
B51: E | C51: 0.18380463 | D51: 0 | E51: 0 | F51: 0 | G51: 0.083333333 | H51: 0.12781955 | I51: 0 | J51: 0.33333333
B52: F | C52: 0.14138817 | D52: 0.13783784 | E52: 0.12135922 | F52: 0.16972477 | G52: 0.25 | H52: 0.14285714 | I52: 0 | J52: 0.11111111
B53: G | C53: 0.18637532 | D53: 0.21756757 | E53: 0.21116505 | F53: 0.16743119 | G53: 0.083333333 | H53: 0.12781955 | I53: 0.10526316 | J53: 0.16666667

Sheet Calcul poids critères
A2: Etape 1 | I2: TRAVAIL ATTENDU : à compléter
B3: Saaty | C3: calcul des poids cohérents pour le niveau 1 | H3: étape 2) | I3: calcul des poids du niveau 1 : 3 critères
I4: pour chaque cellule remplir la formule correspondante
I5: valeurs choisies par un binôme
B7: Préférences | C7: C1 | D7: C2 | E7: C3
B8: C1 | C8: 1 | D8: =1/C9 -> 2.8571429 | E8: =1/C10 -> 0.2
B9: C2 | C9: 0.35 | D9: 1 | E9: =1/D10 -> 0.16666667 | I9: Cohérence moyenne | J9: C1 | K9: C2 | L9: C3 | M9: Somme
B10: C3 | C10: 5 | D10: 6 | E10: 1 | I10: C1 | J10: =C8*$C$23 -> 0.19789228 | K10: =D8*$C$24 -> 0.26525581 | L10: =E8*$C$25 -> 0.14185364 | M10: =SUM(J10:L10) -> 0.60500173
B11: calcul en colonne | C11: =SUM(C8:C10) -> 6.35 | D11: =SUM(D8:D10) -> 9.8571429 | E11: =SUM(E8:E10) -> 1.3666667 | I11: C2 | J11: =C9*$C$23 -> 0.069262299 | K11: =D9*$C$24 -> 0.092839535 | L11: =E9*$C$25 -> 0.11821136 | M11: =SUM(J11:L11) -> 0.2803132
I12: C3 | J12: =C10*$C$23 -> 0.98946142 | K12: =D10*$C$24 -> 0.55703721 | L12: =E10*$C$25 -> 0.70926818 | M12: =SUM(J12:L12) -> 2.2557668
C13: A remplir à partir de vos préférences individuelles
B16: Normalisation
C17: C1 | D17: C2 | E17: C3 | F17: calcul en ligne | I17: Cohérences
B18: C1 | C18: =C8/$C$11 -> 0.15748031 | D18: =D8/$D$11 -> 0.28985507 | E18: =E8/$E$11 -> 0.14634146 | F18: =SUM(C18:E18) -> 0.59367685 | I18: C1 | J18: =M10/C23 -> 3.0572275
B19: C2 | C19: =C9/$C$11 -> 0.05511811 | D19: =D9/$D$11 -> 0.10144928 | E19: =E9/$E$11 -> 0.12195122 | F19: =SUM(C19:E19) -> 0.27851861 | I19: C2 | J19: =M11/C24 -> 3.01933
B20: C3 | C20: =C10/$C$11 -> 0.78740157 | D20: =D10/$D$11 -> 0.60869565 | E20: =E10/$E$11 -> 0.73170732 | F20: =SUM(C20:E20) -> 2.1278045 | I20: C3 | J20: =M12/C25 -> 3.1804145
I21: Cohérence moyenne | J21: =AVERAGE(J18:J20) -> 3.0856574
B22: Poids | C22: calculés
B23: C1 | C23: =F18/3 -> 0.19789228
B24: C2 | C24: =F19/3 -> 0.092839535 | I24: Indice de cohérence | J24: =(J21-3)/(3-1) -> 0.042828677
B25: C3 | C25: =F20/3 -> 0.70926818 | I25: Ratio de cohérence | J25: =J24/0.58 -> 0.073842547
G27: ratio de cohérence devant etre < 10%
G28: SI non vrai ALORS
G29: choisir à nouveau les valeurs de préférences 2 a 2
G30: de la Matrice 'préférences'

Sheet Calcul poids sous -criteres
A2: Etape 2 | I2: TRAVAIL ATTENDU : à compléter
H3: 3) | I3: calcul des poids des sous-critères
B4: Saaty | C4: calcul des poids cohérents pour le niveau 2 | I4: pour chaque cellule remplir la formule correspondante
H5: 4)
H6: puis tester les valeurs choisies (zone en vert)
B8: C1 : Aménagement du four
B11: C1 | C11: C11 | D11: C12
B12: C11 | C12: 1 | D12: =1/C13 -> 2
B13: C12 | C13: =1/2 -> 0.5 | D13: 1 | I13: Cohérence moyenne | J13: C11 | K13: C12 | L13: Somme
B14: calcul en colonne | C14: =SUM(C12:C13) -> 1.5 | D14: =SUM(D12:D13) -> 3 | I14: C11 | J14: =C12*$C$25 -> 0.66666667 | K14: =D12*$C$26 -> 0.66666667 | L14: =SUM(J14:K14) -> 1.3333333
I15: C12 | J15: =C13*$C$25 -> 0.33333333 | K15: =D13*$C$26 -> 0.33333333 | L15: =SUM(J15:K15) -> 0.66666667
C16: A remplir à partir de vos préférences individuelles
B19: Normalisation | C19: C11 | D19: C12 | E19: calcul en ligne | I19: Cohérences
B20: C11 | C20: =C12/C$14 -> 0.66666667 | D20: =D12/D$14 -> 0.66666667 | E20: =SUM(C20:D20) -> 1.3333333 | I20: C11 | J20: =L14/C25 -> 2
B21: C12 | C21: =C13/C$14 -> 0.33333333 | D21: =D13/D$14 -> 0.33333333 | E21: =SUM(C21:D21) -> 0.66666667 | I21: C12 | J21: =L15/C26 -> 2
I22: Cohérence moyenne | J22: =AVERAGE(J20:J21) -> 2
B24: Poids | C24: calculés
B25: C11 | C25: =E20/2 -> 0.66666667 | I25: Indice de cohérence | J25: =(J22-2)/(2-1) -> 0 | L25: ratio de cohérence devant etre < 10%
B26: C12 | C26: =E21/2 -> 0.33333333 | I26: Ratio de cohérence | J26: =J25/0 -> #DIV/0! | L26: SI non vrai ALORS
L27: choisir à nouveau les valeurs de préférences 2 a 2
L28: de la Matrice 'préférences'
B31: C2: Critère "Configuration du procédé lié au four"
B34: C2 | C34: C21 | D34: C22 | E34: C23
B35: C21 | C35: 1 | D35: =1/C36 -> 0.33333333 | E35: =1/C37 -> 0.14285714
B36: C22 | C36: 3 | D36: 1 | E36: =1/D37 -> 0.25 | I36: Cohérence moyenne | J36: C21 | K36: C22 | L36: C23 | M36: Somme
B37: C23 | C37: 7 | D37: 4 | E37: 1 | I37: C21 | J37: =C35*$C$49 -> 0.085324398 | K37: =D35*$C$50 -> 0.071079384 | L37: =E35*$C$51 -> 0.10020535 | M37: =SUM(J37:L37) -> 0.25660913
B38: calcul en colonne | C38: =SUM(C35:C37) -> 11 | D38: =SUM(D35:D37) -> 5.3333333 | E38: =SUM(E35:E37) -> 1.3928571 | I38: C22 | J38: =C36*$C$49 -> 0.25597319 | K38: =D36*$C$50 -> 0.21323815 | L38: =E36*$C$51 -> 0.17535936 | M38: =SUM(J38:L38) -> 0.64457071
I39: C23 | J39: =C37*$C$49 -> 0.59727078 | K39: =D37*$C$50 -> 0.8529526 | L39: =E37*$C$51 -> 0.70143745 | M39: =SUM(J39:L39) -> 2.1516608
C40: A remplir à partir de vos préférences individuelles, et avec des valeurs différentes de celles du tableau de préférences sur les critères
B43: Normalisation | C43: C21 | D43: C22 | E43: C23 | F43: calcul en ligne | I43: Cohérences
B44: C21 | C44: =C35/C$38 -> 0.090909091 | D44: =D35/D$38 -> 0.0625 | E44: =E35/E$38 -> 0.1025641 | F44: =SUM(C44:E44) -> 0.25597319 | I44: C21 | J44: =M37/C49 -> 3.0074532
B45: C22 | C45: =C36/C$38 -> 0.27272727 | D45: =D36/D$38 -> 0.1875 | E45: =E36/E$38 -> 0.17948718 | F45: =SUM(C45:E45) -> 0.63971445 | I45: C22 | J45: =M38/C50 -> 3.0227739
B46: C23 | C46: =C37/C$38 -> 0.63636364 | D46: =D37/D$38 -> 0.75 | E46: =E37/E$38 -> 0.71794872 | F46: =SUM(C46:E46) -> 2.1043124 | I46: C23 | J46: =M39/C51 -> 3.0675021
I47: Cohérence moyenne | J47: =AVERAGE(J44:J46) -> 3.0325764
B48: Poids
B49: C21 | C49: =F44/3 -> 0.085324398
B50: C22 | C50: =F45/3 -> 0.21323815 | I50: Indice de cohérence | J50: =(J47-3)/(3-1) -> 0.016288186 | L50: ratio de cohérence devant etre < 10%
B51: C23 | C51: =F46/3 -> 0.70143745 | I51: Ratio de cohérence | J51: =J50/0.58 -> 0.028083078 | L51: SI non vrai ALORS
L52: choisir à nouveau les valeurs de préférences 2 a 2
L53: de la Matrice 'préférences'
B56: C3 : critère "Environnement de travail du four et risques"
B59: C3 | C59: C31 | D59: C32 | E59: C33
B60: C31 | C60: 1 | D60: =1/C61 -> 7 | E60: =1/C62 -> 9
B61: C32 | C61: =1/7 -> 0.14285714 | D61: 1 | E61: =1/D62 -> 0.5 | I61: Cohérence moyenne | J61: C31 | K61: C32 | L61: C33 | M61: Somme
B62: C33 | C62: =1/9 -> 0.11111111 | D62: 2 | E62: 1 | I62: C31 | J62: =C60*$C$74 -> 0.7848704 | K62: =D60*$C$75 -> 0.61026723 | L62: =E60*$C$76 -> 1.1515371 | M62: =SUM(J62:L62) -> 2.5466747
B63: calcul en colonne | C63: =SUM(C60:C62) -> 1.2539683 | D63: =SUM(D60:D62) -> 10 | E63: =SUM(E60:E62) -> 10.5 | I63: C32 | J63: =C61*$C$74 -> 0.11212434 | K63: =D61*$C$75 -> 0.087181033 | L63: =E61*$C$76 -> 0.063974282 | M63: =SUM(J63:L63) -> 0.26327966
I64: C33 | J64: =C62*$C$74 -> 0.087207823 | K64: =D62*$C$75 -> 0.17436207 | L64: =E62*$C$76 -> 0.12794856 | M64: =SUM(J64:L64) -> 0.38951845
C65: A remplir à partir de vos préférences individuelles, et avec des valeurs différentes de celles des tableaux de préférences sur les critères et les sous-critères de C2
B68: Normalisation | C68: C31 | D68: C32 | E68: C33 | F68: calcul en ligne | I68: Cohérences
B69: C31 | C69: =C60/C$63 -> 0.79746835 | D69: =D60/D$63 -> 0.7 | E69: =E60/E$63 -> 0.85714286 | F69: =SUM(C69:E69) -> 2.3546112 | I69: C31 | J69: =M62/C74 -> 3.2447073
B70: C32 | C70: =C61/C$63 -> 0.11392405 | D70: =D61/D$63 -> 0.1 | E70: =E61/E$63 -> 0.047619048 | F70: =SUM(C70:E70) -> 0.2615431 | I70: C32 | J70: =M63/C75 -> 3.019919
B71: C33 | C71: =C62/C$63 -> 0.088607595 | D71: =D62/D$63 -> 0.2 | E71: =E62/E$63 -> 0.095238095 | F71: =SUM(C71:E71) -> 0.38384569 | I71: C33 | J71: =M64/C76 -> 3.0443363
I72: Cohérence moyenne | J72: =AVERAGE(J69:J71) -> 3.1029875
B73: Poids | L73: ratio de cohérence devant etre < 10%
B74: C31 | C74: =F69/3 -> 0.7848704 | L74: SI non vrai ALORS
B75: C32 | C75: =F70/3 -> 0.087181033 | I75: Indice de cohérence | J75: =(J72-3)/(3-1) -> 0.051493757 | L75: choisir à nouveau les valeurs de préférences 2 a 2
B76: C33 | C76: =F71/3 -> 0.12794856 | I76: Ratio de cohérence | J76: =J75/0.58 -> 0.088782339 | L76: de la Matrice 'préférences'

Sheet Poids de chaque chemin
A1: etape 3
B2: CHEMIN DE POIDS MAX | I2: TRAVAIL ATTENDU : à compléter
B3: Normalisation des poids par rapport au niveau supérieur de l'arborescence | H3: 5) | I3: normalisation des poids de niveau -1 par le poid de niveau supérieur
I4: pour chaque cellule remplir la formule correspondante
B7: Poids | C7: Poids niveau -1 | D7: Poids relatif
A8: C11 | B8: ='Calcul poids sous -criteres'!C25 -> 0.66666667 | C8: ='Calcul poids critères'!C23 -> 0.19789228 | D8: =B8*$C$8 -> 0.13192819 | G8: Normalisation sur critère choisi
A9: C12 | B9: ='Calcul poids sous -criteres'!C26 -> 0.33333333 | D9: =B9*$C$8 -> 0.065964095
I10: POIDS du chemin relatif
G11: Critère retenu | H11: Choix du critère de poids max
B12: Poids | C12: Poids niveau -1 | D12: Poids relatif | G12: =IF(D8>D9,"C1.1","C1.2") -> C1.1 | H12: =MAX(D8:D9) -> 0.13192819 | I12: =H12/$H$15 -> 0.17503307
A13: C21 | B13: ='Calcul poids sous -criteres'!C49 -> 0.085324398 | C13: ='Calcul poids critères'!C24 -> 0.092839535 | D13: =B13*$C$13 -> 0.0079214774 | G13: =IF(AND(D13>D14,D13>D15),"C2.1",IF(AND(D14>D13,D14>D15),"C2.2","C2.3")) -> C2.3 | H13: =MAX(D13:D15) -> 0.065121127 | I13: =H13/$H$15 -> 0.086398146
A14: C22 | B14: ='Calcul poids sous -criteres'!C50 -> 0.21323815 | D14: =B14*$C$13 -> 0.019796931 | G14: =IF(AND(D20>D21,D20>D22),"C3.1", IF(AND(D21>D20,D21>D22),"C3.2","C3.3")) -> C3.1 | H14: =MAX(D20:D22) -> 0.5566836 | I14: =H14/$H$15 -> 0.73856878
A15: C23 | B15: ='Calcul poids sous -criteres'!C51 -> 0.70143745 | D15: =B15*$C$13 -> 0.065121127 | G15: Somme | H15: =SUM(H12:H14) -> 0.75373292
I16: =SUM(I12:I15) -> 1
H17: verfication de la somme des poids
B19: Poids ss cit | C19: Poids niveau -1 | D19: Poids relatif
A20: C31 | B20: ='Calcul poids sous -criteres'!C74 -> 0.7848704 | C20: ='Calcul poids critères'!C25 -> 0.70926818 | D20: =B20*$C$20 -> 0.5566836
A21: C32 | B21: ='Calcul poids sous -criteres'!C75 -> 0.087181033 | D21: =B21*$C$20 -> 0.061834733
A22: C33 | B22: ='Calcul poids sous -criteres'!C76 -> 0.12794856 | D22: =B22*$C$20 -> 0.090749845

Sheet Choix four selon 3 soucritères
A1: Etape 4 | I1: TRAVAIL ATTENDU : à compléter
H2: 6) | I2: calcul de la valeur pour chaque action : somme pondérée
I3: pour chaque cellule remplir la formule correspondante
A4: RESULTATS | B4: Evaluation des positions du four selon les préférences par rapport
B5: aux sous-critères
A6: N° position du four | C6: ='Poids de chaque chemin'!G12 -> C1.1 | D6: ='Poids de chaque chemin'!G13 -> C2.3 | E6: ='Poids de chaque chemin'!G14 -> C3.1
A7: N° Position | C7: ='Poids de chaque chemin'!I12 -> 0.17503307 | D7: ='Poids de chaque chemin'!I13 -> 0.086398146 | E7: ='Poids de chaque chemin'!I14 -> 0.73856878
A8: A | C8: ='matrice décision initiale'!C47 -> 0 | D8: ='matrice décision initiale'!G47 -> 0.083333333 | E8: ='matrice décision initiale'!H47 -> 0.14285714
A9: B | C9: ='matrice décision initiale'!C48 -> 0.16709512 | D9: ='matrice décision initiale'!G48 -> 0.083333333 | E9: ='matrice décision initiale'!H48 -> 0.22055138
A10: C | C10: ='matrice décision initiale'!C49 -> 0.16709512 | D10: ='matrice décision initiale'!G49 -> 0.16666667 | E10: ='matrice décision initiale'!H49 -> 0.13784461
A11: D | C11: ='matrice décision initiale'!C50 -> 0.15424165 | D11: ='matrice décision initiale'!G50 -> 0.25 | E11: ='matrice décision initiale'!H50 -> 0.10025063
A12: E | C12: ='matrice décision initiale'!C51 -> 0.18380463 | D12: ='matrice décision initiale'!G51 -> 0.083333333 | E12: ='matrice décision initiale'!H51 -> 0.12781955
A13: F | C13: ='matrice décision initiale'!C52 -> 0.14138817 | D13: ='matrice décision initiale'!G52 -> 0.25 | E13: ='matrice décision initiale'!H52 -> 0.14285714
A14: G | C14: ='matrice décision initiale'!C53 -> 0.18637532 | D14: ='matrice décision initiale'!G53 -> 0.083333333 | E14: ='matrice décision initiale'!H53 -> 0.12781955
A17: Classement des solutions pour le four
B18: Classement | C18: des fours
B19: {=_xlfn.LET( _xlpm.e,C7:E14, _xlpm.p,_xlfn.TAKE(_xlpm.e,1), _xlpm.f,A8:A14, _xlpm.n,ROWS(_xlpm.f), _xlfn.VSTACK({"N° ordre","N° Position"},_xlfn.CHOOSECOLS(_xlfn._xlws.SORT(_xlfn.HSTACK(_xlfn._xlws.SORT(_xlfn.HSTACK(_xlpm.f,_xlfn.BYROW(_xlfn.DROP(_xlpm.e,1),_xlfn.LAMBDA(_xlpm.r,SUM(_xlpm.r*_xlpm.p))),_xlfn.SEQUENCE(_xlpm.n)),2,1),_xlfn.SEQUENCE(_xlpm.n,,_xlpm.n,-1)),3,1),4,1)) )} -> N° ordre | C19: N° Position
B20: 7 | C20: A
B21: 1 | C21: B
B22: 3 | C22: C
B23: 6 | C23: D
B24: 5 | C24: E
B25: 2 | C25: F
B26: 4 | C26: G

Sheet QCM_Saaty_repondre
E1: NOMS du Groupe | H1: :
E2: FA 2022
E4: QCM AMC - ISTP - FA
E5: Première partie séance TP1.1
E6: Durée du QCM : 20 minutes (max) - rendu par groupe à la fin de la séance
E7: Le nom du fichier devra contenir le nom deu groupe
E8: Des points seront retirés si les noms des binômes ne sont pas renseignés aux endroits où ils sont demandés (ci-dessus, sur la feuille "matrice décision initiale et dans le nom du fichier)
E12: Q1 : Dans le tableau suivant, renseignez les préférences pour les critères, choisies par le groupe
E13: C1 | F13: 1
E14: C2 | G14: 1
E15: C3 | H15: 1
A16: Points Q1 | E16: calcul en colonne
E19: Q2 : Donnez les poids obtenus par la méthode de Saaty durant ce TP sous Excel dans les tableaux suivants
E20: remplir ici vos résultats
F22: Poids | G22: Poids niveau -1 | H22: Poids relatif | I22: Entourer le(s) sous-critère(s) retenu(s)
E23: C11
E24: C12
F25: Poids sous-critère | G25: Poids niveau -1 | H25: Poids relatif
E26: C21
E27: C22
E28: C23
F29: Poids sous critère | G29: Poids niveau -1 | H29: Poids relatif
E30: C31
E31: C32
A32: Points Q2 | E32: C33
E35: Q3 : Nombre de chemins préférentiels dans l’arbre (noircir la réponse)
F36: Huit
F37: Trois
F38: Cinq
A39: Points Q3
E43: Q4 : Analyse des résultats
F44: Classement par Saaty | G44: N° Position du four | I44: COMPARER | J44: avec TP1.1 | K44: sommes pondérée
G45: A
G46: B
G47: C
G48: D
G49: E
G50: F
G51: G
A52: Points Q4
A59: Total TP1.2
