Workbook

Sheet Données
B1: Compte | C1: Axe 1 | D1: Projet | E1: Entité | F1: Montant | H1: <<<< données
B2: 600000 | C2: A | D2: X | E2: 1 | F2: 10
B3: 600000 | C3: A | D3: X | E3: 2 | F3: 10
B4: 600000 | C4: A | D4: X | E4: 3 | F4: 30
B5: 600000 | C5: A | D5: Y | E5: 1 | F5: 50
B6: 600000 | C6: A | D6: Y | E6: 2 | F6: 20
B7: 600000 | C7: A | D7: Y | E7: 3 | F7: 30
B8: 600000 | C8: B | D8: X | E8: 1 | F8: 45
B9: 600000 | C9: B | D9: X | E9: 2 | F9: 5
B10: 600000 | C10: B | D10: X | E10: 3 | F10: 0
B11: 600000 | C11: B | D11: Y | E11: 1 | F11: 30
B12: 600000 | C12: B | D12: Y | E12: 2 | F12: 30
B13: 600000 | C13: B | D13: Y | E13: 3 | F13: 40
B19: Compte | C19: Axe 1 | D19: Montant | H19: <<<< à répartir sur ces 3 comptes
B20: 600000 | C20: A | D20: 100
B21: 610000 | C21: A | D21: 30
B22: 620000 | C22: A | D22: 20
B23: 600000 | C23: B | D23: 120
B24: 610000 | C24: B | D24: 20
B25: 620000 | C25: B | D25: 10

Sheet Résultat attendu
H1: Proposition Power Query :
B3: Compte | C3: Axe 1 | D3: Projet | E3: Entité | F3: Montant | H3: Compte | I3: Axe 1 | J3: Projet | K3: Entité | L3: Montant
B4: 600000 | C4: A | D4: X | E4: 1 | F4: =Données!$D$20*Données!F2/SUM(Données!$F$2:$F$7) -> 6.6666667 | H4: 600000 | I4: A | J4: X | K4: 1 | L4: 6.6666667
B5: 600000 | C5: A | D5: X | E5: 2 | F5: =Données!$D$20*Données!F3/SUM(Données!$F$2:$F$7) -> 6.6666667 | H5: 600000 | I5: A | J5: X | K5: 2 | L5: 6.6666667
B6: 600000 | C6: A | D6: X | E6: 3 | F6: =Données!$D$20*Données!F4/SUM(Données!$F$2:$F$7) -> 20 | H6: 600000 | I6: A | J6: X | K6: 3 | L6: 20
B7: 600000 | C7: A | D7: Y | E7: 1 | F7: =Données!$D$20*Données!F5/SUM(Données!$F$2:$F$7) -> 33.333333 | H7: 600000 | I7: A | J7: Y | K7: 1 | L7: 33.333333
B8: 600000 | C8: A | D8: Y | E8: 2 | F8: =Données!$D$20*Données!F6/SUM(Données!$F$2:$F$7) -> 13.333333 | H8: 600000 | I8: A | J8: Y | K8: 2 | L8: 13.333333
B9: 600000 | C9: A | D9: Y | E9: 3 | F9: =Données!$D$20*Données!F7/SUM(Données!$F$2:$F$7) -> 20 | H9: 600000 | I9: A | J9: Y | K9: 3 | L9: 20
B10: 610000 | C10: A | D10: X | E10: 1 | F10: =Données!$D$21*Données!F2/SUM(Données!$F$2:$F$7) -> 2 | H10: 610000 | I10: A | J10: X | K10: 1 | L10: 2
B11: 610000 | C11: A | D11: X | E11: 2 | F11: =Données!$D$21*Données!F3/SUM(Données!$F$2:$F$7) -> 2 | H11: 610000 | I11: A | J11: X | K11: 2 | L11: 2
B12: 610000 | C12: A | D12: X | E12: 3 | F12: =Données!$D$21*Données!F4/SUM(Données!$F$2:$F$7) -> 6 | H12: 610000 | I12: A | J12: X | K12: 3 | L12: 6
B13: 610000 | C13: A | D13: Y | E13: 1 | F13: =Données!$D$21*Données!F5/SUM(Données!$F$2:$F$7) -> 10 | H13: 610000 | I13: A | J13: Y | K13: 1 | L13: 10
B14: 610000 | C14: A | D14: Y | E14: 2 | F14: =Données!$D$21*Données!F6/SUM(Données!$F$2:$F$7) -> 4 | H14: 610000 | I14: A | J14: Y | K14: 2 | L14: 4
B15: 610000 | C15: A | D15: Y | E15: 3 | F15: =Données!$D$21*Données!F7/SUM(Données!$F$2:$F$7) -> 6 | H15: 610000 | I15: A | J15: Y | K15: 3 | L15: 6
B16: 620000 | C16: A | D16: X | E16: 1 | F16: =Données!$D$22*Données!F2/SUM(Données!$F$2:$F$7) -> 1.3333333 | H16: 620000 | I16: A | J16: X | K16: 1 | L16: 1.3333333
B17: 620000 | C17: A | D17: X | E17: 2 | F17: =Données!$D$22*Données!F3/SUM(Données!$F$2:$F$7) -> 1.3333333 | H17: 620000 | I17: A | J17: X | K17: 2 | L17: 1.3333333
B18: 620000 | C18: A | D18: X | E18: 3 | F18: =Données!$D$22*Données!F4/SUM(Données!$F$2:$F$7) -> 4 | H18: 620000 | I18: A | J18: X | K18: 3 | L18: 4
B19: 620000 | C19: A | D19: Y | E19: 1 | F19: =Données!$D$22*Données!F5/SUM(Données!$F$2:$F$7) -> 6.6666667 | H19: 620000 | I19: A | J19: Y | K19: 1 | L19: 6.6666667
B20: 620000 | C20: A | D20: Y | E20: 2 | F20: =Données!$D$22*Données!F6/SUM(Données!$F$2:$F$7) -> 2.6666667 | H20: 620000 | I20: A | J20: Y | K20: 2 | L20: 2.6666667
B21: 620000 | C21: A | D21: Y | E21: 3 | F21: =Données!$D$22*Données!F7/SUM(Données!$F$2:$F$7) -> 4 | H21: 620000 | I21: A | J21: Y | K21: 3 | L21: 4
B22: 600000 | C22: B | D22: X | E22: 1 | F22: =Données!$D$23*Données!F8/SUM(Données!$F$8:$F$13) -> 36 | H22: 600000 | I22: B | J22: X | K22: 1 | L22: 36
B23: 600000 | C23: B | D23: X | E23: 2 | F23: =Données!$D$23*Données!F9/SUM(Données!$F$8:$F$13) -> 4 | H23: 600000 | I23: B | J23: X | K23: 2 | L23: 4
B24: 600000 | C24: B | D24: X | E24: 3 | F24: =Données!$D$23*Données!F10/SUM(Données!$F$8:$F$13) -> 0 | H24: 600000 | I24: B | J24: X | K24: 3 | L24: 0
B25: 600000 | C25: B | D25: Y | E25: 1 | F25: =Données!$D$23*Données!F11/SUM(Données!$F$8:$F$13) -> 24 | H25: 600000 | I25: B | J25: Y | K25: 1 | L25: 24
B26: 600000 | C26: B | D26: Y | E26: 2 | F26: =Données!$D$23*Données!F12/SUM(Données!$F$8:$F$13) -> 24 | H26: 600000 | I26: B | J26: Y | K26: 2 | L26: 24
B27: 600000 | C27: B | D27: Y | E27: 3 | F27: =Données!$D$23*Données!F13/SUM(Données!$F$8:$F$13) -> 32 | H27: 600000 | I27: B | J27: Y | K27: 3 | L27: 32
B28: 610000 | C28: B | D28: X | E28: 1 | F28: =Données!$D$24*Données!F8/SUM(Données!$F$8:$F$13) -> 6 | H28: 610000 | I28: B | J28: X | K28: 1 | L28: 6
B29: 610000 | C29: B | D29: X | E29: 2 | F29: =Données!$D$24*Données!F9/SUM(Données!$F$8:$F$13) -> 0.66666667 | H29: 610000 | I29: B | J29: X | K29: 2 | L29: 0.66666667
B30: 610000 | C30: B | D30: X | E30: 3 | F30: =Données!$D$24*Données!F10/SUM(Données!$F$8:$F$13) -> 0 | H30: 610000 | I30: B | J30: X | K30: 3 | L30: 0
B31: 610000 | C31: B | D31: Y | E31: 1 | F31: =Données!$D$24*Données!F11/SUM(Données!$F$8:$F$13) -> 4 | H31: 610000 | I31: B | J31: Y | K31: 1 | L31: 4
B32: 610000 | C32: B | D32: Y | E32: 2 | F32: =Données!$D$24*Données!F12/SUM(Données!$F$8:$F$13) -> 4 | H32: 610000 | I32: B | J32: Y | K32: 2 | L32: 4
B33: 610000 | C33: B | D33: Y | E33: 3 | F33: =Données!$D$24*Données!F13/SUM(Données!$F$8:$F$13) -> 5.3333333 | H33: 610000 | I33: B | J33: Y | K33: 3 | L33: 5.3333333
B34: 620000 | C34: B | D34: X | E34: 1 | F34: =Données!$D$25*Données!F8/SUM(Données!$F$8:$F$13) -> 3 | H34: 620000 | I34: B | J34: X | K34: 1 | L34: 3
B35: 620000 | C35: B | D35: X | E35: 2 | F35: 5 | H35: 620000 | I35: B | J35: X | K35: 2 | L35: 0.33333333
B36: 620000 | C36: B | D36: X | E36: 3 | F36: 0 | H36: 620000 | I36: B | J36: X | K36: 3 | L36: 0
B37: 620000 | C37: B | D37: Y | E37: 1 | F37: 30 | H37: 620000 | I37: B | J37: Y | K37: 1 | L37: 2
B38: 620000 | C38: B | D38: Y | E38: 2 | F38: 30 | H38: 620000 | I38: B | J38: Y | K38: 2 | L38: 2
B39: 620000 | C39: B | D39: Y | E39: 3 | F39: 40 | H39: 620000 | I39: B | J39: Y | K39: 3 | L39: 2.6666667
