Workbook
Name Match_101: '10 équipes'!$A$3:$O$14
Name Match_102: '10 équipes'!$A$17:$O$28
Name Match_121: '12 équipes'!$A$3:$O$14
Name Match_122: '12 équipes'!$A$17:$O$28
Name Match_141: '14 équipes'!$A$3:$O$14
Name Match_142: '14 équipes'!$A$17:$O$28
Name Match_161: '16 équipes'!$A$3:$O$14
Name Match_162: '16 équipes'!$A$17:$O$27
Name Match_181: '18 équipes'!$A$3:$O$14
Name Match_182: '18 équipes'!$A$17:$O$28
Name Match_201: '20 équipes'!$A$3:$O$14
Name Match_202: '20 équipes'!$A$17:$O$28
Name Match_221: '22 équipes'!$A$3:$O$14
Name Match_222: '22 équipes'!$A$17:$O$28
Name Match_241: '24 équipes'!$A$3:$O$14
Name Match_242: '24 équipes'!$A$17:$O$28
Name Match_41: '4 équipes'!$A$3:$O$14
Name Match_42: '4 équipes'!$A$17:$O$28
Name Match_61: '6 équipes'!$A$3:$O$14
Name Match_62: '6 équipes'!$A$17:$O$28
Name Match_81: '8 équipes'!$A$3:$O$14
Name Match_82: '8 équipes'!$A$17:$O$28

Sheet Classement
A2: Proposition :
A3: NOM | B3: 45213 | C3: 45214 | D3: 45215 | E3: 45216 | J3: NOM | K3: 45213 | L3: 45214 | M3: 45215 | N3: 45216
A4: Marie | B4: {=_xlfn._xlws.FILTER(Sauvegarde!$F$2:$F$5,(MMULT(--ISNUMBER(SEARCH($A4,Sauvegarde!$A$2:$C$5)),_xlfn.SEQUENCE(3)^0))*(Sauvegarde!$D$2:$D$5=B$3),"")} -> 0 | C4: {=_xlfn._xlws.FILTER(Sauvegarde!$F$2:$F$5,(MMULT(--ISNUMBER(SEARCH($A4,Sauvegarde!$A$2:$C$5)),_xlfn.SEQUENCE(3)^0))*(Sauvegarde!$D$2:$D$5=C$3),"")} -> 4 | D4: {=_xlfn._xlws.FILTER(Sauvegarde!$F$2:$F$5,(MMULT(--ISNUMBER(SEARCH($A4,Sauvegarde!$A$2:$C$5)),_xlfn.SEQUENCE(3)^0))*(Sauvegarde!$D$2:$D$5=D$3),"")} -> 4 | E4: {=_xlfn._xlws.FILTER(Sauvegarde!$F$2:$F$5,(MMULT(--ISNUMBER(SEARCH($A4,Sauvegarde!$A$2:$C$5)),_xlfn.SEQUENCE(3)^0))*(Sauvegarde!$D$2:$D$5=E$3),"")} -> 3 | J4: Marie | K4: 0 | L4: 4 | M4: 4 | N4: 3
A5: Test 7 | B5: {=_xlfn._xlws.FILTER(Sauvegarde!$F$2:$F$5,(MMULT(--ISNUMBER(SEARCH($A5,Sauvegarde!$A$2:$C$5)),_xlfn.SEQUENCE(3)^0))*(Sauvegarde!$D$2:$D$5=B$3),"")} | C5: {=_xlfn._xlws.FILTER(Sauvegarde!$F$2:$F$5,(MMULT(--ISNUMBER(SEARCH($A5,Sauvegarde!$A$2:$C$5)),_xlfn.SEQUENCE(3)^0))*(Sauvegarde!$D$2:$D$5=C$3),"")} | D5: {=_xlfn._xlws.FILTER(Sauvegarde!$F$2:$F$5,(MMULT(--ISNUMBER(SEARCH($A5,Sauvegarde!$A$2:$C$5)),_xlfn.SEQUENCE(3)^0))*(Sauvegarde!$D$2:$D$5=D$3),"")} -> 4 | E5: {=_xlfn._xlws.FILTER(Sauvegarde!$F$2:$F$5,(MMULT(--ISNUMBER(SEARCH($A5,Sauvegarde!$A$2:$C$5)),_xlfn.SEQUENCE(3)^0))*(Sauvegarde!$D$2:$D$5=E$3),"")} | J5: Test 7 | M5: 4
A6: Titi | B6: {=_xlfn._xlws.FILTER(Sauvegarde!$F$2:$F$5,(MMULT(--ISNUMBER(SEARCH($A6,Sauvegarde!$A$2:$C$5)),_xlfn.SEQUENCE(3)^0))*(Sauvegarde!$D$2:$D$5=B$3),"")} | C6: {=_xlfn._xlws.FILTER(Sauvegarde!$F$2:$F$5,(MMULT(--ISNUMBER(SEARCH($A6,Sauvegarde!$A$2:$C$5)),_xlfn.SEQUENCE(3)^0))*(Sauvegarde!$D$2:$D$5=C$3),"")} -> 4 | D6: {=_xlfn._xlws.FILTER(Sauvegarde!$F$2:$F$5,(MMULT(--ISNUMBER(SEARCH($A6,Sauvegarde!$A$2:$C$5)),_xlfn.SEQUENCE(3)^0))*(Sauvegarde!$D$2:$D$5=D$3),"")} | E6: {=_xlfn._xlws.FILTER(Sauvegarde!$F$2:$F$5,(MMULT(--ISNUMBER(SEARCH($A6,Sauvegarde!$A$2:$C$5)),_xlfn.SEQUENCE(3)^0))*(Sauvegarde!$D$2:$D$5=E$3),"")} -> 3 | J6: Titi | L6: 4 | N6: 3
A7: Henri | B7: {=_xlfn._xlws.FILTER(Sauvegarde!$F$2:$F$5,(MMULT(--ISNUMBER(SEARCH($A7,Sauvegarde!$A$2:$C$5)),_xlfn.SEQUENCE(3)^0))*(Sauvegarde!$D$2:$D$5=B$3),"")} -> 0 | C7: {=_xlfn._xlws.FILTER(Sauvegarde!$F$2:$F$5,(MMULT(--ISNUMBER(SEARCH($A7,Sauvegarde!$A$2:$C$5)),_xlfn.SEQUENCE(3)^0))*(Sauvegarde!$D$2:$D$5=C$3),"")} | D7: {=_xlfn._xlws.FILTER(Sauvegarde!$F$2:$F$5,(MMULT(--ISNUMBER(SEARCH($A7,Sauvegarde!$A$2:$C$5)),_xlfn.SEQUENCE(3)^0))*(Sauvegarde!$D$2:$D$5=D$3),"")} | E7: {=_xlfn._xlws.FILTER(Sauvegarde!$F$2:$F$5,(MMULT(--ISNUMBER(SEARCH($A7,Sauvegarde!$A$2:$C$5)),_xlfn.SEQUENCE(3)^0))*(Sauvegarde!$D$2:$D$5=E$3),"")} -> 3 | J7: Henri | K7: 0
A8: Paul | B8: {=_xlfn._xlws.FILTER(Sauvegarde!$F$2:$F$5,(MMULT(--ISNUMBER(SEARCH($A8,Sauvegarde!$A$2:$C$5)),_xlfn.SEQUENCE(3)^0))*(Sauvegarde!$D$2:$D$5=B$3),"")} | C8: {=_xlfn._xlws.FILTER(Sauvegarde!$F$2:$F$5,(MMULT(--ISNUMBER(SEARCH($A8,Sauvegarde!$A$2:$C$5)),_xlfn.SEQUENCE(3)^0))*(Sauvegarde!$D$2:$D$5=C$3),"")} -> 4 | D8: {=_xlfn._xlws.FILTER(Sauvegarde!$F$2:$F$5,(MMULT(--ISNUMBER(SEARCH($A8,Sauvegarde!$A$2:$C$5)),_xlfn.SEQUENCE(3)^0))*(Sauvegarde!$D$2:$D$5=D$3),"")} | E8: {=_xlfn._xlws.FILTER(Sauvegarde!$F$2:$F$5,(MMULT(--ISNUMBER(SEARCH($A8,Sauvegarde!$A$2:$C$5)),_xlfn.SEQUENCE(3)^0))*(Sauvegarde!$D$2:$D$5=E$3),"")} | J8: Paul | L8: 4

Sheet Sauvegarde
A1: Nom 1 | B1: Nom 2 | C1: Nom 3 | D1: Date | E1: N° | F1: Victoire | G1: Goal-av. | H1: Gain
A2: Marie | B2: Henri | D2: 45213 | E2: 1 | F2: 0 | G2: -26 | H2: 0
A3: Marie | B3: Titi | C3: Paul | D3: 45214 | E3: 2 | F3: 4 | G3: 52 | H3: 16
A4: Test 7 | B4: Marie | D4: 45215 | E4: 7 | F4: 4 | G4: 52 | H4: 16
A5: Titi | B5: Henri | C5: Marie | D5: 45216 | E5: 8 | F5: 3 | G5: 38 | H5: 16

Sheet Power Query
A1: Nom 1 | B1: Nom 2 | C1: Nom 3 | D1: Date | E1: N° | F1: Victoire | G1: Goal-av. | H1: Gain | J1: Noms | K1: 14/10/2023 | L1: 15/10/2023 | M1: 16/10/2023 | N1: 17/10/2023
A2: Marie | B2: Henri | D2: 45213 | E2: 1 | F2: 0 | G2: -26 | H2: 0 | J2: Marie | K2: 0 | L2: 4
A3: Marie | B3: Titi | C3: Paul | D3: 45214 | E3: 2 | F3: 4 | G3: 52 | H3: 16 | J3: Test 7 | M3: 4
A4: Test 7 | B4: Marie | D4: 45215 | E4: 7 | F4: 4 | G4: 52 | H4: 16 | J4: Titi | N4: 3
A5: Titi | B5: Henri | C5: Marie | D5: 45216 | E5: 8 | F5: 3 | G5: 38 | H5: 16 | J5: Henri | K5: 0 | N5: 3
J6: Marie | M6: 4
J7: Titi | L7: 4
J8: Marie | N8: 3
J9: Paul | L9: 4

Sheet 4 équipes
A2: Partie n° 1 | F2: Resultat | I2: Partie n° 3 | N2: Resultat
A3: Match 1 | B3: =_xlfn.XLOOKUP($T3,$R$3:$R$10,#REF!,0,0) -> #REF! | C3: vs. | D3: =_xlfn.XLOOKUP($U3,$R$3:$R$10,#REF!,0,0) -> #REF! | I3: Match 1 | J3: =_xlfn.XLOOKUP($Z3,$R$3:$R$10,#REF!,0,0) -> #REF! | K3: vs. | L3: =_xlfn.XLOOKUP($AA3,$R$3:$R$10,#REF!,0,0) -> #REF! | Q3: =RANDBETWEEN(1,100000) -> 4010 | R3: =RANK($Q3,$Q$3:$Q$26,) -> 4 | T3: 1 | U3: 2 | W3: 1 | X3: 3 | Z3: 1 | AA3: 4
A4: Match 2 | B4: =_xlfn.XLOOKUP($T4,$R$3:$R$10,#REF!,0,0) -> #REF! | C4: vs. | D4: =_xlfn.XLOOKUP($U4,$R$3:$R$10,#REF!,0,0) -> #REF! | E4: =_xlfn.XLOOKUP($U4,$R$3:$R$10,#REF!,0,0) -> #REF! | I4: Match 2 | J4: =_xlfn.XLOOKUP($Z4,$R$3:$R$10,#REF!,0,0) -> #REF! | K4: vs. | L4: =_xlfn.XLOOKUP($AA4,$R$3:$R$10,#REF!,0,0) -> #REF! | Q4: =RANDBETWEEN(1,100000) -> 69754 | R4: =RANK($Q4,$Q$3:$Q$26) -> 2 | T4: 3 | U4: 4 | W4: 2 | X4: 4 | Z4: 2 | AA4: 3
Q5: =RANDBETWEEN(1,100000) -> 93784 | R5: =RANK($Q5,$Q$3:$Q$26) -> 1
Q6: =RANDBETWEEN(1,100000) -> 38313 | R6: =RANK($Q6,$Q$3:$Q$26) -> 3
A16: Parie n° 2 | F16: Resultat
A17: Match 1 | B17: =_xlfn.XLOOKUP($W3,$R$3:$R$10,#REF!,0,0) -> #REF! | C17: vs. | D17: =_xlfn.XLOOKUP($X3,$R$3:$R$10,#REF!,0,0) -> #REF!
A18: Match 2 | B18: =_xlfn.XLOOKUP($W4,$R$3:$R$10,#REF!,0,0) -> #REF! | C18: vs. | D18: =_xlfn.XLOOKUP($X4,$R$3:$R$10,#REF!,0,0) -> #REF!
Q27: =IF(#REF!<>"",RANDBETWEEN(1,100),"") -> #REF!

Sheet 6 équipes
A2: Partie n° 1 | F2: Resultat | I2: Partie n° 3 | N2: Resultat
A3: Match 1 | B3: =_xlfn.XLOOKUP($T3,$R$3:$R$10,#REF!,0,0) -> #REF! | C3: vs. | D3: =_xlfn.XLOOKUP($U3,$R$3:$R$10,#REF!,0,0) -> #REF! | I3: Match 1 | J3: =_xlfn.XLOOKUP($W3,$R$3:$R$10,#REF!,0,0) -> #REF! | K3: vs. | L3: =_xlfn.XLOOKUP($X3,$R$3:$R$10,#REF!,0,0) -> #REF! | Q3: =RANDBETWEEN(1,100000) -> 50203 | R3: =RANK($Q3,$Q$3:$Q$26,) -> 4 | T3: 1 | U3: 4 | W3: 1 | X3: 3
A4: Match 2 | B4: =_xlfn.XLOOKUP($T4,$R$3:$R$10,#REF!,0,0) -> #REF! | C4: vs. | D4: =_xlfn.XLOOKUP($U4,$R$3:$R$10,#REF!,0,0) -> #REF! | E4: =_xlfn.XLOOKUP($U4,$R$3:$R$10,#REF!,0,0) -> #REF! | I4: Match 2 | J4: =_xlfn.XLOOKUP($W4,$R$3:$R$10,#REF!,0,0) -> #REF! | K4: vs. | L4: =_xlfn.XLOOKUP($X4,$R$3:$R$10,#REF!,0,0) -> #REF! | Q4: =RANDBETWEEN(1,100000) -> 42621 | R4: =RANK($Q4,$Q$3:$Q$26) -> 5 | T4: 2 | U4: 5 | W4: 2 | X4: 6
A5: Match 3 | B5: =_xlfn.XLOOKUP($T5,$R$3:$R$10,#REF!,0,0) -> #REF! | C5: vs. | D5: =_xlfn.XLOOKUP($U5,$R$3:$R$10,#REF!,0,0) -> #REF! | E5: =_xlfn.XLOOKUP($U5,$R$3:$R$10,#REF!,0,0) -> #REF! | I5: Match 3 | J5: =_xlfn.XLOOKUP($W5,$R$3:$R$10,#REF!,0,0) -> #REF! | K5: vs. | L5: =_xlfn.XLOOKUP($X5,$R$3:$R$10,#REF!,0,0) -> #REF! | Q5: =RANDBETWEEN(1,100000) -> 74266 | R5: =RANK($Q5,$Q$3:$Q$26) -> 1 | T5: 3 | U5: 6 | W5: 4 | X5: 5
Q6: =RANDBETWEEN(1,100000) -> 55211 | R6: =RANK($Q6,$Q$3:$Q$26) -> 3
Q7: =RANDBETWEEN(1,100000) -> 59872 | R7: =RANK($Q7,$Q$3:$Q$26) -> 2 | T7: 1 | U7: 2 | W7: 1 | X7: 6
Q8: =RANDBETWEEN(1,100000) -> 30763 | R8: =RANK($Q8,$Q$3:$Q$26) -> 6 | T8: 3 | U8: 4 | W8: 2 | X8: 4
T9: 5 | U9: 6 | W9: 3 | X9: 5
A16: Parie n° 2 | F16: Resultat | I16: Partie n° 4 | N16: Resultat
A17: Match 1 | B17: =_xlfn.XLOOKUP($T7,$R$3:$R$10,#REF!,0,0) -> #REF! | C17: vs. | D17: =_xlfn.XLOOKUP($U7,$R$3:$R$10,#REF!,0,0) -> #REF! | I17: Match 1 | J17: =_xlfn.XLOOKUP($W7,$R$3:$R$8,#REF!,0,0) -> #REF! | K17: vs. | L17: =_xlfn.XLOOKUP($X7,$R$3:$R$8,#REF!,0,0) -> #REF!
A18: Match 2 | B18: =_xlfn.XLOOKUP($T8,$R$3:$R$10,#REF!,0,0) -> #REF! | C18: vs. | D18: =_xlfn.XLOOKUP($U8,$R$3:$R$10,#REF!,0,0) -> #REF! | I18: Match 2 | J18: =_xlfn.XLOOKUP($W8,$R$3:$R$8,#REF!,0,0) -> #REF! | K18: vs. | L18: =_xlfn.XLOOKUP($X8,$R$3:$R$8,#REF!,0,0) -> #REF!
A19: Match 3 | B19: =_xlfn.XLOOKUP($T9,$R$3:$R$10,#REF!,0,0) -> #REF! | C19: vs. | D19: =_xlfn.XLOOKUP($U9,$R$3:$R$10,#REF!,0,0) -> #REF! | I19: Match 3 | J19: =_xlfn.XLOOKUP($W9,$R$3:$R$8,#REF!,0,0) -> #REF! | K19: vs. | L19: =_xlfn.XLOOKUP($X9,$R$3:$R$8,#REF!,0,0) -> #REF!
Q27: =IF(#REF!<>"",RANDBETWEEN(1,100),"") -> #REF!

Sheet 8 équipes
A2: Partie n° 1 | F2: Resultat | I2: Partie n° 3 | N2: Resultat
A3: Match 1 | B3: =_xlfn.XLOOKUP($T3,$R$3:$R$10,#REF!,0,0) -> #REF! | C3: vs. | D3: =_xlfn.XLOOKUP($U3,$R$3:$R$10,#REF!,0,0) -> #REF! | I3: Match 1 | J3: =_xlfn.XLOOKUP($Z3,$R$3:$R$10,#REF!,0,0) -> #REF! | K3: vs. | L3: =_xlfn.XLOOKUP($AA3,$R$3:$R$10,#REF!,0,0) -> #REF! | Q3: =RANDBETWEEN(1,100000) -> 8926 | R3: =RANK($Q3,$Q$3:$Q$26,) -> 7 | T3: 1 | U3: 5 | W3: 1 | X3: 2 | Z3: 1 | AA3: 3 | AC3: 1 | AD3: 8
A4: Match 2 | B4: =_xlfn.XLOOKUP($T4,$R$3:$R$10,#REF!,0,0) -> #REF! | C4: vs. | D4: =_xlfn.XLOOKUP($U4,$R$3:$R$10,#REF!,0,0) -> #REF! | E4: =_xlfn.XLOOKUP($U4,$R$3:$R$10,#REF!,0,0) -> #REF! | I4: Match 2 | J4: =_xlfn.XLOOKUP($Z4,$R$3:$R$10,#REF!,0,0) -> #REF! | K4: vs. | L4: =_xlfn.XLOOKUP($AA4,$R$3:$R$10,#REF!,0,0) -> #REF! | Q4: =RANDBETWEEN(1,100000) -> 97307 | R4: =RANK($Q4,$Q$3:$Q$26) -> 1 | T4: 2 | U4: 6 | W4: 3 | X4: 4 | Z4: 4 | AA4: 5 | AC4: 2 | AD4: 5
A5: Match 3 | B5: =_xlfn.XLOOKUP($T5,$R$3:$R$10,#REF!,0,0) -> #REF! | C5: vs. | D5: =_xlfn.XLOOKUP($U5,$R$3:$R$10,#REF!,0,0) -> #REF! | E5: =_xlfn.XLOOKUP($U5,$R$3:$R$10,#REF!,0,0) -> #REF! | I5: Match 3 | J5: =_xlfn.XLOOKUP($Z5,$R$3:$R$10,#REF!,0,0) -> #REF! | K5: vs. | L5: =_xlfn.XLOOKUP($AA5,$R$3:$R$10,#REF!,0,0) -> #REF! | Q5: =RANDBETWEEN(1,100000) -> 94437 | R5: =RANK($Q5,$Q$3:$Q$26) -> 2 | T5: 3 | U5: 7 | W5: 5 | X5: 6 | Z5: 6 | AA5: 8 | AC5: 3 | AD5: 6
A6: Match 4 | B6: =_xlfn.XLOOKUP($T6,$R$3:$R$10,#REF!,0,0) -> #REF! | C6: vs. | D6: =_xlfn.XLOOKUP($U6,$R$3:$R$10,#REF!,0,0) -> #REF! | E6: =_xlfn.XLOOKUP($U6,$R$3:$R$10,#REF!,0,0) -> #REF! | I6: Match 4 | J6: =_xlfn.XLOOKUP($Z6,$R$3:$R$10,#REF!,0,0) -> #REF! | K6: vs. | L6: =_xlfn.XLOOKUP($AA6,$R$3:$R$10,#REF!,0,0) -> #REF! | Q6: =RANDBETWEEN(1,100000) -> 10045 | R6: =RANK($Q6,$Q$3:$Q$26) -> 6 | T6: 4 | U6: 8 | W6: 7 | X6: 8 | Z6: 2 | AA6: 7 | AC6: 4 | AD6: 7
Q7: =RANDBETWEEN(1,100000) -> 63288 | R7: =RANK($Q7,$Q$3:$Q$26) -> 4
Q8: =RANDBETWEEN(1,100000) -> 35994 | R8: =RANK($Q8,$Q$3:$Q$26) -> 5
Q9: =RANDBETWEEN(1,100000) -> 798 | R9: =RANK($Q9,$Q$3:$Q$26) -> 8
Q10: =RANDBETWEEN(1,100000) -> 71801 | R10: =RANK($Q10,$Q$3:$Q$26) -> 3
A16: Parie n° 2 | F16: Resultat | I16: Partie n° 4 | N16: Resultat
A17: Match 1 | B17: =_xlfn.XLOOKUP($W3,$R$3:$R$10,#REF!,0,0) -> #REF! | C17: vs. | D17: =_xlfn.XLOOKUP($X3,$R$3:$R$10,#REF!,0,0) -> #REF! | I17: Match 1 | J17: =_xlfn.XLOOKUP($AC3,$R$3:$R$10,#REF!,0,0) -> #REF! | K17: vs. | L17: =_xlfn.XLOOKUP($AD3,$R$3:$R$10,#REF!,0,0) -> #REF!
A18: Match 2 | B18: =_xlfn.XLOOKUP($W4,$R$3:$R$10,#REF!,0,0) -> #REF! | C18: vs. | D18: =_xlfn.XLOOKUP($X4,$R$3:$R$10,#REF!,0,0) -> #REF! | I18: Match 2 | J18: =_xlfn.XLOOKUP($AC4,$R$3:$R$10,#REF!,0,0) -> #REF! | K18: vs. | L18: =_xlfn.XLOOKUP($AD4,$R$3:$R$10,#REF!,0,0) -> #REF!
A19: Match 3 | B19: =_xlfn.XLOOKUP($W5,$R$3:$R$10,#REF!,0,0) -> #REF! | C19: vs. | D19: =_xlfn.XLOOKUP($X5,$R$3:$R$10,#REF!,0,0) -> #REF! | I19: Match 3 | J19: =_xlfn.XLOOKUP($AC5,$R$3:$R$10,#REF!,0,0) -> #REF! | K19: vs. | L19: =_xlfn.XLOOKUP($AD5,$R$3:$R$10,#REF!,0,0) -> #REF!
A20: Match 4 | B20: =_xlfn.XLOOKUP($W6,$R$3:$R$10,#REF!,0,0) -> #REF! | C20: vs. | D20: =_xlfn.XLOOKUP($X6,$R$3:$R$10,#REF!,0,0) -> #REF! | I20: Match 4 | J20: =_xlfn.XLOOKUP($AC6,$R$3:$R$10,#REF!,0,0) -> #REF! | K20: vs. | L20: =_xlfn.XLOOKUP($AD6,$R$3:$R$10,#REF!,0,0) -> #REF!
Q27: =IF(#REF!<>"",RANDBETWEEN(1,100),"") -> #REF!

Sheet 10 équipes
A2: Partie n° 1 | F2: Resultat | I2: Partie n° 3 | N2: Resultat
A3: Match 1 | B3: =_xlfn.XLOOKUP($T3,'10 équipes'!$R$3:$R$26,#REF!,0,0) -> #REF! | C3: vs. | D3: =_xlfn.XLOOKUP($U3,'10 équipes'!$R$3:$R$26,#REF!,0,0) -> #REF! | I3: Match 1 | J3: =_xlfn.XLOOKUP($Z3,'10 équipes'!$R$3:$R$26,#REF!,0,0) -> #REF! | K3: vs. | L3: =_xlfn.XLOOKUP($AA3,'10 équipes'!$R$3:$R$26,#REF!,0,0) -> #REF! | Q3: =RANDBETWEEN(1,100000) -> 40831 | R3: =RANK($Q3,$Q$3:$Q$26,) -> 3 | T3: 1 | U3: 2 | W3: 1 | X3: 3 | Z3: 1 | AA3: 9 | AC3: 1 | AD3: 10
A4: Match 2 | B4: =_xlfn.XLOOKUP($T4,'10 équipes'!$R$3:$R$26,#REF!,0,0) -> #REF! | C4: vs. | D4: =_xlfn.XLOOKUP($U4,'10 équipes'!$R$3:$R$26,#REF!,0,0) -> #REF! | I4: Match 2 | J4: =_xlfn.XLOOKUP($Z4,'10 équipes'!$R$3:$R$26,#REF!,0,0) -> #REF! | K4: vs. | L4: =_xlfn.XLOOKUP($AA4,'10 équipes'!$R$3:$R$26,#REF!,0,0) -> #REF! | Q4: =RANDBETWEEN(1,100000) -> 45242 | R4: =RANK($Q4,$Q$3:$Q$26) -> 2 | T4: 3 | U4: 4 | W4: 2 | X4: 10 | Z4: 2 | AA4: 3 | AC4: 2 | AD4: 6
A5: Match 3 | B5: =_xlfn.XLOOKUP($T5,'10 équipes'!$R$3:$R$26,#REF!,0,0) -> #REF! | C5: vs. | D5: =_xlfn.XLOOKUP($U5,'10 équipes'!$R$3:$R$26,#REF!,0,0) -> #REF! | I5: Match 3 | J5: =_xlfn.XLOOKUP($Z5,'10 équipes'!$R$3:$R$26,#REF!,0,0) -> #REF! | K5: vs. | L5: =_xlfn.XLOOKUP($AA5,'10 équipes'!$R$3:$R$26,#REF!,0,0) -> #REF! | Q5: =RANDBETWEEN(1,100000) -> 2336 | R5: =RANK($Q5,$Q$3:$Q$26) -> 8 | T5: 5 | U5: 6 | W5: 5 | X5: 7 | Z5: 5 | AA5: 8 | AC5: 3 | AD5: 7
A6: Match 4 | B6: =_xlfn.XLOOKUP($T6,'10 équipes'!$R$3:$R$26,#REF!,0,0) -> #REF! | C6: vs. | D6: =_xlfn.XLOOKUP($U6,'10 équipes'!$R$3:$R$26,#REF!,0,0) -> #REF! | I6: Match 4 | J6: =_xlfn.XLOOKUP($Z6,'10 équipes'!$R$3:$R$26,#REF!,0,0) -> #REF! | K6: vs. | L6: =_xlfn.XLOOKUP($AA6,'10 équipes'!$R$3:$R$26,#REF!,0,0) -> #REF! | Q6: =RANDBETWEEN(1,100000) -> 1203 | R6: =RANK($Q6,$Q$3:$Q$26) -> 9 | T6: 7 | U6: 8 | W6: 6 | X6: 8 | Z6: 6 | AA6: 7 | AC6: 4 | AD6: 8
A7: Match 5 | B7: =_xlfn.XLOOKUP($T7,'10 équipes'!$R$3:$R$26,#REF!,0,0) -> #REF! | C7: vs. | D7: =_xlfn.XLOOKUP($U7,'10 équipes'!$R$3:$R$26,#REF!,0,0) -> #REF! | I7: Match 5 | J7: =_xlfn.XLOOKUP($Z7,'10 équipes'!$R$3:$R$26,#REF!,0,0) -> #REF! | K7: vs. | L7: =_xlfn.XLOOKUP($AA7,'10 équipes'!$R$3:$R$26,#REF!,0,0) -> #REF! | Q7: =RANDBETWEEN(1,100000) -> 34729 | R7: =RANK($Q7,$Q$3:$Q$26) -> 5 | T7: 9 | U7: 10 | W7: 9 | X7: 4 | Z7: 4 | AA7: 10 | AC7: 5 | AD7: 9
Q8: =RANDBETWEEN(1,100000) -> 886 | R8: =RANK($Q8,$Q$3:$Q$26) -> 10
Q9: =RANDBETWEEN(1,100000) -> 65322 | R9: =RANK($Q9,$Q$3:$Q$26) -> 1
Q10: =RANDBETWEEN(1,100000) -> 11518 | R10: =RANK($Q10,$Q$3:$Q$26) -> 7
Q11: =RANDBETWEEN(1,100000) -> 23408 | R11: =RANK($Q11,$Q$3:$Q$26) -> 6
Q12: =RANDBETWEEN(1,100000) -> 37994 | R12: =RANK($Q12,$Q$3:$Q$26) -> 4
A16: Parie n° 2 | F16: Resultat | I16: Partie n° 4 | N16: Resultat
A17: Match 1 | B17: =_xlfn.XLOOKUP($W3,'10 équipes'!$R$3:$R$26,#REF!,0,0) -> #REF! | C17: vs. | D17: =_xlfn.XLOOKUP($X3,'10 équipes'!$R$3:$R$26,#REF!,0,0) -> #REF! | I17: Match 1 | J17: =_xlfn.XLOOKUP($AC3,'10 équipes'!$R$3:$R$26,#REF!,0,0) -> #REF! | K17: vs. | L17: =_xlfn.XLOOKUP($AD3,'10 équipes'!$R$3:$R$26,#REF!,0,0) -> #REF!
A18: Match 2 | B18: =_xlfn.XLOOKUP($W4,'10 équipes'!$R$3:$R$26,#REF!,0,0) -> #REF! | C18: vs. | D18: =_xlfn.XLOOKUP($X4,'10 équipes'!$R$3:$R$26,#REF!,0,0) -> #REF! | I18: Match 2 | J18: =_xlfn.XLOOKUP($AC4,'10 équipes'!$R$3:$R$26,#REF!,0,0) -> #REF! | K18: vs. | L18: =_xlfn.XLOOKUP($AD4,'10 équipes'!$R$3:$R$26,#REF!,0,0) -> #REF!
A19: Match 3 | B19: =_xlfn.XLOOKUP($W5,'10 équipes'!$R$3:$R$26,#REF!,0,0) -> #REF! | C19: vs. | D19: =_xlfn.XLOOKUP($X5,'10 équipes'!$R$3:$R$26,#REF!,0,0) -> #REF! | I19: Match 3 | J19: =_xlfn.XLOOKUP($AC5,'10 équipes'!$R$3:$R$26,#REF!,0,0) -> #REF! | K19: vs. | L19: =_xlfn.XLOOKUP($AD5,'10 équipes'!$R$3:$R$26,#REF!,0,0) -> #REF!
A20: Match 4 | B20: =_xlfn.XLOOKUP($W6,'10 équipes'!$R$3:$R$26,#REF!,0,0) -> #REF! | C20: vs. | D20: =_xlfn.XLOOKUP($X6,'10 équipes'!$R$3:$R$26,#REF!,0,0) -> #REF! | I20: Match 4 | J20: =_xlfn.XLOOKUP($AC6,'10 équipes'!$R$3:$R$26,#REF!,0,0) -> #REF! | K20: vs. | L20: =_xlfn.XLOOKUP($AD6,'10 équipes'!$R$3:$R$26,#REF!,0,0) -> #REF!
A21: Match 5 | B21: =_xlfn.XLOOKUP($W7,'10 équipes'!$R$3:$R$26,#REF!,0,0) -> #REF! | C21: vs. | D21: =_xlfn.XLOOKUP($X7,'10 équipes'!$R$3:$R$26,#REF!,0,0) -> #REF! | I21: Match 5 | J21: =_xlfn.XLOOKUP($AC7,'10 équipes'!$R$3:$R$26,#REF!,0,0) -> #REF! | K21: vs. | L21: =_xlfn.XLOOKUP($AD7,'10 équipes'!$R$3:$R$26,#REF!,0,0) -> #REF!
Q27: =IF(#REF!<>"",RANDBETWEEN(1,100),"") -> #REF!
AE44: Partie 4 :

Sheet 12 équipes
A2: Partie n° 1 | I2: Partie n° 3
A3: Match 1 | B3: =_xlfn.XLOOKUP($T3,'12 équipes'!$R$3:$R$26,#REF!,0,0) -> #REF! | C3: vs. | D3: =_xlfn.XLOOKUP($U3,'12 équipes'!$R$3:$R$26,#REF!,0,0) -> #REF! | I3: Match 1 | J3: =_xlfn.XLOOKUP($Z3,'12 équipes'!$R$3:$R$26,#REF!,0,0) -> #REF! | K3: vs. | L3: =_xlfn.XLOOKUP($AA3,'12 équipes'!$R$3:$R$26,#REF!,0,0) -> #REF! | Q3: =RANDBETWEEN(1,100000) -> 84232 | R3: =RANK($Q3,$Q$3:$Q$26,) -> 1 | T3: 1 | U3: 2 | W3: 1 | X3: 3 | Z3: 1 | AA3: 4 | AC3: 1 | AD3: 12
A4: Match 2 | B4: =_xlfn.XLOOKUP($T4,'12 équipes'!$R$3:$R$26,#REF!,0,0) -> #REF! | C4: vs. | D4: =_xlfn.XLOOKUP($U4,'12 équipes'!$R$3:$R$26,#REF!,0,0) -> #REF! | I4: Match 2 | J4: =_xlfn.XLOOKUP($Z4,'12 équipes'!$R$3:$R$26,#REF!,0,0) -> #REF! | K4: vs. | L4: =_xlfn.XLOOKUP($AA4,'12 équipes'!$R$3:$R$26,#REF!,0,0) -> #REF! | Q4: =RANDBETWEEN(1,100000) -> 51933 | R4: =RANK($Q4,$Q$3:$Q$26) -> 4 | T4: 3 | U4: 4 | W4: 2 | X4: 4 | Z4: 2 | AA4: 3 | AC4: 2 | AD4: 6
A5: Match 3 | B5: =_xlfn.XLOOKUP($T5,'12 équipes'!$R$3:$R$26,#REF!,0,0) -> #REF! | C5: vs. | D5: =_xlfn.XLOOKUP($U5,'12 équipes'!$R$3:$R$26,#REF!,0,0) -> #REF! | I5: Match 3 | J5: =_xlfn.XLOOKUP($Z5,'12 équipes'!$R$3:$R$26,#REF!,0,0) -> #REF! | K5: vs. | L5: =_xlfn.XLOOKUP($AA5,'12 équipes'!$R$3:$R$26,#REF!,0,0) -> #REF! | Q5: =RANDBETWEEN(1,100000) -> 25272 | R5: =RANK($Q5,$Q$3:$Q$26) -> 11 | T5: 5 | U5: 6 | W5: 5 | X5: 7 | Z5: 5 | AA5: 8 | AC5: 3 | AD5: 10
A6: Match 4 | B6: =_xlfn.XLOOKUP($T6,'12 équipes'!$R$3:$R$26,#REF!,0,0) -> #REF! | C6: vs. | D6: =_xlfn.XLOOKUP($U6,'12 équipes'!$R$3:$R$26,#REF!,0,0) -> #REF! | I6: Match 4 | J6: =_xlfn.XLOOKUP($Z6,'12 équipes'!$R$3:$R$26,#REF!,0,0) -> #REF! | K6: vs. | L6: =_xlfn.XLOOKUP($AA6,'12 équipes'!$R$3:$R$26,#REF!,0,0) -> #REF! | Q6: =RANDBETWEEN(1,100000) -> 70396 | R6: =RANK($Q6,$Q$3:$Q$26) -> 2 | T6: 7 | U6: 8 | W6: 6 | X6: 8 | Z6: 6 | AA6: 7 | AC6: 4 | AD6: 8
A7: Match 5 | B7: =_xlfn.XLOOKUP($T7,'12 équipes'!$R$3:$R$26,#REF!,0,0) -> #REF! | C7: vs. | D7: =_xlfn.XLOOKUP($U7,'12 équipes'!$R$3:$R$26,#REF!,0,0) -> #REF! | I7: Match 5 | J7: =_xlfn.XLOOKUP($Z7,'12 équipes'!$R$3:$R$26,#REF!,0,0) -> #REF! | K7: vs. | L7: =_xlfn.XLOOKUP($AA7,'12 équipes'!$R$3:$R$26,#REF!,0,0) -> #REF! | Q7: =RANDBETWEEN(1,100000) -> 10806 | R7: =RANK($Q7,$Q$3:$Q$26) -> 12 | T7: 9 | U7: 10 | W7: 9 | X7: 11 | Z7: 9 | AA7: 12 | AC7: 5 | AD7: 9
A8: Match 6 | B8: =_xlfn.XLOOKUP($T8,'12 équipes'!$R$3:$R$26,#REF!,0,0) -> #REF! | C8: vs. | D8: =_xlfn.XLOOKUP($U8,'12 équipes'!$R$3:$R$26,#REF!,0,0) -> #REF! | I8: Match 6 | J8: =_xlfn.XLOOKUP($Z8,'12 équipes'!$R$3:$R$26,#REF!,0,0) -> #REF! | K8: vs. | L8: =_xlfn.XLOOKUP($AA8,'12 équipes'!$R$3:$R$26,#REF!,0,0) -> #REF! | Q8: =RANDBETWEEN(1,100000) -> 43343 | R8: =RANK($Q8,$Q$3:$Q$26) -> 8 | T8: 11 | U8: 12 | W8: 10 | X8: 12 | Z8: 10 | AA8: 11 | AC8: 7 | AD8: 11
Q9: =RANDBETWEEN(1,100000) -> 50006 | R9: =RANK($Q9,$Q$3:$Q$26) -> 6
Q10: =RANDBETWEEN(1,100000) -> 59935 | R10: =RANK($Q10,$Q$3:$Q$26) -> 3
Q11: =RANDBETWEEN(1,100000) -> 43417 | R11: =RANK($Q11,$Q$3:$Q$26) -> 7
Q12: =RANDBETWEEN(1,100000) -> 35363 | R12: =RANK($Q12,$Q$3:$Q$26) -> 10
Q13: =RANDBETWEEN(1,100000) -> 51491 | R13: =RANK($Q13,$Q$3:$Q$26) -> 5
Q14: =RANDBETWEEN(1,100000) -> 42368 | R14: =RANK($Q14,$Q$3:$Q$26) -> 9
A16: Parie n° 2 | I16: Partie n° 4
A17: Match 1 | B17: =_xlfn.XLOOKUP($W3,'12 équipes'!$R$3:$R$26,#REF!,0,0) -> #REF! | C17: vs. | D17: =_xlfn.XLOOKUP($X3,'12 équipes'!$R$3:$R$26,#REF!,0,0) -> #REF! | I17: Match 1 | J17: =_xlfn.XLOOKUP($AC3,'12 équipes'!$R$3:$R$26,#REF!,0,0) -> #REF! | K17: vs. | L17: =_xlfn.XLOOKUP($AD3,'12 équipes'!$R$3:$R$26,#REF!,0,0) -> #REF!
A18: Match 2 | B18: =_xlfn.XLOOKUP($W4,'12 équipes'!$R$3:$R$26,#REF!,0,0) -> #REF! | C18: vs. | D18: =_xlfn.XLOOKUP($X4,'12 équipes'!$R$3:$R$26,#REF!,0,0) -> #REF! | I18: Match 2 | J18: =_xlfn.XLOOKUP($AC4,'12 équipes'!$R$3:$R$26,#REF!,0,0) -> #REF! | K18: vs. | L18: =_xlfn.XLOOKUP($AD4,'12 équipes'!$R$3:$R$26,#REF!,0,0) -> #REF!
A19: Match 3 | B19: =_xlfn.XLOOKUP($W5,'12 équipes'!$R$3:$R$26,#REF!,0,0) -> #REF! | C19: vs. | D19: =_xlfn.XLOOKUP($X5,'12 équipes'!$R$3:$R$26,#REF!,0,0) -> #REF! | I19: Match 3 | J19: =_xlfn.XLOOKUP($AC5,'12 équipes'!$R$3:$R$26,#REF!,0,0) -> #REF! | K19: vs. | L19: =_xlfn.XLOOKUP($AD5,'12 équipes'!$R$3:$R$26,#REF!,0,0) -> #REF!
A20: Match 4 | B20: =_xlfn.XLOOKUP($W6,'12 équipes'!$R$3:$R$26,#REF!,0,0) -> #REF! | C20: vs. | D20: =_xlfn.XLOOKUP($X6,'12 équipes'!$R$3:$R$26,#REF!,0,0) -> #REF! | I20: Match 4 | J20: =_xlfn.XLOOKUP($AC6,'12 équipes'!$R$3:$R$26,#REF!,0,0) -> #REF! | K20: vs. | L20: =_xlfn.XLOOKUP($AD6,'12 équipes'!$R$3:$R$26,#REF!,0,0) -> #REF!
A21: Match 5 | B21: =_xlfn.XLOOKUP($W7,'12 équipes'!$R$3:$R$26,#REF!,0,0) -> #REF! | C21: vs. | D21: =_xlfn.XLOOKUP($X7,'12 équipes'!$R$3:$R$26,#REF!,0,0) -> #REF! | I21: Match 5 | J21: =_xlfn.XLOOKUP($AC7,'12 équipes'!$R$3:$R$26,#REF!,0,0) -> #REF! | K21: vs. | L21: =_xlfn.XLOOKUP($AD7,'12 équipes'!$R$3:$R$26,#REF!,0,0) -> #REF!
A22: Match 6 | B22: =_xlfn.XLOOKUP($W8,'12 équipes'!$R$3:$R$26,#REF!,0,0) -> #REF! | C22: vs. | D22: =_xlfn.XLOOKUP($X8,'12 équipes'!$R$3:$R$26,#REF!,0,0) -> #REF! | I22: Match 6 | J22: =_xlfn.XLOOKUP($AC8,'12 équipes'!$R$3:$R$26,#REF!,0,0) -> #REF! | K22: vs. | L22: =_xlfn.XLOOKUP($AD8,'12 équipes'!$R$3:$R$26,#REF!,0,0) -> #REF!
Q27: =IF(#REF!<>"",RANDBETWEEN(1,100),"") -> #REF!
AB44: Partie 4 :

Sheet 14 équipes
A2: Partie n° 1 | I2: Partie n° 3
A3: Match 1 | B3: =_xlfn.XLOOKUP($T3,'14 équipes'!$R$3:$R$26,#REF!,0,0) -> #REF! | C3: vs. | D3: =_xlfn.XLOOKUP($U3,'14 équipes'!$R$3:$R$26,#REF!,0,0) -> #REF! | I3: Match 1 | J3: =_xlfn.XLOOKUP($Z3,'14 équipes'!$R$3:$R$26,#REF!,0,0) -> #REF! | K3: vs. | L3: =_xlfn.XLOOKUP($AA3,'14 équipes'!$R$3:$R$26,#REF!,0,0) -> #REF! | Q3: =RANDBETWEEN(1,100000) -> 17502 | R3: =RANK($Q3,$Q$3:$Q$26,) -> 12 | T3: 1 | U3: 2 | W3: 4 | X3: 14 | Z3: 1 | AA3: 4 | AC3: 1 | AD3: 5
A4: Match 2 | B4: =_xlfn.XLOOKUP($T4,'14 équipes'!$R$3:$R$26,#REF!,0,0) -> #REF! | C4: vs. | D4: =_xlfn.XLOOKUP($U4,'14 équipes'!$R$3:$R$26,#REF!,0,0) -> #REF! | I4: Match 2 | J4: =_xlfn.XLOOKUP($Z4,'14 équipes'!$R$3:$R$26,#REF!,0,0) -> #REF! | K4: vs. | L4: =_xlfn.XLOOKUP($AA4,'14 équipes'!$R$3:$R$26,#REF!,0,0) -> #REF! | Q4: =RANDBETWEEN(1,100000) -> 416 | R4: =RANK($Q4,$Q$3:$Q$26) -> 14 | T4: 3 | U4: 4 | W4: 2 | X4: 4 | Z4: 2 | AA4: 14 | AC4: 2 | AD4: 12
A5: Match 3 | B5: =_xlfn.XLOOKUP($T5,'14 équipes'!$R$3:$R$26,#REF!,0,0) -> #REF! | C5: vs. | D5: =_xlfn.XLOOKUP($U5,'14 équipes'!$R$3:$R$26,#REF!,0,0) -> #REF! | I5: Match 3 | J5: =_xlfn.XLOOKUP($Z5,'14 équipes'!$R$3:$R$26,#REF!,0,0) -> #REF! | K5: vs. | L5: =_xlfn.XLOOKUP($AA5,'14 équipes'!$R$3:$R$26,#REF!,0,0) -> #REF! | Q5: =RANDBETWEEN(1,100000) -> 17591 | R5: =RANK($Q5,$Q$3:$Q$26) -> 11 | T5: 5 | U5: 6 | W5: 5 | X5: 7 | Z5: 5 | AA5: 8 | AC5: 3 | AD5: 7
A6: Match 4 | B6: =_xlfn.XLOOKUP($T6,'14 équipes'!$R$3:$R$26,#REF!,0,0) -> #REF! | C6: vs. | D6: =_xlfn.XLOOKUP($U6,'14 équipes'!$R$3:$R$26,#REF!,0,0) -> #REF! | I6: Match 4 | J6: =_xlfn.XLOOKUP($Z6,'14 équipes'!$R$3:$R$26,#REF!,0,0) -> #REF! | K6: vs. | L6: =_xlfn.XLOOKUP($AA6,'14 équipes'!$R$3:$R$26,#REF!,0,0) -> #REF! | Q6: =RANDBETWEEN(1,100000) -> 47515 | R6: =RANK($Q6,$Q$3:$Q$26) -> 5 | T6: 7 | U6: 8 | W6: 6 | X6: 8 | Z6: 6 | AA6: 7 | AC6: 4 | AD6: 8
A7: Match 5 | B7: =_xlfn.XLOOKUP($T7,'14 équipes'!$R$3:$R$26,#REF!,0,0) -> #REF! | C7: vs. | D7: =_xlfn.XLOOKUP($U7,'14 équipes'!$R$3:$R$26,#REF!,0,0) -> #REF! | I7: Match 5 | J7: =_xlfn.XLOOKUP($Z7,'14 équipes'!$R$3:$R$26,#REF!,0,0) -> #REF! | K7: vs. | L7: =_xlfn.XLOOKUP($AA7,'14 équipes'!$R$3:$R$26,#REF!,0,0) -> #REF! | Q7: =RANDBETWEEN(1,100000) -> 68772 | R7: =RANK($Q7,$Q$3:$Q$26) -> 2 | T7: 9 | U7: 10 | W7: 9 | X7: 11 | Z7: 9 | AA7: 12 | AC7: 9 | AD7: 13
A8: Match 6 | B8: =_xlfn.XLOOKUP($T8,'14 équipes'!$R$3:$R$26,#REF!,0,0) -> #REF! | C8: vs. | D8: =_xlfn.XLOOKUP($U8,'14 équipes'!$R$3:$R$26,#REF!,0,0) -> #REF! | I8: Match 6 | J8: =_xlfn.XLOOKUP($Z8,'14 équipes'!$R$3:$R$26,#REF!,0,0) -> #REF! | K8: vs. | L8: =_xlfn.XLOOKUP($AA8,'14 équipes'!$R$3:$R$26,#REF!,0,0) -> #REF! | Q8: =RANDBETWEEN(1,100000) -> 31982 | R8: =RANK($Q8,$Q$3:$Q$26) -> 8 | T8: 11 | U8: 12 | W8: 10 | X8: 12 | Z8: 10 | AA8: 11 | AC8: 10 | AD8: 14
A9: Match 7 | B9: =_xlfn.XLOOKUP($T9,'14 équipes'!$R$3:$R$26,#REF!,0,0) -> #REF! | C9: vs. | D9: =_xlfn.XLOOKUP($U9,'14 équipes'!$R$3:$R$26,#REF!,0,0) -> #REF! | I9: Match 7 | J9: =_xlfn.XLOOKUP($Z9,'14 équipes'!$R$3:$R$26,#REF!,0,0) -> #REF! | K9: vs. | L9: =_xlfn.XLOOKUP($AA9,'14 équipes'!$R$3:$R$26,#REF!,0,0) -> #REF! | Q9: =RANDBETWEEN(1,100000) -> 19442 | R9: =RANK($Q9,$Q$3:$Q$26) -> 10 | T9: 13 | U9: 14 | W9: 1 | X9: 13 | Z9: 3 | AA9: 13 | AC9: 5 | AD9: 11
Q10: =RANDBETWEEN(1,100000) -> 5536 | R10: =RANK($Q10,$Q$3:$Q$26) -> 13
Q11: =RANDBETWEEN(1,100000) -> 87546 | R11: =RANK($Q11,$Q$3:$Q$26) -> 1
Q12: =RANDBETWEEN(1,100000) -> 63421 | R12: =RANK($Q12,$Q$3:$Q$26) -> 3
Q13: =RANDBETWEEN(1,100000) -> 37726 | R13: =RANK($Q13,$Q$3:$Q$26) -> 6
Q14: =RANDBETWEEN(1,100000) -> 54253 | R14: =RANK($Q14,$Q$3:$Q$26) -> 4
Q15: =RANDBETWEEN(1,100000) -> 32393 | R15: =RANK($Q15,$Q$3:$Q$26) -> 7
A16: Parie n° 2 | I16: Partie n° 4 | Q16: =RANDBETWEEN(1,100000) -> 21788 | R16: =RANK($Q16,$Q$3:$Q$26) -> 9
A17: Match 1 | B17: =_xlfn.XLOOKUP($W3,'14 équipes'!$R$3:$R$26,#REF!,0,0) -> #REF! | C17: vs. | D17: =_xlfn.XLOOKUP($X3,'14 équipes'!$R$3:$R$26,#REF!,0,0) -> #REF! | I17: Match 1 | J17: =_xlfn.XLOOKUP($AC3,'14 équipes'!$R$3:$R$26,#REF!,0,0) -> #REF! | K17: vs. | L17: =_xlfn.XLOOKUP($AD3,'14 équipes'!$R$3:$R$26,#REF!,0,0) -> #REF!
A18: Match 2 | B18: =_xlfn.XLOOKUP($W4,'14 équipes'!$R$3:$R$26,#REF!,0,0) -> #REF! | C18: vs. | D18: =_xlfn.XLOOKUP($X4,'14 équipes'!$R$3:$R$26,#REF!,0,0) -> #REF! | I18: Match 2 | J18: =_xlfn.XLOOKUP($AC4,'14 équipes'!$R$3:$R$26,#REF!,0,0) -> #REF! | K18: vs. | L18: =_xlfn.XLOOKUP($AD4,'14 équipes'!$R$3:$R$26,#REF!,0,0) -> #REF!
A19: Match 3 | B19: =_xlfn.XLOOKUP($W5,'14 équipes'!$R$3:$R$26,#REF!,0,0) -> #REF! | C19: vs. | D19: =_xlfn.XLOOKUP($X5,'14 équipes'!$R$3:$R$26,#REF!,0,0) -> #REF! | I19: Match 3 | J19: =_xlfn.XLOOKUP($AC5,'14 équipes'!$R$3:$R$26,#REF!,0,0) -> #REF! | K19: vs. | L19: =_xlfn.XLOOKUP($AD5,'14 équipes'!$R$3:$R$26,#REF!,0,0) -> #REF!
A20: Match 4 | B20: =_xlfn.XLOOKUP($W6,'14 équipes'!$R$3:$R$26,#REF!,0,0) -> #REF! | C20: vs. | D20: =_xlfn.XLOOKUP($X6,'14 équipes'!$R$3:$R$26,#REF!,0,0) -> #REF! | I20: Match 4 | J20: =_xlfn.XLOOKUP($AC6,'14 équipes'!$R$3:$R$26,#REF!,0,0) -> #REF! | K20: vs. | L20: =_xlfn.XLOOKUP($AD6,'14 équipes'!$R$3:$R$26,#REF!,0,0) -> #REF!
A21: Match 5 | B21: =_xlfn.XLOOKUP($W7,'14 équipes'!$R$3:$R$26,#REF!,0,0) -> #REF! | C21: vs. | D21: =_xlfn.XLOOKUP($X7,'14 équipes'!$R$3:$R$26,#REF!,0,0) -> #REF! | I21: Match 5 | J21: =_xlfn.XLOOKUP($AC7,'14 équipes'!$R$3:$R$26,#REF!,0,0) -> #REF! | K21: vs. | L21: =_xlfn.XLOOKUP($AD7,'14 équipes'!$R$3:$R$26,#REF!,0,0) -> #REF!
A22: Match 6 | B22: =_xlfn.XLOOKUP($W8,'14 équipes'!$R$3:$R$26,#REF!,0,0) -> #REF! | C22: vs. | D22: =_xlfn.XLOOKUP($X8,'14 équipes'!$R$3:$R$26,#REF!,0,0) -> #REF! | I22: Match 6 | J22: =_xlfn.XLOOKUP($AC8,'14 équipes'!$R$3:$R$26,#REF!,0,0) -> #REF! | K22: vs. | L22: =_xlfn.XLOOKUP($AD8,'14 équipes'!$R$3:$R$26,#REF!,0,0) -> #REF!
A23: Match 7 | B23: =_xlfn.XLOOKUP($W9,'14 équipes'!$R$3:$R$26,#REF!,0,0) -> #REF! | C23: vs. | D23: =_xlfn.XLOOKUP($X9,'14 équipes'!$R$3:$R$26,#REF!,0,0) -> #REF! | I23: Match 7 | J23: =_xlfn.XLOOKUP($AC9,'14 équipes'!$R$3:$R$26,#REF!,0,0) -> #REF! | K23: vs. | L23: =_xlfn.XLOOKUP($AD9,'14 équipes'!$R$3:$R$26,#REF!,0,0) -> #REF!
Q27: =IF(#REF!<>"",RANDBETWEEN(1,100),"") -> #REF!

Sheet 16 équipes
A2: Partie n° 1 | I2: Partie n° 3
A3: Match 1 | B3: =_xlfn.XLOOKUP($T3,$R$3:$R$18,#REF!,0,0) -> #REF! | C3: vs. | D3: =_xlfn.XLOOKUP($U3,$R$3:$R$18,#REF!,0,0) -> #REF! | I3: Match 1 | J3: =_xlfn.XLOOKUP($Z3,$R$3:$R$18,#REF!,0,0) -> #REF! | K3: vs. | L3: =_xlfn.XLOOKUP($AA3,'16 équipes'!$R$3:$R$26,#REF!,0,0) -> #REF! | Q3: =RANDBETWEEN(1,100000) -> 17519 | R3: =RANK($Q3,$Q$3:$Q$26,) -> 14 | T3: 1 | U3: 2 | W3: 1 | X3: 3 | Z3: 1 | AA3: 4 | AC3: 1 | AD3: 5
A4: Match 2 | B4: =_xlfn.XLOOKUP($T4,$R$3:$R$18,#REF!,0,0) -> #REF! | C4: vs. | D4: =_xlfn.XLOOKUP($U4,$R$3:$R$18,#REF!,0,0) -> #REF! | I4: Match 2 | J4: =_xlfn.XLOOKUP($Z4,$R$3:$R$18,#REF!,0,0) -> #REF! | K4: vs. | L4: =_xlfn.XLOOKUP($AA4,'16 équipes'!$R$3:$R$26,#REF!,0,0) -> #REF! | Q4: =RANDBETWEEN(1,100000) -> 22450 | R4: =RANK($Q4,$Q$3:$Q$26) -> 13 | T4: 3 | U4: 4 | W4: 2 | X4: 4 | Z4: 2 | AA4: 3 | AC4: 2 | AD4: 6
A5: Match 3 | B5: =_xlfn.XLOOKUP($T5,$R$3:$R$18,#REF!,0,0) -> #REF! | C5: vs. | D5: =_xlfn.XLOOKUP($U5,$R$3:$R$18,#REF!,0,0) -> #REF! | I5: Match 3 | J5: =_xlfn.XLOOKUP($Z5,$R$3:$R$18,#REF!,0,0) -> #REF! | K5: vs. | L5: =_xlfn.XLOOKUP($AA5,'16 équipes'!$R$3:$R$26,#REF!,0,0) -> #REF! | Q5: =RANDBETWEEN(1,100000) -> 47435 | R5: =RANK($Q5,$Q$3:$Q$26) -> 8 | T5: 5 | U5: 6 | W5: 5 | X5: 7 | Z5: 5 | AA5: 8 | AC5: 3 | AD5: 7
A6: Match 4 | B6: =_xlfn.XLOOKUP($T6,$R$3:$R$18,#REF!,0,0) -> #REF! | C6: vs. | D6: =_xlfn.XLOOKUP($U6,$R$3:$R$18,#REF!,0,0) -> #REF! | I6: Match 4 | J6: =_xlfn.XLOOKUP($Z6,$R$3:$R$18,#REF!,0,0) -> #REF! | K6: vs. | L6: =_xlfn.XLOOKUP($AA6,'16 équipes'!$R$3:$R$26,#REF!,0,0) -> #REF! | Q6: =RANDBETWEEN(1,100000) -> 67522 | R6: =RANK($Q6,$Q$3:$Q$26) -> 4 | T6: 7 | U6: 8 | W6: 6 | X6: 8 | Z6: 6 | AA6: 7 | AC6: 4 | AD6: 8
A7: Match 5 | B7: =_xlfn.XLOOKUP($T7,$R$3:$R$18,#REF!,0,0) -> #REF! | C7: vs. | D7: =_xlfn.XLOOKUP($U7,$R$3:$R$18,#REF!,0,0) -> #REF! | I7: Match 5 | J7: =_xlfn.XLOOKUP($Z7,$R$3:$R$18,#REF!,0,0) -> #REF! | K7: vs. | L7: =_xlfn.XLOOKUP($AA7,'16 équipes'!$R$3:$R$26,#REF!,0,0) -> #REF! | Q7: =RANDBETWEEN(1,100000) -> 78695 | R7: =RANK($Q7,$Q$3:$Q$26) -> 2 | T7: 9 | U7: 10 | W7: 9 | X7: 11 | Z7: 9 | AA7: 12 | AC7: 9 | AD7: 13
A8: Match 6 | B8: =_xlfn.XLOOKUP($T8,$R$3:$R$18,#REF!,0,0) -> #REF! | C8: vs. | D8: =_xlfn.XLOOKUP($U8,$R$3:$R$18,#REF!,0,0) -> #REF! | I8: Match 6 | J8: =_xlfn.XLOOKUP($Z8,$R$3:$R$18,#REF!,0,0) -> #REF! | K8: vs. | L8: =_xlfn.XLOOKUP($AA8,'16 équipes'!$R$3:$R$26,#REF!,0,0) -> #REF! | Q8: =RANDBETWEEN(1,100000) -> 7279 | R8: =RANK($Q8,$Q$3:$Q$26) -> 16 | T8: 11 | U8: 12 | W8: 10 | X8: 12 | Z8: 10 | AA8: 11 | AC8: 10 | AD8: 14
A9: Match 7 | B9: =_xlfn.XLOOKUP($T9,$R$3:$R$18,#REF!,0,0) -> #REF! | C9: vs. | D9: =_xlfn.XLOOKUP($U9,$R$3:$R$18,#REF!,0,0) -> #REF! | I9: Match 7 | J9: =_xlfn.XLOOKUP($Z9,$R$3:$R$18,#REF!,0,0) -> #REF! | K9: vs. | L9: =_xlfn.XLOOKUP($AA9,'16 équipes'!$R$3:$R$26,#REF!,0,0) -> #REF! | Q9: =RANDBETWEEN(1,100000) -> 48191 | R9: =RANK($Q9,$Q$3:$Q$26) -> 7 | T9: 13 | U9: 14 | W9: 13 | X9: 15 | Z9: 13 | AA9: 16 | AC9: 11 | AD9: 15
A10: Match 8 | B10: =_xlfn.XLOOKUP($T10,$R$3:$R$18,#REF!,0,0) -> #REF! | C10: vs. | D10: =_xlfn.XLOOKUP($U10,$R$3:$R$18,#REF!,0,0) -> #REF! | I10: Match 8 | J10: =_xlfn.XLOOKUP($Z10,$R$3:$R$18,#REF!,0,0) -> #REF! | K10: vs. | L10: =_xlfn.XLOOKUP($AA10,'16 équipes'!$R$3:$R$26,#REF!,0,0) -> #REF! | Q10: =RANDBETWEEN(1,100000) -> 36647 | R10: =RANK($Q10,$Q$3:$Q$26) -> 9 | T10: 15 | U10: 16 | W10: 14 | X10: 16 | Z10: 14 | AA10: 15 | AC10: 12 | AD10: 16
Q11: =RANDBETWEEN(1,100000) -> 66086 | R11: =RANK($Q11,$Q$3:$Q$26) -> 5
Q12: =RANDBETWEEN(1,100000) -> 7832 | R12: =RANK($Q12,$Q$3:$Q$26) -> 15
Q13: =RANDBETWEEN(1,100000) -> 96368 | R13: =RANK($Q13,$Q$3:$Q$26) -> 1
Q14: =RANDBETWEEN(1,100000) -> 32014 | R14: =RANK($Q14,$Q$3:$Q$26) -> 10
Q15: =RANDBETWEEN(1,100000) -> 76060 | R15: =RANK($Q15,$Q$3:$Q$26) -> 3
A16: Parie n° 2 | I16: Partie n° 4 | Q16: =RANDBETWEEN(1,100000) -> 31009 | R16: =RANK($Q16,$Q$3:$Q$26) -> 12
A17: Match 1 | B17: =_xlfn.XLOOKUP($W3,$R$3:$R$18,#REF!,0,0) -> #REF! | C17: vs. | D17: =_xlfn.XLOOKUP($X3,$R$3:$R$18,#REF!,0,0) -> #REF! | I17: Match 1 | J17: =_xlfn.XLOOKUP($AC3,$R$3:$R$18,#REF!,0,0) -> #REF! | K17: vs. | L17: =_xlfn.XLOOKUP($AD3,$R$3:$R$18,#REF!,0,0) -> #REF! | Q17: =RANDBETWEEN(1,100000) -> 31387 | R17: =RANK($Q17,$Q$3:$Q$26) -> 11
A18: Match 2 | B18: =_xlfn.XLOOKUP($W4,$R$3:$R$18,#REF!,0,0) -> #REF! | C18: vs. | D18: =_xlfn.XLOOKUP($X4,$R$3:$R$18,#REF!,0,0) -> #REF! | I18: Match 2 | J18: =_xlfn.XLOOKUP($AC4,$R$3:$R$18,#REF!,0,0) -> #REF! | K18: vs. | L18: =_xlfn.XLOOKUP($AD4,$R$3:$R$18,#REF!,0,0) -> #REF! | Q18: =RANDBETWEEN(1,100000) -> 54704 | R18: =RANK($Q18,$Q$3:$Q$26) -> 6
A19: Match 3 | B19: =_xlfn.XLOOKUP($W5,$R$3:$R$18,#REF!,0,0) -> #REF! | C19: vs. | D19: =_xlfn.XLOOKUP($X5,$R$3:$R$18,#REF!,0,0) -> #REF! | I19: Match 3 | J19: =_xlfn.XLOOKUP($AC5,$R$3:$R$18,#REF!,0,0) -> #REF! | K19: vs. | L19: =_xlfn.XLOOKUP($AD5,$R$3:$R$18,#REF!,0,0) -> #REF!
A20: Match 4 | B20: =_xlfn.XLOOKUP($W6,$R$3:$R$18,#REF!,0,0) -> #REF! | C20: vs. | D20: =_xlfn.XLOOKUP($X6,$R$3:$R$18,#REF!,0,0) -> #REF! | I20: Match 4 | J20: =_xlfn.XLOOKUP($AC6,$R$3:$R$18,#REF!,0,0) -> #REF! | K20: vs. | L20: =_xlfn.XLOOKUP($AD6,$R$3:$R$18,#REF!,0,0) -> #REF!
A21: Match 5 | B21: =_xlfn.XLOOKUP($W7,$R$3:$R$18,#REF!,0,0) -> #REF! | C21: vs. | D21: =_xlfn.XLOOKUP($X7,$R$3:$R$18,#REF!,0,0) -> #REF! | I21: Match 5 | J21: =_xlfn.XLOOKUP($AC7,$R$3:$R$18,#REF!,0,0) -> #REF! | K21: vs. | L21: =_xlfn.XLOOKUP($AD7,$R$3:$R$18,#REF!,0,0) -> #REF!
A22: Match 6 | B22: =_xlfn.XLOOKUP($W8,$R$3:$R$18,#REF!,0,0) -> #REF! | C22: vs. | D22: =_xlfn.XLOOKUP($X8,$R$3:$R$18,#REF!,0,0) -> #REF! | I22: Match 6 | J22: =_xlfn.XLOOKUP($AC8,$R$3:$R$18,#REF!,0,0) -> #REF! | K22: vs. | L22: =_xlfn.XLOOKUP($AD8,$R$3:$R$18,#REF!,0,0) -> #REF!
A23: Match 7 | B23: =_xlfn.XLOOKUP($W9,$R$3:$R$18,#REF!,0,0) -> #REF! | C23: vs. | D23: =_xlfn.XLOOKUP($X9,$R$3:$R$18,#REF!,0,0) -> #REF! | I23: Match 7 | J23: =_xlfn.XLOOKUP($AC9,$R$3:$R$18,#REF!,0,0) -> #REF! | K23: vs. | L23: =_xlfn.XLOOKUP($AD9,$R$3:$R$18,#REF!,0,0) -> #REF!
A24: Match 8 | B24: =_xlfn.XLOOKUP($W10,$R$3:$R$18,#REF!,0,0) -> #REF! | C24: vs. | D24: =_xlfn.XLOOKUP($X10,$R$3:$R$18,#REF!,0,0) -> #REF! | I24: Match 8 | J24: =_xlfn.XLOOKUP($AC10,$R$3:$R$18,#REF!,0,0) -> #REF! | K24: vs. | L24: =_xlfn.XLOOKUP($AD10,$R$3:$R$18,#REF!,0,0) -> #REF!

Sheet 18 équipes
A2: Partie n° 1 | I2: Partie n° 3
A3: Match 1 | B3: =_xlfn.XLOOKUP($T3,$R$3:$R$20,#REF!,0,0) -> #REF! | C3: vs. | D3: =_xlfn.XLOOKUP($U3,$R$3:$R$20,#REF!,0,0) -> #REF! | I3: Match 1 | J3: =_xlfn.XLOOKUP($Z3,$R$3:$R$20,#REF!,0,0) -> #REF! | K3: vs. | L3: =_xlfn.XLOOKUP($AA3,$R$3:$R$20,#REF!,0,0) -> #REF! | Q3: =RANDBETWEEN(1,100000) -> 94496 | R3: =RANK($Q3,$Q$3:$Q$26,) -> 5 | T3: 1 | U3: 2 | W3: 1 | X3: 3 | Z3: 1 | AA3: 4 | AC3: 1 | AD3: 5
A4: Match 2 | B4: =_xlfn.XLOOKUP($T4,$R$3:$R$20,#REF!,0,0) -> #REF! | C4: vs. | D4: =_xlfn.XLOOKUP($U4,$R$3:$R$20,#REF!,0,0) -> #REF! | I4: Match 2 | J4: =_xlfn.XLOOKUP($Z4,'18 équipes'!$R$3:$R$26,#REF!,0,0) -> #REF! | K4: vs. | L4: =_xlfn.XLOOKUP($AA4,'18 équipes'!$R$3:$R$26,#REF!,0,0) -> #REF! | Q4: =RANDBETWEEN(1,100000) -> 93817 | R4: =RANK($Q4,$Q$3:$Q$26) -> 6 | T4: 3 | U4: 4 | W4: 2 | X4: 4 | Z4: 2 | AA4: 3 | AC4: 2 | AD4: 18
A5: Match 3 | B5: =_xlfn.XLOOKUP($T5,$R$3:$R$20,#REF!,0,0) -> #REF! | C5: vs. | D5: =_xlfn.XLOOKUP($U5,$R$3:$R$20,#REF!,0,0) -> #REF! | I5: Match 3 | J5: =_xlfn.XLOOKUP($Z5,'18 équipes'!$R$3:$R$26,#REF!,0,0) -> #REF! | K5: vs. | L5: =_xlfn.XLOOKUP($AA5,'18 équipes'!$R$3:$R$26,#REF!,0,0) -> #REF! | Q5: =RANDBETWEEN(1,100000) -> 42513 | R5: =RANK($Q5,$Q$3:$Q$26) -> 14 | T5: 5 | U5: 6 | W5: 5 | X5: 7 | Z5: 5 | AA5: 8 | AC5: 3 | AD5: 7
A6: Match 4 | B6: =_xlfn.XLOOKUP($T6,$R$3:$R$20,#REF!,0,0) -> #REF! | C6: vs. | D6: =_xlfn.XLOOKUP($U6,$R$3:$R$20,#REF!,0,0) -> #REF! | I6: Match 4 | J6: =_xlfn.XLOOKUP($Z6,'18 équipes'!$R$3:$R$26,#REF!,0,0) -> #REF! | K6: vs. | L6: =_xlfn.XLOOKUP($AA6,'18 équipes'!$R$3:$R$26,#REF!,0,0) -> #REF! | Q6: =RANDBETWEEN(1,100000) -> 90915 | R6: =RANK($Q6,$Q$3:$Q$26) -> 8 | T6: 7 | U6: 8 | W6: 6 | X6: 18 | Z6: 6 | AA6: 18 | AC6: 4 | AD6: 8
A7: Match 5 | B7: =_xlfn.XLOOKUP($T7,$R$3:$R$20,#REF!,0,0) -> #REF! | C7: vs. | D7: =_xlfn.XLOOKUP($U7,$R$3:$R$20,#REF!,0,0) -> #REF! | I7: Match 5 | J7: =_xlfn.XLOOKUP($Z7,'18 équipes'!$R$3:$R$26,#REF!,0,0) -> #REF! | K7: vs. | L7: =_xlfn.XLOOKUP($AA7,'18 équipes'!$R$3:$R$26,#REF!,0,0) -> #REF! | Q7: =RANDBETWEEN(1,100000) -> 98633 | R7: =RANK($Q7,$Q$3:$Q$26) -> 2 | T7: 9 | U7: 10 | W7: 9 | X7: 11 | Z7: 9 | AA7: 12 | AC7: 9 | AD7: 13
A8: Match 6 | B8: =_xlfn.XLOOKUP($T8,$R$3:$R$20,#REF!,0,0) -> #REF! | C8: vs. | D8: =_xlfn.XLOOKUP($U8,$R$3:$R$20,#REF!,0,0) -> #REF! | I8: Match 6 | J8: =_xlfn.XLOOKUP($Z8,'18 équipes'!$R$3:$R$26,#REF!,0,0) -> #REF! | K8: vs. | L8: =_xlfn.XLOOKUP($AA8,'18 équipes'!$R$3:$R$26,#REF!,0,0) -> #REF! | Q8: =RANDBETWEEN(1,100000) -> 47979 | R8: =RANK($Q8,$Q$3:$Q$26) -> 12 | T8: 11 | U8: 12 | W8: 10 | X8: 12 | Z8: 10 | AA8: 11 | AC8: 10 | AD8: 14
A9: Match 7 | B9: =_xlfn.XLOOKUP($T9,$R$3:$R$20,#REF!,0,0) -> #REF! | C9: vs. | D9: =_xlfn.XLOOKUP($U9,$R$3:$R$20,#REF!,0,0) -> #REF! | I9: Match 7 | J9: =_xlfn.XLOOKUP($Z9,'18 équipes'!$R$3:$R$26,#REF!,0,0) -> #REF! | K9: vs. | L9: =_xlfn.XLOOKUP($AA9,'18 équipes'!$R$3:$R$26,#REF!,0,0) -> #REF! | Q9: =RANDBETWEEN(1,100000) -> 45516 | R9: =RANK($Q9,$Q$3:$Q$26) -> 13 | T9: 13 | U9: 14 | W9: 13 | X9: 15 | Z9: 13 | AA9: 16 | AC9: 11 | AD9: 15
A10: Match 8 | B10: =_xlfn.XLOOKUP($T10,$R$3:$R$20,#REF!,0,0) -> #REF! | C10: vs. | D10: =_xlfn.XLOOKUP($U10,$R$3:$R$20,#REF!,0,0) -> #REF! | I10: Match 8 | J10: =_xlfn.XLOOKUP($Z10,'18 équipes'!$R$3:$R$26,#REF!,0,0) -> #REF! | K10: vs. | L10: =_xlfn.XLOOKUP($AA10,'18 équipes'!$R$3:$R$26,#REF!,0,0) -> #REF! | Q10: =RANDBETWEEN(1,100000) -> 26288 | R10: =RANK($Q10,$Q$3:$Q$26) -> 16 | T10: 15 | U10: 16 | W10: 14 | X10: 16 | Z10: 14 | AA10: 15 | AC10: 12 | AD10: 16
A11: Match 9 | B11: =_xlfn.XLOOKUP($T11,$R$3:$R$20,#REF!,0,0) -> #REF! | C11: vs. | D11: =_xlfn.XLOOKUP($U11,$R$3:$R$20,#REF!,0,0) -> #REF! | I11: Match 9 | J11: =_xlfn.XLOOKUP($Z11,'18 équipes'!$R$3:$R$26,#REF!,0,0) -> #REF! | K11: vs. | L11: =_xlfn.XLOOKUP($AA11,'18 équipes'!$R$3:$R$26,#REF!,0,0) -> #REF! | Q11: =RANDBETWEEN(1,100000) -> 21211 | R11: =RANK($Q11,$Q$3:$Q$26) -> 18 | T11: 17 | U11: 18 | W11: 17 | X11: 8 | Z11: 17 | AA11: 7 | AC11: 17 | AD11: 6
Q12: =RANDBETWEEN(1,100000) -> 23703 | R12: =RANK($Q12,$Q$3:$Q$26) -> 17
Q13: =RANDBETWEEN(1,100000) -> 98893 | R13: =RANK($Q13,$Q$3:$Q$26) -> 1
Q14: =RANDBETWEEN(1,100000) -> 49671 | R14: =RANK($Q14,$Q$3:$Q$26) -> 11
Q15: =RANDBETWEEN(1,100000) -> 38454 | R15: =RANK($Q15,$Q$3:$Q$26) -> 15
A16: Parie n° 2 | I16: Partie n° 4 | Q16: =RANDBETWEEN(1,100000) -> 81570 | R16: =RANK($Q16,$Q$3:$Q$26) -> 9
A17: Match 1 | B17: =_xlfn.XLOOKUP($W3,$R$3:$R$20,#REF!,0,0) -> #REF! | C17: vs. | D17: =_xlfn.XLOOKUP($X3,$R$3:$R$20,#REF!,0,0) -> #REF! | I17: Match 1 | J17: =_xlfn.XLOOKUP($AC3,$R$3:$R$20,#REF!,0,0) -> #REF! | K17: vs. | L17: =_xlfn.XLOOKUP($AD3,$R$3:$R$20,#REF!,0,0) -> #REF! | Q17: =RANDBETWEEN(1,100000) -> 94498 | R17: =RANK($Q17,$Q$3:$Q$26) -> 4
A18: Match 2 | B18: =_xlfn.XLOOKUP($W4,$R$3:$R$20,#REF!,0,0) -> #REF! | C18: vs. | D18: =_xlfn.XLOOKUP($X4,$R$3:$R$20,#REF!,0,0) -> #REF! | I18: Match 2 | J18: =_xlfn.XLOOKUP($AC4,$R$3:$R$20,#REF!,0,0) -> #REF! | K18: vs. | L18: =_xlfn.XLOOKUP($AD4,$R$3:$R$20,#REF!,0,0) -> #REF! | Q18: =RANDBETWEEN(1,100000) -> 94565 | R18: =RANK($Q18,$Q$3:$Q$26) -> 3
A19: Match 3 | B19: =_xlfn.XLOOKUP($W5,$R$3:$R$20,#REF!,0,0) -> #REF! | C19: vs. | D19: =_xlfn.XLOOKUP($X5,$R$3:$R$20,#REF!,0,0) -> #REF! | I19: Match 3 | J19: =_xlfn.XLOOKUP($AC5,$R$3:$R$20,#REF!,0,0) -> #REF! | K19: vs. | L19: =_xlfn.XLOOKUP($AD5,$R$3:$R$20,#REF!,0,0) -> #REF! | Q19: =RANDBETWEEN(1,100000) -> 93570 | R19: =RANK($Q19,$Q$3:$Q$26) -> 7
A20: Match 4 | B20: =_xlfn.XLOOKUP($W6,$R$3:$R$20,#REF!,0,0) -> #REF! | C20: vs. | D20: =_xlfn.XLOOKUP($X6,$R$3:$R$20,#REF!,0,0) -> #REF! | I20: Match 4 | J20: =_xlfn.XLOOKUP($AC6,$R$3:$R$20,#REF!,0,0) -> #REF! | K20: vs. | L20: =_xlfn.XLOOKUP($AD6,$R$3:$R$20,#REF!,0,0) -> #REF! | Q20: =RANDBETWEEN(1,100000) -> 68330 | R20: =RANK($Q20,$Q$3:$Q$26) -> 10
A21: Match 5 | B21: =_xlfn.XLOOKUP($W7,$R$3:$R$20,#REF!,0,0) -> #REF! | C21: vs. | D21: =_xlfn.XLOOKUP($X7,$R$3:$R$20,#REF!,0,0) -> #REF! | I21: Match 5 | J21: =_xlfn.XLOOKUP($AC7,$R$3:$R$20,#REF!,0,0) -> #REF! | K21: vs. | L21: =_xlfn.XLOOKUP($AD7,$R$3:$R$20,#REF!,0,0) -> #REF!
A22: Match 6 | B22: =_xlfn.XLOOKUP($W8,$R$3:$R$20,#REF!,0,0) -> #REF! | C22: vs. | D22: =_xlfn.XLOOKUP($X8,$R$3:$R$20,#REF!,0,0) -> #REF! | I22: Match 6 | J22: =_xlfn.XLOOKUP($AC8,$R$3:$R$20,#REF!,0,0) -> #REF! | K22: vs. | L22: =_xlfn.XLOOKUP($AD8,$R$3:$R$20,#REF!,0,0) -> #REF!
A23: Match 7 | B23: =_xlfn.XLOOKUP($W9,$R$3:$R$20,#REF!,0,0) -> #REF! | C23: vs. | D23: =_xlfn.XLOOKUP($X9,$R$3:$R$20,#REF!,0,0) -> #REF! | I23: Match 7 | J23: =_xlfn.XLOOKUP($AC9,$R$3:$R$20,#REF!,0,0) -> #REF! | K23: vs. | L23: =_xlfn.XLOOKUP($AD9,$R$3:$R$20,#REF!,0,0) -> #REF!
A24: Match 8 | B24: =_xlfn.XLOOKUP($W10,$R$3:$R$20,#REF!,0,0) -> #REF! | C24: vs. | D24: =_xlfn.XLOOKUP($X10,$R$3:$R$20,#REF!,0,0) -> #REF! | I24: Match 8 | J24: =_xlfn.XLOOKUP($AC10,$R$3:$R$20,#REF!,0,0) -> #REF! | K24: vs. | L24: =_xlfn.XLOOKUP($AD10,$R$3:$R$20,#REF!,0,0) -> #REF!
A25: Match 9 | B25: =_xlfn.XLOOKUP($W11,$R$3:$R$20,#REF!,0,0) -> #REF! | C25: vs. | D25: =_xlfn.XLOOKUP($X11,$R$3:$R$20,#REF!,0,0) -> #REF! | I25: Match 9 | J25: =_xlfn.XLOOKUP($AC11,$R$3:$R$20,#REF!,0,0) -> #REF! | K25: vs. | L25: =_xlfn.XLOOKUP($AD11,$R$3:$R$20,#REF!,0,0) -> #REF!

Sheet 20 équipes
A2: Partie n° 1 | I2: Partie n° 3
A3: Match 1 | B3: =_xlfn.XLOOKUP($T3,'20 équipes'!$R$3:$R$26,#REF!,0,0) -> #REF! | C3: vs. | D3: =_xlfn.XLOOKUP($U3,'20 équipes'!$R$3:$R$26,#REF!,0,0) -> #REF! | I3: Match 1 | J3: =_xlfn.XLOOKUP($Z3,'20 équipes'!$R$3:$R$26,#REF!,0,0) -> #REF! | K3: vs. | L3: =_xlfn.XLOOKUP($AA3,'20 équipes'!$R$3:$R$26,#REF!,0,0) -> #REF! | Q3: =RANDBETWEEN(1,100000) -> 63095 | R3: =RANK($Q3,$Q$3:$Q$26,) -> 9 | T3: 1 | U3: 2 | W3: 1 | X3: 3 | Z3: 1 | AA3: 4 | AC3: 1 | AD3: 5
A4: Match 2 | B4: =_xlfn.XLOOKUP($T4,'20 équipes'!$R$3:$R$26,#REF!,0,0) -> #REF! | C4: vs. | D4: =_xlfn.XLOOKUP($U4,'20 équipes'!$R$3:$R$26,#REF!,0,0) -> #REF! | I4: Match 2 | J4: =_xlfn.XLOOKUP($Z4,'20 équipes'!$R$3:$R$26,#REF!,0,0) -> #REF! | K4: vs. | L4: =_xlfn.XLOOKUP($AA4,'20 équipes'!$R$3:$R$26,#REF!,0,0) -> #REF! | Q4: =RANDBETWEEN(1,100000) -> 48376 | R4: =RANK($Q4,$Q$3:$Q$26) -> 13 | T4: 3 | U4: 4 | W4: 2 | X4: 4 | Z4: 2 | AA4: 3 | AC4: 2 | AD4: 6
A5: Match 3 | B5: =_xlfn.XLOOKUP($T5,'20 équipes'!$R$3:$R$26,#REF!,0,0) -> #REF! | C5: vs. | D5: =_xlfn.XLOOKUP($U5,'20 équipes'!$R$3:$R$26,#REF!,0,0) -> #REF! | I5: Match 3 | J5: =_xlfn.XLOOKUP($Z5,'20 équipes'!$R$3:$R$26,#REF!,0,0) -> #REF! | K5: vs. | L5: =_xlfn.XLOOKUP($AA5,'20 équipes'!$R$3:$R$26,#REF!,0,0) -> #REF! | Q5: =RANDBETWEEN(1,100000) -> 63289 | R5: =RANK($Q5,$Q$3:$Q$26) -> 8 | T5: 5 | U5: 6 | W5: 5 | X5: 7 | Z5: 5 | AA5: 8 | AC5: 3 | AD5: 19
A6: Match 4 | B6: =_xlfn.XLOOKUP($T6,'20 équipes'!$R$3:$R$26,#REF!,0,0) -> #REF! | C6: vs. | D6: =_xlfn.XLOOKUP($U6,'20 équipes'!$R$3:$R$26,#REF!,0,0) -> #REF! | I6: Match 4 | J6: =_xlfn.XLOOKUP($Z6,'20 équipes'!$R$3:$R$26,#REF!,0,0) -> #REF! | K6: vs. | L6: =_xlfn.XLOOKUP($AA6,'20 équipes'!$R$3:$R$26,#REF!,0,0) -> #REF! | Q6: =RANDBETWEEN(1,100000) -> 69087 | R6: =RANK($Q6,$Q$3:$Q$26) -> 5 | T6: 7 | U6: 8 | W6: 6 | X6: 8 | Z6: 6 | AA6: 7 | AC6: 4 | AD6: 20
A7: Match 5 | B7: =_xlfn.XLOOKUP($T7,'20 équipes'!$R$3:$R$26,#REF!,0,0) -> #REF! | C7: vs. | D7: =_xlfn.XLOOKUP($U7,'20 équipes'!$R$3:$R$26,#REF!,0,0) -> #REF! | I7: Match 5 | J7: =_xlfn.XLOOKUP($Z7,'20 équipes'!$R$3:$R$26,#REF!,0,0) -> #REF! | K7: vs. | L7: =_xlfn.XLOOKUP($AA7,'20 équipes'!$R$3:$R$26,#REF!,0,0) -> #REF! | Q7: =RANDBETWEEN(1,100000) -> 20551 | R7: =RANK($Q7,$Q$3:$Q$26) -> 19 | T7: 9 | U7: 10 | W7: 9 | X7: 11 | Z7: 9 | AA7: 12 | AC7: 9 | AD7: 13
A8: Match 6 | B8: =_xlfn.XLOOKUP($T8,'20 équipes'!$R$3:$R$26,#REF!,0,0) -> #REF! | C8: vs. | D8: =_xlfn.XLOOKUP($U8,'20 équipes'!$R$3:$R$26,#REF!,0,0) -> #REF! | I8: Match 6 | J8: =_xlfn.XLOOKUP($Z8,'20 équipes'!$R$3:$R$26,#REF!,0,0) -> #REF! | K8: vs. | L8: =_xlfn.XLOOKUP($AA8,'20 équipes'!$R$3:$R$26,#REF!,0,0) -> #REF! | Q8: =RANDBETWEEN(1,100000) -> 92525 | R8: =RANK($Q8,$Q$3:$Q$26) -> 1 | T8: 11 | U8: 12 | W8: 10 | X8: 12 | Z8: 10 | AA8: 11 | AC8: 10 | AD8: 14
A9: Match 7 | B9: =_xlfn.XLOOKUP($T9,'20 équipes'!$R$3:$R$26,#REF!,0,0) -> #REF! | C9: vs. | D9: =_xlfn.XLOOKUP($U9,'20 équipes'!$R$3:$R$26,#REF!,0,0) -> #REF! | I9: Match 7 | J9: =_xlfn.XLOOKUP($Z9,'20 équipes'!$R$3:$R$26,#REF!,0,0) -> #REF! | K9: vs. | L9: =_xlfn.XLOOKUP($AA9,'20 équipes'!$R$3:$R$26,#REF!,0,0) -> #REF! | Q9: =RANDBETWEEN(1,100000) -> 72741 | R9: =RANK($Q9,$Q$3:$Q$26) -> 4 | T9: 13 | U9: 14 | W9: 13 | X9: 15 | Z9: 13 | AA9: 16 | AC9: 11 | AD9: 15
A10: Match 8 | B10: =_xlfn.XLOOKUP($T10,'20 équipes'!$R$3:$R$26,#REF!,0,0) -> #REF! | C10: vs. | D10: =_xlfn.XLOOKUP($U10,'20 équipes'!$R$3:$R$26,#REF!,0,0) -> #REF! | I10: Match 8 | J10: =_xlfn.XLOOKUP($Z10,'20 équipes'!$R$3:$R$26,#REF!,0,0) -> #REF! | K10: vs. | L10: =_xlfn.XLOOKUP($AA10,'20 équipes'!$R$3:$R$26,#REF!,0,0) -> #REF! | Q10: =RANDBETWEEN(1,100000) -> 26379 | R10: =RANK($Q10,$Q$3:$Q$26) -> 18 | T10: 15 | U10: 16 | W10: 14 | X10: 16 | Z10: 14 | AA10: 15 | AC10: 12 | AD10: 16
A11: Match 9 | B11: =_xlfn.XLOOKUP($T11,'20 équipes'!$R$3:$R$26,#REF!,0,0) -> #REF! | C11: vs. | D11: =_xlfn.XLOOKUP($U11,'20 équipes'!$R$3:$R$26,#REF!,0,0) -> #REF! | I11: Match 9 | J11: =_xlfn.XLOOKUP($Z11,'20 équipes'!$R$3:$R$26,#REF!,0,0) -> #REF! | K11: vs. | L11: =_xlfn.XLOOKUP($AA11,'20 équipes'!$R$3:$R$26,#REF!,0,0) -> #REF! | Q11: =RANDBETWEEN(1,100000) -> 74272 | R11: =RANK($Q11,$Q$3:$Q$26) -> 3 | T11: 17 | U11: 18 | W11: 17 | X11: 19 | Z11: 17 | AA11: 20 | AC11: 17 | AD11: 7
A12: Match 10 | B12: =_xlfn.XLOOKUP($T12,'20 équipes'!$R$3:$R$26,#REF!,0,0) -> #REF! | C12: vs. | D12: =_xlfn.XLOOKUP($U12,'20 équipes'!$R$3:$R$26,#REF!,0,0) -> #REF! | I12: Match 10 | J12: =_xlfn.XLOOKUP($Z12,'20 équipes'!$R$3:$R$26,#REF!,0,0) -> #REF! | K12: vs. | L12: =_xlfn.XLOOKUP($AA12,'20 équipes'!$R$3:$R$26,#REF!,0,0) -> #REF! | Q12: =RANDBETWEEN(1,100000) -> 56266 | R12: =RANK($Q12,$Q$3:$Q$26) -> 11 | T12: 19 | U12: 20 | W12: 18 | X12: 20 | Z12: 18 | AA12: 19 | AC12: 18 | AD12: 8
Q13: =RANDBETWEEN(1,100000) -> 47425 | R13: =RANK($Q13,$Q$3:$Q$26) -> 14
Q14: =RANDBETWEEN(1,100000) -> 41377 | R14: =RANK($Q14,$Q$3:$Q$26) -> 16
Q15: =RANDBETWEEN(1,100000) -> 32455 | R15: =RANK($Q15,$Q$3:$Q$26) -> 17
A16: Parie n° 2 | I16: Partie n° 4 | Q16: =RANDBETWEEN(1,100000) -> 46036 | R16: =RANK($Q16,$Q$3:$Q$26) -> 15
A17: Match 1 | B17: =_xlfn.XLOOKUP($W3,'20 équipes'!$R$3:$R$26,#REF!,0,0) -> #REF! | C17: vs. | D17: =_xlfn.XLOOKUP($X3,'20 équipes'!$R$3:$R$26,#REF!,0,0) -> #REF! | I17: Match 1 | J17: =_xlfn.XLOOKUP($AC3,'20 équipes'!$R$3:$R$26,#REF!,0,0) -> #REF! | K17: vs. | L17: =_xlfn.XLOOKUP($AD3,'20 équipes'!$R$3:$R$26,#REF!,0,0) -> #REF! | Q17: =RANDBETWEEN(1,100000) -> 64096 | R17: =RANK($Q17,$Q$3:$Q$26) -> 7
A18: Match 2 | B18: =_xlfn.XLOOKUP($W4,'20 équipes'!$R$3:$R$26,#REF!,0,0) -> #REF! | C18: vs. | D18: =_xlfn.XLOOKUP($X4,'20 équipes'!$R$3:$R$26,#REF!,0,0) -> #REF! | I18: Match 2 | J18: =_xlfn.XLOOKUP($AC4,'20 équipes'!$R$3:$R$26,#REF!,0,0) -> #REF! | K18: vs. | L18: =_xlfn.XLOOKUP($AD4,'20 équipes'!$R$3:$R$26,#REF!,0,0) -> #REF! | Q18: =RANDBETWEEN(1,100000) -> 53435 | R18: =RANK($Q18,$Q$3:$Q$26) -> 12
A19: Match 3 | B19: =_xlfn.XLOOKUP($W5,'20 équipes'!$R$3:$R$26,#REF!,0,0) -> #REF! | C19: vs. | D19: =_xlfn.XLOOKUP($X5,'20 équipes'!$R$3:$R$26,#REF!,0,0) -> #REF! | I19: Match 3 | J19: =_xlfn.XLOOKUP($AC5,'20 équipes'!$R$3:$R$26,#REF!,0,0) -> #REF! | K19: vs. | L19: =_xlfn.XLOOKUP($AD5,'20 équipes'!$R$3:$R$26,#REF!,0,0) -> #REF! | Q19: =RANDBETWEEN(1,100000) -> 66512 | R19: =RANK($Q19,$Q$3:$Q$26) -> 6
A20: Match 4 | B20: =_xlfn.XLOOKUP($W6,'20 équipes'!$R$3:$R$26,#REF!,0,0) -> #REF! | C20: vs. | D20: =_xlfn.XLOOKUP($X6,'20 équipes'!$R$3:$R$26,#REF!,0,0) -> #REF! | I20: Match 4 | J20: =_xlfn.XLOOKUP($AC6,'20 équipes'!$R$3:$R$26,#REF!,0,0) -> #REF! | K20: vs. | L20: =_xlfn.XLOOKUP($AD6,'20 équipes'!$R$3:$R$26,#REF!,0,0) -> #REF! | Q20: =RANDBETWEEN(1,100000) -> 83180 | R20: =RANK($Q20,$Q$3:$Q$26) -> 2
A21: Match 5 | B21: =_xlfn.XLOOKUP($W7,'20 équipes'!$R$3:$R$26,#REF!,0,0) -> #REF! | C21: vs. | D21: =_xlfn.XLOOKUP($X7,'20 équipes'!$R$3:$R$26,#REF!,0,0) -> #REF! | I21: Match 5 | J21: =_xlfn.XLOOKUP($AC7,'20 équipes'!$R$3:$R$26,#REF!,0,0) -> #REF! | K21: vs. | L21: =_xlfn.XLOOKUP($AD7,'20 équipes'!$R$3:$R$26,#REF!,0,0) -> #REF! | Q21: =RANDBETWEEN(1,100000) -> 3939 | R21: =RANK($Q21,$Q$3:$Q$26) -> 20
A22: Match 6 | B22: =_xlfn.XLOOKUP($W8,'20 équipes'!$R$3:$R$26,#REF!,0,0) -> #REF! | C22: vs. | D22: =_xlfn.XLOOKUP($X8,'20 équipes'!$R$3:$R$26,#REF!,0,0) -> #REF! | I22: Match 6 | J22: =_xlfn.XLOOKUP($AC8,'20 équipes'!$R$3:$R$26,#REF!,0,0) -> #REF! | K22: vs. | L22: =_xlfn.XLOOKUP($AD8,'20 équipes'!$R$3:$R$26,#REF!,0,0) -> #REF! | Q22: =RANDBETWEEN(1,100000) -> 59618 | R22: =RANK($Q22,$Q$3:$Q$26) -> 10
A23: Match 7 | B23: =_xlfn.XLOOKUP($W9,'20 équipes'!$R$3:$R$26,#REF!,0,0) -> #REF! | C23: vs. | D23: =_xlfn.XLOOKUP($X9,'20 équipes'!$R$3:$R$26,#REF!,0,0) -> #REF! | I23: Match 7 | J23: =_xlfn.XLOOKUP($AC9,'20 équipes'!$R$3:$R$26,#REF!,0,0) -> #REF! | K23: vs. | L23: =_xlfn.XLOOKUP($AD9,'20 équipes'!$R$3:$R$26,#REF!,0,0) -> #REF!
A24: Match 8 | B24: =_xlfn.XLOOKUP($W10,'20 équipes'!$R$3:$R$26,#REF!,0,0) -> #REF! | C24: vs. | D24: =_xlfn.XLOOKUP($X10,'20 équipes'!$R$3:$R$26,#REF!,0,0) -> #REF! | I24: Match 8 | J24: =_xlfn.XLOOKUP($AC10,'20 équipes'!$R$3:$R$26,#REF!,0,0) -> #REF! | K24: vs. | L24: =_xlfn.XLOOKUP($AD10,'20 équipes'!$R$3:$R$26,#REF!,0,0) -> #REF!
A25: Match 9 | B25: =_xlfn.XLOOKUP($W11,'20 équipes'!$R$3:$R$26,#REF!,0,0) -> #REF! | C25: vs. | D25: =_xlfn.XLOOKUP($X11,'20 équipes'!$R$3:$R$26,#REF!,0,0) -> #REF! | I25: Match 9 | J25: =_xlfn.XLOOKUP($AC11,'20 équipes'!$R$3:$R$26,#REF!,0,0) -> #REF! | K25: vs. | L25: =_xlfn.XLOOKUP($AD11,'20 équipes'!$R$3:$R$26,#REF!,0,0) -> #REF!
A26: Match 10 | B26: =_xlfn.XLOOKUP($W12,'20 équipes'!$R$3:$R$26,#REF!,0,0) -> #REF! | C26: vs. | D26: =_xlfn.XLOOKUP($X12,'20 équipes'!$R$3:$R$26,#REF!,0,0) -> #REF! | I26: Match 10 | J26: =_xlfn.XLOOKUP($AC12,'20 équipes'!$R$3:$R$26,#REF!,0,0) -> #REF! | K26: vs. | L26: =_xlfn.XLOOKUP($AD12,'20 équipes'!$R$3:$R$26,#REF!,0,0) -> #REF!

Sheet 22 équipes
A2: Partie n° 1 | I2: Partie n° 3
A3: Match 1 | B3: =_xlfn.XLOOKUP($T3,'22 équipes'!$R$3:$R$24,#REF!,0,0) -> #REF! | C3: vs. | D3: =_xlfn.XLOOKUP($U3,'22 équipes'!$R$3:$R$24,#REF!,0,0) -> #REF! | I3: Match 1 | J3: =_xlfn.XLOOKUP($Z3,'22 équipes'!$R$3:$R$24,#REF!,0,0) -> #REF! | K3: vs. | L3: =_xlfn.XLOOKUP($AA3,'22 équipes'!$R$3:$R$24,#REF!,0,0) -> #REF! | Q3: =RANDBETWEEN(1,100000) -> 9682 | R3: =RANK($Q3,$Q$3:$Q$26,) -> 21 | T3: 1 | U3: 2 | W3: 1 | X3: 3 | Z3: 1 | AA3: 22 | AC3: 5 | AD3: 20
A4: Match 2 | B4: =_xlfn.XLOOKUP($T4,'22 équipes'!$R$3:$R$24,#REF!,0,0) -> #REF! | C4: vs. | D4: =_xlfn.XLOOKUP($U4,'22 équipes'!$R$3:$R$24,#REF!,0,0) -> #REF! | I4: Match 2 | J4: =_xlfn.XLOOKUP($Z4,'22 équipes'!$R$3:$R$24,#REF!,0,0) -> #REF! | K4: vs. | L4: =_xlfn.XLOOKUP($AA4,'22 équipes'!$R$3:$R$24,#REF!,0,0) -> #REF! | Q4: =RANDBETWEEN(1,100000) -> 66810 | R4: =RANK($Q4,$Q$3:$Q$26) -> 9 | T4: 3 | U4: 4 | W4: 2 | X4: 4 | Z4: 2 | AA4: 3 | AC4: 2 | AD4: 6
A5: Match 3 | B5: =_xlfn.XLOOKUP($T5,'22 équipes'!$R$3:$R$24,#REF!,0,0) -> #REF! | C5: vs. | D5: =_xlfn.XLOOKUP($U5,'22 équipes'!$R$3:$R$24,#REF!,0,0) -> #REF! | I5: Match 3 | J5: =_xlfn.XLOOKUP($Z5,'22 équipes'!$R$3:$R$24,#REF!,0,0) -> #REF! | K5: vs. | L5: =_xlfn.XLOOKUP($AA5,'22 équipes'!$R$3:$R$24,#REF!,0,0) -> #REF! | Q5: =RANDBETWEEN(1,100000) -> 24538 | R5: =RANK($Q5,$Q$3:$Q$26) -> 15 | T5: 5 | U5: 6 | W5: 5 | X5: 22 | Z5: 5 | AA5: 8 | AC5: 3 | AD5: 7
A6: Match 4 | B6: =_xlfn.XLOOKUP($T6,'22 équipes'!$R$3:$R$24,#REF!,0,0) -> #REF! | C6: vs. | D6: =_xlfn.XLOOKUP($U6,'22 équipes'!$R$3:$R$24,#REF!,0,0) -> #REF! | I6: Match 4 | J6: =_xlfn.XLOOKUP($Z6,'22 équipes'!$R$3:$R$24,#REF!,0,0) -> #REF! | K6: vs. | L6: =_xlfn.XLOOKUP($AA6,'22 équipes'!$R$3:$R$24,#REF!,0,0) -> #REF! | Q6: =RANDBETWEEN(1,100000) -> 33159 | R6: =RANK($Q6,$Q$3:$Q$26) -> 13 | T6: 7 | U6: 8 | W6: 6 | X6: 8 | Z6: 6 | AA6: 7 | AC6: 4 | AD6: 8
A7: Match 5 | B7: =_xlfn.XLOOKUP($T7,'22 équipes'!$R$3:$R$24,#REF!,0,0) -> #REF! | C7: vs. | D7: =_xlfn.XLOOKUP($U7,'22 équipes'!$R$3:$R$24,#REF!,0,0) -> #REF! | I7: Match 5 | J7: =_xlfn.XLOOKUP($Z7,'22 équipes'!$R$3:$R$24,#REF!,0,0) -> #REF! | K7: vs. | L7: =_xlfn.XLOOKUP($AA7,'22 équipes'!$R$3:$R$24,#REF!,0,0) -> #REF! | Q7: =RANDBETWEEN(1,100000) -> 71648 | R7: =RANK($Q7,$Q$3:$Q$26) -> 7 | T7: 9 | U7: 10 | W7: 9 | X7: 11 | Z7: 9 | AA7: 12 | AC7: 9 | AD7: 13
A8: Match 6 | B8: =_xlfn.XLOOKUP($T8,'22 équipes'!$R$3:$R$24,#REF!,0,0) -> #REF! | C8: vs. | D8: =_xlfn.XLOOKUP($U8,'22 équipes'!$R$3:$R$24,#REF!,0,0) -> #REF! | I8: Match 6 | J8: =_xlfn.XLOOKUP($Z8,'22 équipes'!$R$3:$R$24,#REF!,0,0) -> #REF! | K8: vs. | L8: =_xlfn.XLOOKUP($AA8,'22 équipes'!$R$3:$R$24,#REF!,0,0) -> #REF! | Q8: =RANDBETWEEN(1,100000) -> 19106 | R8: =RANK($Q8,$Q$3:$Q$26) -> 18 | T8: 11 | U8: 12 | W8: 10 | X8: 12 | Z8: 10 | AA8: 11 | AC8: 10 | AD8: 14
A9: Match 7 | B9: =_xlfn.XLOOKUP($T9,'22 équipes'!$R$3:$R$24,#REF!,0,0) -> #REF! | C9: vs. | D9: =_xlfn.XLOOKUP($U9,'22 équipes'!$R$3:$R$24,#REF!,0,0) -> #REF! | I9: Match 7 | J9: =_xlfn.XLOOKUP($Z9,'22 équipes'!$R$3:$R$24,#REF!,0,0) -> #REF! | K9: vs. | L9: =_xlfn.XLOOKUP($AA9,'22 équipes'!$R$3:$R$24,#REF!,0,0) -> #REF! | Q9: =RANDBETWEEN(1,100000) -> 12001 | R9: =RANK($Q9,$Q$3:$Q$26) -> 20 | T9: 13 | U9: 14 | W9: 13 | X9: 15 | Z9: 13 | AA9: 16 | AC9: 11 | AD9: 15
A10: Match 8 | B10: =_xlfn.XLOOKUP($T10,'22 équipes'!$R$3:$R$24,#REF!,0,0) -> #REF! | C10: vs. | D10: =_xlfn.XLOOKUP($U10,'22 équipes'!$R$3:$R$24,#REF!,0,0) -> #REF! | I10: Match 8 | J10: =_xlfn.XLOOKUP($Z10,'22 équipes'!$R$3:$R$24,#REF!,0,0) -> #REF! | K10: vs. | L10: =_xlfn.XLOOKUP($AA10,'22 équipes'!$R$3:$R$24,#REF!,0,0) -> #REF! | Q10: =RANDBETWEEN(1,100000) -> 22502 | R10: =RANK($Q10,$Q$3:$Q$26) -> 17 | T10: 15 | U10: 16 | W10: 14 | X10: 16 | Z10: 14 | AA10: 15 | AC10: 12 | AD10: 16
A11: Match 9 | B11: =_xlfn.XLOOKUP($T11,'22 équipes'!$R$3:$R$24,#REF!,0,0) -> #REF! | C11: vs. | D11: =_xlfn.XLOOKUP($U11,'22 équipes'!$R$3:$R$24,#REF!,0,0) -> #REF! | I11: Match 9 | J11: =_xlfn.XLOOKUP($Z11,'22 équipes'!$R$3:$R$24,#REF!,0,0) -> #REF! | K11: vs. | L11: =_xlfn.XLOOKUP($AA11,'22 équipes'!$R$3:$R$24,#REF!,0,0) -> #REF! | Q11: =RANDBETWEEN(1,100000) -> 29645 | R11: =RANK($Q11,$Q$3:$Q$26) -> 14 | T11: 17 | U11: 18 | W11: 17 | X11: 19 | Z11: 17 | AA11: 20 | AC11: 17 | AD11: 21
A12: Match 10 | B12: =_xlfn.XLOOKUP($T12,'22 équipes'!$R$3:$R$24,#REF!,0,0) -> #REF! | C12: vs. | D12: =_xlfn.XLOOKUP($U12,'22 équipes'!$R$3:$R$24,#REF!,0,0) -> #REF! | I12: Match 10 | J12: =_xlfn.XLOOKUP($Z12,'22 équipes'!$R$3:$R$24,#REF!,0,0) -> #REF! | K12: vs. | L12: =_xlfn.XLOOKUP($AA12,'22 équipes'!$R$3:$R$24,#REF!,0,0) -> #REF! | Q12: =RANDBETWEEN(1,100000) -> 44391 | R12: =RANK($Q12,$Q$3:$Q$26) -> 11 | T12: 19 | U12: 20 | W12: 18 | X12: 20 | Z12: 18 | AA12: 19 | AC12: 18 | AD12: 22
A13: Match 11 | B13: =_xlfn.XLOOKUP($T13,'22 équipes'!$R$3:$R$24,#REF!,0,0) -> #REF! | C13: vs. | D13: =_xlfn.XLOOKUP($U13,'22 équipes'!$R$3:$R$24,#REF!,0,0) -> #REF! | I13: Match 11 | J13: =_xlfn.XLOOKUP($Z13,'22 équipes'!$R$3:$R$24,#REF!,0,0) -> #REF! | K13: vs. | L13: =_xlfn.XLOOKUP($AA13,'22 équipes'!$R$3:$R$24,#REF!,0,0) -> #REF! | Q13: =RANDBETWEEN(1,100000) -> 8880 | R13: =RANK($Q13,$Q$3:$Q$26) -> 22 | T13: 21 | U13: 22 | W13: 21 | X13: 7 | Z13: 4 | AA13: 21 | AC13: 1 | AD13: 19
Q14: =RANDBETWEEN(1,100000) -> 63778 | R14: =RANK($Q14,$Q$3:$Q$26) -> 10
Q15: =RANDBETWEEN(1,100000) -> 18507 | R15: =RANK($Q15,$Q$3:$Q$26) -> 19
A16: Parie n° 2 | I16: Partie n° 4 | Q16: =RANDBETWEEN(1,100000) -> 87762 | R16: =RANK($Q16,$Q$3:$Q$26) -> 4
A17: Match 1 | B17: =_xlfn.XLOOKUP($W3,'22 équipes'!$R$3:$R$24,#REF!,0,0) -> #REF! | C17: vs. | D17: =_xlfn.XLOOKUP($X3,'22 équipes'!$R$3:$R$24,#REF!,0,0) -> #REF! | I17: Match 1 | J17: =_xlfn.XLOOKUP($AC3,'22 équipes'!$R$3:$R$26,#REF!,0,0) -> #REF! | K17: vs. | L17: =_xlfn.XLOOKUP($AD3,'22 équipes'!$R$3:$R$26,#REF!,0,0) -> #REF! | Q17: =RANDBETWEEN(1,100000) -> 84245 | R17: =RANK($Q17,$Q$3:$Q$26) -> 5
A18: Match 2 | B18: =_xlfn.XLOOKUP($W4,'22 équipes'!$R$3:$R$24,#REF!,0,0) -> #REF! | C18: vs. | D18: =_xlfn.XLOOKUP($X4,'22 équipes'!$R$3:$R$24,#REF!,0,0) -> #REF! | I18: Match 2 | J18: =_xlfn.XLOOKUP($AC4,'22 équipes'!$R$3:$R$26,#REF!,0,0) -> #REF! | K18: vs. | L18: =_xlfn.XLOOKUP($AD4,'22 équipes'!$R$3:$R$26,#REF!,0,0) -> #REF! | Q18: =RANDBETWEEN(1,100000) -> 74098 | R18: =RANK($Q18,$Q$3:$Q$26) -> 6
A19: Match 3 | B19: =_xlfn.XLOOKUP($W5,'22 équipes'!$R$3:$R$24,#REF!,0,0) -> #REF! | C19: vs. | D19: =_xlfn.XLOOKUP($X5,'22 équipes'!$R$3:$R$24,#REF!,0,0) -> #REF! | I19: Match 3 | J19: =_xlfn.XLOOKUP($AC5,'22 équipes'!$R$3:$R$26,#REF!,0,0) -> #REF! | K19: vs. | L19: =_xlfn.XLOOKUP($AD5,'22 équipes'!$R$3:$R$26,#REF!,0,0) -> #REF! | Q19: =RANDBETWEEN(1,100000) -> 67810 | R19: =RANK($Q19,$Q$3:$Q$26) -> 8
A20: Match 4 | B20: =_xlfn.XLOOKUP($W6,'22 équipes'!$R$3:$R$24,#REF!,0,0) -> #REF! | C20: vs. | D20: =_xlfn.XLOOKUP($X6,'22 équipes'!$R$3:$R$24,#REF!,0,0) -> #REF! | I20: Match 4 | J20: =_xlfn.XLOOKUP($AC6,'22 équipes'!$R$3:$R$26,#REF!,0,0) -> #REF! | K20: vs. | L20: =_xlfn.XLOOKUP($AD6,'22 équipes'!$R$3:$R$26,#REF!,0,0) -> #REF! | Q20: =RANDBETWEEN(1,100000) -> 94631 | R20: =RANK($Q20,$Q$3:$Q$26) -> 3
A21: Match 5 | B21: =_xlfn.XLOOKUP($W7,'22 équipes'!$R$3:$R$24,#REF!,0,0) -> #REF! | C21: vs. | D21: =_xlfn.XLOOKUP($X7,'22 équipes'!$R$3:$R$24,#REF!,0,0) -> #REF! | I21: Match 5 | J21: =_xlfn.XLOOKUP($AC7,'22 équipes'!$R$3:$R$26,#REF!,0,0) -> #REF! | K21: vs. | L21: =_xlfn.XLOOKUP($AD7,'22 équipes'!$R$3:$R$26,#REF!,0,0) -> #REF! | Q21: =RANDBETWEEN(1,100000) -> 23821 | R21: =RANK($Q21,$Q$3:$Q$26) -> 16
A22: Match 6 | B22: =_xlfn.XLOOKUP($W8,'22 équipes'!$R$3:$R$24,#REF!,0,0) -> #REF! | C22: vs. | D22: =_xlfn.XLOOKUP($X8,'22 équipes'!$R$3:$R$24,#REF!,0,0) -> #REF! | I22: Match 6 | J22: =_xlfn.XLOOKUP($AC8,'22 équipes'!$R$3:$R$26,#REF!,0,0) -> #REF! | K22: vs. | L22: =_xlfn.XLOOKUP($AD8,'22 équipes'!$R$3:$R$26,#REF!,0,0) -> #REF! | Q22: =RANDBETWEEN(1,100000) -> 98783 | R22: =RANK($Q22,$Q$3:$Q$26) -> 1
A23: Match 7 | B23: =_xlfn.XLOOKUP($W9,'22 équipes'!$R$3:$R$24,#REF!,0,0) -> #REF! | C23: vs. | D23: =_xlfn.XLOOKUP($X9,'22 équipes'!$R$3:$R$24,#REF!,0,0) -> #REF! | I23: Match 7 | J23: =_xlfn.XLOOKUP($AC9,'22 équipes'!$R$3:$R$26,#REF!,0,0) -> #REF! | K23: vs. | L23: =_xlfn.XLOOKUP($AD9,'22 équipes'!$R$3:$R$26,#REF!,0,0) -> #REF! | Q23: =RANDBETWEEN(1,100000) -> 42672 | R23: =RANK($Q23,$Q$3:$Q$26) -> 12
