Workbook

Sheet August
A1: *COMPONENT | B1: *LOCATION | C1: LOCATION_DESCR | D1: *PRODUCT | E1: PRODUCT_DESCR | F1: 45139 | G1: 45170 | H1: 45200 | I1: 45231 | J1: 45261 | K1: 45292 | L1: 45323 | M1: 45352 | N1: 45383 | O1: 45413 | P1: 45444 | Q1: 45474 | R1: 45505 | S1: 45536 | T1: 45566 | U1: 45597 | V1: 45627 | W1: 45658 | X1: PASSWORD
A2: LOCALFORECAST | B2: 4DK | C2: DENMARK | D2: 12010171 | E2: AGOMELATINE25 SE 84RT BE BX S FI | F2: 0 | G2: 0 | H2: 0 | I2: 0 | J2: 0 | K2: 0 | L2: 0 | M2: 0 | N2: 0 | O2: 0 | P2: 0 | Q2: 0 | R2: 0 | S2: 0 | T2: 0 | U2: 0 | V2: 0 | W2: 0 | X2: F43_12345
A3: LOCALFORECAST | B3: 4DK | C3: DENMARK | D3: 12000420 | E3: CAPIVEN500 SE 120RT BP BX S DK | F3: 130 | G3: 130 | H3: 120 | I3: 120 | J3: 120 | K3: 120 | L3: 120 | M3: 120 | N3: 120 | O3: 120 | P3: 120 | Q3: 120 | R3: 120 | S3: 120 | T3: 120 | U3: 120 | V3: 120 | W3: 120 | X3: F43_12345
A4: LOCALFORECAST | B4: 4DK | C4: DENMARK | D4: 12000419 | E4: CAPIVEN500 SE 60RT BP BX S DK | F4: 55 | G4: 55 | H4: 55 | I4: 55 | J4: 55 | K4: 55 | L4: 55 | M4: 55 | N4: 55 | O4: 55 | P4: 55 | Q4: 55 | R4: 55 | S4: 55 | T4: 55 | U4: 55 | V4: 55 | W4: 55 | X4: F43_12345
A5: LOCALFORECAST | B5: 4DK | C5: DENMARK | D5: 12000905 | E5: COVERSYL NOVU10 SE 90RT PB BX S DK | F5: 110 | G5: 110 | H5: 100 | I5: 100 | J5: 100 | K5: 100 | L5: 100 | M5: 0 | N5: 0 | O5: 0 | P5: 0 | Q5: 0 | R5: 0 | S5: 0 | T5: 0 | U5: 0 | V5: 0 | W5: 0 | X5: F43_12345
A6: LOCALFORECAST | B6: 4DK | C6: DENMARK | D6: 12011542 | E6: COVERSYL NOVU10 SE 90RT PB BX S DK CM | F6: 0 | G6: 0 | H6: 0 | I6: 0 | J6: 0 | K6: 0 | L6: 0 | M6: 100 | N6: 100 | O6: 100 | P6: 100 | Q6: 100 | R6: 100 | S6: 100 | T6: 100 | U6: 100 | V6: 100 | W6: 100 | X6: F43_12345
A7: LOCALFORECAST | B7: 4DK | C7: DENMARK | D7: 12000902 | E7: COVERSYL NOVU2,5 SE 30TB PB BX S DK | F7: 60 | G7: 60 | H7: 60 | I7: 60 | J7: 60 | K7: 60 | L7: 60 | M7: 60 | N7: 60 | O7: 60 | P7: 60 | Q7: 60 | R7: 60 | S7: 60 | T7: 60 | U7: 60 | V7: 60 | W7: 60 | X7: F43_12345
A8: LOCALFORECAST | B8: 4DK | C8: DENMARK | D8: 12000903 | E8: COVERSYL NOVU5 SE 30RT PB BX S DK | F8: 50 | G8: 50 | H8: 45 | I8: 45 | J8: 45 | K8: 45 | L8: 45 | M8: 45 | N8: 45 | O8: 45 | P8: 45 | Q8: 45 | R8: 45 | S8: 45 | T8: 45 | U8: 45 | V8: 45 | W8: 45 | X8: F43_12345
A9: LOCALFORECAST | B9: 4DK | C9: DENMARK | D9: 12000904 | E9: COVERSYL NOVU5 SE 90RT PB BX S DK | F9: 190 | G9: 190 | H9: 190 | I9: 200 | J9: 200 | K9: 200 | L9: 0 | M9: 0 | N9: 0 | O9: 0 | P9: 0 | Q9: 0 | R9: 0 | S9: 0 | T9: 0 | U9: 0 | V9: 0 | W9: 0 | X9: F43_12345
A10: LOCALFORECAST | B10: 4DK | C10: DENMARK | D10: 12011785 | E10: COVERSYL NOVU5 SE 90RT PB BX S DK CM | F10: 0 | G10: 0 | H10: 0 | I10: 0 | J10: 0 | K10: 0 | L10: 180 | M10: 180 | N10: 180 | O10: 180 | P10: 180 | Q10: 170 | R10: 170 | S10: 170 | T10: 170 | U10: 170 | V10: 170 | W10: 170 | X10: F43_12345
A11: LOCALFORECAST | B11: 4DK | C11: DENMARK | D11: 12000906 | E11: COVERSYL5/1,25 SE 30RT PB BX S DK | F11: 5 | G11: 5 | H11: 5 | I11: 5 | J11: 5 | K11: 5 | L11: 5 | M11: 5 | N11: 5 | O11: 5 | P11: 5 | Q11: 5 | R11: 5 | S11: 5 | T11: 5 | U11: 5 | V11: 5 | W11: 5 | X11: F43_12345
A12: LOCALFORECAST | B12: 4DK | C12: DENMARK | D12: 12000907 | E12: COVERSYL5/1,25 SE 90RT PB BX S DK | F12: 200 | G12: 200 | H12: 180 | I12: 180 | J12: 180 | K12: 180 | L12: 180 | M12: 170 | N12: 170 | O12: 170 | P12: 170 | Q12: 170 | R12: 170 | S12: 160 | T12: 160 | U12: 160 | V12: 160 | W12: 160 | X12: F43_12345
A13: LOCALFORECAST | B13: 4DK | C13: DENMARK | D13: 12000414 | E13: DIAMICRON UNO30 SE 180TB BP BX S DK | F13: 15 | G13: 0 | H13: 0 | I13: 0 | J13: 0 | K13: 0 | L13: 0 | M13: 0 | N13: 0 | O13: 0 | P13: 0 | Q13: 0 | R13: 0 | S13: 0 | T13: 0 | U13: 0 | V13: 0 | W13: 0 | X13: F43_12345
... A49: LOCALFORECAST | B49: 4DK | C49: DENMARK | D49: 12011949 | E49: VASTAREL20 SE 60RT BP BX S DK AN | F49: 0 | G49: 0 | H49: 0 | I49: 0 | J49: 0 | K49: 0 | L49: 0 | M49: 450 | N49: 450 | O49: 450 | P49: 450 | Q49: 450 | R49: 450 | S49: 450 | T49: 450 | U49: 450 | V49: 450 | W49: 450 | X49: F43_12345

Sheet Last Cycle
A1: *COMPONENT | B1: *LOCATION | C1: LOCATION_DESCR | D1: *PRODUCT | E1: PRODUCT_DESCR | F1: 45108 | G1: 45139 | H1: 45170 | I1: 45200 | J1: 45231 | K1: 45261 | L1: 45292 | M1: 45323 | N1: 45352 | O1: 45383 | P1: 45413 | Q1: 45444 | R1: 45474 | S1: 45505 | T1: 45536 | U1: 45566 | V1: 45597 | W1: 45627 | X1: PASSWORD
A2: LOCALFORECAST | B2: 4DK | C2: DENMARK | D2: 12010171 | E2: AGOMELATINE25 SE 84RT BE BX S FI | F2: 0 | G2: 0 | H2: 0 | I2: 0 | J2: 0 | K2: 0 | L2: 0 | M2: 0 | N2: 0 | O2: 0 | P2: 0 | Q2: 0 | R2: 0 | S2: 0 | T2: 0 | U2: 0 | V2: 0 | W2: 0 | X2: F43_12345
A3: LOCALFORECAST | B3: 4DK | C3: DENMARK | D3: 12000420 | E3: CAPIVEN500 SE 120RT BP BX S DK | F3: 135 | G3: 130 | H3: 130 | I3: 130 | J3: 130 | K3: 130 | L3: 130 | M3: 130 | N3: 130 | O3: 130 | P3: 130 | Q3: 130 | R3: 130 | S3: 130 | T3: 130 | U3: 130 | V3: 130 | W3: 130 | X3: F43_12345
A4: LOCALFORECAST | B4: 4DK | C4: DENMARK | D4: 12000419 | E4: CAPIVEN500 SE 60RT BP BX S DK | F4: 55 | G4: 55 | H4: 55 | I4: 55 | J4: 55 | K4: 55 | L4: 55 | M4: 55 | N4: 55 | O4: 55 | P4: 55 | Q4: 55 | R4: 55 | S4: 55 | T4: 55 | U4: 55 | V4: 55 | W4: 55 | X4: F43_12345
A5: LOCALFORECAST | B5: 4DK | C5: DENMARK | D5: 12000905 | E5: COVERSYL NOVU10 SE 90RT PB BX S DK | F5: 110 | G5: 110 | H5: 110 | I5: 110 | J5: 100 | K5: 100 | L5: 100 | M5: 100 | N5: 0 | O5: 0 | P5: 0 | Q5: 0 | R5: 0 | S5: 0 | T5: 0 | U5: 0 | V5: 0 | W5: 0 | X5: F43_12345
A6: LOCALFORECAST | B6: 4DK | C6: DENMARK | D6: 12011542 | E6: COVERSYL NOVU10 SE 90RT PB BX S DK CM | F6: 0 | G6: 0 | H6: 0 | I6: 0 | J6: 0 | K6: 0 | L6: 0 | M6: 0 | N6: 100 | O6: 100 | P6: 100 | Q6: 100 | R6: 100 | S6: 100 | T6: 100 | U6: 100 | V6: 100 | W6: 100 | X6: F43_12345
A7: LOCALFORECAST | B7: 4DK | C7: DENMARK | D7: 12000902 | E7: COVERSYL NOVU2,5 SE 30TB PB BX S DK | F7: 55 | G7: 65 | H7: 65 | I7: 65 | J7: 65 | K7: 65 | L7: 65 | M7: 55 | N7: 65 | O7: 55 | P7: 65 | Q7: 65 | R7: 55 | S7: 65 | T7: 65 | U7: 65 | V7: 65 | W7: 55 | X7: F43_12345
A8: LOCALFORECAST | B8: 4DK | C8: DENMARK | D8: 12000903 | E8: COVERSYL NOVU5 SE 30RT PB BX S DK | F8: 45 | G8: 50 | H8: 50 | I8: 50 | J8: 50 | K8: 50 | L8: 50 | M8: 45 | N8: 50 | O8: 45 | P8: 50 | Q8: 50 | R8: 45 | S8: 50 | T8: 50 | U8: 50 | V8: 50 | W8: 45 | X8: F43_12345
A9: LOCALFORECAST | B9: 4DK | C9: DENMARK | D9: 12000904 | E9: COVERSYL NOVU5 SE 90RT PB BX S DK | F9: 180 | G9: 190 | H9: 190 | I9: 190 | J9: 200 | K9: 200 | L9: 200 | M9: 0 | N9: 0 | O9: 0 | P9: 0 | Q9: 0 | R9: 0 | S9: 0 | T9: 0 | U9: 0 | V9: 0 | W9: 0 | X9: F43_12345
A10: LOCALFORECAST | B10: 4DK | C10: DENMARK | D10: 12011785 | E10: COVERSYL NOVU5 SE 90RT PB BX S DK CM | F10: 0 | G10: 0 | H10: 0 | I10: 0 | J10: 0 | K10: 0 | L10: 0 | M10: 180 | N10: 180 | O10: 180 | P10: 180 | Q10: 180 | R10: 170 | S10: 170 | T10: 170 | U10: 170 | V10: 170 | W10: 170 | X10: F43_12345
A11: LOCALFORECAST | B11: 4DK | C11: DENMARK | D11: 12000906 | E11: COVERSYL5/1,25 SE 30RT PB BX S DK | F11: 5 | G11: 5 | H11: 5 | I11: 5 | J11: 5 | K11: 5 | L11: 5 | M11: 5 | N11: 5 | O11: 5 | P11: 5 | Q11: 5 | R11: 5 | S11: 5 | T11: 5 | U11: 5 | V11: 5 | W11: 5 | X11: F43_12345
A12: LOCALFORECAST | B12: 4DK | C12: DENMARK | D12: 12000907 | E12: COVERSYL5/1,25 SE 90RT PB BX S DK | F12: 200 | G12: 200 | H12: 200 | I12: 200 | J12: 200 | K12: 200 | L12: 200 | M12: 180 | N12: 180 | O12: 180 | P12: 180 | Q12: 180 | R12: 180 | S12: 180 | T12: 160 | U12: 160 | V12: 160 | W12: 160 | X12: F43_12345
A13: LOCALFORECAST | B13: 4DK | C13: DENMARK | D13: 12000414 | E13: DIAMICRON UNO30 SE 180TB BP BX S DK | F13: 15 | G13: 15 | H13: 0 | I13: 0 | J13: 0 | K13: 0 | L13: 0 | M13: 0 | N13: 0 | O13: 0 | P13: 0 | Q13: 0 | R13: 0 | S13: 0 | T13: 0 | U13: 0 | V13: 0 | W13: 0 | X13: F43_12345
... A49: LOCALFORECAST | B49: 4DK | C49: DENMARK | D49: 12011949 | E49: VASTAREL20 SE 60RT BP BX S DK AN | F49: 0 | G49: 0 | H49: 0 | I49: 0 | J49: 0 | K49: 0 | L49: 0 | M49: 0 | N49: 400 | O49: 400 | P49: 400 | Q49: 400 | R49: 400 | S49: 400 | T49: 400 | U49: 400 | V49: 400 | W49: 400 | X49: F43_12345

Sheet GAP
A1: *COMPONENT | B1: *LOCATION | C1: LOCATION_DESCR | D1: *PRODUCT | E1: PRODUCT_DESCR | F1: 45139 | G1: 45170 | H1: 45200 | I1: 45231 | J1: 45261 | K1: 45292 | L1: 45323 | M1: 45352 | N1: 45383 | O1: 45413 | P1: 45444 | Q1: 45474 | R1: 45505 | S1: 45536 | T1: 45566 | U1: 45597 | V1: 45627 | W1: 45658 | X1: PASSWORD | Y1: Sum
A2: LOCALFORECAST | B2: 4DK | C2: DENMARK | D2: 12010171 | E2: AGOMELATINE25 SE 84RT BE BX S FI | F2: =SUMIFS(August!F:F,$D:$D,$D2)-SUMIFS('Last Cycle'!G:G,'Last Cycle'!$D:$D,GAP!$D2) -> 0 | G2: =SUMIFS(August!G:G,$D:$D,$D2)-SUMIFS('Last Cycle'!H:H,'Last Cycle'!$D:$D,GAP!$D2) -> 0 | H2: =SUMIFS(August!H:H,$D:$D,$D2)-SUMIFS('Last Cycle'!I:I,'Last Cycle'!$D:$D,GAP!$D2) -> 0 | I2: =SUMIFS(August!I:I,$D:$D,$D2)-SUMIFS('Last Cycle'!J:J,'Last Cycle'!$D:$D,GAP!$D2) -> 0 | J2: =SUMIFS(August!J:J,$D:$D,$D2)-SUMIFS('Last Cycle'!K:K,'Last Cycle'!$D:$D,GAP!$D2) -> 0 | K2: =SUMIFS(August!K:K,$D:$D,$D2)-SUMIFS('Last Cycle'!L:L,'Last Cycle'!$D:$D,GAP!$D2) -> 0 | L2: =SUMIFS(August!L:L,$D:$D,$D2)-SUMIFS('Last Cycle'!M:M,'Last Cycle'!$D:$D,GAP!$D2) -> 0 | M2: =SUMIFS(August!M:M,$D:$D,$D2)-SUMIFS('Last Cycle'!N:N,'Last Cycle'!$D:$D,GAP!$D2) -> 0 | N2: =SUMIFS(August!N:N,$D:$D,$D2)-SUMIFS('Last Cycle'!O:O,'Last Cycle'!$D:$D,GAP!$D2) -> 0 | O2: =SUMIFS(August!O:O,$D:$D,$D2)-SUMIFS('Last Cycle'!P:P,'Last Cycle'!$D:$D,GAP!$D2) -> 0 | P2: =SUMIFS(August!P:P,$D:$D,$D2)-SUMIFS('Last Cycle'!Q:Q,'Last Cycle'!$D:$D,GAP!$D2) -> 0 | Q2: =SUMIFS(August!Q:Q,$D:$D,$D2)-SUMIFS('Last Cycle'!R:R,'Last Cycle'!$D:$D,GAP!$D2) -> 0 | R2: =SUMIFS(August!R:R,$D:$D,$D2)-SUMIFS('Last Cycle'!S:S,'Last Cycle'!$D:$D,GAP!$D2) -> 0 | S2: =SUMIFS(August!S:S,$D:$D,$D2)-SUMIFS('Last Cycle'!T:T,'Last Cycle'!$D:$D,GAP!$D2) -> 0 | T2: =SUMIFS(August!T:T,$D:$D,$D2)-SUMIFS('Last Cycle'!U:U,'Last Cycle'!$D:$D,GAP!$D2) -> 0 | U2: =SUMIFS(August!U:U,$D:$D,$D2)-SUMIFS('Last Cycle'!V:V,'Last Cycle'!$D:$D,GAP!$D2) -> 0 | V2: =SUMIFS(August!V:V,$D:$D,$D2)-SUMIFS('Last Cycle'!W:W,'Last Cycle'!$D:$D,GAP!$D2) -> 0 | W2: =SUMIFS(August!W:W,$D:$D,$D2)-SUMIFS('Last Cycle'!X:X,'Last Cycle'!$D:$D,GAP!$D2) -> 0 | X2: F43_12345 | Y2: =SUM(F2:V2) -> 0
A3: LOCALFORECAST | B3: 4DK | C3: DENMARK | D3: 12000420 | E3: CAPIVEN500 SE 120RT BP BX S DK | F3: =SUMIFS(August!F:F,$D:$D,$D3)-SUMIFS('Last Cycle'!G:G,'Last Cycle'!$D:$D,GAP!$D3) -> 0 | G3: =SUMIFS(August!G:G,$D:$D,$D3)-SUMIFS('Last Cycle'!H:H,'Last Cycle'!$D:$D,GAP!$D3) -> 0 | H3: =SUMIFS(August!H:H,$D:$D,$D3)-SUMIFS('Last Cycle'!I:I,'Last Cycle'!$D:$D,GAP!$D3) -> -10 | I3: =SUMIFS(August!I:I,$D:$D,$D3)-SUMIFS('Last Cycle'!J:J,'Last Cycle'!$D:$D,GAP!$D3) -> -10 | J3: =SUMIFS(August!J:J,$D:$D,$D3)-SUMIFS('Last Cycle'!K:K,'Last Cycle'!$D:$D,GAP!$D3) -> -10 | K3: =SUMIFS(August!K:K,$D:$D,$D3)-SUMIFS('Last Cycle'!L:L,'Last Cycle'!$D:$D,GAP!$D3) -> -10 | L3: =SUMIFS(August!L:L,$D:$D,$D3)-SUMIFS('Last Cycle'!M:M,'Last Cycle'!$D:$D,GAP!$D3) -> -10 | M3: =SUMIFS(August!M:M,$D:$D,$D3)-SUMIFS('Last Cycle'!N:N,'Last Cycle'!$D:$D,GAP!$D3) -> -10 | N3: =SUMIFS(August!N:N,$D:$D,$D3)-SUMIFS('Last Cycle'!O:O,'Last Cycle'!$D:$D,GAP!$D3) -> -10 | O3: =SUMIFS(August!O:O,$D:$D,$D3)-SUMIFS('Last Cycle'!P:P,'Last Cycle'!$D:$D,GAP!$D3) -> -10 | P3: =SUMIFS(August!P:P,$D:$D,$D3)-SUMIFS('Last Cycle'!Q:Q,'Last Cycle'!$D:$D,GAP!$D3) -> -10 | Q3: =SUMIFS(August!Q:Q,$D:$D,$D3)-SUMIFS('Last Cycle'!R:R,'Last Cycle'!$D:$D,GAP!$D3) -> -10 | R3: =SUMIFS(August!R:R,$D:$D,$D3)-SUMIFS('Last Cycle'!S:S,'Last Cycle'!$D:$D,GAP!$D3) -> -10 | S3: =SUMIFS(August!S:S,$D:$D,$D3)-SUMIFS('Last Cycle'!T:T,'Last Cycle'!$D:$D,GAP!$D3) -> -10 | T3: =SUMIFS(August!T:T,$D:$D,$D3)-SUMIFS('Last Cycle'!U:U,'Last Cycle'!$D:$D,GAP!$D3) -> -10 | U3: =SUMIFS(August!U:U,$D:$D,$D3)-SUMIFS('Last Cycle'!V:V,'Last Cycle'!$D:$D,GAP!$D3) -> -10 | V3: =SUMIFS(August!V:V,$D:$D,$D3)-SUMIFS('Last Cycle'!W:W,'Last Cycle'!$D:$D,GAP!$D3) -> -10 | W3: =SUMIFS(August!W:W,$D:$D,$D3)-SUMIFS('Last Cycle'!X:X,'Last Cycle'!$D:$D,GAP!$D3) -> 120 | X3: F43_12345 | Y3: =SUM(F3:V3) -> -150
A4: LOCALFORECAST | B4: 4DK | C4: DENMARK | D4: 12000419 | E4: CAPIVEN500 SE 60RT BP BX S DK | F4: =SUMIFS(August!F:F,$D:$D,$D4)-SUMIFS('Last Cycle'!G:G,'Last Cycle'!$D:$D,GAP!$D4) -> 0 | G4: =SUMIFS(August!G:G,$D:$D,$D4)-SUMIFS('Last Cycle'!H:H,'Last Cycle'!$D:$D,GAP!$D4) -> 0 | H4: =SUMIFS(August!H:H,$D:$D,$D4)-SUMIFS('Last Cycle'!I:I,'Last Cycle'!$D:$D,GAP!$D4) -> 0 | I4: =SUMIFS(August!I:I,$D:$D,$D4)-SUMIFS('Last Cycle'!J:J,'Last Cycle'!$D:$D,GAP!$D4) -> 0 | J4: =SUMIFS(August!J:J,$D:$D,$D4)-SUMIFS('Last Cycle'!K:K,'Last Cycle'!$D:$D,GAP!$D4) -> 0 | K4: =SUMIFS(August!K:K,$D:$D,$D4)-SUMIFS('Last Cycle'!L:L,'Last Cycle'!$D:$D,GAP!$D4) -> 0 | L4: =SUMIFS(August!L:L,$D:$D,$D4)-SUMIFS('Last Cycle'!M:M,'Last Cycle'!$D:$D,GAP!$D4) -> 0 | M4: =SUMIFS(August!M:M,$D:$D,$D4)-SUMIFS('Last Cycle'!N:N,'Last Cycle'!$D:$D,GAP!$D4) -> 0 | N4: =SUMIFS(August!N:N,$D:$D,$D4)-SUMIFS('Last Cycle'!O:O,'Last Cycle'!$D:$D,GAP!$D4) -> 0 | O4: =SUMIFS(August!O:O,$D:$D,$D4)-SUMIFS('Last Cycle'!P:P,'Last Cycle'!$D:$D,GAP!$D4) -> 0 | P4: =SUMIFS(August!P:P,$D:$D,$D4)-SUMIFS('Last Cycle'!Q:Q,'Last Cycle'!$D:$D,GAP!$D4) -> 0 | Q4: =SUMIFS(August!Q:Q,$D:$D,$D4)-SUMIFS('Last Cycle'!R:R,'Last Cycle'!$D:$D,GAP!$D4) -> 0 | R4: =SUMIFS(August!R:R,$D:$D,$D4)-SUMIFS('Last Cycle'!S:S,'Last Cycle'!$D:$D,GAP!$D4) -> 0 | S4: =SUMIFS(August!S:S,$D:$D,$D4)-SUMIFS('Last Cycle'!T:T,'Last Cycle'!$D:$D,GAP!$D4) -> 0 | T4: =SUMIFS(August!T:T,$D:$D,$D4)-SUMIFS('Last Cycle'!U:U,'Last Cycle'!$D:$D,GAP!$D4) -> 0 | U4: =SUMIFS(August!U:U,$D:$D,$D4)-SUMIFS('Last Cycle'!V:V,'Last Cycle'!$D:$D,GAP!$D4) -> 0 | V4: =SUMIFS(August!V:V,$D:$D,$D4)-SUMIFS('Last Cycle'!W:W,'Last Cycle'!$D:$D,GAP!$D4) -> 0 | W4: =SUMIFS(August!W:W,$D:$D,$D4)-SUMIFS('Last Cycle'!X:X,'Last Cycle'!$D:$D,GAP!$D4) -> 55 | X4: F43_12345 | Y4: =SUM(F4:V4) -> 0
A5: LOCALFORECAST | B5: 4DK | C5: DENMARK | D5: 12000905 | E5: COVERSYL NOVU10 SE 90RT PB BX S DK | F5: =SUMIFS(August!F:F,$D:$D,$D5)-SUMIFS('Last Cycle'!G:G,'Last Cycle'!$D:$D,GAP!$D5) -> 0 | G5: =SUMIFS(August!G:G,$D:$D,$D5)-SUMIFS('Last Cycle'!H:H,'Last Cycle'!$D:$D,GAP!$D5) -> 0 | H5: =SUMIFS(August!H:H,$D:$D,$D5)-SUMIFS('Last Cycle'!I:I,'Last Cycle'!$D:$D,GAP!$D5) -> -10 | I5: =SUMIFS(August!I:I,$D:$D,$D5)-SUMIFS('Last Cycle'!J:J,'Last Cycle'!$D:$D,GAP!$D5) -> 0 | J5: =SUMIFS(August!J:J,$D:$D,$D5)-SUMIFS('Last Cycle'!K:K,'Last Cycle'!$D:$D,GAP!$D5) -> 0 | K5: =SUMIFS(August!K:K,$D:$D,$D5)-SUMIFS('Last Cycle'!L:L,'Last Cycle'!$D:$D,GAP!$D5) -> 0 | L5: =SUMIFS(August!L:L,$D:$D,$D5)-SUMIFS('Last Cycle'!M:M,'Last Cycle'!$D:$D,GAP!$D5) -> 0 | M5: =SUMIFS(August!M:M,$D:$D,$D5)-SUMIFS('Last Cycle'!N:N,'Last Cycle'!$D:$D,GAP!$D5) -> 0 | N5: =SUMIFS(August!N:N,$D:$D,$D5)-SUMIFS('Last Cycle'!O:O,'Last Cycle'!$D:$D,GAP!$D5) -> 0 | O5: =SUMIFS(August!O:O,$D:$D,$D5)-SUMIFS('Last Cycle'!P:P,'Last Cycle'!$D:$D,GAP!$D5) -> 0 | P5: =SUMIFS(August!P:P,$D:$D,$D5)-SUMIFS('Last Cycle'!Q:Q,'Last Cycle'!$D:$D,GAP!$D5) -> 0 | Q5: =SUMIFS(August!Q:Q,$D:$D,$D5)-SUMIFS('Last Cycle'!R:R,'Last Cycle'!$D:$D,GAP!$D5) -> 0 | R5: =SUMIFS(August!R:R,$D:$D,$D5)-SUMIFS('Last Cycle'!S:S,'Last Cycle'!$D:$D,GAP!$D5) -> 0 | S5: =SUMIFS(August!S:S,$D:$D,$D5)-SUMIFS('Last Cycle'!T:T,'Last Cycle'!$D:$D,GAP!$D5) -> 0 | T5: =SUMIFS(August!T:T,$D:$D,$D5)-SUMIFS('Last Cycle'!U:U,'Last Cycle'!$D:$D,GAP!$D5) -> 0 | U5: =SUMIFS(August!U:U,$D:$D,$D5)-SUMIFS('Last Cycle'!V:V,'Last Cycle'!$D:$D,GAP!$D5) -> 0 | V5: =SUMIFS(August!V:V,$D:$D,$D5)-SUMIFS('Last Cycle'!W:W,'Last Cycle'!$D:$D,GAP!$D5) -> 0 | W5: =SUMIFS(August!W:W,$D:$D,$D5)-SUMIFS('Last Cycle'!X:X,'Last Cycle'!$D:$D,GAP!$D5) -> 0 | X5: F43_12345 | Y5: =SUM(F5:V5) -> -10
A6: LOCALFORECAST | B6: 4DK | C6: DENMARK | D6: 12011542 | E6: COVERSYL NOVU10 SE 90RT PB BX S DK CM | F6: =SUMIFS(August!F:F,$D:$D,$D6)-SUMIFS('Last Cycle'!G:G,'Last Cycle'!$D:$D,GAP!$D6) -> 0 | G6: =SUMIFS(August!G:G,$D:$D,$D6)-SUMIFS('Last Cycle'!H:H,'Last Cycle'!$D:$D,GAP!$D6) -> 0 | H6: =SUMIFS(August!H:H,$D:$D,$D6)-SUMIFS('Last Cycle'!I:I,'Last Cycle'!$D:$D,GAP!$D6) -> 0 | I6: =SUMIFS(August!I:I,$D:$D,$D6)-SUMIFS('Last Cycle'!J:J,'Last Cycle'!$D:$D,GAP!$D6) -> 0 | J6: =SUMIFS(August!J:J,$D:$D,$D6)-SUMIFS('Last Cycle'!K:K,'Last Cycle'!$D:$D,GAP!$D6) -> 0 | K6: =SUMIFS(August!K:K,$D:$D,$D6)-SUMIFS('Last Cycle'!L:L,'Last Cycle'!$D:$D,GAP!$D6) -> 0 | L6: =SUMIFS(August!L:L,$D:$D,$D6)-SUMIFS('Last Cycle'!M:M,'Last Cycle'!$D:$D,GAP!$D6) -> 0 | M6: =SUMIFS(August!M:M,$D:$D,$D6)-SUMIFS('Last Cycle'!N:N,'Last Cycle'!$D:$D,GAP!$D6) -> 0 | N6: =SUMIFS(August!N:N,$D:$D,$D6)-SUMIFS('Last Cycle'!O:O,'Last Cycle'!$D:$D,GAP!$D6) -> 0 | O6: =SUMIFS(August!O:O,$D:$D,$D6)-SUMIFS('Last Cycle'!P:P,'Last Cycle'!$D:$D,GAP!$D6) -> 0 | P6: =SUMIFS(August!P:P,$D:$D,$D6)-SUMIFS('Last Cycle'!Q:Q,'Last Cycle'!$D:$D,GAP!$D6) -> 0 | Q6: =SUMIFS(August!Q:Q,$D:$D,$D6)-SUMIFS('Last Cycle'!R:R,'Last Cycle'!$D:$D,GAP!$D6) -> 0 | R6: =SUMIFS(August!R:R,$D:$D,$D6)-SUMIFS('Last Cycle'!S:S,'Last Cycle'!$D:$D,GAP!$D6) -> 0 | S6: =SUMIFS(August!S:S,$D:$D,$D6)-SUMIFS('Last Cycle'!T:T,'Last Cycle'!$D:$D,GAP!$D6) -> 0 | T6: =SUMIFS(August!T:T,$D:$D,$D6)-SUMIFS('Last Cycle'!U:U,'Last Cycle'!$D:$D,GAP!$D6) -> 0 | U6: =SUMIFS(August!U:U,$D:$D,$D6)-SUMIFS('Last Cycle'!V:V,'Last Cycle'!$D:$D,GAP!$D6) -> 0 | V6: =SUMIFS(August!V:V,$D:$D,$D6)-SUMIFS('Last Cycle'!W:W,'Last Cycle'!$D:$D,GAP!$D6) -> 0 | W6: =SUMIFS(August!W:W,$D:$D,$D6)-SUMIFS('Last Cycle'!X:X,'Last Cycle'!$D:$D,GAP!$D6) -> 100 | X6: F43_12345 | Y6: =SUM(F6:V6) -> 0
A7: LOCALFORECAST | B7: 4DK | C7: DENMARK | D7: 12000902 | E7: COVERSYL NOVU2,5 SE 30TB PB BX S DK | F7: =SUMIFS(August!F:F,$D:$D,$D7)-SUMIFS('Last Cycle'!G:G,'Last Cycle'!$D:$D,GAP!$D7) -> -5 | G7: =SUMIFS(August!G:G,$D:$D,$D7)-SUMIFS('Last Cycle'!H:H,'Last Cycle'!$D:$D,GAP!$D7) -> -5 | H7: =SUMIFS(August!H:H,$D:$D,$D7)-SUMIFS('Last Cycle'!I:I,'Last Cycle'!$D:$D,GAP!$D7) -> -5 | I7: =SUMIFS(August!I:I,$D:$D,$D7)-SUMIFS('Last Cycle'!J:J,'Last Cycle'!$D:$D,GAP!$D7) -> -5 | J7: =SUMIFS(August!J:J,$D:$D,$D7)-SUMIFS('Last Cycle'!K:K,'Last Cycle'!$D:$D,GAP!$D7) -> -5 | K7: =SUMIFS(August!K:K,$D:$D,$D7)-SUMIFS('Last Cycle'!L:L,'Last Cycle'!$D:$D,GAP!$D7) -> -5 | L7: =SUMIFS(August!L:L,$D:$D,$D7)-SUMIFS('Last Cycle'!M:M,'Last Cycle'!$D:$D,GAP!$D7) -> 5 | M7: =SUMIFS(August!M:M,$D:$D,$D7)-SUMIFS('Last Cycle'!N:N,'Last Cycle'!$D:$D,GAP!$D7) -> -5 | N7: =SUMIFS(August!N:N,$D:$D,$D7)-SUMIFS('Last Cycle'!O:O,'Last Cycle'!$D:$D,GAP!$D7) -> 5 | O7: =SUMIFS(August!O:O,$D:$D,$D7)-SUMIFS('Last Cycle'!P:P,'Last Cycle'!$D:$D,GAP!$D7) -> -5 | P7: =SUMIFS(August!P:P,$D:$D,$D7)-SUMIFS('Last Cycle'!Q:Q,'Last Cycle'!$D:$D,GAP!$D7) -> -5 | Q7: =SUMIFS(August!Q:Q,$D:$D,$D7)-SUMIFS('Last Cycle'!R:R,'Last Cycle'!$D:$D,GAP!$D7) -> 5 | R7: =SUMIFS(August!R:R,$D:$D,$D7)-SUMIFS('Last Cycle'!S:S,'Last Cycle'!$D:$D,GAP!$D7) -> -5 | S7: =SUMIFS(August!S:S,$D:$D,$D7)-SUMIFS('Last Cycle'!T:T,'Last Cycle'!$D:$D,GAP!$D7) -> -5 | T7: =SUMIFS(August!T:T,$D:$D,$D7)-SUMIFS('Last Cycle'!U:U,'Last Cycle'!$D:$D,GAP!$D7) -> -5 | U7: =SUMIFS(August!U:U,$D:$D,$D7)-SUMIFS('Last Cycle'!V:V,'Last Cycle'!$D:$D,GAP!$D7) -> -5 | V7: =SUMIFS(August!V:V,$D:$D,$D7)-SUMIFS('Last Cycle'!W:W,'Last Cycle'!$D:$D,GAP!$D7) -> 5 | W7: =SUMIFS(August!W:W,$D:$D,$D7)-SUMIFS('Last Cycle'!X:X,'Last Cycle'!$D:$D,GAP!$D7) -> 60 | X7: F43_12345 | Y7: =SUM(F7:V7) -> -45
A8: LOCALFORECAST | B8: 4DK | C8: DENMARK | D8: 12000903 | E8: COVERSYL NOVU5 SE 30RT PB BX S DK | F8: =SUMIFS(August!F:F,$D:$D,$D8)-SUMIFS('Last Cycle'!G:G,'Last Cycle'!$D:$D,GAP!$D8) -> 0 | G8: =SUMIFS(August!G:G,$D:$D,$D8)-SUMIFS('Last Cycle'!H:H,'Last Cycle'!$D:$D,GAP!$D8) -> 0 | H8: =SUMIFS(August!H:H,$D:$D,$D8)-SUMIFS('Last Cycle'!I:I,'Last Cycle'!$D:$D,GAP!$D8) -> -5 | I8: =SUMIFS(August!I:I,$D:$D,$D8)-SUMIFS('Last Cycle'!J:J,'Last Cycle'!$D:$D,GAP!$D8) -> -5 | J8: =SUMIFS(August!J:J,$D:$D,$D8)-SUMIFS('Last Cycle'!K:K,'Last Cycle'!$D:$D,GAP!$D8) -> -5 | K8: =SUMIFS(August!K:K,$D:$D,$D8)-SUMIFS('Last Cycle'!L:L,'Last Cycle'!$D:$D,GAP!$D8) -> -5 | L8: =SUMIFS(August!L:L,$D:$D,$D8)-SUMIFS('Last Cycle'!M:M,'Last Cycle'!$D:$D,GAP!$D8) -> 0 | M8: =SUMIFS(August!M:M,$D:$D,$D8)-SUMIFS('Last Cycle'!N:N,'Last Cycle'!$D:$D,GAP!$D8) -> -5 | N8: =SUMIFS(August!N:N,$D:$D,$D8)-SUMIFS('Last Cycle'!O:O,'Last Cycle'!$D:$D,GAP!$D8) -> 0 | O8: =SUMIFS(August!O:O,$D:$D,$D8)-SUMIFS('Last Cycle'!P:P,'Last Cycle'!$D:$D,GAP!$D8) -> -5 | P8: =SUMIFS(August!P:P,$D:$D,$D8)-SUMIFS('Last Cycle'!Q:Q,'Last Cycle'!$D:$D,GAP!$D8) -> -5 | Q8: =SUMIFS(August!Q:Q,$D:$D,$D8)-SUMIFS('Last Cycle'!R:R,'Last Cycle'!$D:$D,GAP!$D8) -> 0 | R8: =SUMIFS(August!R:R,$D:$D,$D8)-SUMIFS('Last Cycle'!S:S,'Last Cycle'!$D:$D,GAP!$D8) -> -5 | S8: =SUMIFS(August!S:S,$D:$D,$D8)-SUMIFS('Last Cycle'!T:T,'Last Cycle'!$D:$D,GAP!$D8) -> -5 | T8: =SUMIFS(August!T:T,$D:$D,$D8)-SUMIFS('Last Cycle'!U:U,'Last Cycle'!$D:$D,GAP!$D8) -> -5 | U8: =SUMIFS(August!U:U,$D:$D,$D8)-SUMIFS('Last Cycle'!V:V,'Last Cycle'!$D:$D,GAP!$D8) -> -5 | V8: =SUMIFS(August!V:V,$D:$D,$D8)-SUMIFS('Last Cycle'!W:W,'Last Cycle'!$D:$D,GAP!$D8) -> 0 | W8: =SUMIFS(August!W:W,$D:$D,$D8)-SUMIFS('Last Cycle'!X:X,'Last Cycle'!$D:$D,GAP!$D8) -> 45 | X8: F43_12345 | Y8: =SUM(F8:V8) -> -55
A9: LOCALFORECAST | B9: 4DK | C9: DENMARK | D9: 12000904 | E9: COVERSYL NOVU5 SE 90RT PB BX S DK | F9: =SUMIFS(August!F:F,$D:$D,$D9)-SUMIFS('Last Cycle'!G:G,'Last Cycle'!$D:$D,GAP!$D9) -> 0 | G9: =SUMIFS(August!G:G,$D:$D,$D9)-SUMIFS('Last Cycle'!H:H,'Last Cycle'!$D:$D,GAP!$D9) -> 0 | H9: =SUMIFS(August!H:H,$D:$D,$D9)-SUMIFS('Last Cycle'!I:I,'Last Cycle'!$D:$D,GAP!$D9) -> 0 | I9: =SUMIFS(August!I:I,$D:$D,$D9)-SUMIFS('Last Cycle'!J:J,'Last Cycle'!$D:$D,GAP!$D9) -> 0 | J9: =SUMIFS(August!J:J,$D:$D,$D9)-SUMIFS('Last Cycle'!K:K,'Last Cycle'!$D:$D,GAP!$D9) -> 0 | K9: =SUMIFS(August!K:K,$D:$D,$D9)-SUMIFS('Last Cycle'!L:L,'Last Cycle'!$D:$D,GAP!$D9) -> 0 | L9: =SUMIFS(August!L:L,$D:$D,$D9)-SUMIFS('Last Cycle'!M:M,'Last Cycle'!$D:$D,GAP!$D9) -> 0 | M9: =SUMIFS(August!M:M,$D:$D,$D9)-SUMIFS('Last Cycle'!N:N,'Last Cycle'!$D:$D,GAP!$D9) -> 0 | N9: =SUMIFS(August!N:N,$D:$D,$D9)-SUMIFS('Last Cycle'!O:O,'Last Cycle'!$D:$D,GAP!$D9) -> 0 | O9: =SUMIFS(August!O:O,$D:$D,$D9)-SUMIFS('Last Cycle'!P:P,'Last Cycle'!$D:$D,GAP!$D9) -> 0 | P9: =SUMIFS(August!P:P,$D:$D,$D9)-SUMIFS('Last Cycle'!Q:Q,'Last Cycle'!$D:$D,GAP!$D9) -> 0 | Q9: =SUMIFS(August!Q:Q,$D:$D,$D9)-SUMIFS('Last Cycle'!R:R,'Last Cycle'!$D:$D,GAP!$D9) -> 0 | R9: =SUMIFS(August!R:R,$D:$D,$D9)-SUMIFS('Last Cycle'!S:S,'Last Cycle'!$D:$D,GAP!$D9) -> 0 | S9: =SUMIFS(August!S:S,$D:$D,$D9)-SUMIFS('Last Cycle'!T:T,'Last Cycle'!$D:$D,GAP!$D9) -> 0 | T9: =SUMIFS(August!T:T,$D:$D,$D9)-SUMIFS('Last Cycle'!U:U,'Last Cycle'!$D:$D,GAP!$D9) -> 0 | U9: =SUMIFS(August!U:U,$D:$D,$D9)-SUMIFS('Last Cycle'!V:V,'Last Cycle'!$D:$D,GAP!$D9) -> 0 | V9: =SUMIFS(August!V:V,$D:$D,$D9)-SUMIFS('Last Cycle'!W:W,'Last Cycle'!$D:$D,GAP!$D9) -> 0 | W9: =SUMIFS(August!W:W,$D:$D,$D9)-SUMIFS('Last Cycle'!X:X,'Last Cycle'!$D:$D,GAP!$D9) -> 0 | X9: F43_12345 | Y9: =SUM(F9:V9) -> 0
A10: LOCALFORECAST | B10: 4DK | C10: DENMARK | D10: 12011785 | E10: COVERSYL NOVU5 SE 90RT PB BX S DK CM | F10: =SUMIFS(August!F:F,$D:$D,$D10)-SUMIFS('Last Cycle'!G:G,'Last Cycle'!$D:$D,GAP!$D10) -> 0 | G10: =SUMIFS(August!G:G,$D:$D,$D10)-SUMIFS('Last Cycle'!H:H,'Last Cycle'!$D:$D,GAP!$D10) -> 0 | H10: =SUMIFS(August!H:H,$D:$D,$D10)-SUMIFS('Last Cycle'!I:I,'Last Cycle'!$D:$D,GAP!$D10) -> 0 | I10: =SUMIFS(August!I:I,$D:$D,$D10)-SUMIFS('Last Cycle'!J:J,'Last Cycle'!$D:$D,GAP!$D10) -> 0 | J10: =SUMIFS(August!J:J,$D:$D,$D10)-SUMIFS('Last Cycle'!K:K,'Last Cycle'!$D:$D,GAP!$D10) -> 0 | K10: =SUMIFS(August!K:K,$D:$D,$D10)-SUMIFS('Last Cycle'!L:L,'Last Cycle'!$D:$D,GAP!$D10) -> 0 | L10: =SUMIFS(August!L:L,$D:$D,$D10)-SUMIFS('Last Cycle'!M:M,'Last Cycle'!$D:$D,GAP!$D10) -> 0 | M10: =SUMIFS(August!M:M,$D:$D,$D10)-SUMIFS('Last Cycle'!N:N,'Last Cycle'!$D:$D,GAP!$D10) -> 0 | N10: =SUMIFS(August!N:N,$D:$D,$D10)-SUMIFS('Last Cycle'!O:O,'Last Cycle'!$D:$D,GAP!$D10) -> 0 | O10: =SUMIFS(August!O:O,$D:$D,$D10)-SUMIFS('Last Cycle'!P:P,'Last Cycle'!$D:$D,GAP!$D10) -> 0 | P10: =SUMIFS(August!P:P,$D:$D,$D10)-SUMIFS('Last Cycle'!Q:Q,'Last Cycle'!$D:$D,GAP!$D10) -> 0 | Q10: =SUMIFS(August!Q:Q,$D:$D,$D10)-SUMIFS('Last Cycle'!R:R,'Last Cycle'!$D:$D,GAP!$D10) -> 0 | R10: =SUMIFS(August!R:R,$D:$D,$D10)-SUMIFS('Last Cycle'!S:S,'Last Cycle'!$D:$D,GAP!$D10) -> 0 | S10: =SUMIFS(August!S:S,$D:$D,$D10)-SUMIFS('Last Cycle'!T:T,'Last Cycle'!$D:$D,GAP!$D10) -> 0 | T10: =SUMIFS(August!T:T,$D:$D,$D10)-SUMIFS('Last Cycle'!U:U,'Last Cycle'!$D:$D,GAP!$D10) -> 0 | U10: =SUMIFS(August!U:U,$D:$D,$D10)-SUMIFS('Last Cycle'!V:V,'Last Cycle'!$D:$D,GAP!$D10) -> 0 | V10: =SUMIFS(August!V:V,$D:$D,$D10)-SUMIFS('Last Cycle'!W:W,'Last Cycle'!$D:$D,GAP!$D10) -> 0 | W10: =SUMIFS(August!W:W,$D:$D,$D10)-SUMIFS('Last Cycle'!X:X,'Last Cycle'!$D:$D,GAP!$D10) -> 170 | X10: F43_12345 | Y10: =SUM(F10:V10) -> 0
A11: LOCALFORECAST | B11: 4DK | C11: DENMARK | D11: 12000906 | E11: COVERSYL5/1,25 SE 30RT PB BX S DK | F11: =SUMIFS(August!F:F,$D:$D,$D11)-SUMIFS('Last Cycle'!G:G,'Last Cycle'!$D:$D,GAP!$D11) -> 0 | G11: =SUMIFS(August!G:G,$D:$D,$D11)-SUMIFS('Last Cycle'!H:H,'Last Cycle'!$D:$D,GAP!$D11) -> 0 | H11: =SUMIFS(August!H:H,$D:$D,$D11)-SUMIFS('Last Cycle'!I:I,'Last Cycle'!$D:$D,GAP!$D11) -> 0 | I11: =SUMIFS(August!I:I,$D:$D,$D11)-SUMIFS('Last Cycle'!J:J,'Last Cycle'!$D:$D,GAP!$D11) -> 0 | J11: =SUMIFS(August!J:J,$D:$D,$D11)-SUMIFS('Last Cycle'!K:K,'Last Cycle'!$D:$D,GAP!$D11) -> 0 | K11: =SUMIFS(August!K:K,$D:$D,$D11)-SUMIFS('Last Cycle'!L:L,'Last Cycle'!$D:$D,GAP!$D11) -> 0 | L11: =SUMIFS(August!L:L,$D:$D,$D11)-SUMIFS('Last Cycle'!M:M,'Last Cycle'!$D:$D,GAP!$D11) -> 0 | M11: =SUMIFS(August!M:M,$D:$D,$D11)-SUMIFS('Last Cycle'!N:N,'Last Cycle'!$D:$D,GAP!$D11) -> 0 | N11: =SUMIFS(August!N:N,$D:$D,$D11)-SUMIFS('Last Cycle'!O:O,'Last Cycle'!$D:$D,GAP!$D11) -> 0 | O11: =SUMIFS(August!O:O,$D:$D,$D11)-SUMIFS('Last Cycle'!P:P,'Last Cycle'!$D:$D,GAP!$D11) -> 0 | P11: =SUMIFS(August!P:P,$D:$D,$D11)-SUMIFS('Last Cycle'!Q:Q,'Last Cycle'!$D:$D,GAP!$D11) -> 0 | Q11: =SUMIFS(August!Q:Q,$D:$D,$D11)-SUMIFS('Last Cycle'!R:R,'Last Cycle'!$D:$D,GAP!$D11) -> 0 | R11: =SUMIFS(August!R:R,$D:$D,$D11)-SUMIFS('Last Cycle'!S:S,'Last Cycle'!$D:$D,GAP!$D11) -> 0 | S11: =SUMIFS(August!S:S,$D:$D,$D11)-SUMIFS('Last Cycle'!T:T,'Last Cycle'!$D:$D,GAP!$D11) -> 0 | T11: =SUMIFS(August!T:T,$D:$D,$D11)-SUMIFS('Last Cycle'!U:U,'Last Cycle'!$D:$D,GAP!$D11) -> 0 | U11: =SUMIFS(August!U:U,$D:$D,$D11)-SUMIFS('Last Cycle'!V:V,'Last Cycle'!$D:$D,GAP!$D11) -> 0 | V11: =SUMIFS(August!V:V,$D:$D,$D11)-SUMIFS('Last Cycle'!W:W,'Last Cycle'!$D:$D,GAP!$D11) -> 0 | W11: =SUMIFS(August!W:W,$D:$D,$D11)-SUMIFS('Last Cycle'!X:X,'Last Cycle'!$D:$D,GAP!$D11) -> 5 | X11: F43_12345 | Y11: =SUM(F11:V11) -> 0
A12: LOCALFORECAST | B12: 4DK | C12: DENMARK | D12: 12000907 | E12: COVERSYL5/1,25 SE 90RT PB BX S DK | F12: =SUMIFS(August!F:F,$D:$D,$D12)-SUMIFS('Last Cycle'!G:G,'Last Cycle'!$D:$D,GAP!$D12) -> 0 | G12: =SUMIFS(August!G:G,$D:$D,$D12)-SUMIFS('Last Cycle'!H:H,'Last Cycle'!$D:$D,GAP!$D12) -> 0 | H12: =SUMIFS(August!H:H,$D:$D,$D12)-SUMIFS('Last Cycle'!I:I,'Last Cycle'!$D:$D,GAP!$D12) -> -20 | I12: =SUMIFS(August!I:I,$D:$D,$D12)-SUMIFS('Last Cycle'!J:J,'Last Cycle'!$D:$D,GAP!$D12) -> -20 | J12: =SUMIFS(August!J:J,$D:$D,$D12)-SUMIFS('Last Cycle'!K:K,'Last Cycle'!$D:$D,GAP!$D12) -> -20 | K12: =SUMIFS(August!K:K,$D:$D,$D12)-SUMIFS('Last Cycle'!L:L,'Last Cycle'!$D:$D,GAP!$D12) -> -20 | L12: =SUMIFS(August!L:L,$D:$D,$D12)-SUMIFS('Last Cycle'!M:M,'Last Cycle'!$D:$D,GAP!$D12) -> 0 | M12: =SUMIFS(August!M:M,$D:$D,$D12)-SUMIFS('Last Cycle'!N:N,'Last Cycle'!$D:$D,GAP!$D12) -> -10 | N12: =SUMIFS(August!N:N,$D:$D,$D12)-SUMIFS('Last Cycle'!O:O,'Last Cycle'!$D:$D,GAP!$D12) -> -10 | O12: =SUMIFS(August!O:O,$D:$D,$D12)-SUMIFS('Last Cycle'!P:P,'Last Cycle'!$D:$D,GAP!$D12) -> -10 | P12: =SUMIFS(August!P:P,$D:$D,$D12)-SUMIFS('Last Cycle'!Q:Q,'Last Cycle'!$D:$D,GAP!$D12) -> -10 | Q12: =SUMIFS(August!Q:Q,$D:$D,$D12)-SUMIFS('Last Cycle'!R:R,'Last Cycle'!$D:$D,GAP!$D12) -> -10 | R12: =SUMIFS(August!R:R,$D:$D,$D12)-SUMIFS('Last Cycle'!S:S,'Last Cycle'!$D:$D,GAP!$D12) -> -10 | S12: =SUMIFS(August!S:S,$D:$D,$D12)-SUMIFS('Last Cycle'!T:T,'Last Cycle'!$D:$D,GAP!$D12) -> 0 | T12: =SUMIFS(August!T:T,$D:$D,$D12)-SUMIFS('Last Cycle'!U:U,'Last Cycle'!$D:$D,GAP!$D12) -> 0 | U12: =SUMIFS(August!U:U,$D:$D,$D12)-SUMIFS('Last Cycle'!V:V,'Last Cycle'!$D:$D,GAP!$D12) -> 0 | V12: =SUMIFS(August!V:V,$D:$D,$D12)-SUMIFS('Last Cycle'!W:W,'Last Cycle'!$D:$D,GAP!$D12) -> 0 | W12: =SUMIFS(August!W:W,$D:$D,$D12)-SUMIFS('Last Cycle'!X:X,'Last Cycle'!$D:$D,GAP!$D12) -> 160 | X12: F43_12345 | Y12: =SUM(F12:V12) -> -140
A13: LOCALFORECAST | B13: 4DK | C13: DENMARK | D13: 12000414 | E13: DIAMICRON UNO30 SE 180TB BP BX S DK | F13: =SUMIFS(August!F:F,$D:$D,$D13)-SUMIFS('Last Cycle'!G:G,'Last Cycle'!$D:$D,GAP!$D13) -> 0 | G13: =SUMIFS(August!G:G,$D:$D,$D13)-SUMIFS('Last Cycle'!H:H,'Last Cycle'!$D:$D,GAP!$D13) -> 0 | H13: =SUMIFS(August!H:H,$D:$D,$D13)-SUMIFS('Last Cycle'!I:I,'Last Cycle'!$D:$D,GAP!$D13) -> 0 | I13: =SUMIFS(August!I:I,$D:$D,$D13)-SUMIFS('Last Cycle'!J:J,'Last Cycle'!$D:$D,GAP!$D13) -> 0 | J13: =SUMIFS(August!J:J,$D:$D,$D13)-SUMIFS('Last Cycle'!K:K,'Last Cycle'!$D:$D,GAP!$D13) -> 0 | K13: =SUMIFS(August!K:K,$D:$D,$D13)-SUMIFS('Last Cycle'!L:L,'Last Cycle'!$D:$D,GAP!$D13) -> 0 | L13: =SUMIFS(August!L:L,$D:$D,$D13)-SUMIFS('Last Cycle'!M:M,'Last Cycle'!$D:$D,GAP!$D13) -> 0 | M13: =SUMIFS(August!M:M,$D:$D,$D13)-SUMIFS('Last Cycle'!N:N,'Last Cycle'!$D:$D,GAP!$D13) -> 0 | N13: =SUMIFS(August!N:N,$D:$D,$D13)-SUMIFS('Last Cycle'!O:O,'Last Cycle'!$D:$D,GAP!$D13) -> 0 | O13: =SUMIFS(August!O:O,$D:$D,$D13)-SUMIFS('Last Cycle'!P:P,'Last Cycle'!$D:$D,GAP!$D13) -> 0 | P13: =SUMIFS(August!P:P,$D:$D,$D13)-SUMIFS('Last Cycle'!Q:Q,'Last Cycle'!$D:$D,GAP!$D13) -> 0 | Q13: =SUMIFS(August!Q:Q,$D:$D,$D13)-SUMIFS('Last Cycle'!R:R,'Last Cycle'!$D:$D,GAP!$D13) -> 0 | R13: =SUMIFS(August!R:R,$D:$D,$D13)-SUMIFS('Last Cycle'!S:S,'Last Cycle'!$D:$D,GAP!$D13) -> 0 | S13: =SUMIFS(August!S:S,$D:$D,$D13)-SUMIFS('Last Cycle'!T:T,'Last Cycle'!$D:$D,GAP!$D13) -> 0 | T13: =SUMIFS(August!T:T,$D:$D,$D13)-SUMIFS('Last Cycle'!U:U,'Last Cycle'!$D:$D,GAP!$D13) -> 0 | U13: =SUMIFS(August!U:U,$D:$D,$D13)-SUMIFS('Last Cycle'!V:V,'Last Cycle'!$D:$D,GAP!$D13) -> 0 | V13: =SUMIFS(August!V:V,$D:$D,$D13)-SUMIFS('Last Cycle'!W:W,'Last Cycle'!$D:$D,GAP!$D13) -> 0 | W13: =SUMIFS(August!W:W,$D:$D,$D13)-SUMIFS('Last Cycle'!X:X,'Last Cycle'!$D:$D,GAP!$D13) -> 0 | X13: F43_12345 | Y13: =SUM(F13:V13) -> 0
... A49: LOCALFORECAST | B49: 4DK | C49: DENMARK | D49: 12011949 | E49: VASTAREL20 SE 60RT BP BX S DK AN | F49: =SUMIFS(August!F:F,$D:$D,$D49)-SUMIFS('Last Cycle'!G:G,'Last Cycle'!$D:$D,GAP!$D49) -> 0 | G49: =SUMIFS(August!G:G,$D:$D,$D49)-SUMIFS('Last Cycle'!H:H,'Last Cycle'!$D:$D,GAP!$D49) -> 0 | H49: =SUMIFS(August!H:H,$D:$D,$D49)-SUMIFS('Last Cycle'!I:I,'Last Cycle'!$D:$D,GAP!$D49) -> 0 | I49: =SUMIFS(August!I:I,$D:$D,$D49)-SUMIFS('Last Cycle'!J:J,'Last Cycle'!$D:$D,GAP!$D49) -> 0 | J49: =SUMIFS(August!J:J,$D:$D,$D49)-SUMIFS('Last Cycle'!K:K,'Last Cycle'!$D:$D,GAP!$D49) -> 0 | K49: =SUMIFS(August!K:K,$D:$D,$D49)-SUMIFS('Last Cycle'!L:L,'Last Cycle'!$D:$D,GAP!$D49) -> 0 | L49: =SUMIFS(August!L:L,$D:$D,$D49)-SUMIFS('Last Cycle'!M:M,'Last Cycle'!$D:$D,GAP!$D49) -> 0 | M49: =SUMIFS(August!M:M,$D:$D,$D49)-SUMIFS('Last Cycle'!N:N,'Last Cycle'!$D:$D,GAP!$D49) -> 50 | N49: =SUMIFS(August!N:N,$D:$D,$D49)-SUMIFS('Last Cycle'!O:O,'Last Cycle'!$D:$D,GAP!$D49) -> 50 | O49: =SUMIFS(August!O:O,$D:$D,$D49)-SUMIFS('Last Cycle'!P:P,'Last Cycle'!$D:$D,GAP!$D49) -> 50 | P49: =SUMIFS(August!P:P,$D:$D,$D49)-SUMIFS('Last Cycle'!Q:Q,'Last Cycle'!$D:$D,GAP!$D49) -> 50 | Q49: =SUMIFS(August!Q:Q,$D:$D,$D49)-SUMIFS('Last Cycle'!R:R,'Last Cycle'!$D:$D,GAP!$D49) -> 50 | R49: =SUMIFS(August!R:R,$D:$D,$D49)-SUMIFS('Last Cycle'!S:S,'Last Cycle'!$D:$D,GAP!$D49) -> 50 | S49: =SUMIFS(August!S:S,$D:$D,$D49)-SUMIFS('Last Cycle'!T:T,'Last Cycle'!$D:$D,GAP!$D49) -> 50 | T49: =SUMIFS(August!T:T,$D:$D,$D49)-SUMIFS('Last Cycle'!U:U,'Last Cycle'!$D:$D,GAP!$D49) -> 50 | U49: =SUMIFS(August!U:U,$D:$D,$D49)-SUMIFS('Last Cycle'!V:V,'Last Cycle'!$D:$D,GAP!$D49) -> 50 | V49: =SUMIFS(August!V:V,$D:$D,$D49)-SUMIFS('Last Cycle'!W:W,'Last Cycle'!$D:$D,GAP!$D49) -> 50 | W49: =SUMIFS(August!W:W,$D:$D,$D49)-SUMIFS('Last Cycle'!X:X,'Last Cycle'!$D:$D,GAP!$D49) -> 450 | X49: F43_12345 | Y49: =SUM(F49:V49) -> 500

Sheet GAP%
A1: *COMPONENT | B1: *LOCATION | C1: LOCATION_DESCR | D1: *PRODUCT | E1: PRODUCT_DESCR | F1: 45139 | G1: 45170 | H1: 45200 | I1: 45231 | J1: 45261 | K1: 45292 | L1: 45323 | M1: 45352 | N1: 45383 | O1: 45413 | P1: 45444 | Q1: 45474 | R1: 45505 | S1: 45536 | T1: 45566 | U1: 45597 | V1: 45627 | W1: 45658 | X1: PASSWORD | Y1: Sum
A2: LOCALFORECAST | B2: 4DK | C2: DENMARK | D2: 12010171 | E2: AGOMELATINE25 SE 84RT BE BX S FI | F2: =IFERROR((SUMIFS(August!F:F,$D:$D,$D2)-SUMIFS('Last Cycle'!G:G,'Last Cycle'!$D:$D,'GAP%'!$D2))/SUMIFS('Last Cycle'!G:G,'Last Cycle'!$D:$D,'GAP%'!$D2),"") | G2: =IFERROR((SUMIFS(August!G:G,$D:$D,$D2)-SUMIFS('Last Cycle'!H:H,'Last Cycle'!$D:$D,'GAP%'!$D2))/SUMIFS('Last Cycle'!H:H,'Last Cycle'!$D:$D,'GAP%'!$D2),"") | H2: =IFERROR((SUMIFS(August!H:H,$D:$D,$D2)-SUMIFS('Last Cycle'!I:I,'Last Cycle'!$D:$D,'GAP%'!$D2))/SUMIFS('Last Cycle'!I:I,'Last Cycle'!$D:$D,'GAP%'!$D2),"") | I2: =IFERROR((SUMIFS(August!I:I,$D:$D,$D2)-SUMIFS('Last Cycle'!J:J,'Last Cycle'!$D:$D,'GAP%'!$D2))/SUMIFS('Last Cycle'!J:J,'Last Cycle'!$D:$D,'GAP%'!$D2),"") | J2: =IFERROR((SUMIFS(August!J:J,$D:$D,$D2)-SUMIFS('Last Cycle'!K:K,'Last Cycle'!$D:$D,'GAP%'!$D2))/SUMIFS('Last Cycle'!K:K,'Last Cycle'!$D:$D,'GAP%'!$D2),"") | K2: =IFERROR((SUMIFS(August!K:K,$D:$D,$D2)-SUMIFS('Last Cycle'!L:L,'Last Cycle'!$D:$D,'GAP%'!$D2))/SUMIFS('Last Cycle'!L:L,'Last Cycle'!$D:$D,'GAP%'!$D2),"") | L2: =IFERROR((SUMIFS(August!L:L,$D:$D,$D2)-SUMIFS('Last Cycle'!M:M,'Last Cycle'!$D:$D,'GAP%'!$D2))/SUMIFS('Last Cycle'!M:M,'Last Cycle'!$D:$D,'GAP%'!$D2),"") | M2: =IFERROR((SUMIFS(August!M:M,$D:$D,$D2)-SUMIFS('Last Cycle'!N:N,'Last Cycle'!$D:$D,'GAP%'!$D2))/SUMIFS('Last Cycle'!N:N,'Last Cycle'!$D:$D,'GAP%'!$D2),"") | N2: =IFERROR((SUMIFS(August!N:N,$D:$D,$D2)-SUMIFS('Last Cycle'!O:O,'Last Cycle'!$D:$D,'GAP%'!$D2))/SUMIFS('Last Cycle'!O:O,'Last Cycle'!$D:$D,'GAP%'!$D2),"") | O2: =IFERROR((SUMIFS(August!O:O,$D:$D,$D2)-SUMIFS('Last Cycle'!P:P,'Last Cycle'!$D:$D,'GAP%'!$D2))/SUMIFS('Last Cycle'!P:P,'Last Cycle'!$D:$D,'GAP%'!$D2),"") | P2: =IFERROR((SUMIFS(August!P:P,$D:$D,$D2)-SUMIFS('Last Cycle'!Q:Q,'Last Cycle'!$D:$D,'GAP%'!$D2))/SUMIFS('Last Cycle'!Q:Q,'Last Cycle'!$D:$D,'GAP%'!$D2),"") | Q2: =IFERROR((SUMIFS(August!Q:Q,$D:$D,$D2)-SUMIFS('Last Cycle'!R:R,'Last Cycle'!$D:$D,'GAP%'!$D2))/SUMIFS('Last Cycle'!R:R,'Last Cycle'!$D:$D,'GAP%'!$D2),"") | R2: =IFERROR((SUMIFS(August!R:R,$D:$D,$D2)-SUMIFS('Last Cycle'!S:S,'Last Cycle'!$D:$D,'GAP%'!$D2))/SUMIFS('Last Cycle'!S:S,'Last Cycle'!$D:$D,'GAP%'!$D2),"") | S2: =IFERROR((SUMIFS(August!S:S,$D:$D,$D2)-SUMIFS('Last Cycle'!T:T,'Last Cycle'!$D:$D,'GAP%'!$D2))/SUMIFS('Last Cycle'!T:T,'Last Cycle'!$D:$D,'GAP%'!$D2),"") | T2: =IFERROR((SUMIFS(August!T:T,$D:$D,$D2)-SUMIFS('Last Cycle'!U:U,'Last Cycle'!$D:$D,'GAP%'!$D2))/SUMIFS('Last Cycle'!U:U,'Last Cycle'!$D:$D,'GAP%'!$D2),"") | U2: =IFERROR((SUMIFS(August!U:U,$D:$D,$D2)-SUMIFS('Last Cycle'!V:V,'Last Cycle'!$D:$D,'GAP%'!$D2))/SUMIFS('Last Cycle'!V:V,'Last Cycle'!$D:$D,'GAP%'!$D2),"") | V2: =IFERROR((SUMIFS(August!V:V,$D:$D,$D2)-SUMIFS('Last Cycle'!W:W,'Last Cycle'!$D:$D,'GAP%'!$D2))/SUMIFS('Last Cycle'!W:W,'Last Cycle'!$D:$D,'GAP%'!$D2),"") | W2: =IFERROR((SUMIFS(August!W:W,$D:$D,$D2)-SUMIFS('Last Cycle'!X:X,'Last Cycle'!$D:$D,'GAP%'!$D2))/SUMIFS('Last Cycle'!X:X,'Last Cycle'!$D:$D,'GAP%'!$D2),"") | X2: F43_12345 | Y2: =SUM(F2:V2) -> 0
A3: LOCALFORECAST | B3: 4DK | C3: DENMARK | D3: 12000420 | E3: CAPIVEN500 SE 120RT BP BX S DK | F3: =IFERROR((SUMIFS(August!F:F,$D:$D,$D3)-SUMIFS('Last Cycle'!G:G,'Last Cycle'!$D:$D,'GAP%'!$D3))/SUMIFS('Last Cycle'!G:G,'Last Cycle'!$D:$D,'GAP%'!$D3),"") -> 0 | G3: =IFERROR((SUMIFS(August!G:G,$D:$D,$D3)-SUMIFS('Last Cycle'!H:H,'Last Cycle'!$D:$D,'GAP%'!$D3))/SUMIFS('Last Cycle'!H:H,'Last Cycle'!$D:$D,'GAP%'!$D3),"") -> 0 | H3: =IFERROR((SUMIFS(August!H:H,$D:$D,$D3)-SUMIFS('Last Cycle'!I:I,'Last Cycle'!$D:$D,'GAP%'!$D3))/SUMIFS('Last Cycle'!I:I,'Last Cycle'!$D:$D,'GAP%'!$D3),"") -> -0.076923077 | I3: =IFERROR((SUMIFS(August!I:I,$D:$D,$D3)-SUMIFS('Last Cycle'!J:J,'Last Cycle'!$D:$D,'GAP%'!$D3))/SUMIFS('Last Cycle'!J:J,'Last Cycle'!$D:$D,'GAP%'!$D3),"") -> -0.076923077 | J3: =IFERROR((SUMIFS(August!J:J,$D:$D,$D3)-SUMIFS('Last Cycle'!K:K,'Last Cycle'!$D:$D,'GAP%'!$D3))/SUMIFS('Last Cycle'!K:K,'Last Cycle'!$D:$D,'GAP%'!$D3),"") -> -0.076923077 | K3: =IFERROR((SUMIFS(August!K:K,$D:$D,$D3)-SUMIFS('Last Cycle'!L:L,'Last Cycle'!$D:$D,'GAP%'!$D3))/SUMIFS('Last Cycle'!L:L,'Last Cycle'!$D:$D,'GAP%'!$D3),"") -> -0.076923077 | L3: =IFERROR((SUMIFS(August!L:L,$D:$D,$D3)-SUMIFS('Last Cycle'!M:M,'Last Cycle'!$D:$D,'GAP%'!$D3))/SUMIFS('Last Cycle'!M:M,'Last Cycle'!$D:$D,'GAP%'!$D3),"") -> -0.076923077 | M3: =IFERROR((SUMIFS(August!M:M,$D:$D,$D3)-SUMIFS('Last Cycle'!N:N,'Last Cycle'!$D:$D,'GAP%'!$D3))/SUMIFS('Last Cycle'!N:N,'Last Cycle'!$D:$D,'GAP%'!$D3),"") -> -0.076923077 | N3: =IFERROR((SUMIFS(August!N:N,$D:$D,$D3)-SUMIFS('Last Cycle'!O:O,'Last Cycle'!$D:$D,'GAP%'!$D3))/SUMIFS('Last Cycle'!O:O,'Last Cycle'!$D:$D,'GAP%'!$D3),"") -> -0.076923077 | O3: =IFERROR((SUMIFS(August!O:O,$D:$D,$D3)-SUMIFS('Last Cycle'!P:P,'Last Cycle'!$D:$D,'GAP%'!$D3))/SUMIFS('Last Cycle'!P:P,'Last Cycle'!$D:$D,'GAP%'!$D3),"") -> -0.076923077 | P3: =IFERROR((SUMIFS(August!P:P,$D:$D,$D3)-SUMIFS('Last Cycle'!Q:Q,'Last Cycle'!$D:$D,'GAP%'!$D3))/SUMIFS('Last Cycle'!Q:Q,'Last Cycle'!$D:$D,'GAP%'!$D3),"") -> -0.076923077 | Q3: =IFERROR((SUMIFS(August!Q:Q,$D:$D,$D3)-SUMIFS('Last Cycle'!R:R,'Last Cycle'!$D:$D,'GAP%'!$D3))/SUMIFS('Last Cycle'!R:R,'Last Cycle'!$D:$D,'GAP%'!$D3),"") -> -0.076923077 | R3: =IFERROR((SUMIFS(August!R:R,$D:$D,$D3)-SUMIFS('Last Cycle'!S:S,'Last Cycle'!$D:$D,'GAP%'!$D3))/SUMIFS('Last Cycle'!S:S,'Last Cycle'!$D:$D,'GAP%'!$D3),"") -> -0.076923077 | S3: =IFERROR((SUMIFS(August!S:S,$D:$D,$D3)-SUMIFS('Last Cycle'!T:T,'Last Cycle'!$D:$D,'GAP%'!$D3))/SUMIFS('Last Cycle'!T:T,'Last Cycle'!$D:$D,'GAP%'!$D3),"") -> -0.076923077 | T3: =IFERROR((SUMIFS(August!T:T,$D:$D,$D3)-SUMIFS('Last Cycle'!U:U,'Last Cycle'!$D:$D,'GAP%'!$D3))/SUMIFS('Last Cycle'!U:U,'Last Cycle'!$D:$D,'GAP%'!$D3),"") -> -0.076923077 | U3: =IFERROR((SUMIFS(August!U:U,$D:$D,$D3)-SUMIFS('Last Cycle'!V:V,'Last Cycle'!$D:$D,'GAP%'!$D3))/SUMIFS('Last Cycle'!V:V,'Last Cycle'!$D:$D,'GAP%'!$D3),"") -> -0.076923077 | V3: =IFERROR((SUMIFS(August!V:V,$D:$D,$D3)-SUMIFS('Last Cycle'!W:W,'Last Cycle'!$D:$D,'GAP%'!$D3))/SUMIFS('Last Cycle'!W:W,'Last Cycle'!$D:$D,'GAP%'!$D3),"") -> -0.076923077 | W3: =IFERROR((SUMIFS(August!W:W,$D:$D,$D3)-SUMIFS('Last Cycle'!X:X,'Last Cycle'!$D:$D,'GAP%'!$D3))/SUMIFS('Last Cycle'!X:X,'Last Cycle'!$D:$D,'GAP%'!$D3),"") | X3: F43_12345 | Y3: =SUM(F3:V3) -> -1.1538462
A4: LOCALFORECAST | B4: 4DK | C4: DENMARK | D4: 12000419 | E4: CAPIVEN500 SE 60RT BP BX S DK | F4: =IFERROR((SUMIFS(August!F:F,$D:$D,$D4)-SUMIFS('Last Cycle'!G:G,'Last Cycle'!$D:$D,'GAP%'!$D4))/SUMIFS('Last Cycle'!G:G,'Last Cycle'!$D:$D,'GAP%'!$D4),"") -> 0 | G4: =IFERROR((SUMIFS(August!G:G,$D:$D,$D4)-SUMIFS('Last Cycle'!H:H,'Last Cycle'!$D:$D,'GAP%'!$D4))/SUMIFS('Last Cycle'!H:H,'Last Cycle'!$D:$D,'GAP%'!$D4),"") -> 0 | H4: =IFERROR((SUMIFS(August!H:H,$D:$D,$D4)-SUMIFS('Last Cycle'!I:I,'Last Cycle'!$D:$D,'GAP%'!$D4))/SUMIFS('Last Cycle'!I:I,'Last Cycle'!$D:$D,'GAP%'!$D4),"") -> 0 | I4: =IFERROR((SUMIFS(August!I:I,$D:$D,$D4)-SUMIFS('Last Cycle'!J:J,'Last Cycle'!$D:$D,'GAP%'!$D4))/SUMIFS('Last Cycle'!J:J,'Last Cycle'!$D:$D,'GAP%'!$D4),"") -> 0 | J4: =IFERROR((SUMIFS(August!J:J,$D:$D,$D4)-SUMIFS('Last Cycle'!K:K,'Last Cycle'!$D:$D,'GAP%'!$D4))/SUMIFS('Last Cycle'!K:K,'Last Cycle'!$D:$D,'GAP%'!$D4),"") -> 0 | K4: =IFERROR((SUMIFS(August!K:K,$D:$D,$D4)-SUMIFS('Last Cycle'!L:L,'Last Cycle'!$D:$D,'GAP%'!$D4))/SUMIFS('Last Cycle'!L:L,'Last Cycle'!$D:$D,'GAP%'!$D4),"") -> 0 | L4: =IFERROR((SUMIFS(August!L:L,$D:$D,$D4)-SUMIFS('Last Cycle'!M:M,'Last Cycle'!$D:$D,'GAP%'!$D4))/SUMIFS('Last Cycle'!M:M,'Last Cycle'!$D:$D,'GAP%'!$D4),"") -> 0 | M4: =IFERROR((SUMIFS(August!M:M,$D:$D,$D4)-SUMIFS('Last Cycle'!N:N,'Last Cycle'!$D:$D,'GAP%'!$D4))/SUMIFS('Last Cycle'!N:N,'Last Cycle'!$D:$D,'GAP%'!$D4),"") -> 0 | N4: =IFERROR((SUMIFS(August!N:N,$D:$D,$D4)-SUMIFS('Last Cycle'!O:O,'Last Cycle'!$D:$D,'GAP%'!$D4))/SUMIFS('Last Cycle'!O:O,'Last Cycle'!$D:$D,'GAP%'!$D4),"") -> 0 | O4: =IFERROR((SUMIFS(August!O:O,$D:$D,$D4)-SUMIFS('Last Cycle'!P:P,'Last Cycle'!$D:$D,'GAP%'!$D4))/SUMIFS('Last Cycle'!P:P,'Last Cycle'!$D:$D,'GAP%'!$D4),"") -> 0 | P4: =IFERROR((SUMIFS(August!P:P,$D:$D,$D4)-SUMIFS('Last Cycle'!Q:Q,'Last Cycle'!$D:$D,'GAP%'!$D4))/SUMIFS('Last Cycle'!Q:Q,'Last Cycle'!$D:$D,'GAP%'!$D4),"") -> 0 | Q4: =IFERROR((SUMIFS(August!Q:Q,$D:$D,$D4)-SUMIFS('Last Cycle'!R:R,'Last Cycle'!$D:$D,'GAP%'!$D4))/SUMIFS('Last Cycle'!R:R,'Last Cycle'!$D:$D,'GAP%'!$D4),"") -> 0 | R4: =IFERROR((SUMIFS(August!R:R,$D:$D,$D4)-SUMIFS('Last Cycle'!S:S,'Last Cycle'!$D:$D,'GAP%'!$D4))/SUMIFS('Last Cycle'!S:S,'Last Cycle'!$D:$D,'GAP%'!$D4),"") -> 0 | S4: =IFERROR((SUMIFS(August!S:S,$D:$D,$D4)-SUMIFS('Last Cycle'!T:T,'Last Cycle'!$D:$D,'GAP%'!$D4))/SUMIFS('Last Cycle'!T:T,'Last Cycle'!$D:$D,'GAP%'!$D4),"") -> 0 | T4: =IFERROR((SUMIFS(August!T:T,$D:$D,$D4)-SUMIFS('Last Cycle'!U:U,'Last Cycle'!$D:$D,'GAP%'!$D4))/SUMIFS('Last Cycle'!U:U,'Last Cycle'!$D:$D,'GAP%'!$D4),"") -> 0 | U4: =IFERROR((SUMIFS(August!U:U,$D:$D,$D4)-SUMIFS('Last Cycle'!V:V,'Last Cycle'!$D:$D,'GAP%'!$D4))/SUMIFS('Last Cycle'!V:V,'Last Cycle'!$D:$D,'GAP%'!$D4),"") -> 0 | V4: =IFERROR((SUMIFS(August!V:V,$D:$D,$D4)-SUMIFS('Last Cycle'!W:W,'Last Cycle'!$D:$D,'GAP%'!$D4))/SUMIFS('Last Cycle'!W:W,'Last Cycle'!$D:$D,'GAP%'!$D4),"") -> 0 | W4: =IFERROR((SUMIFS(August!W:W,$D:$D,$D4)-SUMIFS('Last Cycle'!X:X,'Last Cycle'!$D:$D,'GAP%'!$D4))/SUMIFS('Last Cycle'!X:X,'Last Cycle'!$D:$D,'GAP%'!$D4),"") | X4: F43_12345 | Y4: =SUM(F4:V4) -> 0
A5: LOCALFORECAST | B5: 4DK | C5: DENMARK | D5: 12000905 | E5: COVERSYL NOVU10 SE 90RT PB BX S DK | F5: =IFERROR((SUMIFS(August!F:F,$D:$D,$D5)-SUMIFS('Last Cycle'!G:G,'Last Cycle'!$D:$D,'GAP%'!$D5))/SUMIFS('Last Cycle'!G:G,'Last Cycle'!$D:$D,'GAP%'!$D5),"") -> 0 | G5: =IFERROR((SUMIFS(August!G:G,$D:$D,$D5)-SUMIFS('Last Cycle'!H:H,'Last Cycle'!$D:$D,'GAP%'!$D5))/SUMIFS('Last Cycle'!H:H,'Last Cycle'!$D:$D,'GAP%'!$D5),"") -> 0 | H5: =IFERROR((SUMIFS(August!H:H,$D:$D,$D5)-SUMIFS('Last Cycle'!I:I,'Last Cycle'!$D:$D,'GAP%'!$D5))/SUMIFS('Last Cycle'!I:I,'Last Cycle'!$D:$D,'GAP%'!$D5),"") -> -0.090909091 | I5: =IFERROR((SUMIFS(August!I:I,$D:$D,$D5)-SUMIFS('Last Cycle'!J:J,'Last Cycle'!$D:$D,'GAP%'!$D5))/SUMIFS('Last Cycle'!J:J,'Last Cycle'!$D:$D,'GAP%'!$D5),"") -> 0 | J5: =IFERROR((SUMIFS(August!J:J,$D:$D,$D5)-SUMIFS('Last Cycle'!K:K,'Last Cycle'!$D:$D,'GAP%'!$D5))/SUMIFS('Last Cycle'!K:K,'Last Cycle'!$D:$D,'GAP%'!$D5),"") -> 0 | K5: =IFERROR((SUMIFS(August!K:K,$D:$D,$D5)-SUMIFS('Last Cycle'!L:L,'Last Cycle'!$D:$D,'GAP%'!$D5))/SUMIFS('Last Cycle'!L:L,'Last Cycle'!$D:$D,'GAP%'!$D5),"") -> 0 | L5: =IFERROR((SUMIFS(August!L:L,$D:$D,$D5)-SUMIFS('Last Cycle'!M:M,'Last Cycle'!$D:$D,'GAP%'!$D5))/SUMIFS('Last Cycle'!M:M,'Last Cycle'!$D:$D,'GAP%'!$D5),"") -> 0 | M5: =IFERROR((SUMIFS(August!M:M,$D:$D,$D5)-SUMIFS('Last Cycle'!N:N,'Last Cycle'!$D:$D,'GAP%'!$D5))/SUMIFS('Last Cycle'!N:N,'Last Cycle'!$D:$D,'GAP%'!$D5),"") | N5: =IFERROR((SUMIFS(August!N:N,$D:$D,$D5)-SUMIFS('Last Cycle'!O:O,'Last Cycle'!$D:$D,'GAP%'!$D5))/SUMIFS('Last Cycle'!O:O,'Last Cycle'!$D:$D,'GAP%'!$D5),"") | O5: =IFERROR((SUMIFS(August!O:O,$D:$D,$D5)-SUMIFS('Last Cycle'!P:P,'Last Cycle'!$D:$D,'GAP%'!$D5))/SUMIFS('Last Cycle'!P:P,'Last Cycle'!$D:$D,'GAP%'!$D5),"") | P5: =IFERROR((SUMIFS(August!P:P,$D:$D,$D5)-SUMIFS('Last Cycle'!Q:Q,'Last Cycle'!$D:$D,'GAP%'!$D5))/SUMIFS('Last Cycle'!Q:Q,'Last Cycle'!$D:$D,'GAP%'!$D5),"") | Q5: =IFERROR((SUMIFS(August!Q:Q,$D:$D,$D5)-SUMIFS('Last Cycle'!R:R,'Last Cycle'!$D:$D,'GAP%'!$D5))/SUMIFS('Last Cycle'!R:R,'Last Cycle'!$D:$D,'GAP%'!$D5),"") | R5: =IFERROR((SUMIFS(August!R:R,$D:$D,$D5)-SUMIFS('Last Cycle'!S:S,'Last Cycle'!$D:$D,'GAP%'!$D5))/SUMIFS('Last Cycle'!S:S,'Last Cycle'!$D:$D,'GAP%'!$D5),"") | S5: =IFERROR((SUMIFS(August!S:S,$D:$D,$D5)-SUMIFS('Last Cycle'!T:T,'Last Cycle'!$D:$D,'GAP%'!$D5))/SUMIFS('Last Cycle'!T:T,'Last Cycle'!$D:$D,'GAP%'!$D5),"") | T5: =IFERROR((SUMIFS(August!T:T,$D:$D,$D5)-SUMIFS('Last Cycle'!U:U,'Last Cycle'!$D:$D,'GAP%'!$D5))/SUMIFS('Last Cycle'!U:U,'Last Cycle'!$D:$D,'GAP%'!$D5),"") | U5: =IFERROR((SUMIFS(August!U:U,$D:$D,$D5)-SUMIFS('Last Cycle'!V:V,'Last Cycle'!$D:$D,'GAP%'!$D5))/SUMIFS('Last Cycle'!V:V,'Last Cycle'!$D:$D,'GAP%'!$D5),"") | V5: =IFERROR((SUMIFS(August!V:V,$D:$D,$D5)-SUMIFS('Last Cycle'!W:W,'Last Cycle'!$D:$D,'GAP%'!$D5))/SUMIFS('Last Cycle'!W:W,'Last Cycle'!$D:$D,'GAP%'!$D5),"") | W5: =IFERROR((SUMIFS(August!W:W,$D:$D,$D5)-SUMIFS('Last Cycle'!X:X,'Last Cycle'!$D:$D,'GAP%'!$D5))/SUMIFS('Last Cycle'!X:X,'Last Cycle'!$D:$D,'GAP%'!$D5),"") | X5: F43_12345 | Y5: =SUM(F5:V5) -> -0.090909091
A6: LOCALFORECAST | B6: 4DK | C6: DENMARK | D6: 12011542 | E6: COVERSYL NOVU10 SE 90RT PB BX S DK CM | F6: =IFERROR((SUMIFS(August!F:F,$D:$D,$D6)-SUMIFS('Last Cycle'!G:G,'Last Cycle'!$D:$D,'GAP%'!$D6))/SUMIFS('Last Cycle'!G:G,'Last Cycle'!$D:$D,'GAP%'!$D6),"") | G6: =IFERROR((SUMIFS(August!G:G,$D:$D,$D6)-SUMIFS('Last Cycle'!H:H,'Last Cycle'!$D:$D,'GAP%'!$D6))/SUMIFS('Last Cycle'!H:H,'Last Cycle'!$D:$D,'GAP%'!$D6),"") | H6: =IFERROR((SUMIFS(August!H:H,$D:$D,$D6)-SUMIFS('Last Cycle'!I:I,'Last Cycle'!$D:$D,'GAP%'!$D6))/SUMIFS('Last Cycle'!I:I,'Last Cycle'!$D:$D,'GAP%'!$D6),"") | I6: =IFERROR((SUMIFS(August!I:I,$D:$D,$D6)-SUMIFS('Last Cycle'!J:J,'Last Cycle'!$D:$D,'GAP%'!$D6))/SUMIFS('Last Cycle'!J:J,'Last Cycle'!$D:$D,'GAP%'!$D6),"") | J6: =IFERROR((SUMIFS(August!J:J,$D:$D,$D6)-SUMIFS('Last Cycle'!K:K,'Last Cycle'!$D:$D,'GAP%'!$D6))/SUMIFS('Last Cycle'!K:K,'Last Cycle'!$D:$D,'GAP%'!$D6),"") | K6: =IFERROR((SUMIFS(August!K:K,$D:$D,$D6)-SUMIFS('Last Cycle'!L:L,'Last Cycle'!$D:$D,'GAP%'!$D6))/SUMIFS('Last Cycle'!L:L,'Last Cycle'!$D:$D,'GAP%'!$D6),"") | L6: =IFERROR((SUMIFS(August!L:L,$D:$D,$D6)-SUMIFS('Last Cycle'!M:M,'Last Cycle'!$D:$D,'GAP%'!$D6))/SUMIFS('Last Cycle'!M:M,'Last Cycle'!$D:$D,'GAP%'!$D6),"") | M6: =IFERROR((SUMIFS(August!M:M,$D:$D,$D6)-SUMIFS('Last Cycle'!N:N,'Last Cycle'!$D:$D,'GAP%'!$D6))/SUMIFS('Last Cycle'!N:N,'Last Cycle'!$D:$D,'GAP%'!$D6),"") -> 0 | N6: =IFERROR((SUMIFS(August!N:N,$D:$D,$D6)-SUMIFS('Last Cycle'!O:O,'Last Cycle'!$D:$D,'GAP%'!$D6))/SUMIFS('Last Cycle'!O:O,'Last Cycle'!$D:$D,'GAP%'!$D6),"") -> 0 | O6: =IFERROR((SUMIFS(August!O:O,$D:$D,$D6)-SUMIFS('Last Cycle'!P:P,'Last Cycle'!$D:$D,'GAP%'!$D6))/SUMIFS('Last Cycle'!P:P,'Last Cycle'!$D:$D,'GAP%'!$D6),"") -> 0 | P6: =IFERROR((SUMIFS(August!P:P,$D:$D,$D6)-SUMIFS('Last Cycle'!Q:Q,'Last Cycle'!$D:$D,'GAP%'!$D6))/SUMIFS('Last Cycle'!Q:Q,'Last Cycle'!$D:$D,'GAP%'!$D6),"") -> 0 | Q6: =IFERROR((SUMIFS(August!Q:Q,$D:$D,$D6)-SUMIFS('Last Cycle'!R:R,'Last Cycle'!$D:$D,'GAP%'!$D6))/SUMIFS('Last Cycle'!R:R,'Last Cycle'!$D:$D,'GAP%'!$D6),"") -> 0 | R6: =IFERROR((SUMIFS(August!R:R,$D:$D,$D6)-SUMIFS('Last Cycle'!S:S,'Last Cycle'!$D:$D,'GAP%'!$D6))/SUMIFS('Last Cycle'!S:S,'Last Cycle'!$D:$D,'GAP%'!$D6),"") -> 0 | S6: =IFERROR((SUMIFS(August!S:S,$D:$D,$D6)-SUMIFS('Last Cycle'!T:T,'Last Cycle'!$D:$D,'GAP%'!$D6))/SUMIFS('Last Cycle'!T:T,'Last Cycle'!$D:$D,'GAP%'!$D6),"") -> 0 | T6: =IFERROR((SUMIFS(August!T:T,$D:$D,$D6)-SUMIFS('Last Cycle'!U:U,'Last Cycle'!$D:$D,'GAP%'!$D6))/SUMIFS('Last Cycle'!U:U,'Last Cycle'!$D:$D,'GAP%'!$D6),"") -> 0 | U6: =IFERROR((SUMIFS(August!U:U,$D:$D,$D6)-SUMIFS('Last Cycle'!V:V,'Last Cycle'!$D:$D,'GAP%'!$D6))/SUMIFS('Last Cycle'!V:V,'Last Cycle'!$D:$D,'GAP%'!$D6),"") -> 0 | V6: =IFERROR((SUMIFS(August!V:V,$D:$D,$D6)-SUMIFS('Last Cycle'!W:W,'Last Cycle'!$D:$D,'GAP%'!$D6))/SUMIFS('Last Cycle'!W:W,'Last Cycle'!$D:$D,'GAP%'!$D6),"") -> 0 | W6: =IFERROR((SUMIFS(August!W:W,$D:$D,$D6)-SUMIFS('Last Cycle'!X:X,'Last Cycle'!$D:$D,'GAP%'!$D6))/SUMIFS('Last Cycle'!X:X,'Last Cycle'!$D:$D,'GAP%'!$D6),"") | X6: F43_12345 | Y6: =SUM(F6:V6) -> 0
A7: LOCALFORECAST | B7: 4DK | C7: DENMARK | D7: 12000902 | E7: COVERSYL NOVU2,5 SE 30TB PB BX S DK | F7: =IFERROR((SUMIFS(August!F:F,$D:$D,$D7)-SUMIFS('Last Cycle'!G:G,'Last Cycle'!$D:$D,'GAP%'!$D7))/SUMIFS('Last Cycle'!G:G,'Last Cycle'!$D:$D,'GAP%'!$D7),"") -> -0.076923077 | G7: =IFERROR((SUMIFS(August!G:G,$D:$D,$D7)-SUMIFS('Last Cycle'!H:H,'Last Cycle'!$D:$D,'GAP%'!$D7))/SUMIFS('Last Cycle'!H:H,'Last Cycle'!$D:$D,'GAP%'!$D7),"") -> -0.076923077 | H7: =IFERROR((SUMIFS(August!H:H,$D:$D,$D7)-SUMIFS('Last Cycle'!I:I,'Last Cycle'!$D:$D,'GAP%'!$D7))/SUMIFS('Last Cycle'!I:I,'Last Cycle'!$D:$D,'GAP%'!$D7),"") -> -0.076923077 | I7: =IFERROR((SUMIFS(August!I:I,$D:$D,$D7)-SUMIFS('Last Cycle'!J:J,'Last Cycle'!$D:$D,'GAP%'!$D7))/SUMIFS('Last Cycle'!J:J,'Last Cycle'!$D:$D,'GAP%'!$D7),"") -> -0.076923077 | J7: =IFERROR((SUMIFS(August!J:J,$D:$D,$D7)-SUMIFS('Last Cycle'!K:K,'Last Cycle'!$D:$D,'GAP%'!$D7))/SUMIFS('Last Cycle'!K:K,'Last Cycle'!$D:$D,'GAP%'!$D7),"") -> -0.076923077 | K7: =IFERROR((SUMIFS(August!K:K,$D:$D,$D7)-SUMIFS('Last Cycle'!L:L,'Last Cycle'!$D:$D,'GAP%'!$D7))/SUMIFS('Last Cycle'!L:L,'Last Cycle'!$D:$D,'GAP%'!$D7),"") -> -0.076923077 | L7: =IFERROR((SUMIFS(August!L:L,$D:$D,$D7)-SUMIFS('Last Cycle'!M:M,'Last Cycle'!$D:$D,'GAP%'!$D7))/SUMIFS('Last Cycle'!M:M,'Last Cycle'!$D:$D,'GAP%'!$D7),"") -> 0.090909091 | M7: =IFERROR((SUMIFS(August!M:M,$D:$D,$D7)-SUMIFS('Last Cycle'!N:N,'Last Cycle'!$D:$D,'GAP%'!$D7))/SUMIFS('Last Cycle'!N:N,'Last Cycle'!$D:$D,'GAP%'!$D7),"") -> -0.076923077 | N7: =IFERROR((SUMIFS(August!N:N,$D:$D,$D7)-SUMIFS('Last Cycle'!O:O,'Last Cycle'!$D:$D,'GAP%'!$D7))/SUMIFS('Last Cycle'!O:O,'Last Cycle'!$D:$D,'GAP%'!$D7),"") -> 0.090909091 | O7: =IFERROR((SUMIFS(August!O:O,$D:$D,$D7)-SUMIFS('Last Cycle'!P:P,'Last Cycle'!$D:$D,'GAP%'!$D7))/SUMIFS('Last Cycle'!P:P,'Last Cycle'!$D:$D,'GAP%'!$D7),"") -> -0.076923077 | P7: =IFERROR((SUMIFS(August!P:P,$D:$D,$D7)-SUMIFS('Last Cycle'!Q:Q,'Last Cycle'!$D:$D,'GAP%'!$D7))/SUMIFS('Last Cycle'!Q:Q,'Last Cycle'!$D:$D,'GAP%'!$D7),"") -> -0.076923077 | Q7: =IFERROR((SUMIFS(August!Q:Q,$D:$D,$D7)-SUMIFS('Last Cycle'!R:R,'Last Cycle'!$D:$D,'GAP%'!$D7))/SUMIFS('Last Cycle'!R:R,'Last Cycle'!$D:$D,'GAP%'!$D7),"") -> 0.090909091 | R7: =IFERROR((SUMIFS(August!R:R,$D:$D,$D7)-SUMIFS('Last Cycle'!S:S,'Last Cycle'!$D:$D,'GAP%'!$D7))/SUMIFS('Last Cycle'!S:S,'Last Cycle'!$D:$D,'GAP%'!$D7),"") -> -0.076923077 | S7: =IFERROR((SUMIFS(August!S:S,$D:$D,$D7)-SUMIFS('Last Cycle'!T:T,'Last Cycle'!$D:$D,'GAP%'!$D7))/SUMIFS('Last Cycle'!T:T,'Last Cycle'!$D:$D,'GAP%'!$D7),"") -> -0.076923077 | T7: =IFERROR((SUMIFS(August!T:T,$D:$D,$D7)-SUMIFS('Last Cycle'!U:U,'Last Cycle'!$D:$D,'GAP%'!$D7))/SUMIFS('Last Cycle'!U:U,'Last Cycle'!$D:$D,'GAP%'!$D7),"") -> -0.076923077 | U7: =IFERROR((SUMIFS(August!U:U,$D:$D,$D7)-SUMIFS('Last Cycle'!V:V,'Last Cycle'!$D:$D,'GAP%'!$D7))/SUMIFS('Last Cycle'!V:V,'Last Cycle'!$D:$D,'GAP%'!$D7),"") -> -0.076923077 | V7: =IFERROR((SUMIFS(August!V:V,$D:$D,$D7)-SUMIFS('Last Cycle'!W:W,'Last Cycle'!$D:$D,'GAP%'!$D7))/SUMIFS('Last Cycle'!W:W,'Last Cycle'!$D:$D,'GAP%'!$D7),"") -> 0.090909091 | W7: =IFERROR((SUMIFS(August!W:W,$D:$D,$D7)-SUMIFS('Last Cycle'!X:X,'Last Cycle'!$D:$D,'GAP%'!$D7))/SUMIFS('Last Cycle'!X:X,'Last Cycle'!$D:$D,'GAP%'!$D7),"") | X7: F43_12345 | Y7: =SUM(F7:V7) -> -0.63636364
A8: LOCALFORECAST | B8: 4DK | C8: DENMARK | D8: 12000903 | E8: COVERSYL NOVU5 SE 30RT PB BX S DK | F8: =IFERROR((SUMIFS(August!F:F,$D:$D,$D8)-SUMIFS('Last Cycle'!G:G,'Last Cycle'!$D:$D,'GAP%'!$D8))/SUMIFS('Last Cycle'!G:G,'Last Cycle'!$D:$D,'GAP%'!$D8),"") -> 0 | G8: =IFERROR((SUMIFS(August!G:G,$D:$D,$D8)-SUMIFS('Last Cycle'!H:H,'Last Cycle'!$D:$D,'GAP%'!$D8))/SUMIFS('Last Cycle'!H:H,'Last Cycle'!$D:$D,'GAP%'!$D8),"") -> 0 | H8: =IFERROR((SUMIFS(August!H:H,$D:$D,$D8)-SUMIFS('Last Cycle'!I:I,'Last Cycle'!$D:$D,'GAP%'!$D8))/SUMIFS('Last Cycle'!I:I,'Last Cycle'!$D:$D,'GAP%'!$D8),"") -> -0.1 | I8: =IFERROR((SUMIFS(August!I:I,$D:$D,$D8)-SUMIFS('Last Cycle'!J:J,'Last Cycle'!$D:$D,'GAP%'!$D8))/SUMIFS('Last Cycle'!J:J,'Last Cycle'!$D:$D,'GAP%'!$D8),"") -> -0.1 | J8: =IFERROR((SUMIFS(August!J:J,$D:$D,$D8)-SUMIFS('Last Cycle'!K:K,'Last Cycle'!$D:$D,'GAP%'!$D8))/SUMIFS('Last Cycle'!K:K,'Last Cycle'!$D:$D,'GAP%'!$D8),"") -> -0.1 | K8: =IFERROR((SUMIFS(August!K:K,$D:$D,$D8)-SUMIFS('Last Cycle'!L:L,'Last Cycle'!$D:$D,'GAP%'!$D8))/SUMIFS('Last Cycle'!L:L,'Last Cycle'!$D:$D,'GAP%'!$D8),"") -> -0.1 | L8: =IFERROR((SUMIFS(August!L:L,$D:$D,$D8)-SUMIFS('Last Cycle'!M:M,'Last Cycle'!$D:$D,'GAP%'!$D8))/SUMIFS('Last Cycle'!M:M,'Last Cycle'!$D:$D,'GAP%'!$D8),"") -> 0 | M8: =IFERROR((SUMIFS(August!M:M,$D:$D,$D8)-SUMIFS('Last Cycle'!N:N,'Last Cycle'!$D:$D,'GAP%'!$D8))/SUMIFS('Last Cycle'!N:N,'Last Cycle'!$D:$D,'GAP%'!$D8),"") -> -0.1 | N8: =IFERROR((SUMIFS(August!N:N,$D:$D,$D8)-SUMIFS('Last Cycle'!O:O,'Last Cycle'!$D:$D,'GAP%'!$D8))/SUMIFS('Last Cycle'!O:O,'Last Cycle'!$D:$D,'GAP%'!$D8),"") -> 0 | O8: =IFERROR((SUMIFS(August!O:O,$D:$D,$D8)-SUMIFS('Last Cycle'!P:P,'Last Cycle'!$D:$D,'GAP%'!$D8))/SUMIFS('Last Cycle'!P:P,'Last Cycle'!$D:$D,'GAP%'!$D8),"") -> -0.1 | P8: =IFERROR((SUMIFS(August!P:P,$D:$D,$D8)-SUMIFS('Last Cycle'!Q:Q,'Last Cycle'!$D:$D,'GAP%'!$D8))/SUMIFS('Last Cycle'!Q:Q,'Last Cycle'!$D:$D,'GAP%'!$D8),"") -> -0.1 | Q8: =IFERROR((SUMIFS(August!Q:Q,$D:$D,$D8)-SUMIFS('Last Cycle'!R:R,'Last Cycle'!$D:$D,'GAP%'!$D8))/SUMIFS('Last Cycle'!R:R,'Last Cycle'!$D:$D,'GAP%'!$D8),"") -> 0 | R8: =IFERROR((SUMIFS(August!R:R,$D:$D,$D8)-SUMIFS('Last Cycle'!S:S,'Last Cycle'!$D:$D,'GAP%'!$D8))/SUMIFS('Last Cycle'!S:S,'Last Cycle'!$D:$D,'GAP%'!$D8),"") -> -0.1 | S8: =IFERROR((SUMIFS(August!S:S,$D:$D,$D8)-SUMIFS('Last Cycle'!T:T,'Last Cycle'!$D:$D,'GAP%'!$D8))/SUMIFS('Last Cycle'!T:T,'Last Cycle'!$D:$D,'GAP%'!$D8),"") -> -0.1 | T8: =IFERROR((SUMIFS(August!T:T,$D:$D,$D8)-SUMIFS('Last Cycle'!U:U,'Last Cycle'!$D:$D,'GAP%'!$D8))/SUMIFS('Last Cycle'!U:U,'Last Cycle'!$D:$D,'GAP%'!$D8),"") -> -0.1 | U8: =IFERROR((SUMIFS(August!U:U,$D:$D,$D8)-SUMIFS('Last Cycle'!V:V,'Last Cycle'!$D:$D,'GAP%'!$D8))/SUMIFS('Last Cycle'!V:V,'Last Cycle'!$D:$D,'GAP%'!$D8),"") -> -0.1 | V8: =IFERROR((SUMIFS(August!V:V,$D:$D,$D8)-SUMIFS('Last Cycle'!W:W,'Last Cycle'!$D:$D,'GAP%'!$D8))/SUMIFS('Last Cycle'!W:W,'Last Cycle'!$D:$D,'GAP%'!$D8),"") -> 0 | W8: =IFERROR((SUMIFS(August!W:W,$D:$D,$D8)-SUMIFS('Last Cycle'!X:X,'Last Cycle'!$D:$D,'GAP%'!$D8))/SUMIFS('Last Cycle'!X:X,'Last Cycle'!$D:$D,'GAP%'!$D8),"") | X8: F43_12345 | Y8: =SUM(F8:V8) -> -1.1
A9: LOCALFORECAST | B9: 4DK | C9: DENMARK | D9: 12000904 | E9: COVERSYL NOVU5 SE 90RT PB BX S DK | F9: =IFERROR((SUMIFS(August!F:F,$D:$D,$D9)-SUMIFS('Last Cycle'!G:G,'Last Cycle'!$D:$D,'GAP%'!$D9))/SUMIFS('Last Cycle'!G:G,'Last Cycle'!$D:$D,'GAP%'!$D9),"") -> 0 | G9: =IFERROR((SUMIFS(August!G:G,$D:$D,$D9)-SUMIFS('Last Cycle'!H:H,'Last Cycle'!$D:$D,'GAP%'!$D9))/SUMIFS('Last Cycle'!H:H,'Last Cycle'!$D:$D,'GAP%'!$D9),"") -> 0 | H9: =IFERROR((SUMIFS(August!H:H,$D:$D,$D9)-SUMIFS('Last Cycle'!I:I,'Last Cycle'!$D:$D,'GAP%'!$D9))/SUMIFS('Last Cycle'!I:I,'Last Cycle'!$D:$D,'GAP%'!$D9),"") -> 0 | I9: =IFERROR((SUMIFS(August!I:I,$D:$D,$D9)-SUMIFS('Last Cycle'!J:J,'Last Cycle'!$D:$D,'GAP%'!$D9))/SUMIFS('Last Cycle'!J:J,'Last Cycle'!$D:$D,'GAP%'!$D9),"") -> 0 | J9: =IFERROR((SUMIFS(August!J:J,$D:$D,$D9)-SUMIFS('Last Cycle'!K:K,'Last Cycle'!$D:$D,'GAP%'!$D9))/SUMIFS('Last Cycle'!K:K,'Last Cycle'!$D:$D,'GAP%'!$D9),"") -> 0 | K9: =IFERROR((SUMIFS(August!K:K,$D:$D,$D9)-SUMIFS('Last Cycle'!L:L,'Last Cycle'!$D:$D,'GAP%'!$D9))/SUMIFS('Last Cycle'!L:L,'Last Cycle'!$D:$D,'GAP%'!$D9),"") -> 0 | L9: =IFERROR((SUMIFS(August!L:L,$D:$D,$D9)-SUMIFS('Last Cycle'!M:M,'Last Cycle'!$D:$D,'GAP%'!$D9))/SUMIFS('Last Cycle'!M:M,'Last Cycle'!$D:$D,'GAP%'!$D9),"") | M9: =IFERROR((SUMIFS(August!M:M,$D:$D,$D9)-SUMIFS('Last Cycle'!N:N,'Last Cycle'!$D:$D,'GAP%'!$D9))/SUMIFS('Last Cycle'!N:N,'Last Cycle'!$D:$D,'GAP%'!$D9),"") | N9: =IFERROR((SUMIFS(August!N:N,$D:$D,$D9)-SUMIFS('Last Cycle'!O:O,'Last Cycle'!$D:$D,'GAP%'!$D9))/SUMIFS('Last Cycle'!O:O,'Last Cycle'!$D:$D,'GAP%'!$D9),"") | O9: =IFERROR((SUMIFS(August!O:O,$D:$D,$D9)-SUMIFS('Last Cycle'!P:P,'Last Cycle'!$D:$D,'GAP%'!$D9))/SUMIFS('Last Cycle'!P:P,'Last Cycle'!$D:$D,'GAP%'!$D9),"") | P9: =IFERROR((SUMIFS(August!P:P,$D:$D,$D9)-SUMIFS('Last Cycle'!Q:Q,'Last Cycle'!$D:$D,'GAP%'!$D9))/SUMIFS('Last Cycle'!Q:Q,'Last Cycle'!$D:$D,'GAP%'!$D9),"") | Q9: =IFERROR((SUMIFS(August!Q:Q,$D:$D,$D9)-SUMIFS('Last Cycle'!R:R,'Last Cycle'!$D:$D,'GAP%'!$D9))/SUMIFS('Last Cycle'!R:R,'Last Cycle'!$D:$D,'GAP%'!$D9),"") | R9: =IFERROR((SUMIFS(August!R:R,$D:$D,$D9)-SUMIFS('Last Cycle'!S:S,'Last Cycle'!$D:$D,'GAP%'!$D9))/SUMIFS('Last Cycle'!S:S,'Last Cycle'!$D:$D,'GAP%'!$D9),"") | S9: =IFERROR((SUMIFS(August!S:S,$D:$D,$D9)-SUMIFS('Last Cycle'!T:T,'Last Cycle'!$D:$D,'GAP%'!$D9))/SUMIFS('Last Cycle'!T:T,'Last Cycle'!$D:$D,'GAP%'!$D9),"") | T9: =IFERROR((SUMIFS(August!T:T,$D:$D,$D9)-SUMIFS('Last Cycle'!U:U,'Last Cycle'!$D:$D,'GAP%'!$D9))/SUMIFS('Last Cycle'!U:U,'Last Cycle'!$D:$D,'GAP%'!$D9),"") | U9: =IFERROR((SUMIFS(August!U:U,$D:$D,$D9)-SUMIFS('Last Cycle'!V:V,'Last Cycle'!$D:$D,'GAP%'!$D9))/SUMIFS('Last Cycle'!V:V,'Last Cycle'!$D:$D,'GAP%'!$D9),"") | V9: =IFERROR((SUMIFS(August!V:V,$D:$D,$D9)-SUMIFS('Last Cycle'!W:W,'Last Cycle'!$D:$D,'GAP%'!$D9))/SUMIFS('Last Cycle'!W:W,'Last Cycle'!$D:$D,'GAP%'!$D9),"") | W9: =IFERROR((SUMIFS(August!W:W,$D:$D,$D9)-SUMIFS('Last Cycle'!X:X,'Last Cycle'!$D:$D,'GAP%'!$D9))/SUMIFS('Last Cycle'!X:X,'Last Cycle'!$D:$D,'GAP%'!$D9),"") | X9: F43_12345 | Y9: =SUM(F9:V9) -> 0
A10: LOCALFORECAST | B10: 4DK | C10: DENMARK | D10: 12011785 | E10: COVERSYL NOVU5 SE 90RT PB BX S DK CM | F10: =IFERROR((SUMIFS(August!F:F,$D:$D,$D10)-SUMIFS('Last Cycle'!G:G,'Last Cycle'!$D:$D,'GAP%'!$D10))/SUMIFS('Last Cycle'!G:G,'Last Cycle'!$D:$D,'GAP%'!$D10),"") | G10: =IFERROR((SUMIFS(August!G:G,$D:$D,$D10)-SUMIFS('Last Cycle'!H:H,'Last Cycle'!$D:$D,'GAP%'!$D10))/SUMIFS('Last Cycle'!H:H,'Last Cycle'!$D:$D,'GAP%'!$D10),"") | H10: =IFERROR((SUMIFS(August!H:H,$D:$D,$D10)-SUMIFS('Last Cycle'!I:I,'Last Cycle'!$D:$D,'GAP%'!$D10))/SUMIFS('Last Cycle'!I:I,'Last Cycle'!$D:$D,'GAP%'!$D10),"") | I10: =IFERROR((SUMIFS(August!I:I,$D:$D,$D10)-SUMIFS('Last Cycle'!J:J,'Last Cycle'!$D:$D,'GAP%'!$D10))/SUMIFS('Last Cycle'!J:J,'Last Cycle'!$D:$D,'GAP%'!$D10),"") | J10: =IFERROR((SUMIFS(August!J:J,$D:$D,$D10)-SUMIFS('Last Cycle'!K:K,'Last Cycle'!$D:$D,'GAP%'!$D10))/SUMIFS('Last Cycle'!K:K,'Last Cycle'!$D:$D,'GAP%'!$D10),"") | K10: =IFERROR((SUMIFS(August!K:K,$D:$D,$D10)-SUMIFS('Last Cycle'!L:L,'Last Cycle'!$D:$D,'GAP%'!$D10))/SUMIFS('Last Cycle'!L:L,'Last Cycle'!$D:$D,'GAP%'!$D10),"") | L10: =IFERROR((SUMIFS(August!L:L,$D:$D,$D10)-SUMIFS('Last Cycle'!M:M,'Last Cycle'!$D:$D,'GAP%'!$D10))/SUMIFS('Last Cycle'!M:M,'Last Cycle'!$D:$D,'GAP%'!$D10),"") -> 0 | M10: =IFERROR((SUMIFS(August!M:M,$D:$D,$D10)-SUMIFS('Last Cycle'!N:N,'Last Cycle'!$D:$D,'GAP%'!$D10))/SUMIFS('Last Cycle'!N:N,'Last Cycle'!$D:$D,'GAP%'!$D10),"") -> 0 | N10: =IFERROR((SUMIFS(August!N:N,$D:$D,$D10)-SUMIFS('Last Cycle'!O:O,'Last Cycle'!$D:$D,'GAP%'!$D10))/SUMIFS('Last Cycle'!O:O,'Last Cycle'!$D:$D,'GAP%'!$D10),"") -> 0 | O10: =IFERROR((SUMIFS(August!O:O,$D:$D,$D10)-SUMIFS('Last Cycle'!P:P,'Last Cycle'!$D:$D,'GAP%'!$D10))/SUMIFS('Last Cycle'!P:P,'Last Cycle'!$D:$D,'GAP%'!$D10),"") -> 0 | P10: =IFERROR((SUMIFS(August!P:P,$D:$D,$D10)-SUMIFS('Last Cycle'!Q:Q,'Last Cycle'!$D:$D,'GAP%'!$D10))/SUMIFS('Last Cycle'!Q:Q,'Last Cycle'!$D:$D,'GAP%'!$D10),"") -> 0 | Q10: =IFERROR((SUMIFS(August!Q:Q,$D:$D,$D10)-SUMIFS('Last Cycle'!R:R,'Last Cycle'!$D:$D,'GAP%'!$D10))/SUMIFS('Last Cycle'!R:R,'Last Cycle'!$D:$D,'GAP%'!$D10),"") -> 0 | R10: =IFERROR((SUMIFS(August!R:R,$D:$D,$D10)-SUMIFS('Last Cycle'!S:S,'Last Cycle'!$D:$D,'GAP%'!$D10))/SUMIFS('Last Cycle'!S:S,'Last Cycle'!$D:$D,'GAP%'!$D10),"") -> 0 | S10: =IFERROR((SUMIFS(August!S:S,$D:$D,$D10)-SUMIFS('Last Cycle'!T:T,'Last Cycle'!$D:$D,'GAP%'!$D10))/SUMIFS('Last Cycle'!T:T,'Last Cycle'!$D:$D,'GAP%'!$D10),"") -> 0 | T10: =IFERROR((SUMIFS(August!T:T,$D:$D,$D10)-SUMIFS('Last Cycle'!U:U,'Last Cycle'!$D:$D,'GAP%'!$D10))/SUMIFS('Last Cycle'!U:U,'Last Cycle'!$D:$D,'GAP%'!$D10),"") -> 0 | U10: =IFERROR((SUMIFS(August!U:U,$D:$D,$D10)-SUMIFS('Last Cycle'!V:V,'Last Cycle'!$D:$D,'GAP%'!$D10))/SUMIFS('Last Cycle'!V:V,'Last Cycle'!$D:$D,'GAP%'!$D10),"") -> 0 | V10: =IFERROR((SUMIFS(August!V:V,$D:$D,$D10)-SUMIFS('Last Cycle'!W:W,'Last Cycle'!$D:$D,'GAP%'!$D10))/SUMIFS('Last Cycle'!W:W,'Last Cycle'!$D:$D,'GAP%'!$D10),"") -> 0 | W10: =IFERROR((SUMIFS(August!W:W,$D:$D,$D10)-SUMIFS('Last Cycle'!X:X,'Last Cycle'!$D:$D,'GAP%'!$D10))/SUMIFS('Last Cycle'!X:X,'Last Cycle'!$D:$D,'GAP%'!$D10),"") | X10: F43_12345 | Y10: =SUM(F10:V10) -> 0
A11: LOCALFORECAST | B11: 4DK | C11: DENMARK | D11: 12000906 | E11: COVERSYL5/1,25 SE 30RT PB BX S DK | F11: =IFERROR((SUMIFS(August!F:F,$D:$D,$D11)-SUMIFS('Last Cycle'!G:G,'Last Cycle'!$D:$D,'GAP%'!$D11))/SUMIFS('Last Cycle'!G:G,'Last Cycle'!$D:$D,'GAP%'!$D11),"") -> 0 | G11: =IFERROR((SUMIFS(August!G:G,$D:$D,$D11)-SUMIFS('Last Cycle'!H:H,'Last Cycle'!$D:$D,'GAP%'!$D11))/SUMIFS('Last Cycle'!H:H,'Last Cycle'!$D:$D,'GAP%'!$D11),"") -> 0 | H11: =IFERROR((SUMIFS(August!H:H,$D:$D,$D11)-SUMIFS('Last Cycle'!I:I,'Last Cycle'!$D:$D,'GAP%'!$D11))/SUMIFS('Last Cycle'!I:I,'Last Cycle'!$D:$D,'GAP%'!$D11),"") -> 0 | I11: =IFERROR((SUMIFS(August!I:I,$D:$D,$D11)-SUMIFS('Last Cycle'!J:J,'Last Cycle'!$D:$D,'GAP%'!$D11))/SUMIFS('Last Cycle'!J:J,'Last Cycle'!$D:$D,'GAP%'!$D11),"") -> 0 | J11: =IFERROR((SUMIFS(August!J:J,$D:$D,$D11)-SUMIFS('Last Cycle'!K:K,'Last Cycle'!$D:$D,'GAP%'!$D11))/SUMIFS('Last Cycle'!K:K,'Last Cycle'!$D:$D,'GAP%'!$D11),"") -> 0 | K11: =IFERROR((SUMIFS(August!K:K,$D:$D,$D11)-SUMIFS('Last Cycle'!L:L,'Last Cycle'!$D:$D,'GAP%'!$D11))/SUMIFS('Last Cycle'!L:L,'Last Cycle'!$D:$D,'GAP%'!$D11),"") -> 0 | L11: =IFERROR((SUMIFS(August!L:L,$D:$D,$D11)-SUMIFS('Last Cycle'!M:M,'Last Cycle'!$D:$D,'GAP%'!$D11))/SUMIFS('Last Cycle'!M:M,'Last Cycle'!$D:$D,'GAP%'!$D11),"") -> 0 | M11: =IFERROR((SUMIFS(August!M:M,$D:$D,$D11)-SUMIFS('Last Cycle'!N:N,'Last Cycle'!$D:$D,'GAP%'!$D11))/SUMIFS('Last Cycle'!N:N,'Last Cycle'!$D:$D,'GAP%'!$D11),"") -> 0 | N11: =IFERROR((SUMIFS(August!N:N,$D:$D,$D11)-SUMIFS('Last Cycle'!O:O,'Last Cycle'!$D:$D,'GAP%'!$D11))/SUMIFS('Last Cycle'!O:O,'Last Cycle'!$D:$D,'GAP%'!$D11),"") -> 0 | O11: =IFERROR((SUMIFS(August!O:O,$D:$D,$D11)-SUMIFS('Last Cycle'!P:P,'Last Cycle'!$D:$D,'GAP%'!$D11))/SUMIFS('Last Cycle'!P:P,'Last Cycle'!$D:$D,'GAP%'!$D11),"") -> 0 | P11: =IFERROR((SUMIFS(August!P:P,$D:$D,$D11)-SUMIFS('Last Cycle'!Q:Q,'Last Cycle'!$D:$D,'GAP%'!$D11))/SUMIFS('Last Cycle'!Q:Q,'Last Cycle'!$D:$D,'GAP%'!$D11),"") -> 0 | Q11: =IFERROR((SUMIFS(August!Q:Q,$D:$D,$D11)-SUMIFS('Last Cycle'!R:R,'Last Cycle'!$D:$D,'GAP%'!$D11))/SUMIFS('Last Cycle'!R:R,'Last Cycle'!$D:$D,'GAP%'!$D11),"") -> 0 | R11: =IFERROR((SUMIFS(August!R:R,$D:$D,$D11)-SUMIFS('Last Cycle'!S:S,'Last Cycle'!$D:$D,'GAP%'!$D11))/SUMIFS('Last Cycle'!S:S,'Last Cycle'!$D:$D,'GAP%'!$D11),"") -> 0 | S11: =IFERROR((SUMIFS(August!S:S,$D:$D,$D11)-SUMIFS('Last Cycle'!T:T,'Last Cycle'!$D:$D,'GAP%'!$D11))/SUMIFS('Last Cycle'!T:T,'Last Cycle'!$D:$D,'GAP%'!$D11),"") -> 0 | T11: =IFERROR((SUMIFS(August!T:T,$D:$D,$D11)-SUMIFS('Last Cycle'!U:U,'Last Cycle'!$D:$D,'GAP%'!$D11))/SUMIFS('Last Cycle'!U:U,'Last Cycle'!$D:$D,'GAP%'!$D11),"") -> 0 | U11: =IFERROR((SUMIFS(August!U:U,$D:$D,$D11)-SUMIFS('Last Cycle'!V:V,'Last Cycle'!$D:$D,'GAP%'!$D11))/SUMIFS('Last Cycle'!V:V,'Last Cycle'!$D:$D,'GAP%'!$D11),"") -> 0 | V11: =IFERROR((SUMIFS(August!V:V,$D:$D,$D11)-SUMIFS('Last Cycle'!W:W,'Last Cycle'!$D:$D,'GAP%'!$D11))/SUMIFS('Last Cycle'!W:W,'Last Cycle'!$D:$D,'GAP%'!$D11),"") -> 0 | W11: =IFERROR((SUMIFS(August!W:W,$D:$D,$D11)-SUMIFS('Last Cycle'!X:X,'Last Cycle'!$D:$D,'GAP%'!$D11))/SUMIFS('Last Cycle'!X:X,'Last Cycle'!$D:$D,'GAP%'!$D11),"") | X11: F43_12345 | Y11: =SUM(F11:V11) -> 0
A12: LOCALFORECAST | B12: 4DK | C12: DENMARK | D12: 12000907 | E12: COVERSYL5/1,25 SE 90RT PB BX S DK | F12: =IFERROR((SUMIFS(August!F:F,$D:$D,$D12)-SUMIFS('Last Cycle'!G:G,'Last Cycle'!$D:$D,'GAP%'!$D12))/SUMIFS('Last Cycle'!G:G,'Last Cycle'!$D:$D,'GAP%'!$D12),"") -> 0 | G12: =IFERROR((SUMIFS(August!G:G,$D:$D,$D12)-SUMIFS('Last Cycle'!H:H,'Last Cycle'!$D:$D,'GAP%'!$D12))/SUMIFS('Last Cycle'!H:H,'Last Cycle'!$D:$D,'GAP%'!$D12),"") -> 0 | H12: =IFERROR((SUMIFS(August!H:H,$D:$D,$D12)-SUMIFS('Last Cycle'!I:I,'Last Cycle'!$D:$D,'GAP%'!$D12))/SUMIFS('Last Cycle'!I:I,'Last Cycle'!$D:$D,'GAP%'!$D12),"") -> -0.1 | I12: =IFERROR((SUMIFS(August!I:I,$D:$D,$D12)-SUMIFS('Last Cycle'!J:J,'Last Cycle'!$D:$D,'GAP%'!$D12))/SUMIFS('Last Cycle'!J:J,'Last Cycle'!$D:$D,'GAP%'!$D12),"") -> -0.1 | J12: =IFERROR((SUMIFS(August!J:J,$D:$D,$D12)-SUMIFS('Last Cycle'!K:K,'Last Cycle'!$D:$D,'GAP%'!$D12))/SUMIFS('Last Cycle'!K:K,'Last Cycle'!$D:$D,'GAP%'!$D12),"") -> -0.1 | K12: =IFERROR((SUMIFS(August!K:K,$D:$D,$D12)-SUMIFS('Last Cycle'!L:L,'Last Cycle'!$D:$D,'GAP%'!$D12))/SUMIFS('Last Cycle'!L:L,'Last Cycle'!$D:$D,'GAP%'!$D12),"") -> -0.1 | L12: =IFERROR((SUMIFS(August!L:L,$D:$D,$D12)-SUMIFS('Last Cycle'!M:M,'Last Cycle'!$D:$D,'GAP%'!$D12))/SUMIFS('Last Cycle'!M:M,'Last Cycle'!$D:$D,'GAP%'!$D12),"") -> 0 | M12: =IFERROR((SUMIFS(August!M:M,$D:$D,$D12)-SUMIFS('Last Cycle'!N:N,'Last Cycle'!$D:$D,'GAP%'!$D12))/SUMIFS('Last Cycle'!N:N,'Last Cycle'!$D:$D,'GAP%'!$D12),"") -> -0.055555556 | N12: =IFERROR((SUMIFS(August!N:N,$D:$D,$D12)-SUMIFS('Last Cycle'!O:O,'Last Cycle'!$D:$D,'GAP%'!$D12))/SUMIFS('Last Cycle'!O:O,'Last Cycle'!$D:$D,'GAP%'!$D12),"") -> -0.055555556 | O12: =IFERROR((SUMIFS(August!O:O,$D:$D,$D12)-SUMIFS('Last Cycle'!P:P,'Last Cycle'!$D:$D,'GAP%'!$D12))/SUMIFS('Last Cycle'!P:P,'Last Cycle'!$D:$D,'GAP%'!$D12),"") -> -0.055555556 | P12: =IFERROR((SUMIFS(August!P:P,$D:$D,$D12)-SUMIFS('Last Cycle'!Q:Q,'Last Cycle'!$D:$D,'GAP%'!$D12))/SUMIFS('Last Cycle'!Q:Q,'Last Cycle'!$D:$D,'GAP%'!$D12),"") -> -0.055555556 | Q12: =IFERROR((SUMIFS(August!Q:Q,$D:$D,$D12)-SUMIFS('Last Cycle'!R:R,'Last Cycle'!$D:$D,'GAP%'!$D12))/SUMIFS('Last Cycle'!R:R,'Last Cycle'!$D:$D,'GAP%'!$D12),"") -> -0.055555556 | R12: =IFERROR((SUMIFS(August!R:R,$D:$D,$D12)-SUMIFS('Last Cycle'!S:S,'Last Cycle'!$D:$D,'GAP%'!$D12))/SUMIFS('Last Cycle'!S:S,'Last Cycle'!$D:$D,'GAP%'!$D12),"") -> -0.055555556 | S12: =IFERROR((SUMIFS(August!S:S,$D:$D,$D12)-SUMIFS('Last Cycle'!T:T,'Last Cycle'!$D:$D,'GAP%'!$D12))/SUMIFS('Last Cycle'!T:T,'Last Cycle'!$D:$D,'GAP%'!$D12),"") -> 0 | T12: =IFERROR((SUMIFS(August!T:T,$D:$D,$D12)-SUMIFS('Last Cycle'!U:U,'Last Cycle'!$D:$D,'GAP%'!$D12))/SUMIFS('Last Cycle'!U:U,'Last Cycle'!$D:$D,'GAP%'!$D12),"") -> 0 | U12: =IFERROR((SUMIFS(August!U:U,$D:$D,$D12)-SUMIFS('Last Cycle'!V:V,'Last Cycle'!$D:$D,'GAP%'!$D12))/SUMIFS('Last Cycle'!V:V,'Last Cycle'!$D:$D,'GAP%'!$D12),"") -> 0 | V12: =IFERROR((SUMIFS(August!V:V,$D:$D,$D12)-SUMIFS('Last Cycle'!W:W,'Last Cycle'!$D:$D,'GAP%'!$D12))/SUMIFS('Last Cycle'!W:W,'Last Cycle'!$D:$D,'GAP%'!$D12),"") -> 0 | W12: =IFERROR((SUMIFS(August!W:W,$D:$D,$D12)-SUMIFS('Last Cycle'!X:X,'Last Cycle'!$D:$D,'GAP%'!$D12))/SUMIFS('Last Cycle'!X:X,'Last Cycle'!$D:$D,'GAP%'!$D12),"") | X12: F43_12345 | Y12: =SUM(F12:V12) -> -0.73333333
A13: LOCALFORECAST | B13: 4DK | C13: DENMARK | D13: 12000414 | E13: DIAMICRON UNO30 SE 180TB BP BX S DK | F13: =IFERROR((SUMIFS(August!F:F,$D:$D,$D13)-SUMIFS('Last Cycle'!G:G,'Last Cycle'!$D:$D,'GAP%'!$D13))/SUMIFS('Last Cycle'!G:G,'Last Cycle'!$D:$D,'GAP%'!$D13),"") -> 0 | G13: =IFERROR((SUMIFS(August!G:G,$D:$D,$D13)-SUMIFS('Last Cycle'!H:H,'Last Cycle'!$D:$D,'GAP%'!$D13))/SUMIFS('Last Cycle'!H:H,'Last Cycle'!$D:$D,'GAP%'!$D13),"") | H13: =IFERROR((SUMIFS(August!H:H,$D:$D,$D13)-SUMIFS('Last Cycle'!I:I,'Last Cycle'!$D:$D,'GAP%'!$D13))/SUMIFS('Last Cycle'!I:I,'Last Cycle'!$D:$D,'GAP%'!$D13),"") | I13: =IFERROR((SUMIFS(August!I:I,$D:$D,$D13)-SUMIFS('Last Cycle'!J:J,'Last Cycle'!$D:$D,'GAP%'!$D13))/SUMIFS('Last Cycle'!J:J,'Last Cycle'!$D:$D,'GAP%'!$D13),"") | J13: =IFERROR((SUMIFS(August!J:J,$D:$D,$D13)-SUMIFS('Last Cycle'!K:K,'Last Cycle'!$D:$D,'GAP%'!$D13))/SUMIFS('Last Cycle'!K:K,'Last Cycle'!$D:$D,'GAP%'!$D13),"") | K13: =IFERROR((SUMIFS(August!K:K,$D:$D,$D13)-SUMIFS('Last Cycle'!L:L,'Last Cycle'!$D:$D,'GAP%'!$D13))/SUMIFS('Last Cycle'!L:L,'Last Cycle'!$D:$D,'GAP%'!$D13),"") | L13: =IFERROR((SUMIFS(August!L:L,$D:$D,$D13)-SUMIFS('Last Cycle'!M:M,'Last Cycle'!$D:$D,'GAP%'!$D13))/SUMIFS('Last Cycle'!M:M,'Last Cycle'!$D:$D,'GAP%'!$D13),"") | M13: =IFERROR((SUMIFS(August!M:M,$D:$D,$D13)-SUMIFS('Last Cycle'!N:N,'Last Cycle'!$D:$D,'GAP%'!$D13))/SUMIFS('Last Cycle'!N:N,'Last Cycle'!$D:$D,'GAP%'!$D13),"") | N13: =IFERROR((SUMIFS(August!N:N,$D:$D,$D13)-SUMIFS('Last Cycle'!O:O,'Last Cycle'!$D:$D,'GAP%'!$D13))/SUMIFS('Last Cycle'!O:O,'Last Cycle'!$D:$D,'GAP%'!$D13),"") | O13: =IFERROR((SUMIFS(August!O:O,$D:$D,$D13)-SUMIFS('Last Cycle'!P:P,'Last Cycle'!$D:$D,'GAP%'!$D13))/SUMIFS('Last Cycle'!P:P,'Last Cycle'!$D:$D,'GAP%'!$D13),"") | P13: =IFERROR((SUMIFS(August!P:P,$D:$D,$D13)-SUMIFS('Last Cycle'!Q:Q,'Last Cycle'!$D:$D,'GAP%'!$D13))/SUMIFS('Last Cycle'!Q:Q,'Last Cycle'!$D:$D,'GAP%'!$D13),"") | Q13: =IFERROR((SUMIFS(August!Q:Q,$D:$D,$D13)-SUMIFS('Last Cycle'!R:R,'Last Cycle'!$D:$D,'GAP%'!$D13))/SUMIFS('Last Cycle'!R:R,'Last Cycle'!$D:$D,'GAP%'!$D13),"") | R13: =IFERROR((SUMIFS(August!R:R,$D:$D,$D13)-SUMIFS('Last Cycle'!S:S,'Last Cycle'!$D:$D,'GAP%'!$D13))/SUMIFS('Last Cycle'!S:S,'Last Cycle'!$D:$D,'GAP%'!$D13),"") | S13: =IFERROR((SUMIFS(August!S:S,$D:$D,$D13)-SUMIFS('Last Cycle'!T:T,'Last Cycle'!$D:$D,'GAP%'!$D13))/SUMIFS('Last Cycle'!T:T,'Last Cycle'!$D:$D,'GAP%'!$D13),"") | T13: =IFERROR((SUMIFS(August!T:T,$D:$D,$D13)-SUMIFS('Last Cycle'!U:U,'Last Cycle'!$D:$D,'GAP%'!$D13))/SUMIFS('Last Cycle'!U:U,'Last Cycle'!$D:$D,'GAP%'!$D13),"") | U13: =IFERROR((SUMIFS(August!U:U,$D:$D,$D13)-SUMIFS('Last Cycle'!V:V,'Last Cycle'!$D:$D,'GAP%'!$D13))/SUMIFS('Last Cycle'!V:V,'Last Cycle'!$D:$D,'GAP%'!$D13),"") | V13: =IFERROR((SUMIFS(August!V:V,$D:$D,$D13)-SUMIFS('Last Cycle'!W:W,'Last Cycle'!$D:$D,'GAP%'!$D13))/SUMIFS('Last Cycle'!W:W,'Last Cycle'!$D:$D,'GAP%'!$D13),"") | W13: =IFERROR((SUMIFS(August!W:W,$D:$D,$D13)-SUMIFS('Last Cycle'!X:X,'Last Cycle'!$D:$D,'GAP%'!$D13))/SUMIFS('Last Cycle'!X:X,'Last Cycle'!$D:$D,'GAP%'!$D13),"") | X13: F43_12345 | Y13: =SUM(F13:V13) -> 0
... A49: LOCALFORECAST | B49: 4DK | C49: DENMARK | D49: 12011949 | E49: VASTAREL20 SE 60RT BP BX S DK AN | F49: =IFERROR((SUMIFS(August!F:F,$D:$D,$D49)-SUMIFS('Last Cycle'!G:G,'Last Cycle'!$D:$D,'GAP%'!$D49))/SUMIFS('Last Cycle'!G:G,'Last Cycle'!$D:$D,'GAP%'!$D49),"") | G49: =IFERROR((SUMIFS(August!G:G,$D:$D,$D49)-SUMIFS('Last Cycle'!H:H,'Last Cycle'!$D:$D,'GAP%'!$D49))/SUMIFS('Last Cycle'!H:H,'Last Cycle'!$D:$D,'GAP%'!$D49),"") | H49: =IFERROR((SUMIFS(August!H:H,$D:$D,$D49)-SUMIFS('Last Cycle'!I:I,'Last Cycle'!$D:$D,'GAP%'!$D49))/SUMIFS('Last Cycle'!I:I,'Last Cycle'!$D:$D,'GAP%'!$D49),"") | I49: =IFERROR((SUMIFS(August!I:I,$D:$D,$D49)-SUMIFS('Last Cycle'!J:J,'Last Cycle'!$D:$D,'GAP%'!$D49))/SUMIFS('Last Cycle'!J:J,'Last Cycle'!$D:$D,'GAP%'!$D49),"") | J49: =IFERROR((SUMIFS(August!J:J,$D:$D,$D49)-SUMIFS('Last Cycle'!K:K,'Last Cycle'!$D:$D,'GAP%'!$D49))/SUMIFS('Last Cycle'!K:K,'Last Cycle'!$D:$D,'GAP%'!$D49),"") | K49: =IFERROR((SUMIFS(August!K:K,$D:$D,$D49)-SUMIFS('Last Cycle'!L:L,'Last Cycle'!$D:$D,'GAP%'!$D49))/SUMIFS('Last Cycle'!L:L,'Last Cycle'!$D:$D,'GAP%'!$D49),"") | L49: =IFERROR((SUMIFS(August!L:L,$D:$D,$D49)-SUMIFS('Last Cycle'!M:M,'Last Cycle'!$D:$D,'GAP%'!$D49))/SUMIFS('Last Cycle'!M:M,'Last Cycle'!$D:$D,'GAP%'!$D49),"") | M49: =IFERROR((SUMIFS(August!M:M,$D:$D,$D49)-SUMIFS('Last Cycle'!N:N,'Last Cycle'!$D:$D,'GAP%'!$D49))/SUMIFS('Last Cycle'!N:N,'Last Cycle'!$D:$D,'GAP%'!$D49),"") -> 0.125 | N49: =IFERROR((SUMIFS(August!N:N,$D:$D,$D49)-SUMIFS('Last Cycle'!O:O,'Last Cycle'!$D:$D,'GAP%'!$D49))/SUMIFS('Last Cycle'!O:O,'Last Cycle'!$D:$D,'GAP%'!$D49),"") -> 0.125 | O49: =IFERROR((SUMIFS(August!O:O,$D:$D,$D49)-SUMIFS('Last Cycle'!P:P,'Last Cycle'!$D:$D,'GAP%'!$D49))/SUMIFS('Last Cycle'!P:P,'Last Cycle'!$D:$D,'GAP%'!$D49),"") -> 0.125 | P49: =IFERROR((SUMIFS(August!P:P,$D:$D,$D49)-SUMIFS('Last Cycle'!Q:Q,'Last Cycle'!$D:$D,'GAP%'!$D49))/SUMIFS('Last Cycle'!Q:Q,'Last Cycle'!$D:$D,'GAP%'!$D49),"") -> 0.125 | Q49: =IFERROR((SUMIFS(August!Q:Q,$D:$D,$D49)-SUMIFS('Last Cycle'!R:R,'Last Cycle'!$D:$D,'GAP%'!$D49))/SUMIFS('Last Cycle'!R:R,'Last Cycle'!$D:$D,'GAP%'!$D49),"") -> 0.125 | R49: =IFERROR((SUMIFS(August!R:R,$D:$D,$D49)-SUMIFS('Last Cycle'!S:S,'Last Cycle'!$D:$D,'GAP%'!$D49))/SUMIFS('Last Cycle'!S:S,'Last Cycle'!$D:$D,'GAP%'!$D49),"") -> 0.125 | S49: =IFERROR((SUMIFS(August!S:S,$D:$D,$D49)-SUMIFS('Last Cycle'!T:T,'Last Cycle'!$D:$D,'GAP%'!$D49))/SUMIFS('Last Cycle'!T:T,'Last Cycle'!$D:$D,'GAP%'!$D49),"") -> 0.125 | T49: =IFERROR((SUMIFS(August!T:T,$D:$D,$D49)-SUMIFS('Last Cycle'!U:U,'Last Cycle'!$D:$D,'GAP%'!$D49))/SUMIFS('Last Cycle'!U:U,'Last Cycle'!$D:$D,'GAP%'!$D49),"") -> 0.125 | U49: =IFERROR((SUMIFS(August!U:U,$D:$D,$D49)-SUMIFS('Last Cycle'!V:V,'Last Cycle'!$D:$D,'GAP%'!$D49))/SUMIFS('Last Cycle'!V:V,'Last Cycle'!$D:$D,'GAP%'!$D49),"") -> 0.125 | V49: =IFERROR((SUMIFS(August!V:V,$D:$D,$D49)-SUMIFS('Last Cycle'!W:W,'Last Cycle'!$D:$D,'GAP%'!$D49))/SUMIFS('Last Cycle'!W:W,'Last Cycle'!$D:$D,'GAP%'!$D49),"") -> 0.125 | W49: =IFERROR((SUMIFS(August!W:W,$D:$D,$D49)-SUMIFS('Last Cycle'!X:X,'Last Cycle'!$D:$D,'GAP%'!$D49))/SUMIFS('Last Cycle'!X:X,'Last Cycle'!$D:$D,'GAP%'!$D49),"") | X49: F43_12345 | Y49: =SUM(F49:V49) -> 1.25
