Workbook

Sheet Tirage Hexagramme
A9: 9 = Yang mutant O | D9: YANG
A10: 6 = Yin mutante X | D10: YING
H11: Hexagramme Tiré | M11: Perspective
A12: Ligne de l'hexagramme | B12: N° Tirage | C12: Pile(2)/Face(3) | F12: Total | Q12: Hexagramme Tiré | W12: Perspective
B13: 6 | C13: 3 | D13: 2 | E13: 3 | F13: =SUM(C13,D13,E13) -> 8 | I13: =IF(F13=6,"X",IF(F13=9,"0","")) | Q13: =VLOOKUP(VALUE(SUBSTITUTE(SUBSTITUTE(_xlfn.CONCAT(F13,F15,F17,F19,F21,F23),"6","8"),"9","7")),HexDef!A2:D65,4,FALSE) -> Créateur | R13: =VLOOKUP(VALUE(SUBSTITUTE(SUBSTITUTE(_xlfn.CONCAT(F13,F15,F17,F19,F21,F23),"6","8"),"9","7")),HexDef!A2:D65,2,FALSE) -> 1 | S13: =VLOOKUP(VALUE(SUBSTITUTE(SUBSTITUTE(_xlfn.CONCAT(F13,F15,F17,F19,F21,F23),"6","8"),"9","7")),HexDef!A2:D65,3,FALSE) -> QIAN | W13: =VLOOKUP(X13,HexDef!B2:F65,3,FALSE) -> Créateur | X13: =VLOOKUP(VALUE(SUBSTITUTE(SUBSTITUTE(_xlfn.CONCAT(F13,F15,F17,F19,F21,F23),"6","7"),"9","8")),HexDef!A2:D65,2,FALSE) -> 1 | Y13: =VLOOKUP(X13,HexDef!B2:F65,2,FALSE) -> QIAN
B15: 5 | C15: 3 | D15: 2 | E15: 3 | F15: =SUM(C15,D15,E15) -> 8 | I15: =IF(F15=6,"X",IF(F15=9,"0","")) | Q15: =VLOOKUP(VALUE(SUBSTITUTE(SUBSTITUTE(_xlfn.CONCAT(F13,F15,F17,F19,F21,F23),"6","8"),"9","7")),HexDef!A2:F65,5,FALSE) -> Ciel sur ciel | W15: =VLOOKUP(X13,HexDef!B2:F65,4,FALSE) -> Ciel sur ciel
B17: 4 | C17: 2 | D17: 3 | E17: 3 | F17: =SUM(C17,D17,E17) -> 8 | I17: =IF(F17=6,"X",IF(F17=9,"0","")) | Q17: =VLOOKUP(VALUE(SUBSTITUTE(SUBSTITUTE(_xlfn.CONCAT(F13,F15,F17,F19,F21,F23),"6","8"),"9","7")),HexDef!A2:F65,6,FALSE) -> Elan créatif : Activation, vigueur, dynamisme, Capacité à imaginer le nouveau | W17: =VLOOKUP(X13,HexDef!B2:F65,5,FALSE) -> Elan créatif : Activation, vigueur, dynamisme, Capacité à imaginer le nouveau
B19: 3 | C19: 2 | D19: 3 | E19: 3 | F19: =SUM(C19,D19,E19) -> 8 | I19: =IF(F19=6,"X",IF(F19=9,"0",""))
B21: 2 | C21: 2 | D21: 3 | E21: 3 | F21: =SUM(C21,D21,E21) -> 8 | I21: =IF(F21=6,"X",IF(F21=9,"0",""))
B23: 1 | C23: 2 | D23: 3 | E23: 3 | F23: =SUM(C23,D23,E23) -> 8 | I23: =IF(F23=6,"X",IF(F23=9,"0",""))
H25: H : | I25: =VLOOKUP(VALUE(SUBSTITUTE(SUBSTITUTE(_xlfn.CONCAT(F13,F15,F17,F19,F21,F23),"6","8"),"9","7")),HexDef!A2:D65,2,FALSE) -> 1 | M25: H : | N25: =VLOOKUP(VALUE(SUBSTITUTE(SUBSTITUTE(_xlfn.CONCAT(F13,F15,F17,F19,F21,F23),"6","7"),"9","8")),HexDef!A2:D65,2,FALSE) -> 1
C27: Hex Tiré | H27: Opposé | M27: Retourné | Q27: Opposé
C29: =F23=7 -> FALSE | E29: =F13=7 -> FALSE | Q29: =VLOOKUP(R29,HexDef!B2:F65,3,FALSE) -> Receptif | R29: =VLOOKUP(VALUE(SUBSTITUTE(SUBSTITUTE(_xlfn.CONCAT(F13,F15,F17,F19,F21,F23),"6","8"),"9","7")),Oppose!A2:E65,5,FALSE) -> 2 | S29: =VLOOKUP(R29,HexDef!B2:F65,2,FALSE) -> KUN
C31: =F15=7 -> FALSE | E31: =F15=7 -> FALSE | Q31: =VLOOKUP(R29,HexDef!B2:F65,4,FALSE) -> Terre sur Terre
C33: =F17=7 -> FALSE | E33: =F17=7 -> FALSE | Q33: =VLOOKUP(R29,HexDef!B2:F65,5,FALSE) -> Elan receptif : Disponibilité, Souplesse, consentement, adaptabilté aux circonstances
C35: =F19=7 -> FALSE | E35: =F19=7 -> FALSE
C37: =F21=7 -> FALSE | E37: =F21=7 -> FALSE
C39: =F23=7 -> FALSE | E39: =F23=7 -> FALSE | M39: =F13=8 -> TRUE
C41: H : | D41: =VLOOKUP(VALUE(SUBSTITUTE(SUBSTITUTE(_xlfn.CONCAT(F13,F15,F17,F19,F21,F23),"6","8"),"9","7")),HexDef!A2:D65,2,FALSE) -> 1 | H41: H : | I41: =VLOOKUP(VALUE(SUBSTITUTE(SUBSTITUTE(_xlfn.CONCAT(F13,F15,F17,F19,F21,F23),"6","8"),"9","7")),Oppose!A2:E65,5,FALSE) -> 2 | M41: H : | N41: =VLOOKUP(VALUE(SUBSTITUTE(SUBSTITUTE(_xlfn.CONCAT(F13,F15,F17,F19,F21,F23),"6","8"),"9","7")),Oppose!A2:H65,6,FALSE) -> 1 | Q41: Retourné
C43: Hex Nucléaire | H43: Deux Roues | Q43: =VLOOKUP(R43,HexDef!B2:F65,3,FALSE) -> Créateur | R43: =VLOOKUP(VALUE(SUBSTITUTE(SUBSTITUTE(_xlfn.CONCAT(F13,F15,F17,F19,F21,F23),"6","8"),"9","7")),Oppose!A2:H65,6,FALSE) -> 1 | S43: =VLOOKUP(R43,HexDef!B2:F65,2,FALSE) -> QIAN
H45: 3 Plans | I45: 1er Instant | J45: 2ème Intégré | K45: 3ème Incarné | Q45: =VLOOKUP(R43,HexDef!B2:F65,4,FALSE) -> Ciel sur ciel
H47: Pensées | I47: =I25 -> 1 | J47: =VLOOKUP(J49,DeuxRoues!E4:G67,2,FALSE) -> 9 | K47: =VLOOKUP(K51,DeuxRoues!I4:K67,2,FALSE) -> 20 | Q47: =VLOOKUP(R43,HexDef!B2:F65,5,FALSE) -> Elan créatif : Activation, vigueur, dynamisme, Capacité à imaginer le nouveau
H49: Emotions | I49: =VLOOKUP(I47,DeuxRoues!A4:C67,2,FALSE) -> 10 | J49: =I25 -> 1 | K49: =VLOOKUP(K51,DeuxRoues!I4:K67,3,FALSE) -> 11
H51: Volonté | I51: =VLOOKUP(I47,DeuxRoues!A4:C67,3,FALSE) -> 45 | J51: =VLOOKUP(J49,DeuxRoues!E4:G67,3,FALSE) -> 12 | K51: =I25 -> 1
Q56: Nucléaire
C57: H : | D57: =VLOOKUP(VALUE(SUBSTITUTE(SUBSTITUTE(_xlfn.CONCAT(F13,F15,F17,F19,F21,F23),"6","8"),"9","7")),Oppose!A2:H65,7,FALSE) -> 1
H58: Fleurs de BACH | Q58: =VLOOKUP(R58,HexDef!B2:F65,3,FALSE) -> Créateur | R58: =VLOOKUP(VALUE(SUBSTITUTE(SUBSTITUTE(_xlfn.CONCAT(F13,F15,F17,F19,F21,F23),"6","8"),"9","7")),Oppose!A2:H56,7,FALSE) -> 1 | S58: =VLOOKUP(R58,HexDef!B2:F65,2,FALSE) -> QIAN
H60: Hexagramme les deux roues | Q60: =VLOOKUP(R58,HexDef!B2:F65,4,FALSE) -> Ciel sur ciel
H62: =I47 -> 1 | I62: =VLOOKUP(H62,FleurBach!A3:B66,2,FALSE) -> Oak | Q62: =VLOOKUP(R58,HexDef!B2:F65,5,FALSE) -> Elan créatif : Activation, vigueur, dynamisme, Capacité à imaginer le nouveau
H63: =I49 -> 10 | I63: =VLOOKUP(H63,FleurBach!A4:B67,2,FALSE) -> Mimulus
H64: =I51 -> 45 | I64: =VLOOKUP(H64,FleurBach!A5:B68,2,FALSE) -> Pine
H65: =J47 -> 9 | I65: =VLOOKUP(H65,FleurBach!A6:B69,2,FALSE) -> Mimulus
H66: =J51 -> 12 | I66: =VLOOKUP(H66,FleurBach!A7:B70,2,FALSE) -> Clematis
H67: =K47 -> 20 | I67: =VLOOKUP(H67,FleurBach!A8:B71,2,FALSE) -> Scleranthus
H68: =K49 -> 11 | I68: =VLOOKUP(H68,FleurBach!A9:B72,2,FALSE) -> Clematis
H70: NOTE : Les deux fleurs de Bach, Wild Oat et Sweet Chestnut, aussi le complexe remede d’urgence, n’ont pas des correspondences avec les hexagrammes, comme ils forment les enveloppes des differentes parties de soi.

Sheet HexDef
A1: HEX | B1: HEX | C1: Nom Hex | D1: Titre | E1: Image | F1: Définition
A2: 888888 | B2: 1 | C2: QIAN | D2: Créateur | E2: Ciel sur ciel | F2: Elan créatif : Activation, vigueur, dynamisme, Capacité à imaginer le nouveau
A3: 777777 | B3: 2 | C3: KUN | D3: Receptif | E3: Terre sur Terre | F3: Elan receptif : Disponibilité, Souplesse, consentement, adaptabilté aux circonstances
A4: 878887 | B4: 3 | C4: ZHUN | D4: Difficulté initiale | E4: la grande force devant la confusion | F4: Difficultes initiales : c'est la confusion des commencements
A5: 788878 | B5: 4 | C5: MENG | D5: Le jeune fou | E5: Le petit torrent court au pied de la montagne | F5: Jeune Fou : C'est à la fois l'intrépide de la jeunesse at l'apprentissage qui permet de remédier à l'inexpérience
A6: 878777 | B6: 5 | C6: XU | D6: L'attente | E6: L'eau retenue dans le ciel | F6: Attendre : Apprendre à différer
A7: 777878 | B7: 6 | C7: SONG | D7: Le conflit | E7: Ténèbres contre lumière | F7: Plaider sa cause : utiliser la parole à bon escient pour tenter de sortir d'une controverse
A8: 888878 | B8: 7 | C8: SHI | D8: l'armée | E8: Le générale contrôle ses troupes | F8: Armée : C'est l'état de guerre, la mobilisation de toutes les forces contre un péril qui menace d'envahir le territoire.
A9: 878888 | B9: 8 | C9: BI | D9: L'union | E9: Le souverain uni ses sujets | F9: Alliance : C'est l'élection d'un centre autour duquel des forces disparats viennent se constituer en un ensemble hiérarchisé.
A10: 778777 | B10: 9 | C10: XIAO XU | D10: Le petit Apprivoise | E10: Le ministre contrôle toutes les lignes YANG | F10: Petit Apprivoise : c'est faire la vassalité une force. Dompter les tensions, retenir patiement les énergies pour les affiner.
A11: 777877 | B11: 10 | C11: LU | D11: La marche | E11: La jeune fille approche le père | F11: Demarche : Expose comment se comporter au contact d'une force puissante et potentiellement dangereuse, symbolisée par le tigre.
A12: 888777 | B12: 11 | C12: TAI | D12: Prosperite | E12: Fluidité entre le YANG qui monte et le YIN qui descend | F12: Fluidité printanière : Ciel et terre communiquent, YIN et YANG se compénètrent, favorisant le floraison de tout ce qui pousse.
A13: 777888 | B13: 12 | C13: PI | D13: Adversite | E13: Le YANG monte, le YIN descend et chacun tient l'autre captif | F13: Blocage automnal : Ciel et terre ne communiquent pas, YIN et YANG ne se rencontrent plus et stte absence de relation se manifeste par le déclin de la nature.
... A65: 787878 | B65: 64 | C65: WEI JI | D65: Avant l'accomplissement | E65: Rien n'est à sa place | F65: Pas encore traversée: est un moment où tout est désordre et indétermination, une période de transition entre un temps qui s'achève et un autre en gestation

Sheet Oppose
A1: HEX | B1: Opposé | C1: Retoune | D1: Nucléaire | E1: Hex Opposé | F1: HexRetourne | G1: Hex Nucléaire
A2: 888888 | B2: {=_xlfn.LET( _xlpm.t,A2, _xlpm.l,MID(_xlpm.t,_xlfn.SEQUENCE(LEN(_xlpm.t)),1), _xlpm.u,_xlfn.UNIQUE(_xlpm.l), _xlfn.TEXTJOIN(,,_xlfn.XLOOKUP(_xlpm.l,_xlfn._xlws.SORT(_xlpm.u),_xlfn._xlws.SORT(_xlpm.u,1,-1))) )} -> 888888 | C2: 888888 | D2: 888888 | E2: 2 | F2: 1 | G2: 1
A3: 777777 | B3: {=_xlfn.LET( _xlpm.t,A3, _xlpm.l,MID(_xlpm.t,_xlfn.SEQUENCE(LEN(_xlpm.t)),1), _xlpm.u,_xlfn.UNIQUE(_xlpm.l), _xlfn.TEXTJOIN(,,_xlfn.XLOOKUP(_xlpm.l,_xlfn._xlws.SORT(_xlpm.u),_xlfn._xlws.SORT(_xlpm.u,1,-1))) )} -> 777777 | C3: 777777 | D3: 777777 | E3: 1 | F3: 2 | G3: 2
A4: 878887 | B4: {=_xlfn.LET( _xlpm.t,A4, _xlpm.l,MID(_xlpm.t,_xlfn.SEQUENCE(LEN(_xlpm.t)),1), _xlpm.u,_xlfn.UNIQUE(_xlpm.l), _xlfn.TEXTJOIN(,,_xlfn.XLOOKUP(_xlpm.l,_xlfn._xlws.SORT(_xlpm.u),_xlfn._xlws.SORT(_xlpm.u,1,-1))) )} -> 787778 | C4: 877787 | D4: 788888 | E4: 50 | F4: 4 | G4: 23
A5: 788878 | B5: {=_xlfn.LET( _xlpm.t,A5, _xlpm.l,MID(_xlpm.t,_xlfn.SEQUENCE(LEN(_xlpm.t)),1), _xlpm.u,_xlfn.UNIQUE(_xlpm.l), _xlfn.TEXTJOIN(,,_xlfn.XLOOKUP(_xlpm.l,_xlfn._xlws.SORT(_xlpm.u),_xlfn._xlws.SORT(_xlpm.u,1,-1))) )} -> 877787 | C5: 787778 | D5: 888887 | E5: 49 | F5: 3 | G5: 24
A6: 878777 | B6: {=_xlfn.LET( _xlpm.t,A6, _xlpm.l,MID(_xlpm.t,_xlfn.SEQUENCE(LEN(_xlpm.t)),1), _xlpm.u,_xlfn.UNIQUE(_xlpm.l), _xlfn.TEXTJOIN(,,_xlfn.XLOOKUP(_xlpm.l,_xlfn._xlws.SORT(_xlpm.u),_xlfn._xlws.SORT(_xlpm.u,1,-1))) )} -> 787888 | C6: {=_xlfn.LET(_xlpm.a,A6, _xlpm.n, LEN( _xlpm.a), _xlpm.s, _xlfn.SEQUENCE(_xlpm.n, , _xlpm.n, -1), _xlfn.TEXTJOIN("", , MID(_xlpm.a, _xlpm.s, 1)))} -> 777878 | D6: 787877 | E6: 35 | F6: 6 | G6: 38
A7: 777878 | B7: {=_xlfn.LET( _xlpm.t,A7, _xlpm.l,MID(_xlpm.t,_xlfn.SEQUENCE(LEN(_xlpm.t)),1), _xlpm.u,_xlfn.UNIQUE(_xlpm.l), _xlfn.TEXTJOIN(,,_xlfn.XLOOKUP(_xlpm.l,_xlfn._xlws.SORT(_xlpm.u),_xlfn._xlws.SORT(_xlpm.u,1,-1))) )} -> 888787 | C7: {=_xlfn.LET(_xlpm.a,A7, _xlpm.n, LEN( _xlpm.a), _xlpm.s, _xlfn.SEQUENCE(_xlpm.n, , _xlpm.n, -1), _xlfn.TEXTJOIN("", , MID(_xlpm.a, _xlpm.s, 1)))} -> 878777 | D7: 778787 | E7: 36 | F7: 5 | G7: 37
A8: 888878 | B8: {=_xlfn.LET( _xlpm.t,A8, _xlpm.l,MID(_xlpm.t,_xlfn.SEQUENCE(LEN(_xlpm.t)),1), _xlpm.u,_xlfn.UNIQUE(_xlpm.l), _xlfn.TEXTJOIN(,,_xlfn.XLOOKUP(_xlpm.l,_xlfn._xlws.SORT(_xlpm.u),_xlfn._xlws.SORT(_xlpm.u,1,-1))) )} -> 777787 | C8: {=_xlfn.LET(_xlpm.a,A8, _xlpm.n, LEN( _xlpm.a), _xlpm.s, _xlfn.SEQUENCE(_xlpm.n, , _xlpm.n, -1), _xlfn.TEXTJOIN("", , MID(_xlpm.a, _xlpm.s, 1)))} -> 878888 | D8: 888887 | E8: 13 | F8: 8 | G8: 24
A9: 878888 | B9: {=_xlfn.LET( _xlpm.t,A9, _xlpm.l,MID(_xlpm.t,_xlfn.SEQUENCE(LEN(_xlpm.t)),1), _xlpm.u,_xlfn.UNIQUE(_xlpm.l), _xlfn.TEXTJOIN(,,_xlfn.XLOOKUP(_xlpm.l,_xlfn._xlws.SORT(_xlpm.u),_xlfn._xlws.SORT(_xlpm.u,1,-1))) )} -> 787777 | C9: {=_xlfn.LET(_xlpm.a,A9, _xlpm.n, LEN( _xlpm.a), _xlpm.s, _xlfn.SEQUENCE(_xlpm.n, , _xlpm.n, -1), _xlfn.TEXTJOIN("", , MID(_xlpm.a, _xlpm.s, 1)))} -> 888878 | D9: 788888 | E9: 14 | F9: 7 | G9: 23
A10: 778777 | B10: {=_xlfn.LET( _xlpm.t,A10, _xlpm.l,MID(_xlpm.t,_xlfn.SEQUENCE(LEN(_xlpm.t)),1), _xlpm.u,_xlfn.UNIQUE(_xlpm.l), _xlfn.TEXTJOIN(,,_xlfn.XLOOKUP(_xlpm.l,_xlfn._xlws.SORT(_xlpm.u),_xlfn._xlws.SORT(_xlpm.u,1,-1))) )} -> 887888 | C10: {=_xlfn.LET(_xlpm.a,A10, _xlpm.n, LEN( _xlpm.a), _xlpm.s, _xlfn.SEQUENCE(_xlpm.n, , _xlpm.n, -1), _xlfn.TEXTJOIN("", , MID(_xlpm.a, _xlpm.s, 1)))} -> 777877 | D10: 787877 | E10: 16 | F10: 10 | G10: 38
A11: 777877 | B11: {=_xlfn.LET( _xlpm.t,A11, _xlpm.l,MID(_xlpm.t,_xlfn.SEQUENCE(LEN(_xlpm.t)),1), _xlpm.u,_xlfn.UNIQUE(_xlpm.l), _xlfn.TEXTJOIN(,,_xlfn.XLOOKUP(_xlpm.l,_xlfn._xlws.SORT(_xlpm.u),_xlfn._xlws.SORT(_xlpm.u,1,-1))) )} -> 888788 | C11: {=_xlfn.LET(_xlpm.a,A11, _xlpm.n, LEN( _xlpm.a), _xlpm.s, _xlfn.SEQUENCE(_xlpm.n, , _xlpm.n, -1), _xlfn.TEXTJOIN("", , MID(_xlpm.a, _xlpm.s, 1)))} -> 778777 | D11: 778787 | E11: 15 | F11: 9 | G11: 37
A12: 888777 | B12: {=_xlfn.LET( _xlpm.t,A12, _xlpm.l,MID(_xlpm.t,_xlfn.SEQUENCE(LEN(_xlpm.t)),1), _xlpm.u,_xlfn.UNIQUE(_xlpm.l), _xlfn.TEXTJOIN(,,_xlfn.XLOOKUP(_xlpm.l,_xlfn._xlws.SORT(_xlpm.u),_xlfn._xlws.SORT(_xlpm.u,1,-1))) )} -> 777888 | C12: {=_xlfn.LET(_xlpm.a,A12, _xlpm.n, LEN( _xlpm.a), _xlpm.s, _xlfn.SEQUENCE(_xlpm.n, , _xlpm.n, -1), _xlfn.TEXTJOIN("", , MID(_xlpm.a, _xlpm.s, 1)))} -> 777888 | D12: 887878 | E12: 12 | F12: 12 | G12: 40
A13: 777888 | B13: {=_xlfn.LET( _xlpm.t,A13, _xlpm.l,MID(_xlpm.t,_xlfn.SEQUENCE(LEN(_xlpm.t)),1), _xlpm.u,_xlfn.UNIQUE(_xlpm.l), _xlfn.TEXTJOIN(,,_xlfn.XLOOKUP(_xlpm.l,_xlfn._xlws.SORT(_xlpm.u),_xlfn._xlws.SORT(_xlpm.u,1,-1))) )} -> 888777 | C13: {=_xlfn.LET(_xlpm.a,A13, _xlpm.n, LEN( _xlpm.a), _xlpm.s, _xlfn.SEQUENCE(_xlpm.n, , _xlpm.n, -1), _xlfn.TEXTJOIN("", , MID(_xlpm.a, _xlpm.s, 1)))} -> 888777 | D13: 778788 | E13: 11 | F13: 11 | G13: 57
A14: 777787 | B14: {=_xlfn.LET( _xlpm.t,A14, _xlpm.l,MID(_xlpm.t,_xlfn.SEQUENCE(LEN(_xlpm.t)),1), _xlpm.u,_xlfn.UNIQUE(_xlpm.l), _xlfn.TEXTJOIN(,,_xlfn.XLOOKUP(_xlpm.l,_xlfn._xlws.SORT(_xlpm.u),_xlfn._xlws.SORT(_xlpm.u,1,-1))) )} -> 888878 | C14: {=_xlfn.LET(_xlpm.a,A14, _xlpm.n, LEN( _xlpm.a), _xlpm.s, _xlfn.SEQUENCE(_xlpm.n, , _xlpm.n, -1), _xlfn.TEXTJOIN("", , MID(_xlpm.a, _xlpm.s, 1)))} -> 787777 | D14: 777778 | E14: 7 | F14: 14 | G14: 44
A15: 787777 | B15: {=_xlfn.LET( _xlpm.t,A15, _xlpm.l,MID(_xlpm.t,_xlfn.SEQUENCE(LEN(_xlpm.t)),1), _xlpm.u,_xlfn.UNIQUE(_xlpm.l), _xlfn.TEXTJOIN(,,_xlfn.XLOOKUP(_xlpm.l,_xlfn._xlws.SORT(_xlpm.u),_xlfn._xlws.SORT(_xlpm.u,1,-1))) )} -> 878888 | C15: {=_xlfn.LET(_xlpm.a,A15, _xlpm.n, LEN( _xlpm.a), _xlpm.s, _xlfn.SEQUENCE(_xlpm.n, , _xlpm.n, -1), _xlfn.TEXTJOIN("", , MID(_xlpm.a, _xlpm.s, 1)))} -> 777787 | D15: 877777 | E15: 8 | F15: 13 | G15: 43
A16: 888788 | B16: {=_xlfn.LET( _xlpm.t,A16, _xlpm.l,MID(_xlpm.t,_xlfn.SEQUENCE(LEN(_xlpm.t)),1), _xlpm.u,_xlfn.UNIQUE(_xlpm.l), _xlfn.TEXTJOIN(,,_xlfn.XLOOKUP(_xlpm.l,_xlfn._xlws.SORT(_xlpm.u),_xlfn._xlws.SORT(_xlpm.u,1,-1))) )} -> 777877 | C16: {=_xlfn.LET(_xlpm.a,A16, _xlpm.n, LEN( _xlpm.a), _xlpm.s, _xlfn.SEQUENCE(_xlpm.n, , _xlpm.n, -1), _xlfn.TEXTJOIN("", , MID(_xlpm.a, _xlpm.s, 1)))} -> 887888 | D16: 887878 | E16: 10 | F16: 16 | G16: 40
A17: 887888 | B17: {=_xlfn.LET( _xlpm.t,A17, _xlpm.l,MID(_xlpm.t,_xlfn.SEQUENCE(LEN(_xlpm.t)),1), _xlpm.u,_xlfn.UNIQUE(_xlpm.l), _xlfn.TEXTJOIN(,,_xlfn.XLOOKUP(_xlpm.l,_xlfn._xlws.SORT(_xlpm.u),_xlfn._xlws.SORT(_xlpm.u,1,-1))) )} -> 778777 | C17: {=_xlfn.LET(_xlpm.a,A17, _xlpm.n, LEN( _xlpm.a), _xlpm.s, _xlfn.SEQUENCE(_xlpm.n, , _xlpm.n, -1), _xlfn.TEXTJOIN("", , MID(_xlpm.a, _xlpm.s, 1)))} -> 888788 | D17: 878788 | E17: 9 | F17: 15 | G17: 56
... A65: 787878 | B65: {=_xlfn.LET( _xlpm.t,A65, _xlpm.l,MID(_xlpm.t,_xlfn.SEQUENCE(LEN(_xlpm.t)),1), _xlpm.u,_xlfn.UNIQUE(_xlpm.l), _xlfn.TEXTJOIN(,,_xlfn.XLOOKUP(_xlpm.l,_xlfn._xlws.SORT(_xlpm.u),_xlfn._xlws.SORT(_xlpm.u,1,-1))) )} -> 878787 | C65: {=_xlfn.LET(_xlpm.a,A65, _xlpm.n, LEN( _xlpm.a), _xlpm.s, _xlfn.SEQUENCE(_xlpm.n, , _xlpm.n, -1), _xlfn.TEXTJOIN("", , MID(_xlpm.a, _xlpm.s, 1)))} -> 878787 | D65: 878787 | E65: 63 | F65: 63 | G65: 63

Sheet DeuxRoues
A1: 1er Plan | E1: 2eme Plan | I1: 3eme Plan
A2: CONFRONTER LA SITUATION | E2: INTEGRER LA SITUATION | I2: CONFRONTER LA SITUATION
A3: Haut | B3: Milieu | C3: Bas | E3: Milieu | F3: Haut | G3: Bas | I3: Bas | J3: Haut | K3: Milieu
A4: 1 | B4: 10 | C4: 45 | E4: 1 | F4: 9 | G4: 12 | I4: 1 | J4: 20 | K4: 11
A5: 2 | B5: 24 | C5: 34 | E5: 2 | F5: 23 | G5: 11 | I5: 2 | J5: 26 | K5: 12
A6: 3 | B6: 55 | C6: 38 | E6: 3 | F6: 7 | G6: 55 | I6: 3 | J6: 38 | K6: 47
A7: 4 | B7: 8 | C7: 36 | E7: 4 | F7: 56 | G7: 48 | I7: 4 | J7: 49 | K7: 56
A8: 5 | B8: 13 | C8: 35 | E8: 5 | F8: 59 | G8: 13 | I8: 5 | J8: 35 | K8: 7
A9: 6 | B9: 60 | C9: 49 | E9: 6 | F9: 14 | G9: 8 | I9: 6 | J9: 37 | K9: 14
A10: 7 | B10: 3 | C10: 55 | E10: 7 | F10: 35 | G10: 5 | I10: 7 | J10: 22 | K10: 35
A11: 8 | B11: 36 | C11: 14 | E11: 8 | F11: 4 | G11: 36 | I11: 8 | J11: 14 | K11: 6
A12: 9 | B12: 1 | C12: 12 | E12: 9 | F12: 57 | G12: 33 | I12: 9 | J12: 16 | K12: 46
A13: 10 | B13: 58 | C13: 17 | E13: 10 | F13: 1 | G13: 45 | I13: 10 | J13: 42 | K13: 34
A14: 11 | B14: 25 | C14: 16 | E14: 11 | F14: 20 | G14: 1 | I14: 11 | J14: 23 | K14: 2
A15: 12 | B15: 19 | C15: 43 | E15: 12 | F15: 26 | G15: 2 | I15: 12 | J15: 9 | K15: 1
... A67: 64 | B67: 29 | C67: 63 | E67: 64 | F67: 30 | G67: 29 | I67: 64 | J67: 63 | K67: 30

Sheet FleurBach
A1: YI JING – FLEURS DE BACH CORRESPONDENCE | C1: NOTE : Les deux fleurs de Bach, Wild Oat et Sweet Chestnut, aussi le complexe remede d’urgence, n’ont pas des correspondences avec les hexagrammes, comme ils forment les enveloppes des differentes parties de soi.
A2: Hexagramme (HXX) | B2: Fleurs de Bach
A3: 1 | B3: Oak
A4: 2 | B4: Rock Water
A5: 3 | B5: Cerato
A6: 4 | B6: Cerato
A7: 5 | B7: Agrimony
A8: 6 | B8: Agrimony
A9: 7 | B9: Chicory
A10: 8 | B10: Chicory
A11: 9 | B11: Mimulus
A12: 10 | B12: Mimulus
A13: 11 | B13: Clematis
A14: 12 | B14: Clematis
... A66: 64 | B66: Crab Apple

Sheet Proposition
A1: 7
A2: 8
A3: 8 | C3: CONCAT --> | D3: =_xlfn.CONCAT(_xlfn.IFS(A1=8,7,A1=7,8,1,A1),A2:A6)*1 -> 888888
A4: 8
A5: 8
A6: 8 | C6: Recherche ---> | D6: =_xlfn.XLOOKUP(_xlfn.CONCAT(_xlfn.IFS(A1=8,7,A1=7,8,1,A1),A2:A6)*1,HexDef!A2:A65,HexDef!B2:B65,"Absence valeur") -> 1
