Workbook

Sheet Horaires 2023
A1: date | B1: Heure arrivée matin | C1: Heure départ matin | D1: Décompte en centième | E1: Heure arrivée après-midi | F1: Heure départ après-midi | G1: Décompte en centième | H1: Cumul journée
A2: 44927
A3: 44928 | B3: 9 | C3: 12.5 | D3: =+C3-B3 -> 3.5 | E3: 14 | F3: 17 | G3: =+F3-E3 -> 3 | H3: =SUM((C3-B3),(F3-E3)) -> 6.5
A4: 44929 | B4: 8.5 | C4: 12.5 | D4: =+C4-B4 -> 4 | E4: 13.5 | F4: 17 | G4: =+F4-E4 -> 3.5 | H4: =SUM((C4-B4),(F4-E4)) -> 7.5
A5: 44930 | B5: 8.5 | C5: 12.5 | D5: =+C5-B5 -> 4 | E5: 14 | F5: 17 | G5: =+F5-E5 -> 3 | H5: =SUM((C5-B5),(F5-E5)) -> 7
A6: 44931 | B6: 8.5 | C6: 12.5 | D6: =+C6-B6 -> 4 | E6: 13.5 | F6: 16.5 | G6: =+F6-E6 -> 3 | H6: =SUM((C6-B6),(F6-E6)) -> 7
A7: 44932 | B7: 8 | C7: 12 | D7: =+C7-B7 -> 4 | E7: 13.5 | F7: 16.5 | G7: =+F7-E7 -> 3 | H7: =SUM((C7-B7),(F7-E7)) -> 7
A8: 44933 | H8: =SUM((C8-B8),(F8-E8)) -> 0
A9: 44934 | H9: =SUM((C9-B9),(F9-E9)) -> 0
A10: 44935 | B10: 8 | C10: 12 | D10: =+C10-B10 -> 4 | E10: 14 | F10: 17.5 | G10: =+F10-E10 -> 3.5 | H10: =SUM((C10-B10),(F10-E10)) -> 7.5
A11: 44936 | B11: 8.5 | C11: 12.5 | D11: =+C11-B11 -> 4 | E11: 13.5 | F11: 16.5 | G11: =+F11-E11 -> 3 | H11: =SUM((C11-B11),(F11-E11)) -> 7
A12: 44937 | B12: 8.5 | C12: 12.5 | D12: =+C12-B12 -> 4 | E12: 14 | F12: 17 | G12: =+F12-E12 -> 3 | H12: =SUM((C12-B12),(F12-E12)) -> 7
A13: 44938 | B13: 8.75 | C13: 12.25 | D13: =+C13-B13 -> 3.5 | E13: 14 | F13: 17 | G13: =+F13-E13 -> 3 | H13: =SUM((C13-B13),(F13-E13)) -> 6.5
A14: 44939 | B14: 8.75 | C14: 12.5 | D14: =+C14-B14 -> 3.75 | E14: 13.5 | F14: 16.75 | G14: =+F14-E14 -> 3.25 | H14: =SUM((C14-B14),(F14-E14)) -> 7
A15: 44940 | H15: =SUM((C15-B15),(F15-E15)) -> 0
A16: 44941 | H16: =SUM((C16-B16),(F16-E16)) -> 0
A17: 44942 | B17: 8.5 | C17: 12.5 | D17: =+C17-B17 -> 4 | E17: 14 | F17: 17 | G17: =+F17-E17 -> 3 | H17: =SUM((C17-B17),(F17-E17)) -> 7
A18: 44943 | B18: 9 | C18: 12.5 | D18: =+C18-B18 -> 3.5 | E18: 13.5 | F18: 17 | G18: =+F18-E18 -> 3.5 | H18: =SUM((C18-B18),(F18-E18)) -> 7
A19: 44944 | B19: 8.5 | C19: 12.5 | D19: =+C19-B19 -> 4 | E19: 13.5 | F19: 17 | G19: =+F19-E19 -> 3.5 | H19: =SUM((C19-B19),(F19-E19)) -> 7.5
A20: 44945 | B20: 8.5 | C20: 10 | D20: =+C20-B20 -> 1.5 | E20: 14 | F20: 17 | G20: =+F20-E20 -> 3 | H20: =SUM((C20-B20),(F20-E20)) -> 4.5
A21: 44946 | B21: 8.5 | C21: 12.5 | D21: =+C21-B21 -> 4 | E21: 13.5 | F21: 16.5 | G21: =+F21-E21 -> 3 | H21: =SUM((C21-B21),(F21-E21)) -> 7
A22: 44947 | D22: =+C22-B22 -> 0 | G22: =+F22-E22 -> 0 | H22: =SUM((C22-B22),(F22-E22)) -> 0
A23: 44948 | H23: =SUM((C23-B23),(F23-E23)) -> 0
A24: 44949 | D24: =+C24-B24 -> 0 | G24: =+F24-E24 -> 0 | H24: =SUM((C24-B24),(F24-E24)) -> 0
A25: 44950 | B25: 8.5 | C25: 12 | D25: =+C25-B25 -> 3.5 | E25: 13.5 | F25: 17 | G25: =+F25-E25 -> 3.5 | H25: =SUM((C25-B25),(F25-E25)) -> 7
A26: 44951 | B26: 9 | C26: 12 | D26: =+C26-B26 -> 3 | E26: 13.5 | F26: 17.5 | G26: =+F26-E26 -> 4 | H26: =SUM((C26-B26),(F26-E26)) -> 7
A27: 44952 | B27: 8.5 | C27: 12 | D27: =+C27-B27 -> 3.5 | G27: =+F27-E27 -> 0 | H27: =SUM((C27-B27),(F27-E27)) -> 3.5
A28: 44953 | B28: 8.5 | C28: 12.5 | D28: =+C28-B28 -> 4 | E28: 13.5 | F28: 16.5 | G28: =+F28-E28 -> 3 | H28: =SUM((C28-B28),(F28-E28)) -> 7
A29: 44954 | H29: =SUM((C29-B29),(F29-E29)) -> 0
A30: 44955 | H30: =SUM((C30-B30),(F30-E30)) -> 0
A31: 44956 | B31: 9 | C31: 12.5 | D31: =+C31-B31 -> 3.5 | E31: 14 | F31: 17 | G31: =+F31-E31 -> 3 | H31: =SUM((C31-B31),(F31-E31)) -> 6.5
A32: 44957 | B32: 8.5 | C32: 10 | D32: =+C32-B32 -> 1.5 | E32: 13.5 | F32: 17.5 | G32: =+F32-E32 -> 4 | H32: =SUM((C32-B32),(F32-E32)) -> 5.5
A33: 44958 | B33: 8.5 | C33: 12.5 | D33: =+C33-B33 -> 4 | E33: 14 | F33: 17 | G33: =+F33-E33 -> 3 | H33: =SUM((C33-B33),(F33-E33)) -> 7
A34: 44959 | B34: 8.5 | C34: 12 | D34: =+C34-B34 -> 3.5 | E34: 13.5 | F34: 18 | G34: =+F34-E34 -> 4.5 | H34: =SUM((C34-B34),(F34-E34)) -> 8
A35: 44960 | B35: 9 | C35: 12.5 | D35: =+C35-B35 -> 3.5 | E35: 13.5 | F35: 17 | G35: =+F35-E35 -> 3.5 | H35: =SUM((C35-B35),(F35-E35)) -> 7
A36: 44961 | H36: =SUM((C36-B36),(F36-E36)) -> 0
A37: 44962 | H37: =SUM((C37-B37),(F37-E37)) -> 0
A38: 44963 | B38: 8.5 | C38: 12 | D38: =+C38-B38 -> 3.5 | E38: 13 | F38: 17 | G38: =+F38-E38 -> 4 | H38: =SUM((C38-B38),(F38-E38)) -> 7.5
A39: 44964 | B39: 8.5 | C39: 10 | D39: =+C39-B39 -> 1.5 | E39: 13.5 | F39: 17 | G39: =+F39-E39 -> 3.5 | H39: =SUM((C39-B39),(F39-E39)) -> 5
A40: 44965 | B40: 8.5 | C40: 12.5 | D40: =+C40-B40 -> 4 | E40: 13.5 | F40: 17.5 | G40: =+F40-E40 -> 4 | H40: =SUM((C40-B40),(F40-E40)) -> 8
A41: 44966 | B41: 8.75 | C41: 12.75 | D41: =+C41-B41 -> 4 | E41: 14 | F41: 17 | G41: =+F41-E41 -> 3 | H41: =SUM((C41-B41),(F41-E41)) -> 7
A42: 44967 | D42: =+C42-B42 -> 0 | G42: =+F42-E42 -> 0 | H42: =SUM((C42-B42),(F42-E42)) -> 0
A43: 44968 | H43: =SUM((C43-B43),(F43-E43)) -> 0
A44: 44969 | H44: =SUM((C44-B44),(F44-E44)) -> 0
A45: 44970 | B45: 8.5 | C45: 12.5 | D45: =+C45-B45 -> 4 | E45: 13.5 | F45: 17.5 | G45: =+F45-E45 -> 4 | H45: =SUM((C45-B45),(F45-E45)) -> 8
A46: 44971 | B46: 8.5 | C46: 12.5 | D46: =+C46-B46 -> 4 | E46: 14 | F46: 17 | G46: =+F46-E46 -> 3 | H46: =SUM((C46-B46),(F46-E46)) -> 7
A47: 44972 | B47: 8.5 | C47: 12.5 | D47: =+C47-B47 -> 4 | E47: 13.5 | F47: 16.5 | G47: =+F47-E47 -> 3 | H47: =SUM((C47-B47),(F47-E47)) -> 7
A48: 44973 | B48: 8.5 | C48: 13 | D48: =+C48-B48 -> 4.5 | E48: 13.5 | F48: 17.5 | G48: =+F48-E48 -> 4 | H48: =SUM((C48-B48),(F48-E48)) -> 8.5
A49: 44974 | B49: 9 | C49: 13 | D49: =+C49-B49 -> 4 | E49: 13 | F49: 17 | G49: =+F49-E49 -> 4 | H49: =SUM((C49-B49),(F49-E49)) -> 8
A50: 44975 | B50: 8 | C50: 12 | D50: =+C50-B50 -> 4 | E50: 13 | F50: 17.5 | G50: =+F50-E50 -> 4.5 | H50: =SUM((C50-B50),(F50-E50)) -> 8.5
A51: 44976 | G51: =+F51-E51 -> 0 | H51: =SUM((C51-B51),(F51-E51)) -> 0
A52: 44977 | B52: 8 | C52: 12 | D52: =+C52-B52 -> 4 | E52: 13 | F52: 16.5 | G52: =+F52-E52 -> 3.5 | H52: =SUM((C52-B52),(F52-E52)) -> 7.5
A53: 44978 | B53: 8.5 | C53: 13 | D53: =+C53-B53 -> 4.5 | E53: 14 | F53: 16.5 | G53: =+F53-E53 -> 2.5 | H53: =SUM((C53-B53),(F53-E53)) -> 7
A54: 44979 | B54: 8 | C54: 12 | D54: =+C54-B54 -> 4 | E54: 14 | F54: 16.5 | G54: =+F54-E54 -> 2.5 | H54: =SUM((C54-B54),(F54-E54)) -> 6.5
A55: 44980 | B55: 8 | C55: 12 | D55: =+C55-B55 -> 4 | E55: 13 | F55: 17.5 | G55: =+F55-E55 -> 4.5 | H55: =SUM((C55-B55),(F55-E55)) -> 8.5
A56: 44981 | B56: 8.5 | C56: 12.5 | D56: =+C56-B56 -> 4 | E56: 13.5 | F56: 18 | G56: =+F56-E56 -> 4.5 | H56: =SUM((C56-B56),(F56-E56)) -> 8.5
A57: 44982 | H57: =SUM((C57-B57),(F57-E57)) -> 0
A58: 44983 | H58: =SUM((C58-B58),(F58-E58)) -> 0
A59: 44984 | B59: 8.5 | C59: 12.5 | D59: =+C59-B59 -> 4 | E59: 13.5 | F59: 17.5 | G59: =+F59-E59 -> 4 | H59: =SUM((C59-B59),(F59-E59)) -> 8
A60: 44985 | B60: 9 | C60: 12.5 | D60: =+C60-B60 -> 3.5 | E60: 14 | F60: 19 | G60: =+F60-E60 -> 5 | H60: =SUM((C60-B60),(F60-E60)) -> 8.5
A61: 44986 | B61: 8 | C61: 15 | D61: =+C61-B61 -> 7 | E61: 16 | F61: 17 | G61: =+F61-E61 -> 1 | H61: =SUM((C61-B61),(F61-E61)) -> 8
A62: 44987 | B62: 8.5 | C62: 13 | D62: =+C62-B62 -> 4.5 | E62: 14 | F62: 18 | G62: =+F62-E62 -> 4 | H62: =SUM((C62-B62),(F62-E62)) -> 8.5
A63: 44988 | B63: 9 | C63: 12 | D63: =+C63-B63 -> 3 | E63: 13.5 | F63: 16.5 | G63: =+F63-E63 -> 3 | H63: =SUM((C63-B63),(F63-E63)) -> 6
A64: 44989 | B64: 8 | C64: 12 | E64: 13 | F64: 17 | H64: =SUM((C64-B64),(F64-E64)) -> 8
A65: 44990 | H65: =SUM((C65-B65),(F65-E65)) -> 0
A66: 44991 | B66: 8.5 | C66: 12 | D66: =+C66-B66 -> 3.5 | E66: 14 | F66: 17 | G66: =+F66-E66 -> 3 | H66: =SUM((C66-B66),(F66-E66)) -> 6.5
A67: 44992 | D67: =+C67-B67 -> 0 | G67: =+F67-E67 -> 0 | H67: =SUM((C67-B67),(F67-E67)) -> 0
A68: 44993 | B68: 8.5 | C68: 13 | D68: =+C68-B68 -> 4.5 | E68: 14.5 | F68: 17 | G68: =+F68-E68 -> 2.5 | H68: =SUM((C68-B68),(F68-E68)) -> 7
A69: 44994 | B69: 8.5 | C69: 12.5 | D69: =+C69-B69 -> 4 | E69: 13.5 | F69: 16.5 | G69: =+F69-E69 -> 3 | H69: =SUM((C69-B69),(F69-E69)) -> 7
A70: 44995 | B70: 9 | C70: 12.5 | D70: =+C70-B70 -> 3.5 | E70: 13 | F70: 17 | G70: =+F70-E70 -> 4 | H70: =SUM((C70-B70),(F70-E70)) -> 7.5
A71: 44996 | H71: =SUM((C71-B71),(F71-E71)) -> 0
A72: 44997 | H72: =SUM((C72-B72),(F72-E72)) -> 0
A73: 44998 | B73: 8.5 | C73: 12.5 | E73: 13.5 | F73: 17 | G73: =+F73-E73 -> 3.5 | H73: =SUM((C73-B73),(F73-E73)) -> 7.5
A74: 44999 | B74: 8.5 | C74: 12 | E74: 14 | F74: 17 | G74: =+F74-E74 -> 3 | H74: =SUM((C74-B74),(F74-E74)) -> 6.5
A75: 45000 | B75: 8.5 | C75: 10.5 | D75: =+C75-B75 -> 2 | E75: 13.5 | F75: 17 | G75: =+F75-E75 -> 3.5 | H75: =SUM((C75-B75),(F75-E75)) -> 5.5
A76: 45001 | B76: 8.5 | C76: 13 | D76: =+C76-B76 -> 4.5 | E76: 14 | F76: 18 | G76: =+F76-E76 -> 4 | H76: =SUM((C76-B76),(F76-E76)) -> 8.5
A77: 45002 | B77: 8.5 | C77: 11.5 | D77: =+C77-B77 -> 3 | E77: 13.5 | F77: 17.5 | G77: =+F77-E77 -> 4 | H77: =SUM((C77-B77),(F77-E77)) -> 7
A78: 45003 | H78: =SUM((C78-B78),(F78-E78)) -> 0
A79: 45004 | H79: =SUM((C79-B79),(F79-E79)) -> 0
A80: 45005 | B80: 9 | C80: 12.5 | D80: =+C80-B80 -> 3.5 | E80: 13.5 | F80: 20 | G80: =+F80-E80 -> 6.5 | H80: =SUM((C80-B80),(F80-E80)) -> 10
A81: 45006 | B81: 9.5 | C81: 12.5 | D81: =+C81-B81 -> 3 | E81: 14 | F81: 18 | G81: =+F81-E81 -> 4 | H81: =SUM((C81-B81),(F81-E81)) -> 7
A82: 45007 | B82: 8.5 | C82: 12.5 | D82: =+C82-B82 -> 4 | E82: 13.5 | F82: 16 | G82: =+F82-E82 -> 2.5 | H82: =SUM((C82-B82),(F82-E82)) -> 6.5
A83: 45008 | B83: 8.5 | C83: 12.5 | D83: =+C83-B83 -> 4 | G83: =+F83-E83 -> 0 | H83: =SUM((C83-B83),(F83-E83)) -> 4
A84: 45009 | B84: 9 | C84: 12.5 | D84: =+C84-B84 -> 3.5 | E84: 13.5 | F84: 16 | G84: =+F84-E84 -> 2.5 | H84: =SUM((C84-B84),(F84-E84)) -> 6
A85: 45010 | H85: =SUM((C85-B85),(F85-E85)) -> 0
A86: 45011 | H86: =SUM((C86-B86),(F86-E86)) -> 0
A87: 45012 | D87: =+C87-B87 -> 0 | G87: =+F87-E87 -> 0 | H87: =SUM((C87-B87),(F87-E87)) -> 0
A88: 45013 | B88: 10 | C88: 12.5 | D88: =+C88-B88 -> 2.5 | E88: 13.5 | F88: 21.5 | G88: =+F88-E88 -> 8 | H88: =SUM((C88-B88),(F88-E88)) -> 10.5
A89: 45014 | B89: 9 | C89: 15.5 | D89: =+C89-B89 -> 6.5 | E89: 16 | F89: 17 | G89: =+F89-E89 -> 1 | H89: =SUM((C89-B89),(F89-E89)) -> 7.5
A90: 45015 | B90: 9.5 | C90: 12 | D90: =+C90-B90 -> 2.5 | E90: 13 | F90: 16 | G90: =+F90-E90 -> 3 | H90: =SUM((C90-B90),(F90-E90)) -> 5.5
A91: 45016 | B91: 8 | C91: 12 | D91: =+C91-B91 -> 4 | E91: 13 | F91: 18 | G91: =+F91-E91 -> 5 | H91: =SUM((C91-B91),(F91-E91)) -> 9
A92: 45017 | H92: =SUM((C92-B92),(F92-E92)) -> 0
A93: 45018 | H93: =SUM((C93-B93),(F93-E93)) -> 0
A94: 45019 | B94: 6.5 | C94: 12.5 | D94: =+C94-B94 -> 6 | E94: 13.5 | F94: 18 | G94: =+F94-E94 -> 4.5 | H94: =SUM((C94-B94),(F94-E94)) -> 10.5
A95: 45020 | B95: 6.5 | C95: 12.5 | E95: 13.5 | F95: 16.5 | G95: =+F95-E95 -> 3 | H95: =SUM((C95-B95),(F95-E95)) -> 9
A96: 45021 | B96: 6.5 | C96: 12 | E96: 13 | F96: 20.5 | G96: =+F96-E96 -> 7.5 | H96: =SUM((C96-B96),(F96-E96)) -> 13
A97: 45022 | B97: 6.5 | C97: 12 | E97: 13.5 | F97: 17.5 | G97: =+F97-E97 -> 4 | H97: =SUM((C97-B97),(F97-E97)) -> 9.5
A98: 45023 | B98: 6.5 | C98: 12.5 | E98: 13 | F98: 14.5 | G98: =+F98-E98 -> 1.5 | H98: =SUM((C98-B98),(F98-E98)) -> 7.5
A99: 45024 | H99: =SUM((C99-B99),(F99-E99)) -> 0
A100: 45025 | H100: =SUM((C100-B100),(F100-E100)) -> 0
...

Sheet Feuil3
A1: semaine1 | B1: =SUM('Horaires 2023'!H3:H9) -> 35 | E1: {=SUM(_xlfn._xlws.FILTER('Horaires 2023'!$H$2:$H$366,_xlfn.ISOWEEKNUM('Horaires 2023'!$A$2:$A$366)=SUBSTITUTE(A1,"semaine","")*1))} -> 35
A2: semaine2 | B2: =SUM('Horaires 2023'!H10:H16) -> 35 | E2: {=SUM(_xlfn._xlws.FILTER('Horaires 2023'!$H$2:$H$366,_xlfn.ISOWEEKNUM('Horaires 2023'!$A$2:$A$366)=SUBSTITUTE(A2,"semaine","")*1))} -> 35
A3: semaine3 | B3: =SUM('Horaires 2023'!H11:H17) -> 34.5 | E3: {=SUM(_xlfn._xlws.FILTER('Horaires 2023'!$H$2:$H$366,_xlfn.ISOWEEKNUM('Horaires 2023'!$A$2:$A$366)=SUBSTITUTE(A3,"semaine","")*1))} -> 33
A4: semaine4 | B4: =SUM('Horaires 2023'!H12:H18) -> 34.5 | E4: {=SUM(_xlfn._xlws.FILTER('Horaires 2023'!$H$2:$H$366,_xlfn.ISOWEEKNUM('Horaires 2023'!$A$2:$A$366)=SUBSTITUTE(A4,"semaine","")*1))} -> 24.5
A5: semaine5 | B5: =SUM('Horaires 2023'!H13:H19) -> 35 | E5: {=SUM(_xlfn._xlws.FILTER('Horaires 2023'!$H$2:$H$366,_xlfn.ISOWEEKNUM('Horaires 2023'!$A$2:$A$366)=SUBSTITUTE(A5,"semaine","")*1))} -> 34
A6: semaine6 | B6: =SUM('Horaires 2023'!H14:H20) -> 33 | E6: {=SUM(_xlfn._xlws.FILTER('Horaires 2023'!$H$2:$H$366,_xlfn.ISOWEEKNUM('Horaires 2023'!$A$2:$A$366)=SUBSTITUTE(A6,"semaine","")*1))} -> 27.5
A7: semaine7 | E7: {=SUM(_xlfn._xlws.FILTER('Horaires 2023'!$H$2:$H$366,_xlfn.ISOWEEKNUM('Horaires 2023'!$A$2:$A$366)=SUBSTITUTE(A7,"semaine","")*1))} -> 47
A8: semaine8 | E8: {=SUM(_xlfn._xlws.FILTER('Horaires 2023'!$H$2:$H$366,_xlfn.ISOWEEKNUM('Horaires 2023'!$A$2:$A$366)=SUBSTITUTE(A8,"semaine","")*1))} -> 38
A9: semaine9 | E9: {=SUM(_xlfn._xlws.FILTER('Horaires 2023'!$H$2:$H$366,_xlfn.ISOWEEKNUM('Horaires 2023'!$A$2:$A$366)=SUBSTITUTE(A9,"semaine","")*1))} -> 47
A10: semaine10 | E10: {=SUM(_xlfn._xlws.FILTER('Horaires 2023'!$H$2:$H$366,_xlfn.ISOWEEKNUM('Horaires 2023'!$A$2:$A$366)=SUBSTITUTE(A10,"semaine","")*1))} -> 28
A11: semaine11 | E11: {=SUM(_xlfn._xlws.FILTER('Horaires 2023'!$H$2:$H$366,_xlfn.ISOWEEKNUM('Horaires 2023'!$A$2:$A$366)=SUBSTITUTE(A11,"semaine","")*1))} -> 35
A12: semaine12 | E12: {=SUM(_xlfn._xlws.FILTER('Horaires 2023'!$H$2:$H$366,_xlfn.ISOWEEKNUM('Horaires 2023'!$A$2:$A$366)=SUBSTITUTE(A12,"semaine","")*1))} -> 33.5
A13: semaine13 | E13: {=SUM(_xlfn._xlws.FILTER('Horaires 2023'!$H$2:$H$366,_xlfn.ISOWEEKNUM('Horaires 2023'!$A$2:$A$366)=SUBSTITUTE(A13,"semaine","")*1))} -> 32.5
A14: semaine14 | E14: {=SUM(_xlfn._xlws.FILTER('Horaires 2023'!$H$2:$H$366,_xlfn.ISOWEEKNUM('Horaires 2023'!$A$2:$A$366)=SUBSTITUTE(A14,"semaine","")*1))} -> 49.5
A15: semaine15 | E15: {=SUM(_xlfn._xlws.FILTER('Horaires 2023'!$H$2:$H$366,_xlfn.ISOWEEKNUM('Horaires 2023'!$A$2:$A$366)=SUBSTITUTE(A15,"semaine","")*1))} -> 35
A16: semaine16 | E16: {=SUM(_xlfn._xlws.FILTER('Horaires 2023'!$H$2:$H$366,_xlfn.ISOWEEKNUM('Horaires 2023'!$A$2:$A$366)=SUBSTITUTE(A16,"semaine","")*1))} -> 38
A17: semaine17 | E17: {=SUM(_xlfn._xlws.FILTER('Horaires 2023'!$H$2:$H$366,_xlfn.ISOWEEKNUM('Horaires 2023'!$A$2:$A$366)=SUBSTITUTE(A17,"semaine","")*1))} -> 41.5
A18: semaine18 | E18: {=SUM(_xlfn._xlws.FILTER('Horaires 2023'!$H$2:$H$366,_xlfn.ISOWEEKNUM('Horaires 2023'!$A$2:$A$366)=SUBSTITUTE(A18,"semaine","")*1))} -> 36
... A52: semaine52 | E52: {=SUM(_xlfn._xlws.FILTER('Horaires 2023'!$H$2:$H$366,_xlfn.ISOWEEKNUM('Horaires 2023'!$A$2:$A$366)=SUBSTITUTE(A52,"semaine","")*1))} -> 0
