Workbook

Sheet Horaires 2023
A1: date | B1: Heure arrivée matin | C1: Heure départ matin | D1: Décompte en centième | E1: Heure arrivée après-midi | F1: Heure départ après-midi | G1: Décompte en centième | H1: Cumul journée
A2: 44927
A3: 44928 | B3: 9 | C3: 12.5 | D3: =+C3-B3 -> 3.5 | E3: 14 | F3: 17 | G3: =+F3-E3 -> 3 | H3: =SUM((C3-B3),(F3-E3)) -> 6.5
A4: 44929 | B4: 8.5 | C4: 12.5 | D4: =+C4-B4 -> 4 | E4: 13.5 | F4: 17 | G4: =+F4-E4 -> 3.5 | H4: =SUM((C4-B4),(F4-E4)) -> 7.5
A5: 44930 | B5: 8.5 | C5: 12.5 | D5: =+C5-B5 -> 4 | E5: 14 | F5: 17 | G5: =+F5-E5 -> 3 | H5: =SUM((C5-B5),(F5-E5)) -> 7
A6: 44931 | B6: 8.5 | C6: 12.5 | D6: =+C6-B6 -> 4 | E6: 13.5 | F6: 16.5 | G6: =+F6-E6 -> 3 | H6: =SUM((C6-B6),(F6-E6)) -> 7
A7: 44932 | B7: 8 | C7: 12 | D7: =+C7-B7 -> 4 | E7: 13.5 | F7: 16.5 | G7: =+F7-E7 -> 3 | H7: =SUM((C7-B7),(F7-E7)) -> 7
A8: 44933 | H8: =SUM((C8-B8),(F8-E8)) -> 0
A9: 44934 | H9: =SUM((C9-B9),(F9-E9)) -> 0
A10: 44935 | B10: 8 | C10: 12 | D10: =+C10-B10 -> 4 | E10: 14 | F10: 17.5 | G10: =+F10-E10 -> 3.5 | H10: =SUM((C10-B10),(F10-E10)) -> 7.5
A11: 44936 | B11: 8.5 | C11: 12.5 | D11: =+C11-B11 -> 4 | E11: 13.5 | F11: 16.5 | G11: =+F11-E11 -> 3 | H11: =SUM((C11-B11),(F11-E11)) -> 7
A12: 44937 | B12: 8.5 | C12: 12.5 | D12: =+C12-B12 -> 4 | E12: 14 | F12: 17 | G12: =+F12-E12 -> 3 | H12: =SUM((C12-B12),(F12-E12)) -> 7
A13: 44938 | B13: 8.75 | C13: 12.25 | D13: =+C13-B13 -> 3.5 | E13: 14 | F13: 17 | G13: =+F13-E13 -> 3 | H13: =SUM((C13-B13),(F13-E13)) -> 6.5
A14: 44939 | B14: 8.75 | C14: 12.5 | D14: =+C14-B14 -> 3.75 | E14: 13.5 | F14: 16.75 | G14: =+F14-E14 -> 3.25 | H14: =SUM((C14-B14),(F14-E14)) -> 7
A15: 44940 | H15: =SUM((C15-B15),(F15-E15)) -> 0
A16: 44941 | H16: =SUM((C16-B16),(F16-E16)) -> 0
A17: 44942 | B17: 8.5 | C17: 12.5 | D17: =+C17-B17 -> 4 | E17: 14 | F17: 17 | G17: =+F17-E17 -> 3 | H17: =SUM((C17-B17),(F17-E17)) -> 7
A18: 44943 | B18: 9 | C18: 12.5 | D18: =+C18-B18 -> 3.5 | E18: 13.5 | F18: 17 | G18: =+F18-E18 -> 3.5 | H18: =SUM((C18-B18),(F18-E18)) -> 7
A19: 44944 | B19: 8.5 | C19: 12.5 | D19: =+C19-B19 -> 4 | E19: 13.5 | F19: 17 | G19: =+F19-E19 -> 3.5 | H19: =SUM((C19-B19),(F19-E19)) -> 7.5
A20: 44945 | B20: 8.5 | C20: 10 | D20: =+C20-B20 -> 1.5 | E20: 14 | F20: 17 | G20: =+F20-E20 -> 3 | H20: =SUM((C20-B20),(F20-E20)) -> 4.5
A21: 44946 | B21: 8.5 | C21: 12.5 | D21: =+C21-B21 -> 4 | E21: 13.5 | F21: 16.5 | G21: =+F21-E21 -> 3 | H21: =SUM((C21-B21),(F21-E21)) -> 7
A22: 44947 | D22: =+C22-B22 -> 0 | G22: =+F22-E22 -> 0 | H22: =SUM((C22-B22),(F22-E22)) -> 0
A23: 44948 | H23: =SUM((C23-B23),(F23-E23)) -> 0
A24: 44949 | D24: =+C24-B24 -> 0 | G24: =+F24-E24 -> 0 | H24: =SUM((C24-B24),(F24-E24)) -> 0
A25: 44950 | B25: 8.5 | C25: 12 | D25: =+C25-B25 -> 3.5 | E25: 13.5 | F25: 17 | G25: =+F25-E25 -> 3.5 | H25: =SUM((C25-B25),(F25-E25)) -> 7
A26: 44951 | B26: 9 | C26: 12 | D26: =+C26-B26 -> 3 | E26: 13.5 | F26: 17.5 | G26: =+F26-E26 -> 4 | H26: =SUM((C26-B26),(F26-E26)) -> 7
A27: 44952 | B27: 8.5 | C27: 12 | D27: =+C27-B27 -> 3.5 | G27: =+F27-E27 -> 0 | H27: =SUM((C27-B27),(F27-E27)) -> 3.5
A28: 44953 | B28: 8.5 | C28: 12.5 | D28: =+C28-B28 -> 4 | E28: 13.5 | F28: 16.5 | G28: =+F28-E28 -> 3 | H28: =SUM((C28-B28),(F28-E28)) -> 7
A29: 44954 | H29: =SUM((C29-B29),(F29-E29)) -> 0
A30: 44955 | H30: =SUM((C30-B30),(F30-E30)) -> 0
A31: 44956 | B31: 9 | C31: 12.5 | D31: =+C31-B31 -> 3.5 | E31: 14 | F31: 17 | G31: =+F31-E31 -> 3 | H31: =SUM((C31-B31),(F31-E31)) -> 6.5
A32: 44957 | B32: 8.5 | C32: 10 | D32: =+C32-B32 -> 1.5 | E32: 13.5 | F32: 17.5 | G32: =+F32-E32 -> 4 | H32: =SUM((C32-B32),(F32-E32)) -> 5.5
A33: 44958 | B33: 8.5 | C33: 12.5 | D33: =+C33-B33 -> 4 | E33: 14 | F33: 17 | G33: =+F33-E33 -> 3 | H33: =SUM((C33-B33),(F33-E33)) -> 7
A34: 44959 | B34: 8.5 | C34: 12 | D34: =+C34-B34 -> 3.5 | E34: 13.5 | F34: 18 | G34: =+F34-E34 -> 4.5 | H34: =SUM((C34-B34),(F34-E34)) -> 8
A35: 44960 | B35: 9 | C35: 12.5 | D35: =+C35-B35 -> 3.5 | E35: 13.5 | F35: 17 | G35: =+F35-E35 -> 3.5 | H35: =SUM((C35-B35),(F35-E35)) -> 7
A36: 44961 | H36: =SUM((C36-B36),(F36-E36)) -> 0
A37: 44962 | H37: =SUM((C37-B37),(F37-E37)) -> 0
A38: 44963 | B38: 8.5 | C38: 12 | D38: =+C38-B38 -> 3.5 | E38: 13 | F38: 17 | G38: =+F38-E38 -> 4 | H38: =SUM((C38-B38),(F38-E38)) -> 7.5
A39: 44964 | B39: 8.5 | C39: 10 | D39: =+C39-B39 -> 1.5 | E39: 13.5 | F39: 17 | G39: =+F39-E39 -> 3.5 | H39: =SUM((C39-B39),(F39-E39)) -> 5
A40: 44965 | B40: 8.5 | C40: 12.5 | D40: =+C40-B40 -> 4 | E40: 13.5 | F40: 17.5 | G40: =+F40-E40 -> 4 | H40: =SUM((C40-B40),(F40-E40)) -> 8
...

Sheet Feuil3
A1: semaine1 | B1: =SUM('Horaires 2023'!H3:H9) -> 35 | E1: {=SUM(_xlfn._xlws.FILTER('Horaires 2023'!$H$2:$H$366,_xlfn.ISOWEEKNUM('Horaires 2023'!$A$2:$A$366)=SUBSTITUTE(A1,"semaine","")*1))} -> 35
A2: semaine2 | B2: =SUM('Horaires 2023'!H10:H16) -> 35 | E2: {=SUM(_xlfn._xlws.FILTER('Horaires 2023'!$H$2:$H$366,_xlfn.ISOWEEKNUM('Horaires 2023'!$A$2:$A$366)=SUBSTITUTE(A2,"semaine","")*1))} -> 35
A3: semaine3 | B3: =SUM('Horaires 2023'!H11:H17) -> 34.5 | E3: {=SUM(_xlfn._xlws.FILTER('Horaires 2023'!$H$2:$H$366,_xlfn.ISOWEEKNUM('Horaires 2023'!$A$2:$A$366)=SUBSTITUTE(A3,"semaine","")*1))} -> 33
A4: semaine4 | B4: =SUM('Horaires 2023'!H12:H18) -> 34.5 | E4: {=SUM(_xlfn._xlws.FILTER('Horaires 2023'!$H$2:$H$366,_xlfn.ISOWEEKNUM('Horaires 2023'!$A$2:$A$366)=SUBSTITUTE(A4,"semaine","")*1))} -> 24.5
A5: semaine5 | B5: =SUM('Horaires 2023'!H13:H19) -> 35 | E5: {=SUM(_xlfn._xlws.FILTER('Horaires 2023'!$H$2:$H$366,_xlfn.ISOWEEKNUM('Horaires 2023'!$A$2:$A$366)=SUBSTITUTE(A5,"semaine","")*1))} -> 34
A6: semaine6 | B6: =SUM('Horaires 2023'!H14:H20) -> 33 | E6: {=SUM(_xlfn._xlws.FILTER('Horaires 2023'!$H$2:$H$366,_xlfn.ISOWEEKNUM('Horaires 2023'!$A$2:$A$366)=SUBSTITUTE(A6,"semaine","")*1))} -> 27.5
A7: semaine7 | E7: {=SUM(_xlfn._xlws.FILTER('Horaires 2023'!$H$2:$H$366,_xlfn.ISOWEEKNUM('Horaires 2023'!$A$2:$A$366)=SUBSTITUTE(A7,"semaine","")*1))} -> 47
A8: semaine8 | E8: {=SUM(_xlfn._xlws.FILTER('Horaires 2023'!$H$2:$H$366,_xlfn.ISOWEEKNUM('Horaires 2023'!$A$2:$A$366)=SUBSTITUTE(A8,"semaine","")*1))} -> 38
A9: semaine9 | E9: {=SUM(_xlfn._xlws.FILTER('Horaires 2023'!$H$2:$H$366,_xlfn.ISOWEEKNUM('Horaires 2023'!$A$2:$A$366)=SUBSTITUTE(A9,"semaine","")*1))} -> 47
A10: semaine10 | E10: {=SUM(_xlfn._xlws.FILTER('Horaires 2023'!$H$2:$H$366,_xlfn.ISOWEEKNUM('Horaires 2023'!$A$2:$A$366)=SUBSTITUTE(A10,"semaine","")*1))} -> 28
A11: semaine11 | E11: {=SUM(_xlfn._xlws.FILTER('Horaires 2023'!$H$2:$H$366,_xlfn.ISOWEEKNUM('Horaires 2023'!$A$2:$A$366)=SUBSTITUTE(A11,"semaine","")*1))} -> 35
A12: semaine12 | E12: {=SUM(_xlfn._xlws.FILTER('Horaires 2023'!$H$2:$H$366,_xlfn.ISOWEEKNUM('Horaires 2023'!$A$2:$A$366)=SUBSTITUTE(A12,"semaine","")*1))} -> 33.5
A13: semaine13 | E13: {=SUM(_xlfn._xlws.FILTER('Horaires 2023'!$H$2:$H$366,_xlfn.ISOWEEKNUM('Horaires 2023'!$A$2:$A$366)=SUBSTITUTE(A13,"semaine","")*1))} -> 32.5
A14: semaine14 | E14: {=SUM(_xlfn._xlws.FILTER('Horaires 2023'!$H$2:$H$366,_xlfn.ISOWEEKNUM('Horaires 2023'!$A$2:$A$366)=SUBSTITUTE(A14,"semaine","")*1))} -> 49.5
A15: semaine15 | E15: {=SUM(_xlfn._xlws.FILTER('Horaires 2023'!$H$2:$H$366,_xlfn.ISOWEEKNUM('Horaires 2023'!$A$2:$A$366)=SUBSTITUTE(A15,"semaine","")*1))} -> 35
A16: semaine16 | E16: {=SUM(_xlfn._xlws.FILTER('Horaires 2023'!$H$2:$H$366,_xlfn.ISOWEEKNUM('Horaires 2023'!$A$2:$A$366)=SUBSTITUTE(A16,"semaine","")*1))} -> 38
A17: semaine17 | E17: {=SUM(_xlfn._xlws.FILTER('Horaires 2023'!$H$2:$H$366,_xlfn.ISOWEEKNUM('Horaires 2023'!$A$2:$A$366)=SUBSTITUTE(A17,"semaine","")*1))} -> 41.5
A18: semaine18 | E18: {=SUM(_xlfn._xlws.FILTER('Horaires 2023'!$H$2:$H$366,_xlfn.ISOWEEKNUM('Horaires 2023'!$A$2:$A$366)=SUBSTITUTE(A18,"semaine","")*1))} -> 36
... A52: semaine52 | E52: {=SUM(_xlfn._xlws.FILTER('Horaires 2023'!$H$2:$H$366,_xlfn.ISOWEEKNUM('Horaires 2023'!$A$2:$A$366)=SUBSTITUTE(A52,"semaine","")*1))} -> 0
