Workbook

Sheet résultat
A1: Nombre | B1: petit | C1: faible | D1: gros | E1: grand | F1: puissant | G1: mince
A2: 12345 | B2: =COUNTIFS(base!$A$2:$A$10,$A2,base!$B$2:$B$10,B$1) -> 1 | C2: =COUNTIFS(base!$A$2:$A$10,$A2,base!$B$2:$B$10,C$1) -> 0 | D2: =COUNTIFS(base!$A$2:$A$10,$A2,base!$B$2:$B$10,D$1) -> 1 | E2: =COUNTIFS(base!$A$2:$A$10,$A2,base!$B$2:$B$10,E$1) -> 0 | F2: =COUNTIFS(base!$A$2:$A$10,$A2,base!$B$2:$B$10,F$1) -> 0 | G2: =COUNTIFS(base!$A$2:$A$10,$A2,base!$B$2:$B$10,G$1) -> 1
A3: 67890 | B3: =COUNTIFS(base!$A$2:$A$10,$A3,base!$B$2:$B$10,B$1) -> 0 | C3: =COUNTIFS(base!$A$2:$A$10,$A3,base!$B$2:$B$10,C$1) -> 1 | D3: =COUNTIFS(base!$A$2:$A$10,$A3,base!$B$2:$B$10,D$1) -> 0 | E3: =COUNTIFS(base!$A$2:$A$10,$A3,base!$B$2:$B$10,E$1) -> 0 | F3: =COUNTIFS(base!$A$2:$A$10,$A3,base!$B$2:$B$10,F$1) -> 0 | G3: =COUNTIFS(base!$A$2:$A$10,$A3,base!$B$2:$B$10,G$1) -> 0
A4: 98765 | B4: =COUNTIFS(base!$A$2:$A$10,$A4,base!$B$2:$B$10,B$1) -> 2 | C4: =COUNTIFS(base!$A$2:$A$10,$A4,base!$B$2:$B$10,C$1) -> 1 | D4: =COUNTIFS(base!$A$2:$A$10,$A4,base!$B$2:$B$10,D$1) -> 0 | E4: =COUNTIFS(base!$A$2:$A$10,$A4,base!$B$2:$B$10,E$1) -> 1 | F4: =COUNTIFS(base!$A$2:$A$10,$A4,base!$B$2:$B$10,F$1) -> 1 | G4: =COUNTIFS(base!$A$2:$A$10,$A4,base!$B$2:$B$10,G$1) -> 0
A5: 12345 | B5: =COUNTIFS(base!$A$2:$A$10,$A5,base!$B$2:$B$10,B$1) -> 1 | C5: =COUNTIFS(base!$A$2:$A$10,$A5,base!$B$2:$B$10,C$1) -> 0 | D5: =COUNTIFS(base!$A$2:$A$10,$A5,base!$B$2:$B$10,D$1) -> 1 | E5: =COUNTIFS(base!$A$2:$A$10,$A5,base!$B$2:$B$10,E$1) -> 0 | F5: =COUNTIFS(base!$A$2:$A$10,$A5,base!$B$2:$B$10,F$1) -> 0 | G5: =COUNTIFS(base!$A$2:$A$10,$A5,base!$B$2:$B$10,G$1) -> 1
A6: 98765 | B6: =COUNTIFS(base!$A$2:$A$10,$A6,base!$B$2:$B$10,B$1) -> 2 | C6: =COUNTIFS(base!$A$2:$A$10,$A6,base!$B$2:$B$10,C$1) -> 1 | D6: =COUNTIFS(base!$A$2:$A$10,$A6,base!$B$2:$B$10,D$1) -> 0 | E6: =COUNTIFS(base!$A$2:$A$10,$A6,base!$B$2:$B$10,E$1) -> 1 | F6: =COUNTIFS(base!$A$2:$A$10,$A6,base!$B$2:$B$10,F$1) -> 1 | G6: =COUNTIFS(base!$A$2:$A$10,$A6,base!$B$2:$B$10,G$1) -> 0
A7: 98765 | B7: =COUNTIFS(base!$A$2:$A$10,$A7,base!$B$2:$B$10,B$1) -> 2 | C7: =COUNTIFS(base!$A$2:$A$10,$A7,base!$B$2:$B$10,C$1) -> 1 | D7: =COUNTIFS(base!$A$2:$A$10,$A7,base!$B$2:$B$10,D$1) -> 0 | E7: =COUNTIFS(base!$A$2:$A$10,$A7,base!$B$2:$B$10,E$1) -> 1 | F7: =COUNTIFS(base!$A$2:$A$10,$A7,base!$B$2:$B$10,F$1) -> 1 | G7: =COUNTIFS(base!$A$2:$A$10,$A7,base!$B$2:$B$10,G$1) -> 0
A8: 12345 | B8: =COUNTIFS(base!$A$2:$A$10,$A8,base!$B$2:$B$10,B$1) -> 1 | C8: =COUNTIFS(base!$A$2:$A$10,$A8,base!$B$2:$B$10,C$1) -> 0 | D8: =COUNTIFS(base!$A$2:$A$10,$A8,base!$B$2:$B$10,D$1) -> 1 | E8: =COUNTIFS(base!$A$2:$A$10,$A8,base!$B$2:$B$10,E$1) -> 0 | F8: =COUNTIFS(base!$A$2:$A$10,$A8,base!$B$2:$B$10,F$1) -> 0 | G8: =COUNTIFS(base!$A$2:$A$10,$A8,base!$B$2:$B$10,G$1) -> 1

Sheet base
A1: Nombre | B1: valeur
A2: 12345 | B2: petit
A3: 67890 | B3: faible
A4: 98765 | B4: petit
A5: 12345 | B5: gros
A6: 98765 | B6: grand
A7: 98765 | B7: puissant
A8: 12345 | B8: mince
A9: 98765 | B9: petit
A10: 98765 | B10: faible
