Workbook
Name CheminFichier1: Paramètres!$C$6
Name CheminFichier2: Paramètres!$C$4
Name DateInscr: OFFSET(Source2!$C$1,1,,COUNTA(Source2!$B:$B)-1,1)
Name DateInscr: OFFSET(Sourcetest!$C$1,1,,COUNTA(Sourcetest!$B:$B)-1,1)
Name Données: OFFSET(Source2!$A$1,,,COUNTA(Source2!$B:$B),COUNTA(Source2!$1:$1)-1)
Name Données: OFFSET(Sourcetest!$G$1,,,COUNTA(Sourcetest!$B:$B),COUNTA(Sourcetest!$1:$1)-1)
Name ListeNumeros: OFFSET(Source2!$B$1,1,,COUNTA(Source2!$B:$B)-1,1)
Name ListeNumeros: OFFSET(Sourcetest!$B$1,1,,COUNTA(Sourcetest!$B:$B)-1,1)

Sheet Paramètres
C4: F:\USB\_TEMP\Badjess\source2.xlsx
C6: F:\USB\_TEMP\Badjess\sourcetest.xlsx

Sheet Power Query
B2: Buméros manquants dans Source2 :
B4: Column1 | C4: Numéro d'appel
B5: Escale | C5: 73008
B6: Numéro libre | C6: 73034
B7: Escale | C7: 73065
B8: Numéro libre | C8: 73103
B9: Numéro libre | C9: 73114
B10: Numéro libre | C10: 73526
B11: Numéro libre | C11: 73534
B12: Escale | C12: 73541
B13: Escale | C13: 74747
B14: Escale | C14: 74753
B15: Escale | C15: 74861
B16: Escale | C16: 74862
... B31: Escale | C31: 74877

Sheet Feuil1

Sheet Sourcetest
B1: Numéro d'appel | C1: Date dernière inscription | D1: Inscrit ? | E1: Service ancien | F1: Entité | G1: Service
A2: Numéro libre | B2: 73000 | H2: =IF(ISERROR(_xlfn.XMATCH(B2,Source2!B2:B3001,0)),"A supprimer","")
A3: Numéro libre | B3: 73001 | H3: =IF(ISERROR(_xlfn.XMATCH(B3,Source2!B3:B3002,0)),"A supprimer","")
A4: divers | B4: 73002 | H4: =IF(ISERROR(_xlfn.XMATCH(B4,Source2!B4:B3003,0)),"A supprimer","")
A5: divers | B5: 73003 | H5: =IF(ISERROR(_xlfn.XMATCH(B5,Source2!B5:B3004,0)),"A supprimer","")
A6: divers | B6: 73004 | H6: =IF(ISERROR(_xlfn.XMATCH(B6,Source2!B6:B3005,0)),"A supprimer","")
A7: divers | B7: 73005 | H7: =IF(ISERROR(_xlfn.XMATCH(B7,Source2!B7:B3006,0)),"A supprimer","")
A8: divers | B8: 73006 | H8: =IF(ISERROR(_xlfn.XMATCH(B8,Source2!B8:B3007,0)),"A supprimer","")
A9: divers | B9: 73007 | H9: =IF(ISERROR(_xlfn.XMATCH(B9,Source2!B9:B3008,0)),"A supprimer","")
A10: Escale | B10: 73008 | H10: =IF(ISERROR(_xlfn.XMATCH(B10,Source2!B10:B3009,0)),"A supprimer","") -> A supprimer
A11: Numéro libre | B11: 73009 | H11: =IF(ISERROR(_xlfn.XMATCH(B11,Source2!B11:B3010,0)),"A supprimer","")
A12: divers | B12: 73010 | H12: =IF(ISERROR(_xlfn.XMATCH(B12,Source2!B12:B3011,0)),"A supprimer","")
A13: divers | B13: 73011 | H13: =IF(ISERROR(_xlfn.XMATCH(B13,Source2!B13:B3012,0)),"A supprimer","")
... A3001: Numéro libre | B3001: 75999 | H3001: =IF(ISERROR(_xlfn.XMATCH(B3001,Source2!B3001:B6000,0)),"A supprimer","")

Sheet Source2
A1: Service | B1: Numéro d'appel | C1: Nom de l'opérateur | D1: provenace | E1: Entité | F1: Pôle
A2: Numéro libre | B2: 73000
A3: Numéro libre | B3: 73001
A4: divers | B4: 73002
A5: divers | B5: 73003
A6: divers | B6: 73004
A7: divers | B7: 73005
A8: divers | B8: 73006
A9: divers | B9: 73007
A10: Escale | B10: 77999
A11: Numéro libre | B11: 73009
A12: divers | B12: 73010
A13: divers | B13: 73011
... A104: Escale | B104: 73102
A105: Numéro libre
A106: Escale | B106: 73104
A107: Escale | B107: 73105
A108: Numéro libre | B108: 73106
A109: Numéro libre | B109: 73107
A110: Escale | B110: 73108
A111: Escale | B111: 73109
A112: Escale | B112: 73110
A113: Numéro libre | B113: 73111
A114: Numéro libre | B114: 73112
A115: Escale | B115: 73113
A116: Numéro libre
A117: Escale | B117: 73115
A118: Escale | B118: 73116
A119: Escale | B119: 73117
A120: Escale | B120: 73118
A121: Numéro libre | B121: 73119
A122: Numéro libre | B122: 73120
A123: Numéro libre | B123: 73121
A124: Numéro libre | B124: 73122
A125: Numéro libre | B125: 73123
A126: Numéro libre | B126: 73124
A127: Numéro libre | B127: 73125
A128: Escale | B128: 73126
... A527: Numéro libre | B527: 73525
A528: Numéro libre
A529: Escale | B529: 73527
A530: Escale | B530: 73528
A531: Escale | B531: 73529
A532: Escale | B532: 73530
A533: Numéro libre | B533: 73531
A534: Numéro libre | B534: 73532
A535: Escale | B535: 73533
A536: Numéro libre
A537: Escale | B537: 73535
A538: Escale | B538: 73536
A539: Numéro libre | B539: 73537
A540: Escale | B540: 73538
A541: Escale | B541: 73539
A542: Escale | B542: 73540
A543: Escale
A544: Escale | B544: 73542
A545: Escale | B545: 73543
A546: Numéro libre | B546: 73544
A547: Escale | B547: 73545
A548: Escale | B548: 73546
A549: Escale | B549: 73547
A550: Numéro libre | B550: 73548
A551: Escale | B551: 73549
A552: Escale | B552: 73550
A553: Escale | B553: 73551
A554: Numéro libre | B554: 73552
A555: Escale | B555: 73553
... A1748: Escale | B1748: 74746
A1749: Escale
A1750: Escale | B1750: 74748
A1751: Escale | B1751: 74749
A1752: Escale | B1752: 74750
A1753: Escale | B1753: 74751
A1754: Numéro libre | B1754: 74752
A1755: Escale
A1756: Escale | B1756: 74754
A1757: Escale | B1757: 74755
A1758: Numéro libre | B1758: 74756
A1759: Escale | B1759: 74757
A1760: Escale | B1760: 74758
A1761: Numéro libre | B1761: 74759
A1762: Escale | B1762: 74760
A1763: Escale | B1763: 74761
A1764: Escale | B1764: 74762
A1765: Escale | B1765: 74763
A1766: Escale | B1766: 74764
A1767: Escale | B1767: 74765
... A3001: Numéro libre | B3001: 75999
