Workbook
Name BDD: 'BDD-SIEGE'!$A$1:$D$4

Sheet Fichier
A1: HOTEL | B1: REGION | C1: Ouvert/Fermé | D1: ADRESSE | E1: RESPONSABLE | F1: ETC… | G1: PMS | H1: FIBRE | I1: FW
A2: H1234 | B2: A | C2: {=_xlfn.XLOOKUP($A2,'BDD-SIEGE'!$A$2:$A$7,INDEX('BDD-SIEGE'!$A$2:$H$7,,_xlfn.XMATCH(C$1,'BDD-SIEGE'!$A$1:$H$1,0)),"--",0)} -> Oui | D2: {=_xlfn.XLOOKUP($A2,'BDD-SIEGE'!$A$2:$A$7,INDEX('BDD-SIEGE'!$A$2:$H$7,,_xlfn.XMATCH(D$1,'BDD-SIEGE'!$A$1:$H$1,0)),"--",0)} -> 3 rue | E2: {=_xlfn.XLOOKUP($A2,'BDD-SIEGE'!$A$2:$A$7,INDEX('BDD-SIEGE'!$A$2:$H$7,,_xlfn.XMATCH(E$1,'BDD-SIEGE'!$A$1:$H$1,0)),"--",0)} -> Julien | F2: {=_xlfn.XLOOKUP($A2,'BDD-SIEGE'!$A$2:$A$7,INDEX('BDD-SIEGE'!$A$2:$H$7,,_xlfn.XMATCH(F$1,'BDD-SIEGE'!$A$1:$H$1,0)),"--",0)} -> 0 | G2: {=_xlfn.XLOOKUP($A2,'BDD-SIEGE'!$A$2:$A$7,INDEX('BDD-SIEGE'!$A$2:$H$7,,_xlfn.XMATCH(G$1,'BDD-SIEGE'!$A$1:$H$1,0)),"--",0)} -> OPERA | H2: {=_xlfn.XLOOKUP($A2,'BDD-SIEGE'!$A$2:$A$7,INDEX('BDD-SIEGE'!$A$2:$H$7,,_xlfn.XMATCH(H$1,'BDD-SIEGE'!$A$1:$H$1,0)),"--",0)} -> 1 | I2: {=_xlfn.XLOOKUP($A2,'BDD-SIEGE'!$A$2:$A$7,INDEX('BDD-SIEGE'!$A$2:$H$7,,_xlfn.XMATCH(I$1,'BDD-SIEGE'!$A$1:$H$1,0)),"--",0)} -> 1
A3: H4321 | B3: A | C3: {=_xlfn.XLOOKUP($A3,'BDD-SIEGE'!$A$2:$A$7,INDEX('BDD-SIEGE'!$A$2:$H$7,,_xlfn.XMATCH(C$1,'BDD-SIEGE'!$A$1:$H$1,0)),"--",0)} -> Oui | D3: {=_xlfn.XLOOKUP($A3,'BDD-SIEGE'!$A$2:$A$7,INDEX('BDD-SIEGE'!$A$2:$H$7,,_xlfn.XMATCH(D$1,'BDD-SIEGE'!$A$1:$H$1,0)),"--",0)} -> 4 rue | E3: {=_xlfn.XLOOKUP($A3,'BDD-SIEGE'!$A$2:$A$7,INDEX('BDD-SIEGE'!$A$2:$H$7,,_xlfn.XMATCH(E$1,'BDD-SIEGE'!$A$1:$H$1,0)),"--",0)} -> Coline | F3: {=_xlfn.XLOOKUP($A3,'BDD-SIEGE'!$A$2:$A$7,INDEX('BDD-SIEGE'!$A$2:$H$7,,_xlfn.XMATCH(F$1,'BDD-SIEGE'!$A$1:$H$1,0)),"--",0)} -> 0 | G3: {=_xlfn.XLOOKUP($A3,'BDD-SIEGE'!$A$2:$A$7,INDEX('BDD-SIEGE'!$A$2:$H$7,,_xlfn.XMATCH(G$1,'BDD-SIEGE'!$A$1:$H$1,0)),"--",0)} -> FOLS | H3: {=_xlfn.XLOOKUP($A3,'BDD-SIEGE'!$A$2:$A$7,INDEX('BDD-SIEGE'!$A$2:$H$7,,_xlfn.XMATCH(H$1,'BDD-SIEGE'!$A$1:$H$1,0)),"--",0)} -> 0 | I3: {=_xlfn.XLOOKUP($A3,'BDD-SIEGE'!$A$2:$A$7,INDEX('BDD-SIEGE'!$A$2:$H$7,,_xlfn.XMATCH(I$1,'BDD-SIEGE'!$A$1:$H$1,0)),"--",0)} -> 0
A4: HBCDE | B4: A | C4: {=_xlfn.XLOOKUP($A4,'BDD-SIEGE'!$A$2:$A$7,INDEX('BDD-SIEGE'!$A$2:$H$7,,_xlfn.XMATCH(C$1,'BDD-SIEGE'!$A$1:$H$1,0)),"--",0)} -> Non | D4: {=_xlfn.XLOOKUP($A4,'BDD-SIEGE'!$A$2:$A$7,INDEX('BDD-SIEGE'!$A$2:$H$7,,_xlfn.XMATCH(D$1,'BDD-SIEGE'!$A$1:$H$1,0)),"--",0)} -> 5 rue | E4: {=_xlfn.XLOOKUP($A4,'BDD-SIEGE'!$A$2:$A$7,INDEX('BDD-SIEGE'!$A$2:$H$7,,_xlfn.XMATCH(E$1,'BDD-SIEGE'!$A$1:$H$1,0)),"--",0)} -> Philippe | F4: {=_xlfn.XLOOKUP($A4,'BDD-SIEGE'!$A$2:$A$7,INDEX('BDD-SIEGE'!$A$2:$H$7,,_xlfn.XMATCH(F$1,'BDD-SIEGE'!$A$1:$H$1,0)),"--",0)} -> 0 | G4: {=_xlfn.XLOOKUP($A4,'BDD-SIEGE'!$A$2:$A$7,INDEX('BDD-SIEGE'!$A$2:$H$7,,_xlfn.XMATCH(G$1,'BDD-SIEGE'!$A$1:$H$1,0)),"--",0)} -> Mews | H4: {=_xlfn.XLOOKUP($A4,'BDD-SIEGE'!$A$2:$A$7,INDEX('BDD-SIEGE'!$A$2:$H$7,,_xlfn.XMATCH(H$1,'BDD-SIEGE'!$A$1:$H$1,0)),"--",0)} -> 1 | I4: {=_xlfn.XLOOKUP($A4,'BDD-SIEGE'!$A$2:$A$7,INDEX('BDD-SIEGE'!$A$2:$H$7,,_xlfn.XMATCH(I$1,'BDD-SIEGE'!$A$1:$H$1,0)),"--",0)} -> 1
A5: HXXXX | B5: A | C5: {=_xlfn.XLOOKUP($A5,'BDD-SIEGE'!$A$2:$A$7,INDEX('BDD-SIEGE'!$A$2:$H$7,,_xlfn.XMATCH(C$1,'BDD-SIEGE'!$A$1:$H$1,0)),"--",0)} -> Oui | D5: {=_xlfn.XLOOKUP($A5,'BDD-SIEGE'!$A$2:$A$7,INDEX('BDD-SIEGE'!$A$2:$H$7,,_xlfn.XMATCH(D$1,'BDD-SIEGE'!$A$1:$H$1,0)),"--",0)} -> 6 rue | E5: {=_xlfn.XLOOKUP($A5,'BDD-SIEGE'!$A$2:$A$7,INDEX('BDD-SIEGE'!$A$2:$H$7,,_xlfn.XMATCH(E$1,'BDD-SIEGE'!$A$1:$H$1,0)),"--",0)} -> Aurelie | F5: {=_xlfn.XLOOKUP($A5,'BDD-SIEGE'!$A$2:$A$7,INDEX('BDD-SIEGE'!$A$2:$H$7,,_xlfn.XMATCH(F$1,'BDD-SIEGE'!$A$1:$H$1,0)),"--",0)} -> 0 | G5: {=_xlfn.XLOOKUP($A5,'BDD-SIEGE'!$A$2:$A$7,INDEX('BDD-SIEGE'!$A$2:$H$7,,_xlfn.XMATCH(G$1,'BDD-SIEGE'!$A$1:$H$1,0)),"--",0)} -> AUTRES | H5: {=_xlfn.XLOOKUP($A5,'BDD-SIEGE'!$A$2:$A$7,INDEX('BDD-SIEGE'!$A$2:$H$7,,_xlfn.XMATCH(H$1,'BDD-SIEGE'!$A$1:$H$1,0)),"--",0)} -> 0 | I5: {=_xlfn.XLOOKUP($A5,'BDD-SIEGE'!$A$2:$A$7,INDEX('BDD-SIEGE'!$A$2:$H$7,,_xlfn.XMATCH(I$1,'BDD-SIEGE'!$A$1:$H$1,0)),"--",0)} -> 0
A6: ETC… | B6: A | C6: {=_xlfn.XLOOKUP($A6,'BDD-SIEGE'!$A$2:$A$7,INDEX('BDD-SIEGE'!$A$2:$H$7,,_xlfn.XMATCH(C$1,'BDD-SIEGE'!$A$1:$H$1,0)),"--",0)} -> Oui | D6: {=_xlfn.XLOOKUP($A6,'BDD-SIEGE'!$A$2:$A$7,INDEX('BDD-SIEGE'!$A$2:$H$7,,_xlfn.XMATCH(D$1,'BDD-SIEGE'!$A$1:$H$1,0)),"--",0)} -> 7 rue | E6: {=_xlfn.XLOOKUP($A6,'BDD-SIEGE'!$A$2:$A$7,INDEX('BDD-SIEGE'!$A$2:$H$7,,_xlfn.XMATCH(E$1,'BDD-SIEGE'!$A$1:$H$1,0)),"--",0)} -> Justine | F6: {=_xlfn.XLOOKUP($A6,'BDD-SIEGE'!$A$2:$A$7,INDEX('BDD-SIEGE'!$A$2:$H$7,,_xlfn.XMATCH(F$1,'BDD-SIEGE'!$A$1:$H$1,0)),"--",0)} -> 0 | G6: {=_xlfn.XLOOKUP($A6,'BDD-SIEGE'!$A$2:$A$7,INDEX('BDD-SIEGE'!$A$2:$H$7,,_xlfn.XMATCH(G$1,'BDD-SIEGE'!$A$1:$H$1,0)),"--",0)} -> Fols | H6: {=_xlfn.XLOOKUP($A6,'BDD-SIEGE'!$A$2:$A$7,INDEX('BDD-SIEGE'!$A$2:$H$7,,_xlfn.XMATCH(H$1,'BDD-SIEGE'!$A$1:$H$1,0)),"--",0)} -> 0 | I6: {=_xlfn.XLOOKUP($A6,'BDD-SIEGE'!$A$2:$A$7,INDEX('BDD-SIEGE'!$A$2:$H$7,,_xlfn.XMATCH(I$1,'BDD-SIEGE'!$A$1:$H$1,0)),"--",0)} -> 0
A7: ETC… | B7: A | C7: {=_xlfn.XLOOKUP($A7,'BDD-SIEGE'!$A$2:$A$7,INDEX('BDD-SIEGE'!$A$2:$H$7,,_xlfn.XMATCH(C$1,'BDD-SIEGE'!$A$1:$H$1,0)),"--",0)} -> Oui | D7: {=_xlfn.XLOOKUP($A7,'BDD-SIEGE'!$A$2:$A$7,INDEX('BDD-SIEGE'!$A$2:$H$7,,_xlfn.XMATCH(D$1,'BDD-SIEGE'!$A$1:$H$1,0)),"--",0)} -> 7 rue | E7: {=_xlfn.XLOOKUP($A7,'BDD-SIEGE'!$A$2:$A$7,INDEX('BDD-SIEGE'!$A$2:$H$7,,_xlfn.XMATCH(E$1,'BDD-SIEGE'!$A$1:$H$1,0)),"--",0)} -> Justine | F7: {=_xlfn.XLOOKUP($A7,'BDD-SIEGE'!$A$2:$A$7,INDEX('BDD-SIEGE'!$A$2:$H$7,,_xlfn.XMATCH(F$1,'BDD-SIEGE'!$A$1:$H$1,0)),"--",0)} -> 0 | G7: {=_xlfn.XLOOKUP($A7,'BDD-SIEGE'!$A$2:$A$7,INDEX('BDD-SIEGE'!$A$2:$H$7,,_xlfn.XMATCH(G$1,'BDD-SIEGE'!$A$1:$H$1,0)),"--",0)} -> Fols | H7: {=_xlfn.XLOOKUP($A7,'BDD-SIEGE'!$A$2:$A$7,INDEX('BDD-SIEGE'!$A$2:$H$7,,_xlfn.XMATCH(H$1,'BDD-SIEGE'!$A$1:$H$1,0)),"--",0)} -> 0 | I7: {=_xlfn.XLOOKUP($A7,'BDD-SIEGE'!$A$2:$A$7,INDEX('BDD-SIEGE'!$A$2:$H$7,,_xlfn.XMATCH(I$1,'BDD-SIEGE'!$A$1:$H$1,0)),"--",0)} -> 0

Sheet BDD-SIEGE
A1: HOTEL | B1: PMS | C1: FIBRE | D1: FW | E1: Ouvert/Fermé | F1: ADRESSE | G1: RESPONSABLE | H1: ETC…
A2: H1234 | B2: OPERA | C2: 1 | D2: 1 | E2: Oui | F2: 3 rue | G2: Julien
A3: H4321 | B3: FOLS | C3: 0 | D3: 0 | E3: Oui | F3: 4 rue | G3: Coline
A4: HBCDE | B4: Mews | C4: 1 | D4: 1 | E4: Non | F4: 5 rue | G4: Philippe
A5: HXXXX | B5: AUTRES | C5: 0 | D5: 0 | E5: Oui | F5: 6 rue | G5: Aurelie
A6: ETC… | B6: Fols | C6: 0 | D6: 0 | E6: Oui | F6: 7 rue | G6: Justine
A7: ETC… | B7: Opera | C7: 1 | D7: 1 | E7: Oui | F7: 8 rue | G7: bertrand
