Workbook
Name Tab_Aff: OFFSET(Tab_Export,0,MATCH(export!$E$1,export!$A$1:$BC$1,0)-1,,1)
Name Tab_Export: OFFSET(export!$A$1,1,,14,54)

Sheet EXPLICATIONS
E22: Je cherche à faire une formule (INDEX - EQUIV ; RECHERCHEV -X) pour que la valeur trouver soit en rapport avec la ligne et non la colonne, dans l'objectif de ne pas avoir d'effet sur mon tableau "compil" si je rajoute une colonne dans mon tableau"export".
E33: MERCI !!!

Sheet export
A1: Col1 | C1: Obs. | D1: Aff | E1: Affaire | F1: FAI | G1: Pièce | H1: Désignation | I1: N° Plan | J1: Urgence | K1: Qté | L1: Qté Fabr. | M1: Dispo | N1: Qté Rest. | O1: Prix unit. | P1: Montant | Q1: Délai initial | R1: Cycle | S1: Délai/Cycle | T1: Délai client | U1: Ecart/Cycle | V1: Délai interne | W1: Délai ordo. | X1: Délai planning | Y1: Ouverture Affaire | Z1: Etat | AA1: Client | AB1: Nom du Client | AC1: Nbh restant | AD1: Commande | AE1: Commande interne | AF1: Famille (affaire) | AG1: Section | AH1: Représ. 1 | AI1: Représ. 2 | AJ1: @. Liv. | AK1: Poste | AL1: Désignation 2 | AM1: Désignation 3 | AN1: Blocage | AO1: C.A.F | AP1: Typologie | AQ1: Ferme/Prév. | AR1: Date Commande | AS1: N° Devis | AT1: Magasin | AU1: Acheteur | AV1: Approvisionneur | AW1: Préparateur | AX1: Emetteur Commande | AY1: Groupe Financier | AZ1: Pays | BA1: FNC | BB1: Résa.Dispo.Affaire | BC1: Observation interne affaire
A2: 1 | D2: 25753 | E2: 6001 | G2: 800894 | H2: BONBON | I2: MO2012031 | K2: 9 | L2: 9 | N2: 9 | O2: 400 | P2: 500 | Q2: 44926 | R2: 21 | T2: 44926 | V2: 44922 | W2: 44924 | X2: 44924 | Y2: 44918 | Z2: C | AA2: =CONCATENATE(LEFT(AB2,3),"001") -> HAR001 | AB2: HARIBO | AC2: 4 | AD2: 8000201203 | AE2: 351000003 | AO2: MESSI | AQ2: F | AR2: 44918 | AS2: 400400 | AT2: Aucun | AW2: MBAPPE | AX2: MESSI | AZ2: FRANCE
A3: 1 | D3: 25526 | E3: 6002 | G3: 800894 | H3: VOITURE | I3: MO2012032 | K3: 1 | L3: 1 | N3: 1 | O3: =O2*2 -> 800 | P3: 665 | Q3: 44896 | T3: 44967 | V3: 44964 | W3: 44925 | X3: 44925 | Y3: 44896 | Z3: C | AA3: =CONCATENATE(LEFT(AB3,3),"001") -> MER001 | AB3: MERCEDES | AC3: 3 | AD3: 8000201204 | AE3: 351000004 | AO3: RONALDO | AQ3: F | AR3: 44896 | AS3: 400401 | AT3: Aucun | AW3: BENZEMA | AX3: RONALDO | AZ3: FRANCE
A4: 1 | D4: 25527 | E4: 6003 | G4: 800894 | H4: VOITURE | I4: MO2012033 | K4: 1 | L4: 1 | N4: 1 | O4: =O$3*3 -> 2400 | P4: 315 | Q4: 44896 | R4: 34 | S4: 44944 | T4: 44967 | V4: 44964 | W4: 44926 | X4: 44926 | Y4: 44896 | Z4: C | AA4: =CONCATENATE(LEFT(AB4,3),"001") -> MCL001 | AB4: MCLAREN | AC4: 1 | AD4: 8000201205 | AE4: 351000005 | AO4: MESSI | AQ4: F | AR4: 44896 | AS4: 400402 | AT4: Aucun | AW4: MBAPPE | AX4: MESSI | AZ4: FRANCE
A5: 1 | D5: 25529 | E5: 6004 | G5: 800894 | H5: JEU | I5: MO2012034 | K5: 1 | L5: 1 | N5: 1 | O5: =O$3*3 -> 2400 | P5: 175 | Q5: 44896 | T5: 44985 | V5: 44980 | W5: 44927 | X5: 44927 | Y5: 44896 | Z5: C | AA5: =CONCATENATE(LEFT(AB5,3),"001") -> CLU001 | AB5: CLUEDO | AC5: 35 | AD5: 8000201206 | AE5: 351000006 | AO5: RONALDO | AQ5: F | AR5: 44896 | AS5: 400403 | AT5: Aucun | AW5: BENZEMA | AX5: RONALDO | AZ5: FRANCE
A6: 1 | D6: 25528 | E6: 6005 | G6: 800894 | H6: PIECE | I6: MO2012035 | K6: 5 | L6: 5 | N6: 5 | O6: =O$3*3 -> 2400 | P6: 875 | Q6: 44896 | T6: 44985 | V6: 44980 | W6: 44928 | X6: 44928 | Y6: 44896 | Z6: C | AA6: =CONCATENATE(LEFT(AB6,3),"001") -> LEG001 | AB6: LEGO | AC6: 5 | AD6: 8000201207 | AE6: 351000007 | AO6: MESSI | AQ6: F | AR6: 44896 | AS6: 400404 | AT6: Aucun | AW6: MBAPPE | AX6: MESSI | AZ6: FRANCE
A7: 1 | D7: 25406 | E7: 6006 | G7: 800894 | H7: BOUTEILLE | I7: MO2012036 | K7: 3 | L7: 3 | N7: 3 | O7: =O$3*3 -> 2400 | P7: 456 | Q7: 44879 | T7: 44931 | V7: 44928 | W7: 44928 | X7: 44924 | Y7: 44882 | Z7: C | AA7: =CONCATENATE(LEFT(AB7,3),"001") -> COC001 | AB7: COCA COLA | AC7: 53 | AD7: 8000201208 | AE7: 351000008 | AO7: RONALDO | AQ7: F | AR7: 44879 | AS7: 400405 | AT7: Aucun | AW7: BENZEMA | AX7: RONALDO | AZ7: FRANCE
A8: 1 | D8: 25407 | E8: 6007 | G8: 800894 | H8: FIGURINE | I8: MO2012037 | K8: 3 | L8: 3 | N8: 3 | O8: =O$3*3 -> 2400 | P8: 456 | Q8: 44879 | T8: 44931 | V8: 44928 | W8: 44929 | X8: 44924 | Y8: 44882 | Z8: C | AA8: =CONCATENATE(LEFT(AB8,3),"001") -> DAU001 | AB8: DAUPHINO | AC8: 3 | AD8: 8000201209 | AE8: 351000009 | AO8: MESSI | AQ8: F | AR8: 44879 | AS8: 400406 | AT8: Aucun | AW8: MBAPPE | AX8: MESSI | AZ8: FRANCE
A9: 1 | D9: 25347 | E9: 6008 | G9: 800894 | H9: CHAUSSURE | I9: MO2012038 | K9: 1 | L9: 1 | N9: 1 | O9: =O$3*3 -> 2400 | P9: 1640 | Q9: 44879 | R9: 34 | S9: 44925 | T9: 44931 | V9: 44928 | W9: 44931 | X9: 44924 | Y9: 44879 | Z9: C | AA9: =CONCATENATE(LEFT(AB9,3),"001") -> NIK001 | AB9: NIKE | AC9: 5 | AD9: 8000201210 | AE9: 351000010 | AO9: RONALDO | AQ9: F | AR9: 44879 | AS9: 400407 | AT9: Aucun | AW9: BENZEMA | AX9: RONALDO | AZ9: FRANCE
A10: 1 | D10: 25346 | E10: 6009 | G10: 800894 | H10: LACET | I10: MO2012039 | K10: 3 | L10: 3 | N10: 3 | O10: =O$3*3 -> 2400 | P10: 2049 | Q10: 44879 | T10: 44931 | V10: 44928 | W10: 44937 | X10: 44928 | Y10: 44879 | Z10: C | AA10: =CONCATENATE(LEFT(AB10,3),"001") -> NEW001 | AB10: NEW BALANCE | AC10: 3 | AD10: 8000201211 | AE10: 351000011 | AO10: MESSI | AQ10: F | AR10: 44879 | AS10: 400408 | AT10: Aucun | AW10: MBAPPE | AX10: MESSI | AZ10: FRANCE
A11: 1 | D11: 25348 | E11: 6010 | G11: 800894 | H11: CHAUSSURE | I11: MO2012040 | K11: 3 | L11: 3 | N11: 3 | O11: =O$3*3 -> 2400 | P11: 2049 | Q11: 44879 | T11: 44931 | V11: 44928 | W11: 44939 | X11: 44928 | Y11: 44879 | Z11: C | AA11: =CONCATENATE(LEFT(AB11,3),"001") -> ADI001 | AB11: ADIDAS | AC11: 45 | AD11: 8000201212 | AE11: 351000012 | AO11: RONALDO | AQ11: F | AR11: 44879 | AS11: 400409 | AT11: Aucun | AW11: BENZEMA | AX11: RONALDO | AZ11: FRANCE
A12: 1 | D12: 25343 | E12: 6011 | G12: 800894 | H12: BALLON | I12: MO2012041 | K12: 7 | L12: 7 | N12: 3 | O12: =O$3*3 -> 2400 | P12: 545.65 | Q12: 44911 | R12: 21 | S12: 44908 | T12: 44911 | V12: 44908 | W12: 44924 | X12: 44924 | Y12: 44879 | Z12: F | AA12: =CONCATENATE(LEFT(AB12,3),"001") -> PSG001 | AB12: PSG | AC12: 63 | AD12: 8000201213 | AE12: 351000013 | AO12: MESSI | AQ12: F | AR12: 44879 | AS12: 400410 | AT12: Aucun | AW12: MBAPPE | AX12: MESSI | AZ12: FRANCE | BA12: Qualité.ico
A13: 1 | D13: 25341 | E13: 6012 | G13: 800894 | H13: SAC | I13: MO2012042 | K13: 10 | L13: 10 | N13: 12 | O13: =O$3*3 -> 2400 | P13: 779.5 | Q13: 44907 | R13: 21 | S13: 44908 | T13: 44911 | V13: 44908 | W13: 44914 | X13: 44914 | Y13: 44879 | Z13: T | AA13: =CONCATENATE(LEFT(AB13,3),"001") -> LOU001 | AB13: LOUIS VUITTON | AC13: 4 | AD13: 8000201214 | AE13: 351000014 | AO13: RONALDO | AQ13: F | AR13: 44879 | AS13: 400411 | AT13: Aucun | AW13: BENZEMA | AX13: RONALDO | AZ13: FRANCE
A14: 1 | D14: 25342 | E14: 6013 | G14: 800894 | H14: VOITURE | I14: MO2012043 | K14: 40 | L14: 40 | N14: 21 | O14: =O$3*3 -> 2400 | P14: 3118 | Q14: 44911 | R14: 21 | S14: 44908 | T14: 44911 | V14: 44908 | W14: 44910 | X14: 44910 | Y14: 44879 | Z14: T | AA14: =CONCATENATE(LEFT(AB14,3),"001") -> FER001 | AB14: FERRARI | AC14: 4 | AD14: 8000201215 | AE14: 351000015 | AO14: MESSI | AQ14: F | AR14: 44879 | AS14: 400412 | AT14: Aucun | AW14: MBAPPE | AX14: MESSI | AZ14: FRANCE | BA14: Qualité.ico
A15: 1 | D15: 24615 | E15: 6014 | G15: 800894 | H15: VOITURE | I15: MO2012044 | K15: 10 | L15: 10 | N15: 11 | O15: =O$3*3 -> 2400 | P15: 852.6 | Q15: 44837 | R15: 21 | S15: 44844 | T15: 44868 | V15: 44865 | W15: 44882 | X15: 44882 | Y15: 44813 | Z15: T | AA15: =CONCATENATE(LEFT(AB15,3),"001") -> BUG001 | AB15: BUGATTI | AC15: 76 | AD15: 8000201216 | AE15: 351000016 | AO15: RONALDO | AQ15: F | AR15: 44810 | AS15: 400413 | AT15: Aucun | AW15: BENZEMA | AX15: RONALDO | AZ15: FRANCE

Sheet compil
A1: Affaire | B1: Nom du Client | C1: Montant | D1: Qté Rest. | E1: Prix unit. | F1: Délai client | G1: Ouverture Affaire | H1: N° sem | I1: Désignation | J1: Commande interne | K1: C.A.F | L1: Mois
A2: =export!E2 -> 6001 | B2: =IFERROR(INDEX(export!$1:$1048576,MATCH($A2,export!$E:$E,0),MATCH(B$1,export!$1:$1,0)),"") -> HARIBO | C2: =IFERROR(INDEX(export!$1:$1048576,MATCH($A2,export!$E:$E,0),MATCH(C$1,export!$1:$1,0)),"") -> 500 | D2: =IFERROR(INDEX(export!$1:$1048576,MATCH($A2,export!$E:$E,0),MATCH(D$1,export!$1:$1,0)),"") -> 9 | E2: =IFERROR(INDEX(export!$1:$1048576,MATCH($A2,export!$E:$E,0),MATCH(E$1,export!$1:$1,0)),"") -> 400 | F2: =IFERROR(INDEX(export!$1:$1048576,MATCH($A2,export!$E:$E,0),MATCH(F$1,export!$1:$1,0)),"") -> 44926 | G2: =IFERROR(INDEX(export!$1:$1048576,MATCH($A2,export!$E:$E,0),MATCH(G$1,export!$1:$1,0)),"") -> 44918 | H2: =IFERROR(CONCATENATE(TEXT(WEEKNUM(G$2,21),"00"),"/",YEAR(G$2)),"") -> 51/2022 | I2: =IFERROR(INDEX(export!$1:$1048576,MATCH($A2,export!$E:$E,0),MATCH(I$1,export!$1:$1,0)),"") -> BONBON | J2: =IFERROR(INDEX(export!$1:$1048576,MATCH($A2,export!$E:$E,0),MATCH(J$1,export!$1:$1,0)),"") -> 351000003 | K2: =IFERROR(INDEX(export!$1:$1048576,MATCH($A2,export!$E:$E,0),MATCH(K$1,export!$1:$1,0)),"") -> MESSI | L2: =IFERROR(MONTH(G2),"") -> 12
A3: =export!E3 -> 6002 | B3: =IFERROR(INDEX(export!$1:$1048576,MATCH($A3,export!$E:$E,0),MATCH(B$1,export!$1:$1,0)),"") -> MERCEDES | C3: =IFERROR(INDEX(export!$1:$1048576,MATCH($A3,export!$E:$E,0),MATCH(C$1,export!$1:$1,0)),"") -> 665 | D3: =IFERROR(INDEX(export!$1:$1048576,MATCH($A3,export!$E:$E,0),MATCH(D$1,export!$1:$1,0)),"") -> 1 | E3: =IFERROR(INDEX(export!$1:$1048576,MATCH($A3,export!$E:$E,0),MATCH(E$1,export!$1:$1,0)),"") -> 800 | F3: =IFERROR(INDEX(export!$1:$1048576,MATCH($A3,export!$E:$E,0),MATCH(F$1,export!$1:$1,0)),"") -> 44967 | G3: =IFERROR(INDEX(export!$1:$1048576,MATCH($A3,export!$E:$E,0),MATCH(G$1,export!$1:$1,0)),"") -> 44896 | H3: =IFERROR(CONCATENATE(TEXT(WEEKNUM(G$2,21),"00"),"/",YEAR(G$2)),"") -> 51/2022 | I3: =IFERROR(INDEX(export!$1:$1048576,MATCH($A3,export!$E:$E,0),MATCH(I$1,export!$1:$1,0)),"") -> VOITURE | J3: =IFERROR(INDEX(export!$1:$1048576,MATCH($A3,export!$E:$E,0),MATCH(J$1,export!$1:$1,0)),"") -> 351000004 | K3: =IFERROR(INDEX(export!$1:$1048576,MATCH($A3,export!$E:$E,0),MATCH(K$1,export!$1:$1,0)),"") -> RONALDO | L3: =IFERROR(MONTH(G3),"") -> 12
A4: =export!E4 -> 6003 | B4: =IFERROR(INDEX(export!$1:$1048576,MATCH($A4,export!$E:$E,0),MATCH(B$1,export!$1:$1,0)),"") -> MCLAREN | C4: =IFERROR(INDEX(export!$1:$1048576,MATCH($A4,export!$E:$E,0),MATCH(C$1,export!$1:$1,0)),"") -> 315 | D4: =IFERROR(INDEX(export!$1:$1048576,MATCH($A4,export!$E:$E,0),MATCH(D$1,export!$1:$1,0)),"") -> 1 | E4: =IFERROR(INDEX(export!$1:$1048576,MATCH($A4,export!$E:$E,0),MATCH(E$1,export!$1:$1,0)),"") -> 2400 | F4: =IFERROR(INDEX(export!$1:$1048576,MATCH($A4,export!$E:$E,0),MATCH(F$1,export!$1:$1,0)),"") -> 44967 | G4: =IFERROR(INDEX(export!$1:$1048576,MATCH($A4,export!$E:$E,0),MATCH(G$1,export!$1:$1,0)),"") -> 44896 | H4: =IFERROR(CONCATENATE(TEXT(WEEKNUM(G$2,21),"00"),"/",YEAR(G$2)),"") -> 51/2022 | I4: =IFERROR(INDEX(export!$1:$1048576,MATCH($A4,export!$E:$E,0),MATCH(I$1,export!$1:$1,0)),"") -> VOITURE | J4: =IFERROR(INDEX(export!$1:$1048576,MATCH($A4,export!$E:$E,0),MATCH(J$1,export!$1:$1,0)),"") -> 351000005 | K4: =IFERROR(INDEX(export!$1:$1048576,MATCH($A4,export!$E:$E,0),MATCH(K$1,export!$1:$1,0)),"") -> MESSI | L4: =IFERROR(MONTH(G4),"") -> 12
A5: =export!E5 -> 6004 | B5: =IFERROR(INDEX(export!$1:$1048576,MATCH($A5,export!$E:$E,0),MATCH(B$1,export!$1:$1,0)),"") -> CLUEDO | C5: =IFERROR(INDEX(export!$1:$1048576,MATCH($A5,export!$E:$E,0),MATCH(C$1,export!$1:$1,0)),"") -> 175 | D5: =IFERROR(INDEX(export!$1:$1048576,MATCH($A5,export!$E:$E,0),MATCH(D$1,export!$1:$1,0)),"") -> 1 | E5: =IFERROR(INDEX(export!$1:$1048576,MATCH($A5,export!$E:$E,0),MATCH(E$1,export!$1:$1,0)),"") -> 2400 | F5: =IFERROR(INDEX(export!$1:$1048576,MATCH($A5,export!$E:$E,0),MATCH(F$1,export!$1:$1,0)),"") -> 44985 | G5: =IFERROR(INDEX(export!$1:$1048576,MATCH($A5,export!$E:$E,0),MATCH(G$1,export!$1:$1,0)),"") -> 44896 | H5: =IFERROR(CONCATENATE(TEXT(WEEKNUM(G$2,21),"00"),"/",YEAR(G$2)),"") -> 51/2022 | I5: =IFERROR(INDEX(export!$1:$1048576,MATCH($A5,export!$E:$E,0),MATCH(I$1,export!$1:$1,0)),"") -> JEU | J5: =IFERROR(INDEX(export!$1:$1048576,MATCH($A5,export!$E:$E,0),MATCH(J$1,export!$1:$1,0)),"") -> 351000006 | K5: =IFERROR(INDEX(export!$1:$1048576,MATCH($A5,export!$E:$E,0),MATCH(K$1,export!$1:$1,0)),"") -> RONALDO | L5: =IFERROR(MONTH(G5),"") -> 12
A6: =export!E6 -> 6005 | B6: =IFERROR(INDEX(export!$1:$1048576,MATCH($A6,export!$E:$E,0),MATCH(B$1,export!$1:$1,0)),"") -> LEGO | C6: =IFERROR(INDEX(export!$1:$1048576,MATCH($A6,export!$E:$E,0),MATCH(C$1,export!$1:$1,0)),"") -> 875 | D6: =IFERROR(INDEX(export!$1:$1048576,MATCH($A6,export!$E:$E,0),MATCH(D$1,export!$1:$1,0)),"") -> 5 | E6: =IFERROR(INDEX(export!$1:$1048576,MATCH($A6,export!$E:$E,0),MATCH(E$1,export!$1:$1,0)),"") -> 2400 | F6: =IFERROR(INDEX(export!$1:$1048576,MATCH($A6,export!$E:$E,0),MATCH(F$1,export!$1:$1,0)),"") -> 44985 | G6: =IFERROR(INDEX(export!$1:$1048576,MATCH($A6,export!$E:$E,0),MATCH(G$1,export!$1:$1,0)),"") -> 44896 | H6: =IFERROR(CONCATENATE(TEXT(WEEKNUM(G$2,21),"00"),"/",YEAR(G$2)),"") -> 51/2022 | I6: =IFERROR(INDEX(export!$1:$1048576,MATCH($A6,export!$E:$E,0),MATCH(I$1,export!$1:$1,0)),"") -> PIECE | J6: =IFERROR(INDEX(export!$1:$1048576,MATCH($A6,export!$E:$E,0),MATCH(J$1,export!$1:$1,0)),"") -> 351000007 | K6: =IFERROR(INDEX(export!$1:$1048576,MATCH($A6,export!$E:$E,0),MATCH(K$1,export!$1:$1,0)),"") -> MESSI | L6: =IFERROR(MONTH(G6),"") -> 12
A7: =export!E7 -> 6006 | B7: =IFERROR(INDEX(export!$1:$1048576,MATCH($A7,export!$E:$E,0),MATCH(B$1,export!$1:$1,0)),"") -> COCA COLA | C7: =IFERROR(INDEX(export!$1:$1048576,MATCH($A7,export!$E:$E,0),MATCH(C$1,export!$1:$1,0)),"") -> 456 | D7: =IFERROR(INDEX(export!$1:$1048576,MATCH($A7,export!$E:$E,0),MATCH(D$1,export!$1:$1,0)),"") -> 3 | E7: =IFERROR(INDEX(export!$1:$1048576,MATCH($A7,export!$E:$E,0),MATCH(E$1,export!$1:$1,0)),"") -> 2400 | F7: =IFERROR(INDEX(export!$1:$1048576,MATCH($A7,export!$E:$E,0),MATCH(F$1,export!$1:$1,0)),"") -> 44931 | G7: =IFERROR(INDEX(export!$1:$1048576,MATCH($A7,export!$E:$E,0),MATCH(G$1,export!$1:$1,0)),"") -> 44882 | H7: =IFERROR(CONCATENATE(TEXT(WEEKNUM(G$2,21),"00"),"/",YEAR(G$2)),"") -> 51/2022 | I7: =IFERROR(INDEX(export!$1:$1048576,MATCH($A7,export!$E:$E,0),MATCH(I$1,export!$1:$1,0)),"") -> BOUTEILLE | J7: =IFERROR(INDEX(export!$1:$1048576,MATCH($A7,export!$E:$E,0),MATCH(J$1,export!$1:$1,0)),"") -> 351000008 | K7: =IFERROR(INDEX(export!$1:$1048576,MATCH($A7,export!$E:$E,0),MATCH(K$1,export!$1:$1,0)),"") -> RONALDO | L7: =IFERROR(MONTH(G7),"") -> 11
A8: =export!E8 -> 6007 | B8: =IFERROR(INDEX(export!$1:$1048576,MATCH($A8,export!$E:$E,0),MATCH(B$1,export!$1:$1,0)),"") -> DAUPHINO | C8: =IFERROR(INDEX(export!$1:$1048576,MATCH($A8,export!$E:$E,0),MATCH(C$1,export!$1:$1,0)),"") -> 456 | D8: =IFERROR(INDEX(export!$1:$1048576,MATCH($A8,export!$E:$E,0),MATCH(D$1,export!$1:$1,0)),"") -> 3 | E8: =IFERROR(INDEX(export!$1:$1048576,MATCH($A8,export!$E:$E,0),MATCH(E$1,export!$1:$1,0)),"") -> 2400 | F8: =IFERROR(INDEX(export!$1:$1048576,MATCH($A8,export!$E:$E,0),MATCH(F$1,export!$1:$1,0)),"") -> 44931 | G8: =IFERROR(INDEX(export!$1:$1048576,MATCH($A8,export!$E:$E,0),MATCH(G$1,export!$1:$1,0)),"") -> 44882 | H8: =IFERROR(CONCATENATE(TEXT(WEEKNUM(G$2,21),"00"),"/",YEAR(G$2)),"") -> 51/2022 | I8: =IFERROR(INDEX(export!$1:$1048576,MATCH($A8,export!$E:$E,0),MATCH(I$1,export!$1:$1,0)),"") -> FIGURINE | J8: =IFERROR(INDEX(export!$1:$1048576,MATCH($A8,export!$E:$E,0),MATCH(J$1,export!$1:$1,0)),"") -> 351000009 | K8: =IFERROR(INDEX(export!$1:$1048576,MATCH($A8,export!$E:$E,0),MATCH(K$1,export!$1:$1,0)),"") -> MESSI | L8: =IFERROR(MONTH(G8),"") -> 11
A9: =export!E9 -> 6008 | B9: =IFERROR(INDEX(export!$1:$1048576,MATCH($A9,export!$E:$E,0),MATCH(B$1,export!$1:$1,0)),"") -> NIKE | C9: =IFERROR(INDEX(export!$1:$1048576,MATCH($A9,export!$E:$E,0),MATCH(C$1,export!$1:$1,0)),"") -> 1640 | D9: =IFERROR(INDEX(export!$1:$1048576,MATCH($A9,export!$E:$E,0),MATCH(D$1,export!$1:$1,0)),"") -> 1 | E9: =IFERROR(INDEX(export!$1:$1048576,MATCH($A9,export!$E:$E,0),MATCH(E$1,export!$1:$1,0)),"") -> 2400 | F9: =IFERROR(INDEX(export!$1:$1048576,MATCH($A9,export!$E:$E,0),MATCH(F$1,export!$1:$1,0)),"") -> 44931 | G9: =IFERROR(INDEX(export!$1:$1048576,MATCH($A9,export!$E:$E,0),MATCH(G$1,export!$1:$1,0)),"") -> 44879 | H9: =IFERROR(CONCATENATE(TEXT(WEEKNUM(G$2,21),"00"),"/",YEAR(G$2)),"") -> 51/2022 | I9: =IFERROR(INDEX(export!$1:$1048576,MATCH($A9,export!$E:$E,0),MATCH(I$1,export!$1:$1,0)),"") -> CHAUSSURE | J9: =IFERROR(INDEX(export!$1:$1048576,MATCH($A9,export!$E:$E,0),MATCH(J$1,export!$1:$1,0)),"") -> 351000010 | K9: =IFERROR(INDEX(export!$1:$1048576,MATCH($A9,export!$E:$E,0),MATCH(K$1,export!$1:$1,0)),"") -> RONALDO | L9: =IFERROR(MONTH(G9),"") -> 11
A10: =export!E10 -> 6009 | B10: =IFERROR(INDEX(export!$1:$1048576,MATCH($A10,export!$E:$E,0),MATCH(B$1,export!$1:$1,0)),"") -> NEW BALANCE | C10: =IFERROR(INDEX(export!$1:$1048576,MATCH($A10,export!$E:$E,0),MATCH(C$1,export!$1:$1,0)),"") -> 2049 | D10: =IFERROR(INDEX(export!$1:$1048576,MATCH($A10,export!$E:$E,0),MATCH(D$1,export!$1:$1,0)),"") -> 3 | E10: =IFERROR(INDEX(export!$1:$1048576,MATCH($A10,export!$E:$E,0),MATCH(E$1,export!$1:$1,0)),"") -> 2400 | F10: =IFERROR(INDEX(export!$1:$1048576,MATCH($A10,export!$E:$E,0),MATCH(F$1,export!$1:$1,0)),"") -> 44931 | G10: =IFERROR(INDEX(export!$1:$1048576,MATCH($A10,export!$E:$E,0),MATCH(G$1,export!$1:$1,0)),"") -> 44879 | H10: =IFERROR(CONCATENATE(TEXT(WEEKNUM(G$2,21),"00"),"/",YEAR(G$2)),"") -> 51/2022 | I10: =IFERROR(INDEX(export!$1:$1048576,MATCH($A10,export!$E:$E,0),MATCH(I$1,export!$1:$1,0)),"") -> LACET | J10: =IFERROR(INDEX(export!$1:$1048576,MATCH($A10,export!$E:$E,0),MATCH(J$1,export!$1:$1,0)),"") -> 351000011 | K10: =IFERROR(INDEX(export!$1:$1048576,MATCH($A10,export!$E:$E,0),MATCH(K$1,export!$1:$1,0)),"") -> MESSI | L10: =IFERROR(MONTH(G10),"") -> 11
A11: =export!E11 -> 6010 | B11: =IFERROR(INDEX(export!$1:$1048576,MATCH($A11,export!$E:$E,0),MATCH(B$1,export!$1:$1,0)),"") -> ADIDAS | C11: =IFERROR(INDEX(export!$1:$1048576,MATCH($A11,export!$E:$E,0),MATCH(C$1,export!$1:$1,0)),"") -> 2049 | D11: =IFERROR(INDEX(export!$1:$1048576,MATCH($A11,export!$E:$E,0),MATCH(D$1,export!$1:$1,0)),"") -> 3 | E11: =IFERROR(INDEX(export!$1:$1048576,MATCH($A11,export!$E:$E,0),MATCH(E$1,export!$1:$1,0)),"") -> 2400 | F11: =IFERROR(INDEX(export!$1:$1048576,MATCH($A11,export!$E:$E,0),MATCH(F$1,export!$1:$1,0)),"") -> 44931 | G11: =IFERROR(INDEX(export!$1:$1048576,MATCH($A11,export!$E:$E,0),MATCH(G$1,export!$1:$1,0)),"") -> 44879 | H11: =IFERROR(CONCATENATE(TEXT(WEEKNUM(G$2,21),"00"),"/",YEAR(G$2)),"") -> 51/2022 | I11: =IFERROR(INDEX(export!$1:$1048576,MATCH($A11,export!$E:$E,0),MATCH(I$1,export!$1:$1,0)),"") -> CHAUSSURE | J11: =IFERROR(INDEX(export!$1:$1048576,MATCH($A11,export!$E:$E,0),MATCH(J$1,export!$1:$1,0)),"") -> 351000012 | K11: =IFERROR(INDEX(export!$1:$1048576,MATCH($A11,export!$E:$E,0),MATCH(K$1,export!$1:$1,0)),"") -> RONALDO | L11: =IFERROR(MONTH(G11),"") -> 11
A12: =export!E12 -> 6011 | B12: =IFERROR(INDEX(export!$1:$1048576,MATCH($A12,export!$E:$E,0),MATCH(B$1,export!$1:$1,0)),"") -> PSG | C12: =IFERROR(INDEX(export!$1:$1048576,MATCH($A12,export!$E:$E,0),MATCH(C$1,export!$1:$1,0)),"") -> 545.65 | D12: =IFERROR(INDEX(export!$1:$1048576,MATCH($A12,export!$E:$E,0),MATCH(D$1,export!$1:$1,0)),"") -> 3 | E12: =IFERROR(INDEX(export!$1:$1048576,MATCH($A12,export!$E:$E,0),MATCH(E$1,export!$1:$1,0)),"") -> 2400 | F12: =IFERROR(INDEX(export!$1:$1048576,MATCH($A12,export!$E:$E,0),MATCH(F$1,export!$1:$1,0)),"") -> 44911 | G12: =IFERROR(INDEX(export!$1:$1048576,MATCH($A12,export!$E:$E,0),MATCH(G$1,export!$1:$1,0)),"") -> 44879 | H12: =IFERROR(CONCATENATE(TEXT(WEEKNUM(G$2,21),"00"),"/",YEAR(G$2)),"") -> 51/2022 | I12: =IFERROR(INDEX(export!$1:$1048576,MATCH($A12,export!$E:$E,0),MATCH(I$1,export!$1:$1,0)),"") -> BALLON | J12: =IFERROR(INDEX(export!$1:$1048576,MATCH($A12,export!$E:$E,0),MATCH(J$1,export!$1:$1,0)),"") -> 351000013 | K12: =IFERROR(INDEX(export!$1:$1048576,MATCH($A12,export!$E:$E,0),MATCH(K$1,export!$1:$1,0)),"") -> MESSI | L12: =IFERROR(MONTH(G12),"") -> 11
A13: =export!E13 -> 6012 | B13: =IFERROR(INDEX(export!$1:$1048576,MATCH($A13,export!$E:$E,0),MATCH(B$1,export!$1:$1,0)),"") -> LOUIS VUITTON | C13: =IFERROR(INDEX(export!$1:$1048576,MATCH($A13,export!$E:$E,0),MATCH(C$1,export!$1:$1,0)),"") -> 779.5 | D13: =IFERROR(INDEX(export!$1:$1048576,MATCH($A13,export!$E:$E,0),MATCH(D$1,export!$1:$1,0)),"") -> 12 | E13: =IFERROR(INDEX(export!$1:$1048576,MATCH($A13,export!$E:$E,0),MATCH(E$1,export!$1:$1,0)),"") -> 2400 | F13: =IFERROR(INDEX(export!$1:$1048576,MATCH($A13,export!$E:$E,0),MATCH(F$1,export!$1:$1,0)),"") -> 44911 | G13: =IFERROR(INDEX(export!$1:$1048576,MATCH($A13,export!$E:$E,0),MATCH(G$1,export!$1:$1,0)),"") -> 44879 | H13: =IFERROR(CONCATENATE(TEXT(WEEKNUM(G$2,21),"00"),"/",YEAR(G$2)),"") -> 51/2022 | I13: =IFERROR(INDEX(export!$1:$1048576,MATCH($A13,export!$E:$E,0),MATCH(I$1,export!$1:$1,0)),"") -> SAC | J13: =IFERROR(INDEX(export!$1:$1048576,MATCH($A13,export!$E:$E,0),MATCH(J$1,export!$1:$1,0)),"") -> 351000014 | K13: =IFERROR(INDEX(export!$1:$1048576,MATCH($A13,export!$E:$E,0),MATCH(K$1,export!$1:$1,0)),"") -> RONALDO | L13: =IFERROR(MONTH(G13),"") -> 11
... A15: =export!E15 -> 6014 | B15: =IFERROR(INDEX(export!$1:$1048576,MATCH($A15,export!$E:$E,0),MATCH(B$1,export!$1:$1,0)),"") -> BUGATTI | C15: =IFERROR(INDEX(export!$1:$1048576,MATCH($A15,export!$E:$E,0),MATCH(C$1,export!$1:$1,0)),"") -> 852.6 | D15: =IFERROR(INDEX(export!$1:$1048576,MATCH($A15,export!$E:$E,0),MATCH(D$1,export!$1:$1,0)),"") -> 11 | E15: =IFERROR(INDEX(export!$1:$1048576,MATCH($A15,export!$E:$E,0),MATCH(E$1,export!$1:$1,0)),"") -> 2400 | F15: =IFERROR(INDEX(export!$1:$1048576,MATCH($A15,export!$E:$E,0),MATCH(F$1,export!$1:$1,0)),"") -> 44868 | G15: =IFERROR(INDEX(export!$1:$1048576,MATCH($A15,export!$E:$E,0),MATCH(G$1,export!$1:$1,0)),"") -> 44813 | H15: =IFERROR(CONCATENATE(TEXT(WEEKNUM(G$2,21),"00"),"/",YEAR(G$2)),"") -> 51/2022 | I15: =IFERROR(INDEX(export!$1:$1048576,MATCH($A15,export!$E:$E,0),MATCH(I$1,export!$1:$1,0)),"") -> VOITURE | J15: =IFERROR(INDEX(export!$1:$1048576,MATCH($A15,export!$E:$E,0),MATCH(J$1,export!$1:$1,0)),"") -> 351000016 | K15: =IFERROR(INDEX(export!$1:$1048576,MATCH($A15,export!$E:$E,0),MATCH(K$1,export!$1:$1,0)),"") -> RONALDO | L15: =IFERROR(MONTH(G15),"") -> 9
B22: Proposition sur les 3 premières lignes
B24: =INDEX(Tab_Export,MATCH($A2,Tab_Aff,0),MATCH(B$1,export!$A$1:$BC$1,0)) -> HARIBO | C24: =INDEX(Tab_Export,MATCH($A2,Tab_Aff,0),MATCH(C$1,export!$A$1:$BC$1,0)) -> 500 | D24: =INDEX(Tab_Export,MATCH($A2,Tab_Aff,0),MATCH(D$1,export!$A$1:$BC$1,0)) -> 9 | E24: =INDEX(Tab_Export,MATCH($A2,Tab_Aff,0),MATCH(E$1,export!$A$1:$BC$1,0)) -> 400 | F24: =INDEX(Tab_Export,MATCH($A2,Tab_Aff,0),MATCH(F$1,export!$A$1:$BC$1,0)) -> 44926 | G24: =INDEX(Tab_Export,MATCH($A2,Tab_Aff,0),MATCH(G$1,export!$A$1:$BC$1,0)) -> 44918 | I24: =INDEX(Tab_Export,MATCH($A2,Tab_Aff,0),MATCH(I$1,export!$A$1:$BC$1,0)) -> BONBON | J24: =INDEX(Tab_Export,MATCH($A2,Tab_Aff,0),MATCH(J$1,export!$A$1:$BC$1,0)) -> 351000003 | K24: =INDEX(Tab_Export,MATCH($A2,Tab_Aff,0),MATCH(K$1,export!$A$1:$BC$1,0)) -> MESSI
B25: =INDEX(Tab_Export,MATCH($A3,Tab_Aff,0),MATCH(B$1,export!$A$1:$BC$1,0)) -> MERCEDES | C25: =INDEX(Tab_Export,MATCH($A3,Tab_Aff,0),MATCH(C$1,export!$A$1:$BC$1,0)) -> 665 | D25: =INDEX(Tab_Export,MATCH($A3,Tab_Aff,0),MATCH(D$1,export!$A$1:$BC$1,0)) -> 1 | E25: =INDEX(Tab_Export,MATCH($A3,Tab_Aff,0),MATCH(E$1,export!$A$1:$BC$1,0)) -> 800 | F25: =INDEX(Tab_Export,MATCH($A3,Tab_Aff,0),MATCH(F$1,export!$A$1:$BC$1,0)) -> 44967 | G25: =INDEX(Tab_Export,MATCH($A3,Tab_Aff,0),MATCH(G$1,export!$A$1:$BC$1,0)) -> 44896 | I25: =INDEX(Tab_Export,MATCH($A3,Tab_Aff,0),MATCH(I$1,export!$A$1:$BC$1,0)) -> VOITURE | J25: =INDEX(Tab_Export,MATCH($A3,Tab_Aff,0),MATCH(J$1,export!$A$1:$BC$1,0)) -> 351000004 | K25: =INDEX(Tab_Export,MATCH($A3,Tab_Aff,0),MATCH(K$1,export!$A$1:$BC$1,0)) -> RONALDO
B26: =INDEX(Tab_Export,MATCH($A4,Tab_Aff,0),MATCH(B$1,export!$A$1:$BC$1,0)) -> MCLAREN | C26: =INDEX(Tab_Export,MATCH($A4,Tab_Aff,0),MATCH(C$1,export!$A$1:$BC$1,0)) -> 315 | D26: =INDEX(Tab_Export,MATCH($A4,Tab_Aff,0),MATCH(D$1,export!$A$1:$BC$1,0)) -> 1 | E26: =INDEX(Tab_Export,MATCH($A4,Tab_Aff,0),MATCH(E$1,export!$A$1:$BC$1,0)) -> 2400 | F26: =INDEX(Tab_Export,MATCH($A4,Tab_Aff,0),MATCH(F$1,export!$A$1:$BC$1,0)) -> 44967 | G26: =INDEX(Tab_Export,MATCH($A4,Tab_Aff,0),MATCH(G$1,export!$A$1:$BC$1,0)) -> 44896 | I26: =INDEX(Tab_Export,MATCH($A4,Tab_Aff,0),MATCH(I$1,export!$A$1:$BC$1,0)) -> VOITURE | J26: =INDEX(Tab_Export,MATCH($A4,Tab_Aff,0),MATCH(J$1,export!$A$1:$BC$1,0)) -> 351000005 | K26: =INDEX(Tab_Export,MATCH($A4,Tab_Aff,0),MATCH(K$1,export!$A$1:$BC$1,0)) -> MESSI
