Workbook

Sheet Feuil1
A1: CDE027021 | B1: 0 | C1: CDE027021 | D1: 0
A2: CDE027022 | B2: 0 | C2: CDE027022 | D2: 396.08
A3: CDE027023 | B3: 0 | C3: CDE027023 | D3: 0
A4: CDE027024 | B4: 0 | C4: CDE027024 | D4: 0
A5: CDE027025 | B5: 0 | C5: CDE027025 | D5: 0
A6: CDE027026 | B6: 0 | C6: CDE027026 | D6: 0
A7: CDE027027 | B7: 0 | C7: CDE027027 | D7: 0
A8: CDE027028 | B8: 0 | C8: CDE027028 | D8: 0
A9: CDE027029 | B9: 0 | C9: CDE027029 | D9: 0
A10: CDE027030 | B10: 0 | C10: CDE027030 | D10: 0
A11: CDE027031 | B11: 0 | C11: CDE027031 | D11: 1250
A12: CDE027032 | B12: 0 | C12: CDE027032 | D12: 0
... A36: CDE027056 | B36: 0 | C36: CDE027056 | D36: 5108.42

Sheet Feuil2
A1: Numéro de commande | B1: CA
A2: CDE027021 | B2: {=SUMPRODUCT(((Feuil1!$A$1:$A$36=A2)*Feuil1!$B$1:$B$36)+((Feuil1!$C$1:$C$36=A2)*Feuil1!$D$1:$D$36))} -> 0
A3: CDE027022 | B3: {=SUMPRODUCT(((Feuil1!$A$1:$A$36=A3)*Feuil1!$B$1:$B$36)+((Feuil1!$C$1:$C$36=A3)*Feuil1!$D$1:$D$36))} -> 396.08
A4: CDE027023 | B4: {=SUMPRODUCT(((Feuil1!$A$1:$A$36=A4)*Feuil1!$B$1:$B$36)+((Feuil1!$C$1:$C$36=A4)*Feuil1!$D$1:$D$36))} -> 0
A5: CDE027024 | B5: {=SUMPRODUCT(((Feuil1!$A$1:$A$36=A5)*Feuil1!$B$1:$B$36)+((Feuil1!$C$1:$C$36=A5)*Feuil1!$D$1:$D$36))} -> 0
A6: CDE027025 | B6: {=SUMPRODUCT(((Feuil1!$A$1:$A$36=A6)*Feuil1!$B$1:$B$36)+((Feuil1!$C$1:$C$36=A6)*Feuil1!$D$1:$D$36))} -> 0
A7: CDE027026 | B7: {=SUMPRODUCT(((Feuil1!$A$1:$A$36=A7)*Feuil1!$B$1:$B$36)+((Feuil1!$C$1:$C$36=A7)*Feuil1!$D$1:$D$36))} -> 0
A8: CDE027027 | B8: {=SUMPRODUCT(((Feuil1!$A$1:$A$36=A8)*Feuil1!$B$1:$B$36)+((Feuil1!$C$1:$C$36=A8)*Feuil1!$D$1:$D$36))} -> 0
A9: CDE027028 | B9: {=SUMPRODUCT(((Feuil1!$A$1:$A$36=A9)*Feuil1!$B$1:$B$36)+((Feuil1!$C$1:$C$36=A9)*Feuil1!$D$1:$D$36))} -> 0
A10: CDE027029 | B10: {=SUMPRODUCT(((Feuil1!$A$1:$A$36=A10)*Feuil1!$B$1:$B$36)+((Feuil1!$C$1:$C$36=A10)*Feuil1!$D$1:$D$36))} -> 0
A11: CDE027030 | B11: {=SUMPRODUCT(((Feuil1!$A$1:$A$36=A11)*Feuil1!$B$1:$B$36)+((Feuil1!$C$1:$C$36=A11)*Feuil1!$D$1:$D$36))} -> 0
A12: CDE027031 | B12: {=SUMPRODUCT(((Feuil1!$A$1:$A$36=A12)*Feuil1!$B$1:$B$36)+((Feuil1!$C$1:$C$36=A12)*Feuil1!$D$1:$D$36))} -> 1250
A13: CDE027032 | B13: {=SUMPRODUCT(((Feuil1!$A$1:$A$36=A13)*Feuil1!$B$1:$B$36)+((Feuil1!$C$1:$C$36=A13)*Feuil1!$D$1:$D$36))} -> 0
... A37: CDE027056 | B37: {=SUMPRODUCT(((Feuil1!$A$1:$A$36=A37)*Feuil1!$B$1:$B$36)+((Feuil1!$C$1:$C$36=A37)*Feuil1!$D$1:$D$36))} -> 5108.42
