Workbook

Sheet Base horaire
A3: Centre 1 | B3: Centre 2
A4: 0.020138889 | B4: 0.0055555556
A5: 0.028472222 | B5: 0.011111111
A6: 0.074305556 | B6: 0.013888889
A7: 0.077777778 | B7: 0.01875
A8: 0.079861111 | B8: 0.020138889
B9: 0.023611111
B10: 0.028472222
B11: 0.029166667
B12: 0.05625
B13: 0.064583333
B14: 0.073611111
B15: 0.073611111
B16: 0.08125
B17: 0.088194444
B18: 0.10902778
B19: 0.11180556
B20: 0.12291667

Sheet Test
K1: NB.SI('Base horaire'!A4:B300;"<00:15")-NB.SI('Base horaire'!A4:B300;"<00:00")
A2: Plages horaires | C2: Formule simple | D2: Formule LET | F2: NB.SI.ENS('Base horaire'!A4:B300;"<01:45") | G2: NB.SI.ENS('Base horaire'!A4:B300;"<01:45") | H2: différence | K2: NB.SI('Base horaire'!A4:B300;"<00:45")-NB.SI('Base horaire'!A4:B300;"<00:31")
A3: 0 | B3: 0.010416667 | C3: {=COUNT(_xlfn._xlws.FILTER(_xlfn.TOCOL('Base horaire'!$A$4:$B$20,3),(_xlfn.TOCOL('Base horaire'!$A$4:$B$20,3)>=A3)*(_xlfn.TOCOL('Base horaire'!$A$4:$B$20,3)<=B3),""))} -> 1 | D3: {=_xlfn.LET( _xlpm.t_Centres,_xlfn.TOCOL('Base horaire'!A4:B20,3), _xlfn.BYROW(A3:B98,_xlfn.LAMBDA(_xlpm.r,COUNT(_xlfn._xlws.FILTER(_xlpm.t_Centres,(_xlpm.t_Centres>=MIN(_xlpm.r))*(_xlpm.t_Centres<=MAX(_xlpm.r)),"")))) )} -> 1 | F3: =COUNTIF('Base horaire'!A4:B300,"<00:15")-COUNTIF('Base horaire'!A4:B300,"<00:00") -> 1
A4: 0.011111111 | B4: =B3+TIME(0,15,0) -> 0.020833333 | C4: {=COUNT(_xlfn._xlws.FILTER(_xlfn.TOCOL('Base horaire'!$A$4:$B$20,3),(_xlfn.TOCOL('Base horaire'!$A$4:$B$20,3)>=A4)*(_xlfn.TOCOL('Base horaire'!$A$4:$B$20,3)<=B4),""))} -> 5 | D4: 5 | F4: =COUNTIF('Base horaire'!A4:B300,"<00:30")-COUNTIF('Base horaire'!A4:B300,"<00:16") -> 5
A5: =A4+TIME(0,15,0) -> 0.021527778 | B5: =B4+TIME(0,15,0) -> 0.03125 | C5: {=COUNT(_xlfn._xlws.FILTER(_xlfn.TOCOL('Base horaire'!$A$4:$B$20,3),(_xlfn.TOCOL('Base horaire'!$A$4:$B$20,3)>=A5)*(_xlfn.TOCOL('Base horaire'!$A$4:$B$20,3)<=B5),""))} -> 4 | D5: 4 | F5: =COUNTIFS('Base horaire'!A3:B299,"<00:45") -> 10 | G5: =COUNTIFS('Base horaire'!A3:B299,"<00:31") -> 6 | H5: =F5-G5 -> 4
A6: =A5+TIME(0,15,0) -> 0.031944444 | B6: =B5+TIME(0,15,0) -> 0.041666667 | C6: {=COUNT(_xlfn._xlws.FILTER(_xlfn.TOCOL('Base horaire'!$A$4:$B$20,3),(_xlfn.TOCOL('Base horaire'!$A$4:$B$20,3)>=A6)*(_xlfn.TOCOL('Base horaire'!$A$4:$B$20,3)<=B6),""))} -> 0 | D6: 0 | F6: =COUNTIFS('Base horaire'!A4:B300,"<01:00") -> 10 | G6: =COUNTIFS('Base horaire'!A4:B300,"<00:45") -> 10 | H6: =F6-G6 -> 0
A7: =A6+TIME(0,15,0) -> 0.042361111 | B7: =B6+TIME(0,15,0) -> 0.052083333 | C7: {=COUNT(_xlfn._xlws.FILTER(_xlfn.TOCOL('Base horaire'!$A$4:$B$20,3),(_xlfn.TOCOL('Base horaire'!$A$4:$B$20,3)>=A7)*(_xlfn.TOCOL('Base horaire'!$A$4:$B$20,3)<=B7),""))} -> 0 | D7: 0 | F7: =COUNTIFS('Base horaire'!A4:B300,"<01:15") -> 10 | G7: =COUNTIFS('Base horaire'!A4:B300,"<01:01") -> 10 | H7: =F7-G7 -> 0
A8: =A7+TIME(0,15,0) -> 0.052777778 | B8: =B7+TIME(0,15,0) -> 0.0625 | C8: {=COUNT(_xlfn._xlws.FILTER(_xlfn.TOCOL('Base horaire'!$A$4:$B$20,3),(_xlfn.TOCOL('Base horaire'!$A$4:$B$20,3)>=A8)*(_xlfn.TOCOL('Base horaire'!$A$4:$B$20,3)<=B8),""))} -> 1 | D8: 1 | F8: =COUNTIFS('Base horaire'!A4:B300,"<01:30") -> 11 | G8: =COUNTIFS('Base horaire'!A4:B300,"<01:16") -> 10 | H8: =F8-G8 -> 1
A9: =A8+TIME(0,15,0) -> 0.063194444 | B9: =B8+TIME(0,15,0) -> 0.072916667 | C9: {=COUNT(_xlfn._xlws.FILTER(_xlfn.TOCOL('Base horaire'!$A$4:$B$20,3),(_xlfn.TOCOL('Base horaire'!$A$4:$B$20,3)>=A9)*(_xlfn.TOCOL('Base horaire'!$A$4:$B$20,3)<=B9),""))} -> 1 | D9: 1 | F9: =COUNTIFS('Base horaire'!A4:B300,"<01:45") -> 12 | G9: =COUNTIFS('Base horaire'!A4:B300,"<01:31") -> 11 | H9: =F9-G9 -> 1
A10: =A9+TIME(0,15,0) -> 0.073611111 | B10: =B9+TIME(0,15,0) -> 0.083333333 | C10: {=COUNT(_xlfn._xlws.FILTER(_xlfn.TOCOL('Base horaire'!$A$4:$B$20,3),(_xlfn.TOCOL('Base horaire'!$A$4:$B$20,3)>=A10)*(_xlfn.TOCOL('Base horaire'!$A$4:$B$20,3)<=B10),""))} -> 6 | D10: 6
A11: =A10+TIME(0,15,0) -> 0.084027778 | B11: =B10+TIME(0,15,0) -> 0.09375 | D11: 1
A12: =A11+TIME(0,15,0) -> 0.094444444 | B12: =B11+TIME(0,15,0) -> 0.10416667 | D12: 0
A13: =A12+TIME(0,15,0) -> 0.10486111 | B13: =B12+TIME(0,15,0) -> 0.11458333 | D13: 2
A14: =A13+TIME(0,15,0) -> 0.11527778 | B14: =B13+TIME(0,15,0) -> 0.125 | D14: 1
A15: =A14+TIME(0,15,0) -> 0.12569444 | B15: =B14+TIME(0,15,0) -> 0.13541667 | D15: 0
A16: =A15+TIME(0,15,0) -> 0.13611111 | B16: =B15+TIME(0,15,0) -> 0.14583333 | D16: 0
A17: =A16+TIME(0,15,0) -> 0.14652778 | B17: =B16+TIME(0,15,0) -> 0.15625 | D17: 0
A18: =A17+TIME(0,15,0) -> 0.15694444 | B18: =B17+TIME(0,15,0) -> 0.16666667 | D18: 0
A19: =A18+TIME(0,15,0) -> 0.16736111 | B19: =B18+TIME(0,15,0) -> 0.17708333 | D19: 0
A20: =A19+TIME(0,15,0) -> 0.17777778 | B20: =B19+TIME(0,15,0) -> 0.1875 | D20: 0
A21: =A20+TIME(0,15,0) -> 0.18819444 | B21: =B20+TIME(0,15,0) -> 0.19791667 | D21: 0
A22: =A21+TIME(0,15,0) -> 0.19861111 | B22: =B21+TIME(0,15,0) -> 0.20833333 | D22: 0
... A98: =A97+TIME(0,15,0) -> 0.99027778 | B98: =B97+TIME(0,15,0) -> 1 | D98: 0
