Workbook

Sheet Plan
B1: HALL 1 | W1: HALL 2
H3: 246 | J3: 253 | M3: 214 | R3: 2 | T3: 216 | W3: 245 | AA3: 244 | AD3: 248
H4: 180 | L4: 184 | R4: 197 | T4: 170 | X4: 257
H5: 21 | J5: 79 | L5: 14 | N5: 201 | R5: 54 | T5: 213
H6: 50 | J6: 83 | M6: 193 | R6: 218 | T6: 215 | W6: 262
H7: 58 | J7: 51 | L7: 77 | N7: 255 | R7: 56 | AD7: E50 | AF7: E51
B9: 267 | D9: 264 | F9: 265
I10: 254 | J10: 27 | K10: 55 | M10: 158 | N10: 159 | R10: 259 | W10: E64
K11: 73 | W11: 258 | AA11: E68 | AD11: E52
K12: 150 | AA12: E54 | AD12: E56
F13: 256 | AD13: E60
W14: 263 | AA14: E48 | AD14: 252
K15: E32 | M15: E18 | O15: E25 | Q15: 242 | T15: F2 | W15: 251 M3
K16: 161 | M16: K35 | O16: E26 | T16: F3 | W16: 251 M1 | AA16: E67
K17: E63 | M17: E8 | O17: K48 | Q17: E49 | T17: E65 | W17: E55 | AA17: F1
K18: E66 | M18: E10
H19: K33 | M19: E16 | O19: K39 | Q19: K44
H20: E34 | K20: E61 | M20: E5 | O20: E62 | Q20: E2 | T20: E59 | AA20: E14 | AD20: E53
K21: E33 | M21: E9 | O21: K51 | Q21: Ai8 | T21: E58 | W21: E28 | AD21: 250
H22: E35 | K22: K49 | M22: K29 | O22: K50 | T22: E57 | W22: E27 | AA22: K31
Q23: SAS Hall 1 | Y23: SAS Hall 2
B26: Identification de l'instrument | H26: CT67
B27: {=_xlfn.XLOOKUP("?*",Données!$C$8:$C$29&"",Données!C8:C29,"pas de données",2,1)} -> 55

Sheet Données
B2: Tableau des périodicités par rapport aux points critères A et B
B4: Points | C4: 1 | D4: 2 | E4: 3 | F4: 4 | G4: 5 | H4: 6 | I4: 7 | J4: 8 | K4: 9 | L4: 10 | M4: 11 | N4: 12 | O4: 13
B5: Mois | C5: 48 mois | D5: 42 mois | E5: 36 mois | F5: 30 mois | G5: 24 mois | H5: 18 mois | I5: 12 mois | J5: 9 mois | K5: 6 mois | L5: 4 mois | M5: 3 mois | N5: 2 mois | O5: 1 mois
C7: Machine
B8: TAC 2-1 | C8: {=IFERROR(IF(MATCH(Plan!$H$26,INDIRECT("'"&B8&"'!2:2"),0),INDIRECT("'"&B8&"'!e2")),"")}
B9: TAC 14-1 | C9: {=IFERROR(IF(MATCH(Plan!$H$26,INDIRECT("'"&B9&"'!2:2"),0),INDIRECT("'"&B9&"'!e2")),"")}
B10: TAC 14-2 | C10: {=IFERROR(IF(MATCH(Plan!$H$26,INDIRECT("'"&B10&"'!2:2"),0),INDIRECT("'"&B10&"'!e2")),"")}
B11: TAC 27-1 | C11: {=IFERROR(IF(MATCH(Plan!$H$26,INDIRECT("'"&B11&"'!2:2"),0),INDIRECT("'"&B11&"'!e2")),"")}
B12: TAC 55-1 | C12: {=IFERROR(IF(MATCH(Plan!$H$26,INDIRECT("'"&B12&"'!2:2"),0),INDIRECT("'"&B12&"'!e2")),"")} -> 55
B13: TAC 184-1 | C13: {=IFERROR(IF(MATCH(Plan!$H$26,INDIRECT("'"&B13&"'!2:2"),0),INDIRECT("'"&B13&"'!e2")),"")}
B14: TAC 184-2 | C14: {=IFERROR(IF(MATCH(Plan!$H$26,INDIRECT("'"&B14&"'!2:2"),0),INDIRECT("'"&B14&"'!e2")),"")}
B15: TAC 193-1 | C15: {=IFERROR(IF(MATCH(Plan!$H$26,INDIRECT("'"&B15&"'!2:2"),0),INDIRECT("'"&B15&"'!e2")),"")}
B16: TAC 193-2 | C16: {=IFERROR(IF(MATCH(Plan!$H$26,INDIRECT("'"&B16&"'!2:2"),0),INDIRECT("'"&B16&"'!e2")),"")}
B17: TAC 201-1 | C17: {=IFERROR(IF(MATCH(Plan!$H$26,INDIRECT("'"&B17&"'!2:2"),0),INDIRECT("'"&B17&"'!e2")),"")}
B18: TAC 214-1 | C18: {=IFERROR(IF(MATCH(Plan!$H$26,INDIRECT("'"&B18&"'!2:2"),0),INDIRECT("'"&B18&"'!e2")),"")}
B19: TAC 215-2 | C19: {=IFERROR(IF(MATCH(Plan!$H$26,INDIRECT("'"&B19&"'!2:2"),0),INDIRECT("'"&B19&"'!e2")),"")}
... B29: TAC TM | C29: {=IFERROR(IF(MATCH(Plan!$H$26,INDIRECT("'"&B29&"'!2:2"),0),INDIRECT("'"&B29&"'!e2")),"")}

Sheet TAC 2-1
B2: Table d'autocontrôle : HALL 1 | D2: TAC - | E2: 2 | F2: - 1 | I2: 1 - Débitmètre Solex | K2: AP01 | P2: 2 - Gycleur de tête | R2: X5.64 | W2: 3 - … | Y2: … | AD2: 4 - … | AF2: … | AK2: 5 - … | AM2: … | AR2: 6 - … | AT2: … | AY2: 7 - ... | BA2: … | BF2: 8 - … | BH2: … | BM2: 9 - ... | BO2: … | BT2: 10 - … | BV2: …
I3: Périodicité : | K3: =IF(ISNA(HLOOKUP(J27,Données!$C4:$O5,2,FALSE)),"... mois",HLOOKUP(J27,Données!$C4:$O5,2,FALSE)) -> ... mois | L3: =IF(J11<>"",$C11,IF(K11<>"",$D11,IF(L11<>"",$E11,IF(M11<>"",$F11,"...")))) -> ... | P3: Périodicité : | R3: =IF(ISNA(HLOOKUP(Q27,Données!$C4:$O5,2,FALSE)),"... mois",HLOOKUP(Q27,Données!$C4:$O5,2,FALSE)) -> ... mois | S3: =IF(Q11<>"",$C11,IF(R11<>"",$D11,IF(S11<>"",$E11,IF(T11<>"",$F11,"...")))) -> ... | W3: Périodicité : | Y3: =IF(ISNA(HLOOKUP(X27,Données!$C4:$O5,2,FALSE)),"... mois",HLOOKUP(X27,Données!$C4:$O5,2,FALSE)) -> ... mois | Z3: =IF(X11<>"",$C11,IF(Y11<>"",$D11,IF(Z11<>"",$E11,IF(AA11<>"",$F11,"...")))) -> ... | AD3: Périodicité : | AF3: =IF(ISNA(HLOOKUP(AE27,Données!$C4:$O5,2,FALSE)),"... mois",HLOOKUP(AE27,Données!$C4:$O5,2,FALSE)) -> ... mois | AG3: =IF(AE11<>"",$C11,IF(AF11<>"",$D11,IF(AG11<>"",$E11,IF(AH11<>"",$F11,"...")))) -> ... | AK3: Périodicité : | AM3: =IF(ISNA(HLOOKUP(AL27,Données!$C4:$O5,2,FALSE)),"... mois",HLOOKUP(AL27,Données!$C4:$O5,2,FALSE)) -> ... mois | AN3: =IF(AL11<>"",$C11,IF(AM11<>"",$D11,IF(AN11<>"",$E11,IF(AO11<>"",$F11,"...")))) -> ... | AR3: Périodicité : | AT3: =IF(ISNA(HLOOKUP(AS27,Données!$C4:$O5,2,FALSE)),"... mois",HLOOKUP(AS27,Données!$C4:$O5,2,FALSE)) -> ... mois | AU3: =IF(AS11<>"",$C11,IF(AT11<>"",$D11,IF(AU11<>"",$E11,IF(AV11<>"",$F11,"...")))) -> ... | AY3: Périodicité : | BA3: =IF(ISNA(HLOOKUP(AZ27,Données!$C4:$O5,2,FALSE)),"... mois",HLOOKUP(AZ27,Données!$C4:$O5,2,FALSE)) -> ... mois | BB3: =IF(AZ11<>"",$C11,IF(BA11<>"",$D11,IF(BB11<>"",$E11,IF(BC11<>"",$F11,"...")))) -> ... | BF3: Périodicité : | BH3: =IF(ISNA(HLOOKUP(BG27,Données!$C4:$O5,2,FALSE)),"... mois",HLOOKUP(BG27,Données!$C4:$O5,2,FALSE)) -> ... mois | BI3: =IF(BG11<>"",$C11,IF(BH11<>"",$D11,IF(BI11<>"",$E11,IF(BJ11<>"",$F11,"...")))) -> ... | BM3: Périodicité : | BO3: =IF(ISNA(HLOOKUP(BN27,Données!$C4:$O5,2,FALSE)),"... mois",HLOOKUP(BN27,Données!$C4:$O5,2,FALSE)) -> ... mois | BP3: =IF(BN11<>"",$C11,IF(BO11<>"",$D11,IF(BP11<>"",$E11,IF(BQ11<>"",$F11,"...")))) -> ... | BT3: Périodicité : | BV3: =IF(ISNA(HLOOKUP(BU27,Données!$C4:$O5,2,FALSE)),"... mois",HLOOKUP(BU27,Données!$C4:$O5,2,FALSE)) -> ... mois | BW3: =IF(BU11<>"",$C11,IF(BV11<>"",$D11,IF(BW11<>"",$E11,IF(BX11<>"",$F11,"...")))) -> ...
B5: Critères (X) | C5: Point | I5: Critères (X) | J5: Point | P5: Critères (X) | Q5: Point | W5: Critères (X) | X5: Point | AD5: Critères (X) | AE5: Point | AK5: Critères (X) | AL5: Point | AR5: Critères (X) | AS5: Point | AY5: Critères (X) | AZ5: Point | BF5: Critères (X) | BG5: Point | BM5: Critères (X) | BN5: Point | BT5: Critères (X) | BU5: Point
C6: 0 | D6: 1 | E6: 2 | F6: 3 | J6: 0 | K6: 1 | L6: 2 | M6: 3 | Q6: 0 | R6: 1 | S6: 2 | T6: 3 | X6: 0 | Y6: 1 | Z6: 2 | AA6: 3 | AE6: 0 | AF6: 1 | AG6: 2 | AH6: 3 | AL6: 0 | AM6: 1 | AN6: 2 | AO6: 3 | AS6: 0 | AT6: 1 | AU6: 2 | AV6: 3 | AZ6: 0 | BA6: 1 | BB6: 2 | BC6: 3 | BG6: 0 | BH6: 1 | BI6: 2 | BJ6: 3 | BN6: 0 | BO6: 1 | BP6: 2 | BQ6: 3 | BU6: 0 | BV6: 1 | BW6: 2 | BX6: 3
B7: Fréquence d'utilisation | C7: Occasionnellement | D7: 1 fois / jour | E7: Plusieurs fois / jour | F7: En permanence | I7: Fréquence d'utilisation | P7: Fréquence d'utilisation | W7: Fréquence d'utilisation | AD7: Fréquence d'utilisation | AK7: Fréquence d'utilisation | AR7: Fréquence d'utilisation | AY7: Fréquence d'utilisation | BF7: Fréquence d'utilisation | BM7: Fréquence d'utilisation | BT7: Fréquence d'utilisation
B8: Lieu d'utilisation | C8: / | D8: Métrologie Laboratoire | E8: Bureaux Local spécifique | F8: Maintenance UP | I8: Lieu d'utilisation | P8: Lieu d'utilisation | W8: Lieu d'utilisation | AD8: Lieu d'utilisation | AK8: Lieu d'utilisation | AR8: Lieu d'utilisation | AY8: Lieu d'utilisation | BF8: Lieu d'utilisation | BM8: Lieu d'utilisation | BT8: Lieu d'utilisation
B9: Risque d'usure | C9: Aucun | D9: Faible | E9: Moyen | F9: Importante | I9: Risque d'usure | P9: Risque d'usure | W9: Risque d'usure | AD9: Risque d'usure | AK9: Risque d'usure | AR9: Risque d'usure | AY9: Risque d'usure | BF9: Risque d'usure | BM9: Risque d'usure | BT9: Risque d'usure
B10: Conséquence d'une mesure erronée | C10: Aucune | D10: Faible Ctrl IPC hors validation | E10: Importante Ctrl de validation | F10: Très importante Contrôle libératoire | I10: Conséquence d'une mesure erronée | P10: Conséquence d'une mesure erronée | W10: Conséquence d'une mesure erronée | AD10: Conséquence d'une mesure erronée | AK10: Conséquence d'une mesure erronée | AR10: Conséquence d'une mesure erronée | AY10: Conséquence d'une mesure erronée | BF10: Conséquence d'une mesure erronée | BM10: Conséquence d'une mesure erronée | BT10: Conséquence d'une mesure erronée
B11: Type de contrôle | C11: Surveillance Entretien | D11: Vérification Interne | E11: Vérification Externe Indirect | F11: Vérification Externe Direct (type COFRAC) | I11: Type de contrôle | P11: Type de contrôle | W11: Type de contrôle | AD11: Type de contrôle | AK11: Type de contrôle | AR11: Type de contrôle | AY11: Type de contrôle | BF11: Type de contrôle | BM11: Type de contrôle | BT11: Type de contrôle
K12: =COUNTIF(K7:K10,"x") -> 0 | L12: =COUNTIF(L7:L10,"x")*2 -> 0 | M12: =COUNTIF(M7:M10,"x")*3 -> 0 | R12: =COUNTIF(R7:R10,"x") -> 0 | S12: =COUNTIF(S7:S10,"x")*2 -> 0 | T12: =COUNTIF(T7:T10,"x")*3 -> 0 | Y12: =COUNTIF(Y7:Y10,"x") -> 0 | Z12: =COUNTIF(Z7:Z10,"x")*2 -> 0 | AA12: =COUNTIF(AA7:AA10,"x")*3 -> 0 | AF12: =COUNTIF(AF7:AF10,"x") -> 0 | AG12: =COUNTIF(AG7:AG10,"x")*2 -> 0 | AH12: =COUNTIF(AH7:AH10,"x")*3 -> 0 | AM12: =COUNTIF(AM7:AM10,"x") -> 0 | AN12: =COUNTIF(AN7:AN10,"x")*2 -> 0 | AO12: =COUNTIF(AO7:AO10,"x")*3 -> 0 | AT12: =COUNTIF(AT7:AT10,"x") -> 0 | AU12: =COUNTIF(AU7:AU10,"x")*2 -> 0 | AV12: =COUNTIF(AV7:AV10,"x")*3 -> 0 | BA12: =COUNTIF(BA7:BA10,"x") -> 0 | BB12: =COUNTIF(BB7:BB10,"x")*2 -> 0 | BC12: =COUNTIF(BC7:BC10,"x")*3 -> 0 | BH12: =COUNTIF(BH7:BH10,"x") -> 0 | BI12: =COUNTIF(BI7:BI10,"x")*2 -> 0 | BJ12: =COUNTIF(BJ7:BJ10,"x")*3 -> 0 | BO12: =COUNTIF(BO7:BO10,"x") -> 0 | BP12: =COUNTIF(BP7:BP10,"x")*2 -> 0 | BQ12: =COUNTIF(BQ7:BQ10,"x")*3 -> 0 | BV12: =COUNTIF(BV7:BV10,"x") -> 0 | BW12: =COUNTIF(BW7:BW10,"x")*2 -> 0 | BX12: =COUNTIF(BX7:BX10,"x")*3 -> 0
I13: Tableau A : | J13: =SUM(K12:M12) -> 0 | K13: point(s) | P13: Tableau A : | Q13: =SUM(R12:T12) -> 0 | R13: point(s) | W13: Tableau A : | X13: =SUM(Y12:AA12) -> 0 | Y13: point(s) | AD13: Tableau A : | AE13: =SUM(AF12:AH12) -> 0 | AF13: point(s) | AK13: Tableau A : | AL13: =SUM(AM12:AO12) -> 0 | AM13: point(s) | AR13: Tableau A : | AS13: =SUM(AT12:AV12) -> 0 | AT13: point(s) | AY13: Tableau A : | AZ13: =SUM(BA12:BC12) -> 0 | BA13: point(s) | BF13: Tableau A : | BG13: =SUM(BH12:BJ12) -> 0 | BH13: point(s) | BM13: Tableau A : | BN13: =SUM(BO12:BQ12) -> 0 | BO13: point(s) | BT13: Tableau A : | BU13: =SUM(BV12:BX12) -> 0 | BV13: point(s)
I15: Historique des données d'étalonnage | P15: Historique des données d'étalonnage | W15: Historique des données d'étalonnage | AD15: Historique des données d'étalonnage | AK15: Historique des données d'étalonnage | AR15: Historique des données d'étalonnage | AY15: Historique des données d'étalonnage | BF15: Historique des données d'étalonnage | BM15: Historique des données d'étalonnage | BT15: Historique des données d'étalonnage
I17: Critères B | M17: Point | P17: Critères B | T17: Point | W17: Critères B | AA17: Point | AD17: Critères B | AH17: Point | AK17: Critères B | AO17: Point | AR17: Critères B | AV17: Point | AY17: Critères B | BC17: Point | BF17: Critères B | BJ17: Point | BM17: Critères B | BQ17: Point | BT17: Critères B | BX17: Point
I18: Les résultats de mesure des 3 derniers étalonnages sont dans les spécifications | N18: =IF(M18="x",-2,"") | P18: Les résultats de mesure des 3 derniers étalonnages sont dans les spécifications | U18: =IF(T18="x",-2,"") | W18: Les résultats de mesure des 3 derniers étalonnages sont dans les spécifications | AB18: =IF(AA18="x",-2,"") | AD18: Les résultats de mesure des 3 derniers étalonnages sont dans les spécifications | AI18: =IF(AH18="x",-2,"") | AK18: Les résultats de mesure des 3 derniers étalonnages sont dans les spécifications | AP18: =IF(AO18="x",-2,"") | AR18: Les résultats de mesure des 3 derniers étalonnages sont dans les spécifications | AW18: =IF(AV18="x",-2,"") | AY18: Les résultats de mesure des 3 derniers étalonnages sont dans les spécifications | BD18: =IF(BC18="x",-2,"") | BF18: Les résultats de mesure des 3 derniers étalonnages sont dans les spécifications | BK18: =IF(BJ18="x",-2,"") | BM18: Les résultats de mesure des 3 derniers étalonnages sont dans les spécifications | BR18: =IF(BQ18="x",-2,"") | BT18: Les résultats de mesure des 3 derniers étalonnages sont dans les spécifications | BY18: =IF(BX18="x",-2,"")
I19: Les résultats de mesure des 2 derniers étalonnages sont dans les spécifications | N19: =IF(M19="x",-1,"") | P19: Les résultats de mesure des 2 derniers étalonnages sont dans les spécifications | U19: =IF(T19="x",-1,"") | W19: Les résultats de mesure des 2 derniers étalonnages sont dans les spécifications | AB19: =IF(AA19="x",-1,"") | AD19: Les résultats de mesure des 2 derniers étalonnages sont dans les spécifications | AI19: =IF(AH19="x",-1,"") | AK19: Les résultats de mesure des 2 derniers étalonnages sont dans les spécifications | AP19: =IF(AO19="x",-1,"") | AR19: Les résultats de mesure des 2 derniers étalonnages sont dans les spécifications | AW19: =IF(AV19="x",-1,"") | AY19: Les résultats de mesure des 2 derniers étalonnages sont dans les spécifications | BD19: =IF(BC19="x",-1,"") | BF19: Les résultats de mesure des 2 derniers étalonnages sont dans les spécifications | BK19: =IF(BJ19="x",-1,"") | BM19: Les résultats de mesure des 2 derniers étalonnages sont dans les spécifications | BR19: =IF(BQ19="x",-1,"") | BT19: Les résultats de mesure des 2 derniers étalonnages sont dans les spécifications | BY19: =IF(BX19="x",-1,"")
I20: Les résultats de mesure du dernier étalonnage sont dans les spécifications | N20: =IF(M20="x",0,"") | P20: Les résultats de mesure du dernier étalonnage sont dans les spécifications | U20: =IF(T20="x",0,"") | W20: Les résultats de mesure du dernier étalonnage sont dans les spécifications | AB20: =IF(AA20="x",0,"") | AD20: Les résultats de mesure du dernier étalonnage sont dans les spécifications | AI20: =IF(AH20="x",0,"") | AK20: Les résultats de mesure du dernier étalonnage sont dans les spécifications | AP20: =IF(AO20="x",0,"") | AR20: Les résultats de mesure du dernier étalonnage sont dans les spécifications | AW20: =IF(AV20="x",0,"") | AY20: Les résultats de mesure du dernier étalonnage sont dans les spécifications | BD20: =IF(BC20="x",0,"") | BF20: Les résultats de mesure du dernier étalonnage sont dans les spécifications | BK20: =IF(BJ20="x",0,"") | BM20: Les résultats de mesure du dernier étalonnage sont dans les spécifications | BR20: =IF(BQ20="x",0,"") | BT20: Les résultats de mesure du dernier étalonnage sont dans les spécifications | BY20: =IF(BX20="x",0,"")
I21: Les résultats de mesure sont à la limite des spécifications (zone de doute) | N21: =IF(M21="x",1,"") | P21: Les résultats de mesure sont à la limite des spécifications (zone de doute) | U21: =IF(T21="x",1,"") | W21: Les résultats de mesure sont à la limite des spécifications (zone de doute) | AB21: =IF(AA21="x",1,"") | AD21: Les résultats de mesure sont à la limite des spécifications (zone de doute) | AI21: =IF(AH21="x",1,"") | AK21: Les résultats de mesure sont à la limite des spécifications (zone de doute) | AP21: =IF(AO21="x",1,"") | AR21: Les résultats de mesure sont à la limite des spécifications (zone de doute) | AW21: =IF(AV21="x",1,"") | AY21: Les résultats de mesure sont à la limite des spécifications (zone de doute) | BD21: =IF(BC21="x",1,"") | BF21: Les résultats de mesure sont à la limite des spécifications (zone de doute) | BK21: =IF(BJ21="x",1,"") | BM21: Les résultats de mesure sont à la limite des spécifications (zone de doute) | BR21: =IF(BQ21="x",1,"") | BT21: Les résultats de mesure sont à la limite des spécifications (zone de doute) | BY21: =IF(BX21="x",1,"")
I22: Un des résultats est en dehors des spécifications | N22: =IF(M22="x",2,"") | P22: Un des résultats est en dehors des spécifications | U22: =IF(T22="x",2,"") | W22: Un des résultats est en dehors des spécifications | AB22: =IF(AA22="x",2,"") | AD22: Un des résultats est en dehors des spécifications | AI22: =IF(AH22="x",2,"") | AK22: Un des résultats est en dehors des spécifications | AP22: =IF(AO22="x",2,"") | AR22: Un des résultats est en dehors des spécifications | AW22: =IF(AV22="x",2,"") | AY22: Un des résultats est en dehors des spécifications | BD22: =IF(BC22="x",2,"") | BF22: Un des résultats est en dehors des spécifications | BK22: =IF(BJ22="x",2,"") | BM22: Un des résultats est en dehors des spécifications | BR22: =IF(BQ22="x",2,"") | BT22: Un des résultats est en dehors des spécifications | BY22: =IF(BX22="x",2,"")
I23: Plusieurs résultats sont en dehors des spécifications | N23: =IF(M23="x",3,"") | P23: Plusieurs résultats sont en dehors des spécifications | U23: =IF(T23="x",3,"") | W23: Plusieurs résultats sont en dehors des spécifications | AB23: =IF(AA23="x",3,"") | AD23: Plusieurs résultats sont en dehors des spécifications | AI23: =IF(AH23="x",3,"") | AK23: Plusieurs résultats sont en dehors des spécifications | AP23: =IF(AO23="x",3,"") | AR23: Plusieurs résultats sont en dehors des spécifications | AW23: =IF(AV23="x",3,"") | AY23: Plusieurs résultats sont en dehors des spécifications | BD23: =IF(BC23="x",3,"") | BF23: Plusieurs résultats sont en dehors des spécifications | BK23: =IF(BJ23="x",3,"") | BM23: Plusieurs résultats sont en dehors des spécifications | BR23: =IF(BQ23="x",3,"") | BT23: Plusieurs résultats sont en dehors des spécifications | BY23: =IF(BX23="x",3,"")
I25: Tableau B : | J25: =SUM(N18:N23) -> 0 | K25: point(s) | P25: Tableau B : | Q25: =SUM(U18:U23) -> 0 | R25: point(s) | W25: Tableau B : | X25: =SUM(AB18:AB23) -> 0 | Y25: point(s) | AD25: Tableau B : | AE25: =SUM(AI18:AI23) -> 0 | AF25: point(s) | AK25: Tableau B : | AL25: =SUM(AP18:AP23) -> 0 | AM25: point(s) | AR25: Tableau B : | AS25: =SUM(AW18:AW23) -> 0 | AT25: point(s) | AY25: Tableau B : | AZ25: =SUM(BD18:BD23) -> 0 | BA25: point(s) | BF25: Tableau B : | BG25: =SUM(BK18:BK23) -> 0 | BH25: point(s) | BM25: Tableau B : | BN25: =SUM(BR18:BR23) -> 0 | BO25: point(s) | BT25: Tableau B : | BU25: =SUM(BY18:BY23) -> 0 | BV25: point(s)
I27: Tableaux A et B : | J27: =J13+J25 -> 0 | K27: point(s) | P27: Tableaux A et B : | Q27: =Q13+Q25 -> 0 | R27: point(s) | W27: Tableaux A et B : | X27: =X13+X25 -> 0 | Y27: point(s) | AD27: Tableaux A et B : | AE27: =AE13+AE25 -> 0 | AF27: point(s) | AK27: Tableaux A et B : | AL27: =AL13+AL25 -> 0 | AM27: point(s) | AR27: Tableaux A et B : | AS27: =AS13+AS25 -> 0 | AT27: point(s) | AY27: Tableaux A et B : | AZ27: =AZ13+AZ25 -> 0 | BA27: point(s) | BF27: Tableaux A et B : | BG27: =BG13+BG25 -> 0 | BH27: point(s) | BM27: Tableaux A et B : | BN27: =BN13+BN25 -> 0 | BO27: point(s) | BT27: Tableaux A et B : | BU27: =BU13+BU25 -> 0 | BV27: point(s)

Sheet TAC 14-1
B2: Table d'autocontrôle : HALL 1 | D2: TAC - | E2: 14 | F2: - 1 | I2: 1 - … | K2: 1235 | P2: 2 - … | R2: … | W2: 3 - … | Y2: … | AD2: 4 - … | AF2: … | AK2: 5 - … | AM2: … | AR2: 6 - … | AT2: … | AY2: 7 - ... | BA2: … | BF2: 8 - … | BH2: … | BM2: 9 - ... | BO2: … | BT2: 10 - … | BV2: …
I3: Périodicité : | K3: =IF(ISNA(HLOOKUP(J27,Données!$C4:$O5,2,FALSE)),"... mois",HLOOKUP(J27,Données!$C4:$O5,2,FALSE)) -> ... mois | L3: =IF(J11<>"",$C11,IF(K11<>"",$D11,IF(L11<>"",$E11,IF(M11<>"",$F11,"...")))) -> ... | P3: Périodicité : | R3: =IF(ISNA(HLOOKUP(Q27,Données!$C4:$O5,2,FALSE)),"... mois",HLOOKUP(Q27,Données!$C4:$O5,2,FALSE)) -> ... mois | S3: =IF(Q11<>"",$C11,IF(R11<>"",$D11,IF(S11<>"",$E11,IF(T11<>"",$F11,"...")))) -> ... | W3: Périodicité : | Y3: =IF(ISNA(HLOOKUP(X27,Données!$C4:$O5,2,FALSE)),"... mois",HLOOKUP(X27,Données!$C4:$O5,2,FALSE)) -> ... mois | Z3: =IF(X11<>"",$C11,IF(Y11<>"",$D11,IF(Z11<>"",$E11,IF(AA11<>"",$F11,"...")))) -> ... | AD3: Périodicité : | AF3: =IF(ISNA(HLOOKUP(AE27,Données!$C4:$O5,2,FALSE)),"... mois",HLOOKUP(AE27,Données!$C4:$O5,2,FALSE)) -> ... mois | AG3: =IF(AE11<>"",$C11,IF(AF11<>"",$D11,IF(AG11<>"",$E11,IF(AH11<>"",$F11,"...")))) -> ... | AK3: Périodicité : | AM3: =IF(ISNA(HLOOKUP(AL27,Données!$C4:$O5,2,FALSE)),"... mois",HLOOKUP(AL27,Données!$C4:$O5,2,FALSE)) -> ... mois | AN3: =IF(AL11<>"",$C11,IF(AM11<>"",$D11,IF(AN11<>"",$E11,IF(AO11<>"",$F11,"...")))) -> ... | AR3: Périodicité : | AT3: =IF(ISNA(HLOOKUP(AS27,Données!$C4:$O5,2,FALSE)),"... mois",HLOOKUP(AS27,Données!$C4:$O5,2,FALSE)) -> ... mois | AU3: =IF(AS11<>"",$C11,IF(AT11<>"",$D11,IF(AU11<>"",$E11,IF(AV11<>"",$F11,"...")))) -> ... | AY3: Périodicité : | BA3: =IF(ISNA(HLOOKUP(AZ27,Données!$C4:$O5,2,FALSE)),"... mois",HLOOKUP(AZ27,Données!$C4:$O5,2,FALSE)) -> ... mois | BB3: =IF(AZ11<>"",$C11,IF(BA11<>"",$D11,IF(BB11<>"",$E11,IF(BC11<>"",$F11,"...")))) -> ... | BF3: Périodicité : | BH3: =IF(ISNA(HLOOKUP(BG27,Données!$C4:$O5,2,FALSE)),"... mois",HLOOKUP(BG27,Données!$C4:$O5,2,FALSE)) -> ... mois | BI3: =IF(BG11<>"",$C11,IF(BH11<>"",$D11,IF(BI11<>"",$E11,IF(BJ11<>"",$F11,"...")))) -> ... | BM3: Périodicité : | BO3: =IF(ISNA(HLOOKUP(BN27,Données!$C4:$O5,2,FALSE)),"... mois",HLOOKUP(BN27,Données!$C4:$O5,2,FALSE)) -> ... mois | BP3: =IF(BN11<>"",$C11,IF(BO11<>"",$D11,IF(BP11<>"",$E11,IF(BQ11<>"",$F11,"...")))) -> ... | BT3: Périodicité : | BV3: =IF(ISNA(HLOOKUP(BU27,Données!$C4:$O5,2,FALSE)),"... mois",HLOOKUP(BU27,Données!$C4:$O5,2,FALSE)) -> ... mois | BW3: =IF(BU11<>"",$C11,IF(BV11<>"",$D11,IF(BW11<>"",$E11,IF(BX11<>"",$F11,"...")))) -> ...
B5: Critères (X) | C5: Point | I5: Critères (X) | J5: Point | P5: Critères (X) | Q5: Point | W5: Critères (X) | X5: Point | AD5: Critères (X) | AE5: Point | AK5: Critères (X) | AL5: Point | AR5: Critères (X) | AS5: Point | AY5: Critères (X) | AZ5: Point | BF5: Critères (X) | BG5: Point | BM5: Critères (X) | BN5: Point | BT5: Critères (X) | BU5: Point
C6: 0 | D6: 1 | E6: 2 | F6: 3 | J6: 0 | K6: 1 | L6: 2 | M6: 3 | Q6: 0 | R6: 1 | S6: 2 | T6: 3 | X6: 0 | Y6: 1 | Z6: 2 | AA6: 3 | AE6: 0 | AF6: 1 | AG6: 2 | AH6: 3 | AL6: 0 | AM6: 1 | AN6: 2 | AO6: 3 | AS6: 0 | AT6: 1 | AU6: 2 | AV6: 3 | AZ6: 0 | BA6: 1 | BB6: 2 | BC6: 3 | BG6: 0 | BH6: 1 | BI6: 2 | BJ6: 3 | BN6: 0 | BO6: 1 | BP6: 2 | BQ6: 3 | BU6: 0 | BV6: 1 | BW6: 2 | BX6: 3
B7: Fréquence d'utilisation | C7: Occasionnellement | D7: 1 fois / jour | E7: Plusieurs fois / jour | F7: En permanence | I7: Fréquence d'utilisation | P7: Fréquence d'utilisation | W7: Fréquence d'utilisation | AD7: Fréquence d'utilisation | AK7: Fréquence d'utilisation | AR7: Fréquence d'utilisation | AY7: Fréquence d'utilisation | BF7: Fréquence d'utilisation | BM7: Fréquence d'utilisation | BT7: Fréquence d'utilisation
B8: Lieu d'utilisation | C8: / | D8: Métrologie Laboratoire | E8: Bureaux Local spécifique | F8: Maintenance UP | I8: Lieu d'utilisation | P8: Lieu d'utilisation | W8: Lieu d'utilisation | AD8: Lieu d'utilisation | AK8: Lieu d'utilisation | AR8: Lieu d'utilisation | AY8: Lieu d'utilisation | BF8: Lieu d'utilisation | BM8: Lieu d'utilisation | BT8: Lieu d'utilisation
B9: Risque d'usure | C9: Aucun | D9: Faible | E9: Moyen | F9: Importante | I9: Risque d'usure | P9: Risque d'usure | W9: Risque d'usure | AD9: Risque d'usure | AK9: Risque d'usure | AR9: Risque d'usure | AY9: Risque d'usure | BF9: Risque d'usure | BM9: Risque d'usure | BT9: Risque d'usure
B10: Conséquence d'une mesure erronée | C10: Aucune | D10: Faible Ctrl IPC hors validation | E10: Importante Ctrl de validation | F10: Très importante Contrôle libératoire | I10: Conséquence d'une mesure erronée | P10: Conséquence d'une mesure erronée | W10: Conséquence d'une mesure erronée | AD10: Conséquence d'une mesure erronée | AK10: Conséquence d'une mesure erronée | AR10: Conséquence d'une mesure erronée | AY10: Conséquence d'une mesure erronée | BF10: Conséquence d'une mesure erronée | BM10: Conséquence d'une mesure erronée | BT10: Conséquence d'une mesure erronée
B11: Type de contrôle | C11: Surveillance Entretien | D11: Vérification Interne | E11: Vérification Externe Indirect | F11: Vérification Externe Direct (type COFRAC) | I11: Type de contrôle | P11: Type de contrôle | W11: Type de contrôle | AD11: Type de contrôle | AK11: Type de contrôle | AR11: Type de contrôle | AY11: Type de contrôle | BF11: Type de contrôle | BM11: Type de contrôle | BT11: Type de contrôle
K12: =COUNTIF(K7:K10,"x") -> 0 | L12: =COUNTIF(L7:L10,"x")*2 -> 0 | M12: =COUNTIF(M7:M10,"x")*3 -> 0 | R12: =COUNTIF(R7:R10,"x") -> 0 | S12: =COUNTIF(S7:S10,"x")*2 -> 0 | T12: =COUNTIF(T7:T10,"x")*3 -> 0 | Y12: =COUNTIF(Y7:Y10,"x") -> 0 | Z12: =COUNTIF(Z7:Z10,"x")*2 -> 0 | AA12: =COUNTIF(AA7:AA10,"x")*3 -> 0 | AF12: =COUNTIF(AF7:AF10,"x") -> 0 | AG12: =COUNTIF(AG7:AG10,"x")*2 -> 0 | AH12: =COUNTIF(AH7:AH10,"x")*3 -> 0 | AM12: =COUNTIF(AM7:AM10,"x") -> 0 | AN12: =COUNTIF(AN7:AN10,"x")*2 -> 0 | AO12: =COUNTIF(AO7:AO10,"x")*3 -> 0 | AT12: =COUNTIF(AT7:AT10,"x") -> 0 | AU12: =COUNTIF(AU7:AU10,"x")*2 -> 0 | AV12: =COUNTIF(AV7:AV10,"x")*3 -> 0 | BA12: =COUNTIF(BA7:BA10,"x") -> 0 | BB12: =COUNTIF(BB7:BB10,"x")*2 -> 0 | BC12: =COUNTIF(BC7:BC10,"x")*3 -> 0 | BH12: =COUNTIF(BH7:BH10,"x") -> 0 | BI12: =COUNTIF(BI7:BI10,"x")*2 -> 0 | BJ12: =COUNTIF(BJ7:BJ10,"x")*3 -> 0 | BO12: =COUNTIF(BO7:BO10,"x") -> 0 | BP12: =COUNTIF(BP7:BP10,"x")*2 -> 0 | BQ12: =COUNTIF(BQ7:BQ10,"x")*3 -> 0 | BV12: =COUNTIF(BV7:BV10,"x") -> 0 | BW12: =COUNTIF(BW7:BW10,"x")*2 -> 0 | BX12: =COUNTIF(BX7:BX10,"x")*3 -> 0
I13: Tableau A : | J13: =SUM(K12:M12) -> 0 | K13: point(s) | P13: Tableau A : | Q13: =SUM(R12:T12) -> 0 | R13: point(s) | W13: Tableau A : | X13: =SUM(Y12:AA12) -> 0 | Y13: point(s) | AD13: Tableau A : | AE13: =SUM(AF12:AH12) -> 0 | AF13: point(s) | AK13: Tableau A : | AL13: =SUM(AM12:AO12) -> 0 | AM13: point(s) | AR13: Tableau A : | AS13: =SUM(AT12:AV12) -> 0 | AT13: point(s) | AY13: Tableau A : | AZ13: =SUM(BA12:BC12) -> 0 | BA13: point(s) | BF13: Tableau A : | BG13: =SUM(BH12:BJ12) -> 0 | BH13: point(s) | BM13: Tableau A : | BN13: =SUM(BO12:BQ12) -> 0 | BO13: point(s) | BT13: Tableau A : | BU13: =SUM(BV12:BX12) -> 0 | BV13: point(s)
I15: Historique des données d'étalonnage | P15: Historique des données d'étalonnage | W15: Historique des données d'étalonnage | AD15: Historique des données d'étalonnage | AK15: Historique des données d'étalonnage | AR15: Historique des données d'étalonnage | AY15: Historique des données d'étalonnage | BF15: Historique des données d'étalonnage | BM15: Historique des données d'étalonnage | BT15: Historique des données d'étalonnage
I17: Critères B | M17: Point | P17: Critères B | T17: Point | W17: Critères B | AA17: Point | AD17: Critères B | AH17: Point | AK17: Critères B | AO17: Point | AR17: Critères B | AV17: Point | AY17: Critères B | BC17: Point | BF17: Critères B | BJ17: Point | BM17: Critères B | BQ17: Point | BT17: Critères B | BX17: Point
I18: Les résultats de mesure des 3 derniers étalonnages sont dans les spécifications | N18: =IF(M18="x",-2,"") | P18: Les résultats de mesure des 3 derniers étalonnages sont dans les spécifications | U18: =IF(T18="x",-2,"") | W18: Les résultats de mesure des 3 derniers étalonnages sont dans les spécifications | AB18: =IF(AA18="x",-2,"") | AD18: Les résultats de mesure des 3 derniers étalonnages sont dans les spécifications | AI18: =IF(AH18="x",-2,"") | AK18: Les résultats de mesure des 3 derniers étalonnages sont dans les spécifications | AP18: =IF(AO18="x",-2,"") | AR18: Les résultats de mesure des 3 derniers étalonnages sont dans les spécifications | AW18: =IF(AV18="x",-2,"") | AY18: Les résultats de mesure des 3 derniers étalonnages sont dans les spécifications | BD18: =IF(BC18="x",-2,"") | BF18: Les résultats de mesure des 3 derniers étalonnages sont dans les spécifications | BK18: =IF(BJ18="x",-2,"") | BM18: Les résultats de mesure des 3 derniers étalonnages sont dans les spécifications | BR18: =IF(BQ18="x",-2,"") | BT18: Les résultats de mesure des 3 derniers étalonnages sont dans les spécifications | BY18: =IF(BX18="x",-2,"")
I19: Les résultats de mesure des 2 derniers étalonnages sont dans les spécifications | N19: =IF(M19="x",-1,"") | P19: Les résultats de mesure des 2 derniers étalonnages sont dans les spécifications | U19: =IF(T19="x",-1,"") | W19: Les résultats de mesure des 2 derniers étalonnages sont dans les spécifications | AB19: =IF(AA19="x",-1,"") | AD19: Les résultats de mesure des 2 derniers étalonnages sont dans les spécifications | AI19: =IF(AH19="x",-1,"") | AK19: Les résultats de mesure des 2 derniers étalonnages sont dans les spécifications | AP19: =IF(AO19="x",-1,"") | AR19: Les résultats de mesure des 2 derniers étalonnages sont dans les spécifications | AW19: =IF(AV19="x",-1,"") | AY19: Les résultats de mesure des 2 derniers étalonnages sont dans les spécifications | BD19: =IF(BC19="x",-1,"") | BF19: Les résultats de mesure des 2 derniers étalonnages sont dans les spécifications | BK19: =IF(BJ19="x",-1,"") | BM19: Les résultats de mesure des 2 derniers étalonnages sont dans les spécifications | BR19: =IF(BQ19="x",-1,"") | BT19: Les résultats de mesure des 2 derniers étalonnages sont dans les spécifications | BY19: =IF(BX19="x",-1,"")
I20: Les résultats de mesure du dernier étalonnage sont dans les spécifications | N20: =IF(M20="x",0,"") | P20: Les résultats de mesure du dernier étalonnage sont dans les spécifications | U20: =IF(T20="x",0,"") | W20: Les résultats de mesure du dernier étalonnage sont dans les spécifications | AB20: =IF(AA20="x",0,"") | AD20: Les résultats de mesure du dernier étalonnage sont dans les spécifications | AI20: =IF(AH20="x",0,"") | AK20: Les résultats de mesure du dernier étalonnage sont dans les spécifications | AP20: =IF(AO20="x",0,"") | AR20: Les résultats de mesure du dernier étalonnage sont dans les spécifications | AW20: =IF(AV20="x",0,"") | AY20: Les résultats de mesure du dernier étalonnage sont dans les spécifications | BD20: =IF(BC20="x",0,"") | BF20: Les résultats de mesure du dernier étalonnage sont dans les spécifications | BK20: =IF(BJ20="x",0,"") | BM20: Les résultats de mesure du dernier étalonnage sont dans les spécifications | BR20: =IF(BQ20="x",0,"") | BT20: Les résultats de mesure du dernier étalonnage sont dans les spécifications | BY20: =IF(BX20="x",0,"")
I21: Les résultats de mesure sont à la limite des spécifications (zone de doute) | N21: =IF(M21="x",1,"") | P21: Les résultats de mesure sont à la limite des spécifications (zone de doute) | U21: =IF(T21="x",1,"") | W21: Les résultats de mesure sont à la limite des spécifications (zone de doute) | AB21: =IF(AA21="x",1,"") | AD21: Les résultats de mesure sont à la limite des spécifications (zone de doute) | AI21: =IF(AH21="x",1,"") | AK21: Les résultats de mesure sont à la limite des spécifications (zone de doute) | AP21: =IF(AO21="x",1,"") | AR21: Les résultats de mesure sont à la limite des spécifications (zone de doute) | AW21: =IF(AV21="x",1,"") | AY21: Les résultats de mesure sont à la limite des spécifications (zone de doute) | BD21: =IF(BC21="x",1,"") | BF21: Les résultats de mesure sont à la limite des spécifications (zone de doute) | BK21: =IF(BJ21="x",1,"") | BM21: Les résultats de mesure sont à la limite des spécifications (zone de doute) | BR21: =IF(BQ21="x",1,"") | BT21: Les résultats de mesure sont à la limite des spécifications (zone de doute) | BY21: =IF(BX21="x",1,"")
I22: Un des résultats est en dehors des spécifications | N22: =IF(M22="x",2,"") | P22: Un des résultats est en dehors des spécifications | U22: =IF(T22="x",2,"") | W22: Un des résultats est en dehors des spécifications | AB22: =IF(AA22="x",2,"") | AD22: Un des résultats est en dehors des spécifications | AI22: =IF(AH22="x",2,"") | AK22: Un des résultats est en dehors des spécifications | AP22: =IF(AO22="x",2,"") | AR22: Un des résultats est en dehors des spécifications | AW22: =IF(AV22="x",2,"") | AY22: Un des résultats est en dehors des spécifications | BD22: =IF(BC22="x",2,"") | BF22: Un des résultats est en dehors des spécifications | BK22: =IF(BJ22="x",2,"") | BM22: Un des résultats est en dehors des spécifications | BR22: =IF(BQ22="x",2,"") | BT22: Un des résultats est en dehors des spécifications | BY22: =IF(BX22="x",2,"")
I23: Plusieurs résultats sont en dehors des spécifications | N23: =IF(M23="x",3,"") | P23: Plusieurs résultats sont en dehors des spécifications | U23: =IF(T23="x",3,"") | W23: Plusieurs résultats sont en dehors des spécifications | AB23: =IF(AA23="x",3,"") | AD23: Plusieurs résultats sont en dehors des spécifications | AI23: =IF(AH23="x",3,"") | AK23: Plusieurs résultats sont en dehors des spécifications | AP23: =IF(AO23="x",3,"") | AR23: Plusieurs résultats sont en dehors des spécifications | AW23: =IF(AV23="x",3,"") | AY23: Plusieurs résultats sont en dehors des spécifications | BD23: =IF(BC23="x",3,"") | BF23: Plusieurs résultats sont en dehors des spécifications | BK23: =IF(BJ23="x",3,"") | BM23: Plusieurs résultats sont en dehors des spécifications | BR23: =IF(BQ23="x",3,"") | BT23: Plusieurs résultats sont en dehors des spécifications | BY23: =IF(BX23="x",3,"")
I25: Tableau B : | J25: =SUM(N18:N23) -> 0 | K25: point(s) | P25: Tableau B : | Q25: =SUM(U18:U23) -> 0 | R25: point(s) | W25: Tableau B : | X25: =SUM(AB18:AB23) -> 0 | Y25: point(s) | AD25: Tableau B : | AE25: =SUM(AI18:AI23) -> 0 | AF25: point(s) | AK25: Tableau B : | AL25: =SUM(AP18:AP23) -> 0 | AM25: point(s) | AR25: Tableau B : | AS25: =SUM(AW18:AW23) -> 0 | AT25: point(s) | AY25: Tableau B : | AZ25: =SUM(BD18:BD23) -> 0 | BA25: point(s) | BF25: Tableau B : | BG25: =SUM(BK18:BK23) -> 0 | BH25: point(s) | BM25: Tableau B : | BN25: =SUM(BR18:BR23) -> 0 | BO25: point(s) | BT25: Tableau B : | BU25: =SUM(BY18:BY23) -> 0 | BV25: point(s)
I27: Tableaux A et B : | J27: =J13+J25 -> 0 | K27: point(s) | P27: Tableaux A et B : | Q27: =Q13+Q25 -> 0 | R27: point(s) | W27: Tableaux A et B : | X27: =X13+X25 -> 0 | Y27: point(s) | AD27: Tableaux A et B : | AE27: =AE13+AE25 -> 0 | AF27: point(s) | AK27: Tableaux A et B : | AL27: =AL13+AL25 -> 0 | AM27: point(s) | AR27: Tableaux A et B : | AS27: =AS13+AS25 -> 0 | AT27: point(s) | AY27: Tableaux A et B : | AZ27: =AZ13+AZ25 -> 0 | BA27: point(s) | BF27: Tableaux A et B : | BG27: =BG13+BG25 -> 0 | BH27: point(s) | BM27: Tableaux A et B : | BN27: =BN13+BN25 -> 0 | BO27: point(s) | BT27: Tableaux A et B : | BU27: =BU13+BU25 -> 0 | BV27: point(s)

Sheet TAC 14-2
B2: Table d'autocontrôle : HALL 1 | D2: TAC - | E2: 14 | F2: - 2 | I2: 1 - Comparateur | K2: AP-005984 | P2: 2 - Comparateur | R2: AP-005990 | W2: 3 - Courbure tube | Y2: AP-3601-9 | AD2: 4 - Dynamomètre | AF2: AP-T15717 | AK2: 5 - Manomètre | AM2: AP79 | AR2: 6 - Minuterie de travail | AT2: AP15 | AY2: 7 - Réglet | BA2: AP14 | BF2: 8 - … | BH2: … | BM2: 9 - ... | BO2: … | BT2: 10 - … | BV2: …
I3: Périodicité : | K3: =IF(ISNA(HLOOKUP(J27,Données!$C4:$O5,2,FALSE)),"... mois",HLOOKUP(J27,Données!$C4:$O5,2,FALSE)) -> ... mois | L3: =IF(J11<>"",$C11,IF(K11<>"",$D11,IF(L11<>"",$E11,IF(M11<>"",$F11,"...")))) -> ... | P3: Périodicité : | R3: =IF(ISNA(HLOOKUP(Q27,Données!$C4:$O5,2,FALSE)),"... mois",HLOOKUP(Q27,Données!$C4:$O5,2,FALSE)) -> ... mois | S3: =IF(Q11<>"",$C11,IF(R11<>"",$D11,IF(S11<>"",$E11,IF(T11<>"",$F11,"...")))) -> ... | W3: Périodicité : | Y3: =IF(ISNA(HLOOKUP(X27,Données!$C4:$O5,2,FALSE)),"... mois",HLOOKUP(X27,Données!$C4:$O5,2,FALSE)) -> ... mois | Z3: =IF(X11<>"",$C11,IF(Y11<>"",$D11,IF(Z11<>"",$E11,IF(AA11<>"",$F11,"...")))) -> ... | AD3: Périodicité : | AF3: =IF(ISNA(HLOOKUP(AE27,Données!$C4:$O5,2,FALSE)),"... mois",HLOOKUP(AE27,Données!$C4:$O5,2,FALSE)) -> ... mois | AG3: =IF(AE11<>"",$C11,IF(AF11<>"",$D11,IF(AG11<>"",$E11,IF(AH11<>"",$F11,"...")))) -> ... | AK3: Périodicité : | AM3: =IF(ISNA(HLOOKUP(AL27,Données!$C4:$O5,2,FALSE)),"... mois",HLOOKUP(AL27,Données!$C4:$O5,2,FALSE)) -> ... mois | AN3: =IF(AL11<>"",$C11,IF(AM11<>"",$D11,IF(AN11<>"",$E11,IF(AO11<>"",$F11,"...")))) -> ... | AR3: Périodicité : | AT3: =IF(ISNA(HLOOKUP(AS27,Données!$C4:$O5,2,FALSE)),"... mois",HLOOKUP(AS27,Données!$C4:$O5,2,FALSE)) -> ... mois | AU3: =IF(AS11<>"",$C11,IF(AT11<>"",$D11,IF(AU11<>"",$E11,IF(AV11<>"",$F11,"...")))) -> ... | AY3: Périodicité : | BA3: =IF(ISNA(HLOOKUP(AZ27,Données!$C4:$O5,2,FALSE)),"... mois",HLOOKUP(AZ27,Données!$C4:$O5,2,FALSE)) -> ... mois | BB3: =IF(AZ11<>"",$C11,IF(BA11<>"",$D11,IF(BB11<>"",$E11,IF(BC11<>"",$F11,"...")))) -> ... | BF3: Périodicité : | BH3: =IF(ISNA(HLOOKUP(BG27,Données!$C4:$O5,2,FALSE)),"... mois",HLOOKUP(BG27,Données!$C4:$O5,2,FALSE)) -> ... mois | BI3: =IF(BG11<>"",$C11,IF(BH11<>"",$D11,IF(BI11<>"",$E11,IF(BJ11<>"",$F11,"...")))) -> ... | BM3: Périodicité : | BO3: =IF(ISNA(HLOOKUP(BN27,Données!$C4:$O5,2,FALSE)),"... mois",HLOOKUP(BN27,Données!$C4:$O5,2,FALSE)) -> ... mois | BP3: =IF(BN11<>"",$C11,IF(BO11<>"",$D11,IF(BP11<>"",$E11,IF(BQ11<>"",$F11,"...")))) -> ... | BT3: Périodicité : | BV3: =IF(ISNA(HLOOKUP(BU27,Données!$C4:$O5,2,FALSE)),"... mois",HLOOKUP(BU27,Données!$C4:$O5,2,FALSE)) -> ... mois | BW3: =IF(BU11<>"",$C11,IF(BV11<>"",$D11,IF(BW11<>"",$E11,IF(BX11<>"",$F11,"...")))) -> ...
B5: Critères (X) | C5: Point | I5: Critères (X) | J5: Point | P5: Critères (X) | Q5: Point | W5: Critères (X) | X5: Point | AD5: Critères (X) | AE5: Point | AK5: Critères (X) | AL5: Point | AR5: Critères (X) | AS5: Point | AY5: Critères (X) | AZ5: Point | BF5: Critères (X) | BG5: Point | BM5: Critères (X) | BN5: Point | BT5: Critères (X) | BU5: Point
C6: 0 | D6: 1 | E6: 2 | F6: 3 | J6: 0 | K6: 1 | L6: 2 | M6: 3 | Q6: 0 | R6: 1 | S6: 2 | T6: 3 | X6: 0 | Y6: 1 | Z6: 2 | AA6: 3 | AE6: 0 | AF6: 1 | AG6: 2 | AH6: 3 | AL6: 0 | AM6: 1 | AN6: 2 | AO6: 3 | AS6: 0 | AT6: 1 | AU6: 2 | AV6: 3 | AZ6: 0 | BA6: 1 | BB6: 2 | BC6: 3 | BG6: 0 | BH6: 1 | BI6: 2 | BJ6: 3 | BN6: 0 | BO6: 1 | BP6: 2 | BQ6: 3 | BU6: 0 | BV6: 1 | BW6: 2 | BX6: 3
B7: Fréquence d'utilisation | C7: Occasionnellement | D7: 1 fois / jour | E7: Plusieurs fois / jour | F7: En permanence | I7: Fréquence d'utilisation | P7: Fréquence d'utilisation | W7: Fréquence d'utilisation | AD7: Fréquence d'utilisation | AK7: Fréquence d'utilisation | AR7: Fréquence d'utilisation | AY7: Fréquence d'utilisation | BF7: Fréquence d'utilisation | BM7: Fréquence d'utilisation | BT7: Fréquence d'utilisation
B8: Lieu d'utilisation | C8: / | D8: Métrologie Laboratoire | E8: Bureaux Local spécifique | F8: Maintenance UP | I8: Lieu d'utilisation | P8: Lieu d'utilisation | W8: Lieu d'utilisation | AD8: Lieu d'utilisation | AK8: Lieu d'utilisation | AR8: Lieu d'utilisation | AY8: Lieu d'utilisation | BF8: Lieu d'utilisation | BM8: Lieu d'utilisation | BT8: Lieu d'utilisation
B9: Risque d'usure | C9: Aucun | D9: Faible | E9: Moyen | F9: Importante | I9: Risque d'usure | P9: Risque d'usure | W9: Risque d'usure | AD9: Risque d'usure | AK9: Risque d'usure | AR9: Risque d'usure | AY9: Risque d'usure | BF9: Risque d'usure | BM9: Risque d'usure | BT9: Risque d'usure
B10: Conséquence d'une mesure erronée | C10: Aucune | D10: Faible Ctrl IPC hors validation | E10: Importante Ctrl de validation | F10: Très importante Contrôle libératoire | I10: Conséquence d'une mesure erronée | P10: Conséquence d'une mesure erronée | W10: Conséquence d'une mesure erronée | AD10: Conséquence d'une mesure erronée | AK10: Conséquence d'une mesure erronée | AR10: Conséquence d'une mesure erronée | AY10: Conséquence d'une mesure erronée | BF10: Conséquence d'une mesure erronée | BM10: Conséquence d'une mesure erronée | BT10: Conséquence d'une mesure erronée
B11: Type de contrôle | C11: Surveillance Entretien | D11: Vérification Interne | E11: Vérification Externe Indirect | F11: Vérification Externe Direct (type COFRAC) | I11: Type de contrôle | P11: Type de contrôle | W11: Type de contrôle | AD11: Type de contrôle | AK11: Type de contrôle | AR11: Type de contrôle | AY11: Type de contrôle | BF11: Type de contrôle | BM11: Type de contrôle | BT11: Type de contrôle
K12: =COUNTIF(K7:K10,"x") -> 0 | L12: =COUNTIF(L7:L10,"x")*2 -> 0 | M12: =COUNTIF(M7:M10,"x")*3 -> 0 | R12: =COUNTIF(R7:R10,"x") -> 0 | S12: =COUNTIF(S7:S10,"x")*2 -> 0 | T12: =COUNTIF(T7:T10,"x")*3 -> 0 | Y12: =COUNTIF(Y7:Y10,"x") -> 0 | Z12: =COUNTIF(Z7:Z10,"x")*2 -> 0 | AA12: =COUNTIF(AA7:AA10,"x")*3 -> 0 | AF12: =COUNTIF(AF7:AF10,"x") -> 0 | AG12: =COUNTIF(AG7:AG10,"x")*2 -> 0 | AH12: =COUNTIF(AH7:AH10,"x")*3 -> 0 | AM12: =COUNTIF(AM7:AM10,"x") -> 0 | AN12: =COUNTIF(AN7:AN10,"x")*2 -> 0 | AO12: =COUNTIF(AO7:AO10,"x")*3 -> 0 | AT12: =COUNTIF(AT7:AT10,"x") -> 0 | AU12: =COUNTIF(AU7:AU10,"x")*2 -> 0 | AV12: =COUNTIF(AV7:AV10,"x")*3 -> 0 | BA12: =COUNTIF(BA7:BA10,"x") -> 0 | BB12: =COUNTIF(BB7:BB10,"x")*2 -> 0 | BC12: =COUNTIF(BC7:BC10,"x")*3 -> 0 | BH12: =COUNTIF(BH7:BH10,"x") -> 0 | BI12: =COUNTIF(BI7:BI10,"x")*2 -> 0 | BJ12: =COUNTIF(BJ7:BJ10,"x")*3 -> 0 | BO12: =COUNTIF(BO7:BO10,"x") -> 0 | BP12: =COUNTIF(BP7:BP10,"x")*2 -> 0 | BQ12: =COUNTIF(BQ7:BQ10,"x")*3 -> 0 | BV12: =COUNTIF(BV7:BV10,"x") -> 0 | BW12: =COUNTIF(BW7:BW10,"x")*2 -> 0 | BX12: =COUNTIF(BX7:BX10,"x")*3 -> 0
I13: Tableau A : | J13: =SUM(K12:M12) -> 0 | K13: point(s) | P13: Tableau A : | Q13: =SUM(R12:T12) -> 0 | R13: point(s) | W13: Tableau A : | X13: =SUM(Y12:AA12) -> 0 | Y13: point(s) | AD13: Tableau A : | AE13: =SUM(AF12:AH12) -> 0 | AF13: point(s) | AK13: Tableau A : | AL13: =SUM(AM12:AO12) -> 0 | AM13: point(s) | AR13: Tableau A : | AS13: =SUM(AT12:AV12) -> 0 | AT13: point(s) | AY13: Tableau A : | AZ13: =SUM(BA12:BC12) -> 0 | BA13: point(s) | BF13: Tableau A : | BG13: =SUM(BH12:BJ12) -> 0 | BH13: point(s) | BM13: Tableau A : | BN13: =SUM(BO12:BQ12) -> 0 | BO13: point(s) | BT13: Tableau A : | BU13: =SUM(BV12:BX12) -> 0 | BV13: point(s)
I15: Historique des données d'étalonnage | P15: Historique des données d'étalonnage | W15: Historique des données d'étalonnage | AD15: Historique des données d'étalonnage | AK15: Historique des données d'étalonnage | AR15: Historique des données d'étalonnage | AY15: Historique des données d'étalonnage | BF15: Historique des données d'étalonnage | BM15: Historique des données d'étalonnage | BT15: Historique des données d'étalonnage
I17: Critères B | M17: Point | P17: Critères B | T17: Point | W17: Critères B | AA17: Point | AD17: Critères B | AH17: Point | AK17: Critères B | AO17: Point | AR17: Critères B | AV17: Point | AY17: Critères B | BC17: Point | BF17: Critères B | BJ17: Point | BM17: Critères B | BQ17: Point | BT17: Critères B | BX17: Point
I18: Les résultats de mesure des 3 derniers étalonnages sont dans les spécifications | N18: =IF(M18="x",-2,"") | P18: Les résultats de mesure des 3 derniers étalonnages sont dans les spécifications | U18: =IF(T18="x",-2,"") | W18: Les résultats de mesure des 3 derniers étalonnages sont dans les spécifications | AB18: =IF(AA18="x",-2,"") | AD18: Les résultats de mesure des 3 derniers étalonnages sont dans les spécifications | AI18: =IF(AH18="x",-2,"") | AK18: Les résultats de mesure des 3 derniers étalonnages sont dans les spécifications | AP18: =IF(AO18="x",-2,"") | AR18: Les résultats de mesure des 3 derniers étalonnages sont dans les spécifications | AW18: =IF(AV18="x",-2,"") | AY18: Les résultats de mesure des 3 derniers étalonnages sont dans les spécifications | BD18: =IF(BC18="x",-2,"") | BF18: Les résultats de mesure des 3 derniers étalonnages sont dans les spécifications | BK18: =IF(BJ18="x",-2,"") | BM18: Les résultats de mesure des 3 derniers étalonnages sont dans les spécifications | BR18: =IF(BQ18="x",-2,"") | BT18: Les résultats de mesure des 3 derniers étalonnages sont dans les spécifications | BY18: =IF(BX18="x",-2,"")
I19: Les résultats de mesure des 2 derniers étalonnages sont dans les spécifications | N19: =IF(M19="x",-1,"") | P19: Les résultats de mesure des 2 derniers étalonnages sont dans les spécifications | U19: =IF(T19="x",-1,"") | W19: Les résultats de mesure des 2 derniers étalonnages sont dans les spécifications | AB19: =IF(AA19="x",-1,"") | AD19: Les résultats de mesure des 2 derniers étalonnages sont dans les spécifications | AI19: =IF(AH19="x",-1,"") | AK19: Les résultats de mesure des 2 derniers étalonnages sont dans les spécifications | AP19: =IF(AO19="x",-1,"") | AR19: Les résultats de mesure des 2 derniers étalonnages sont dans les spécifications | AW19: =IF(AV19="x",-1,"") | AY19: Les résultats de mesure des 2 derniers étalonnages sont dans les spécifications | BD19: =IF(BC19="x",-1,"") | BF19: Les résultats de mesure des 2 derniers étalonnages sont dans les spécifications | BK19: =IF(BJ19="x",-1,"") | BM19: Les résultats de mesure des 2 derniers étalonnages sont dans les spécifications | BR19: =IF(BQ19="x",-1,"") | BT19: Les résultats de mesure des 2 derniers étalonnages sont dans les spécifications | BY19: =IF(BX19="x",-1,"")
I20: Les résultats de mesure du dernier étalonnage sont dans les spécifications | N20: =IF(M20="x",0,"") | P20: Les résultats de mesure du dernier étalonnage sont dans les spécifications | U20: =IF(T20="x",0,"") | W20: Les résultats de mesure du dernier étalonnage sont dans les spécifications | AB20: =IF(AA20="x",0,"") | AD20: Les résultats de mesure du dernier étalonnage sont dans les spécifications | AI20: =IF(AH20="x",0,"") | AK20: Les résultats de mesure du dernier étalonnage sont dans les spécifications | AP20: =IF(AO20="x",0,"") | AR20: Les résultats de mesure du dernier étalonnage sont dans les spécifications | AW20: =IF(AV20="x",0,"") | AY20: Les résultats de mesure du dernier étalonnage sont dans les spécifications | BD20: =IF(BC20="x",0,"") | BF20: Les résultats de mesure du dernier étalonnage sont dans les spécifications | BK20: =IF(BJ20="x",0,"") | BM20: Les résultats de mesure du dernier étalonnage sont dans les spécifications | BR20: =IF(BQ20="x",0,"") | BT20: Les résultats de mesure du dernier étalonnage sont dans les spécifications | BY20: =IF(BX20="x",0,"")
I21: Les résultats de mesure sont à la limite des spécifications (zone de doute) | N21: =IF(M21="x",1,"") | P21: Les résultats de mesure sont à la limite des spécifications (zone de doute) | U21: =IF(T21="x",1,"") | W21: Les résultats de mesure sont à la limite des spécifications (zone de doute) | AB21: =IF(AA21="x",1,"") | AD21: Les résultats de mesure sont à la limite des spécifications (zone de doute) | AI21: =IF(AH21="x",1,"") | AK21: Les résultats de mesure sont à la limite des spécifications (zone de doute) | AP21: =IF(AO21="x",1,"") | AR21: Les résultats de mesure sont à la limite des spécifications (zone de doute) | AW21: =IF(AV21="x",1,"") | AY21: Les résultats de mesure sont à la limite des spécifications (zone de doute) | BD21: =IF(BC21="x",1,"") | BF21: Les résultats de mesure sont à la limite des spécifications (zone de doute) | BK21: =IF(BJ21="x",1,"") | BM21: Les résultats de mesure sont à la limite des spécifications (zone de doute) | BR21: =IF(BQ21="x",1,"") | BT21: Les résultats de mesure sont à la limite des spécifications (zone de doute) | BY21: =IF(BX21="x",1,"")
I22: Un des résultats est en dehors des spécifications | N22: =IF(M22="x",2,"") | P22: Un des résultats est en dehors des spécifications | U22: =IF(T22="x",2,"") | W22: Un des résultats est en dehors des spécifications | AB22: =IF(AA22="x",2,"") | AD22: Un des résultats est en dehors des spécifications | AI22: =IF(AH22="x",2,"") | AK22: Un des résultats est en dehors des spécifications | AP22: =IF(AO22="x",2,"") | AR22: Un des résultats est en dehors des spécifications | AW22: =IF(AV22="x",2,"") | AY22: Un des résultats est en dehors des spécifications | BD22: =IF(BC22="x",2,"") | BF22: Un des résultats est en dehors des spécifications | BK22: =IF(BJ22="x",2,"") | BM22: Un des résultats est en dehors des spécifications | BR22: =IF(BQ22="x",2,"") | BT22: Un des résultats est en dehors des spécifications | BY22: =IF(BX22="x",2,"")
I23: Plusieurs résultats sont en dehors des spécifications | N23: =IF(M23="x",3,"") | P23: Plusieurs résultats sont en dehors des spécifications | U23: =IF(T23="x",3,"") | W23: Plusieurs résultats sont en dehors des spécifications | AB23: =IF(AA23="x",3,"") | AD23: Plusieurs résultats sont en dehors des spécifications | AI23: =IF(AH23="x",3,"") | AK23: Plusieurs résultats sont en dehors des spécifications | AP23: =IF(AO23="x",3,"") | AR23: Plusieurs résultats sont en dehors des spécifications | AW23: =IF(AV23="x",3,"") | AY23: Plusieurs résultats sont en dehors des spécifications | BD23: =IF(BC23="x",3,"") | BF23: Plusieurs résultats sont en dehors des spécifications | BK23: =IF(BJ23="x",3,"") | BM23: Plusieurs résultats sont en dehors des spécifications | BR23: =IF(BQ23="x",3,"") | BT23: Plusieurs résultats sont en dehors des spécifications | BY23: =IF(BX23="x",3,"")
I25: Tableau B : | J25: =SUM(N18:N23) -> 0 | K25: point(s) | P25: Tableau B : | Q25: =SUM(U18:U23) -> 0 | R25: point(s) | W25: Tableau B : | X25: =SUM(AB18:AB23) -> 0 | Y25: point(s) | AD25: Tableau B : | AE25: =SUM(AI18:AI23) -> 0 | AF25: point(s) | AK25: Tableau B : | AL25: =SUM(AP18:AP23) -> 0 | AM25: point(s) | AR25: Tableau B : | AS25: =SUM(AW18:AW23) -> 0 | AT25: point(s) | AY25: Tableau B : | AZ25: =SUM(BD18:BD23) -> 0 | BA25: point(s) | BF25: Tableau B : | BG25: =SUM(BK18:BK23) -> 0 | BH25: point(s) | BM25: Tableau B : | BN25: =SUM(BR18:BR23) -> 0 | BO25: point(s) | BT25: Tableau B : | BU25: =SUM(BY18:BY23) -> 0 | BV25: point(s)
I27: Tableaux A et B : | J27: =J13+J25 -> 0 | K27: point(s) | P27: Tableaux A et B : | Q27: =Q13+Q25 -> 0 | R27: point(s) | W27: Tableaux A et B : | X27: =X13+X25 -> 0 | Y27: point(s) | AD27: Tableaux A et B : | AE27: =AE13+AE25 -> 0 | AF27: point(s) | AK27: Tableaux A et B : | AL27: =AL13+AL25 -> 0 | AM27: point(s) | AR27: Tableaux A et B : | AS27: =AS13+AS25 -> 0 | AT27: point(s) | AY27: Tableaux A et B : | AZ27: =AZ13+AZ25 -> 0 | BA27: point(s) | BF27: Tableaux A et B : | BG27: =BG13+BG25 -> 0 | BH27: point(s) | BM27: Tableaux A et B : | BN27: =BN13+BN25 -> 0 | BO27: point(s) | BT27: Tableaux A et B : | BU27: =BU13+BU25 -> 0 | BV27: point(s)

Sheet TAC 27-1
B2: Table d'autocontrôle : HALL 1 | D2: TAC - | E2: 27 | F2: - 1 | I2: 1 - Dynamomètre | K2: AP-239432 | P2: 2 - Réglet | R2: PO111 | W2: 3 - Courbure tube | Y2: AP-3601-6 | AD2: 4 - … | AF2: … | AK2: 5 - … | AM2: … | AR2: 6 - … | AT2: … | AY2: 7 - ... | BA2: … | BF2: 8 - … | BH2: … | BM2: 9 - ... | BO2: … | BT2: 10 - … | BV2: …
I3: Périodicité : | K3: =IF(ISNA(HLOOKUP(J27,Données!$C4:$O5,2,FALSE)),"... mois",HLOOKUP(J27,Données!$C4:$O5,2,FALSE)) -> ... mois | L3: =IF(J11<>"",$C11,IF(K11<>"",$D11,IF(L11<>"",$E11,IF(M11<>"",$F11,"...")))) -> ... | P3: Périodicité : | R3: =IF(ISNA(HLOOKUP(Q27,Données!$C4:$O5,2,FALSE)),"... mois",HLOOKUP(Q27,Données!$C4:$O5,2,FALSE)) -> ... mois | S3: =IF(Q11<>"",$C11,IF(R11<>"",$D11,IF(S11<>"",$E11,IF(T11<>"",$F11,"...")))) -> ... | W3: Périodicité : | Y3: =IF(ISNA(HLOOKUP(X27,Données!$C4:$O5,2,FALSE)),"... mois",HLOOKUP(X27,Données!$C4:$O5,2,FALSE)) -> ... mois | Z3: =IF(X11<>"",$C11,IF(Y11<>"",$D11,IF(Z11<>"",$E11,IF(AA11<>"",$F11,"...")))) -> ... | AD3: Périodicité : | AF3: =IF(ISNA(HLOOKUP(AE27,Données!$C4:$O5,2,FALSE)),"... mois",HLOOKUP(AE27,Données!$C4:$O5,2,FALSE)) -> ... mois | AG3: =IF(AE11<>"",$C11,IF(AF11<>"",$D11,IF(AG11<>"",$E11,IF(AH11<>"",$F11,"...")))) -> ... | AK3: Périodicité : | AM3: =IF(ISNA(HLOOKUP(AL27,Données!$C4:$O5,2,FALSE)),"... mois",HLOOKUP(AL27,Données!$C4:$O5,2,FALSE)) -> ... mois | AN3: =IF(AL11<>"",$C11,IF(AM11<>"",$D11,IF(AN11<>"",$E11,IF(AO11<>"",$F11,"...")))) -> ... | AR3: Périodicité : | AT3: =IF(ISNA(HLOOKUP(AS27,Données!$C4:$O5,2,FALSE)),"... mois",HLOOKUP(AS27,Données!$C4:$O5,2,FALSE)) -> ... mois | AU3: =IF(AS11<>"",$C11,IF(AT11<>"",$D11,IF(AU11<>"",$E11,IF(AV11<>"",$F11,"...")))) -> ... | AY3: Périodicité : | BA3: =IF(ISNA(HLOOKUP(AZ27,Données!$C4:$O5,2,FALSE)),"... mois",HLOOKUP(AZ27,Données!$C4:$O5,2,FALSE)) -> ... mois | BB3: =IF(AZ11<>"",$C11,IF(BA11<>"",$D11,IF(BB11<>"",$E11,IF(BC11<>"",$F11,"...")))) -> ... | BF3: Périodicité : | BH3: =IF(ISNA(HLOOKUP(BG27,Données!$C4:$O5,2,FALSE)),"... mois",HLOOKUP(BG27,Données!$C4:$O5,2,FALSE)) -> ... mois | BI3: =IF(BG11<>"",$C11,IF(BH11<>"",$D11,IF(BI11<>"",$E11,IF(BJ11<>"",$F11,"...")))) -> ... | BM3: Périodicité : | BO3: =IF(ISNA(HLOOKUP(BN27,Données!$C4:$O5,2,FALSE)),"... mois",HLOOKUP(BN27,Données!$C4:$O5,2,FALSE)) -> ... mois | BP3: =IF(BN11<>"",$C11,IF(BO11<>"",$D11,IF(BP11<>"",$E11,IF(BQ11<>"",$F11,"...")))) -> ... | BT3: Périodicité : | BV3: =IF(ISNA(HLOOKUP(BU27,Données!$C4:$O5,2,FALSE)),"... mois",HLOOKUP(BU27,Données!$C4:$O5,2,FALSE)) -> ... mois | BW3: =IF(BU11<>"",$C11,IF(BV11<>"",$D11,IF(BW11<>"",$E11,IF(BX11<>"",$F11,"...")))) -> ...
B5: Critères (X) | C5: Point | I5: Critères (X) | J5: Point | P5: Critères (X) | Q5: Point | W5: Critères (X) | X5: Point | AD5: Critères (X) | AE5: Point | AK5: Critères (X) | AL5: Point | AR5: Critères (X) | AS5: Point | AY5: Critères (X) | AZ5: Point | BF5: Critères (X) | BG5: Point | BM5: Critères (X) | BN5: Point | BT5: Critères (X) | BU5: Point
C6: 0 | D6: 1 | E6: 2 | F6: 3 | J6: 0 | K6: 1 | L6: 2 | M6: 3 | Q6: 0 | R6: 1 | S6: 2 | T6: 3 | X6: 0 | Y6: 1 | Z6: 2 | AA6: 3 | AE6: 0 | AF6: 1 | AG6: 2 | AH6: 3 | AL6: 0 | AM6: 1 | AN6: 2 | AO6: 3 | AS6: 0 | AT6: 1 | AU6: 2 | AV6: 3 | AZ6: 0 | BA6: 1 | BB6: 2 | BC6: 3 | BG6: 0 | BH6: 1 | BI6: 2 | BJ6: 3 | BN6: 0 | BO6: 1 | BP6: 2 | BQ6: 3 | BU6: 0 | BV6: 1 | BW6: 2 | BX6: 3
B7: Fréquence d'utilisation | C7: Occasionnellement | D7: 1 fois / jour | E7: Plusieurs fois / jour | F7: En permanence | I7: Fréquence d'utilisation | P7: Fréquence d'utilisation | W7: Fréquence d'utilisation | AD7: Fréquence d'utilisation | AK7: Fréquence d'utilisation | AR7: Fréquence d'utilisation | AY7: Fréquence d'utilisation | BF7: Fréquence d'utilisation | BM7: Fréquence d'utilisation | BT7: Fréquence d'utilisation
B8: Lieu d'utilisation | C8: / | D8: Métrologie Laboratoire | E8: Bureaux Local spécifique | F8: Maintenance UP | I8: Lieu d'utilisation | P8: Lieu d'utilisation | W8: Lieu d'utilisation | AD8: Lieu d'utilisation | AK8: Lieu d'utilisation | AR8: Lieu d'utilisation | AY8: Lieu d'utilisation | BF8: Lieu d'utilisation | BM8: Lieu d'utilisation | BT8: Lieu d'utilisation
B9: Risque d'usure | C9: Aucun | D9: Faible | E9: Moyen | F9: Importante | I9: Risque d'usure | P9: Risque d'usure | W9: Risque d'usure | AD9: Risque d'usure | AK9: Risque d'usure | AR9: Risque d'usure | AY9: Risque d'usure | BF9: Risque d'usure | BM9: Risque d'usure | BT9: Risque d'usure
B10: Conséquence d'une mesure erronée | C10: Aucune | D10: Faible Ctrl IPC hors validation | E10: Importante Ctrl de validation | F10: Très importante Contrôle libératoire | I10: Conséquence d'une mesure erronée | P10: Conséquence d'une mesure erronée | W10: Conséquence d'une mesure erronée | AD10: Conséquence d'une mesure erronée | AK10: Conséquence d'une mesure erronée | AR10: Conséquence d'une mesure erronée | AY10: Conséquence d'une mesure erronée | BF10: Conséquence d'une mesure erronée | BM10: Conséquence d'une mesure erronée | BT10: Conséquence d'une mesure erronée
B11: Type de contrôle | C11: Surveillance Entretien | D11: Vérification Interne | E11: Vérification Externe Indirect | F11: Vérification Externe Direct (type COFRAC) | I11: Type de contrôle | P11: Type de contrôle | W11: Type de contrôle | AD11: Type de contrôle | AK11: Type de contrôle | AR11: Type de contrôle | AY11: Type de contrôle | BF11: Type de contrôle | BM11: Type de contrôle | BT11: Type de contrôle
K12: =COUNTIF(K7:K10,"x") -> 0 | L12: =COUNTIF(L7:L10,"x")*2 -> 0 | M12: =COUNTIF(M7:M10,"x")*3 -> 0 | R12: =COUNTIF(R7:R10,"x") -> 0 | S12: =COUNTIF(S7:S10,"x")*2 -> 0 | T12: =COUNTIF(T7:T10,"x")*3 -> 0 | Y12: =COUNTIF(Y7:Y10,"x") -> 0 | Z12: =COUNTIF(Z7:Z10,"x")*2 -> 0 | AA12: =COUNTIF(AA7:AA10,"x")*3 -> 0 | AF12: =COUNTIF(AF7:AF10,"x") -> 0 | AG12: =COUNTIF(AG7:AG10,"x")*2 -> 0 | AH12: =COUNTIF(AH7:AH10,"x")*3 -> 0 | AM12: =COUNTIF(AM7:AM10,"x") -> 0 | AN12: =COUNTIF(AN7:AN10,"x")*2 -> 0 | AO12: =COUNTIF(AO7:AO10,"x")*3 -> 0 | AT12: =COUNTIF(AT7:AT10,"x") -> 0 | AU12: =COUNTIF(AU7:AU10,"x")*2 -> 0 | AV12: =COUNTIF(AV7:AV10,"x")*3 -> 0 | BA12: =COUNTIF(BA7:BA10,"x") -> 0 | BB12: =COUNTIF(BB7:BB10,"x")*2 -> 0 | BC12: =COUNTIF(BC7:BC10,"x")*3 -> 0 | BH12: =COUNTIF(BH7:BH10,"x") -> 0 | BI12: =COUNTIF(BI7:BI10,"x")*2 -> 0 | BJ12: =COUNTIF(BJ7:BJ10,"x")*3 -> 0 | BO12: =COUNTIF(BO7:BO10,"x") -> 0 | BP12: =COUNTIF(BP7:BP10,"x")*2 -> 0 | BQ12: =COUNTIF(BQ7:BQ10,"x")*3 -> 0 | BV12: =COUNTIF(BV7:BV10,"x") -> 0 | BW12: =COUNTIF(BW7:BW10,"x")*2 -> 0 | BX12: =COUNTIF(BX7:BX10,"x")*3 -> 0
I13: Tableau A : | J13: =SUM(K12:M12) -> 0 | K13: point(s) | P13: Tableau A : | Q13: =SUM(R12:T12) -> 0 | R13: point(s) | W13: Tableau A : | X13: =SUM(Y12:AA12) -> 0 | Y13: point(s) | AD13: Tableau A : | AE13: =SUM(AF12:AH12) -> 0 | AF13: point(s) | AK13: Tableau A : | AL13: =SUM(AM12:AO12) -> 0 | AM13: point(s) | AR13: Tableau A : | AS13: =SUM(AT12:AV12) -> 0 | AT13: point(s) | AY13: Tableau A : | AZ13: =SUM(BA12:BC12) -> 0 | BA13: point(s) | BF13: Tableau A : | BG13: =SUM(BH12:BJ12) -> 0 | BH13: point(s) | BM13: Tableau A : | BN13: =SUM(BO12:BQ12) -> 0 | BO13: point(s) | BT13: Tableau A : | BU13: =SUM(BV12:BX12) -> 0 | BV13: point(s)
I15: Historique des données d'étalonnage | P15: Historique des données d'étalonnage | W15: Historique des données d'étalonnage | AD15: Historique des données d'étalonnage | AK15: Historique des données d'étalonnage | AR15: Historique des données d'étalonnage | AY15: Historique des données d'étalonnage | BF15: Historique des données d'étalonnage | BM15: Historique des données d'étalonnage | BT15: Historique des données d'étalonnage
I17: Critères B | M17: Point | P17: Critères B | T17: Point | W17: Critères B | AA17: Point | AD17: Critères B | AH17: Point | AK17: Critères B | AO17: Point | AR17: Critères B | AV17: Point | AY17: Critères B | BC17: Point | BF17: Critères B | BJ17: Point | BM17: Critères B | BQ17: Point | BT17: Critères B | BX17: Point
I18: Les résultats de mesure des 3 derniers étalonnages sont dans les spécifications | N18: =IF(M18="x",-2,"") | P18: Les résultats de mesure des 3 derniers étalonnages sont dans les spécifications | U18: =IF(T18="x",-2,"") | W18: Les résultats de mesure des 3 derniers étalonnages sont dans les spécifications | AB18: =IF(AA18="x",-2,"") | AD18: Les résultats de mesure des 3 derniers étalonnages sont dans les spécifications | AI18: =IF(AH18="x",-2,"") | AK18: Les résultats de mesure des 3 derniers étalonnages sont dans les spécifications | AP18: =IF(AO18="x",-2,"") | AR18: Les résultats de mesure des 3 derniers étalonnages sont dans les spécifications | AW18: =IF(AV18="x",-2,"") | AY18: Les résultats de mesure des 3 derniers étalonnages sont dans les spécifications | BD18: =IF(BC18="x",-2,"") | BF18: Les résultats de mesure des 3 derniers étalonnages sont dans les spécifications | BK18: =IF(BJ18="x",-2,"") | BM18: Les résultats de mesure des 3 derniers étalonnages sont dans les spécifications | BR18: =IF(BQ18="x",-2,"") | BT18: Les résultats de mesure des 3 derniers étalonnages sont dans les spécifications | BY18: =IF(BX18="x",-2,"")
I19: Les résultats de mesure des 2 derniers étalonnages sont dans les spécifications | N19: =IF(M19="x",-1,"") | P19: Les résultats de mesure des 2 derniers étalonnages sont dans les spécifications | U19: =IF(T19="x",-1,"") | W19: Les résultats de mesure des 2 derniers étalonnages sont dans les spécifications | AB19: =IF(AA19="x",-1,"") | AD19: Les résultats de mesure des 2 derniers étalonnages sont dans les spécifications | AI19: =IF(AH19="x",-1,"") | AK19: Les résultats de mesure des 2 derniers étalonnages sont dans les spécifications | AP19: =IF(AO19="x",-1,"") | AR19: Les résultats de mesure des 2 derniers étalonnages sont dans les spécifications | AW19: =IF(AV19="x",-1,"") | AY19: Les résultats de mesure des 2 derniers étalonnages sont dans les spécifications | BD19: =IF(BC19="x",-1,"") | BF19: Les résultats de mesure des 2 derniers étalonnages sont dans les spécifications | BK19: =IF(BJ19="x",-1,"") | BM19: Les résultats de mesure des 2 derniers étalonnages sont dans les spécifications | BR19: =IF(BQ19="x",-1,"") | BT19: Les résultats de mesure des 2 derniers étalonnages sont dans les spécifications | BY19: =IF(BX19="x",-1,"")
I20: Les résultats de mesure du dernier étalonnage sont dans les spécifications | N20: =IF(M20="x",0,"") | P20: Les résultats de mesure du dernier étalonnage sont dans les spécifications | U20: =IF(T20="x",0,"") | W20: Les résultats de mesure du dernier étalonnage sont dans les spécifications | AB20: =IF(AA20="x",0,"") | AD20: Les résultats de mesure du dernier étalonnage sont dans les spécifications | AI20: =IF(AH20="x",0,"") | AK20: Les résultats de mesure du dernier étalonnage sont dans les spécifications | AP20: =IF(AO20="x",0,"") | AR20: Les résultats de mesure du dernier étalonnage sont dans les spécifications | AW20: =IF(AV20="x",0,"") | AY20: Les résultats de mesure du dernier étalonnage sont dans les spécifications | BD20: =IF(BC20="x",0,"") | BF20: Les résultats de mesure du dernier étalonnage sont dans les spécifications | BK20: =IF(BJ20="x",0,"") | BM20: Les résultats de mesure du dernier étalonnage sont dans les spécifications | BR20: =IF(BQ20="x",0,"") | BT20: Les résultats de mesure du dernier étalonnage sont dans les spécifications | BY20: =IF(BX20="x",0,"")
I21: Les résultats de mesure sont à la limite des spécifications (zone de doute) | N21: =IF(M21="x",1,"") | P21: Les résultats de mesure sont à la limite des spécifications (zone de doute) | U21: =IF(T21="x",1,"") | W21: Les résultats de mesure sont à la limite des spécifications (zone de doute) | AB21: =IF(AA21="x",1,"") | AD21: Les résultats de mesure sont à la limite des spécifications (zone de doute) | AI21: =IF(AH21="x",1,"") | AK21: Les résultats de mesure sont à la limite des spécifications (zone de doute) | AP21: =IF(AO21="x",1,"") | AR21: Les résultats de mesure sont à la limite des spécifications (zone de doute) | AW21: =IF(AV21="x",1,"") | AY21: Les résultats de mesure sont à la limite des spécifications (zone de doute) | BD21: =IF(BC21="x",1,"") | BF21: Les résultats de mesure sont à la limite des spécifications (zone de doute) | BK21: =IF(BJ21="x",1,"") | BM21: Les résultats de mesure sont à la limite des spécifications (zone de doute) | BR21: =IF(BQ21="x",1,"") | BT21: Les résultats de mesure sont à la limite des spécifications (zone de doute) | BY21: =IF(BX21="x",1,"")
I22: Un des résultats est en dehors des spécifications | N22: =IF(M22="x",2,"") | P22: Un des résultats est en dehors des spécifications | U22: =IF(T22="x",2,"") | W22: Un des résultats est en dehors des spécifications | AB22: =IF(AA22="x",2,"") | AD22: Un des résultats est en dehors des spécifications | AI22: =IF(AH22="x",2,"") | AK22: Un des résultats est en dehors des spécifications | AP22: =IF(AO22="x",2,"") | AR22: Un des résultats est en dehors des spécifications | AW22: =IF(AV22="x",2,"") | AY22: Un des résultats est en dehors des spécifications | BD22: =IF(BC22="x",2,"") | BF22: Un des résultats est en dehors des spécifications | BK22: =IF(BJ22="x",2,"") | BM22: Un des résultats est en dehors des spécifications | BR22: =IF(BQ22="x",2,"") | BT22: Un des résultats est en dehors des spécifications | BY22: =IF(BX22="x",2,"")
I23: Plusieurs résultats sont en dehors des spécifications | N23: =IF(M23="x",3,"") | P23: Plusieurs résultats sont en dehors des spécifications | U23: =IF(T23="x",3,"") | W23: Plusieurs résultats sont en dehors des spécifications | AB23: =IF(AA23="x",3,"") | AD23: Plusieurs résultats sont en dehors des spécifications | AI23: =IF(AH23="x",3,"") | AK23: Plusieurs résultats sont en dehors des spécifications | AP23: =IF(AO23="x",3,"") | AR23: Plusieurs résultats sont en dehors des spécifications | AW23: =IF(AV23="x",3,"") | AY23: Plusieurs résultats sont en dehors des spécifications | BD23: =IF(BC23="x",3,"") | BF23: Plusieurs résultats sont en dehors des spécifications | BK23: =IF(BJ23="x",3,"") | BM23: Plusieurs résultats sont en dehors des spécifications | BR23: =IF(BQ23="x",3,"") | BT23: Plusieurs résultats sont en dehors des spécifications | BY23: =IF(BX23="x",3,"")
I25: Tableau B : | J25: =SUM(N18:N23) -> 0 | K25: point(s) | P25: Tableau B : | Q25: =SUM(U18:U23) -> 0 | R25: point(s) | W25: Tableau B : | X25: =SUM(AB18:AB23) -> 0 | Y25: point(s) | AD25: Tableau B : | AE25: =SUM(AI18:AI23) -> 0 | AF25: point(s) | AK25: Tableau B : | AL25: =SUM(AP18:AP23) -> 0 | AM25: point(s) | AR25: Tableau B : | AS25: =SUM(AW18:AW23) -> 0 | AT25: point(s) | AY25: Tableau B : | AZ25: =SUM(BD18:BD23) -> 0 | BA25: point(s) | BF25: Tableau B : | BG25: =SUM(BK18:BK23) -> 0 | BH25: point(s) | BM25: Tableau B : | BN25: =SUM(BR18:BR23) -> 0 | BO25: point(s) | BT25: Tableau B : | BU25: =SUM(BY18:BY23) -> 0 | BV25: point(s)
I27: Tableaux A et B : | J27: =J13+J25 -> 0 | K27: point(s) | P27: Tableaux A et B : | Q27: =Q13+Q25 -> 0 | R27: point(s) | W27: Tableaux A et B : | X27: =X13+X25 -> 0 | Y27: point(s) | AD27: Tableaux A et B : | AE27: =AE13+AE25 -> 0 | AF27: point(s) | AK27: Tableaux A et B : | AL27: =AL13+AL25 -> 0 | AM27: point(s) | AR27: Tableaux A et B : | AS27: =AS13+AS25 -> 0 | AT27: point(s) | AY27: Tableaux A et B : | AZ27: =AZ13+AZ25 -> 0 | BA27: point(s) | BF27: Tableaux A et B : | BG27: =BG13+BG25 -> 0 | BH27: point(s) | BM27: Tableaux A et B : | BN27: =BN13+BN25 -> 0 | BO27: point(s) | BT27: Tableaux A et B : | BU27: =BU13+BU25 -> 0 | BV27: point(s)

Sheet TAC 55-1
B2: Table d'autocontrôle : HALL 1 | D2: TAC - | E2: 55 | F2: - 1 | I2: 1 - Dynamomètre | K2: PO-123070 | P2: 2 - Réglet | R2: CT67 | W2: 3 - Courbure tube | Y2: AP-3601-7 | AD2: 4 - … | AF2: … | AK2: 5 - … | AM2: … | AR2: 6 - … | AT2: … | AY2: 7 - ... | BA2: … | BF2: 8 - … | BH2: … | BM2: 9 - ... | BO2: … | BT2: 10 - … | BV2: …
I3: Périodicité : | K3: =IF(ISNA(HLOOKUP(J27,Données!$C4:$O5,2,FALSE)),"... mois",HLOOKUP(J27,Données!$C4:$O5,2,FALSE)) -> ... mois | L3: =IF(J11<>"",$C11,IF(K11<>"",$D11,IF(L11<>"",$E11,IF(M11<>"",$F11,"...")))) -> ... | P3: Périodicité : | R3: =IF(ISNA(HLOOKUP(Q27,Données!$C4:$O5,2,FALSE)),"... mois",HLOOKUP(Q27,Données!$C4:$O5,2,FALSE)) -> ... mois | S3: =IF(Q11<>"",$C11,IF(R11<>"",$D11,IF(S11<>"",$E11,IF(T11<>"",$F11,"...")))) -> ... | W3: Périodicité : | Y3: =IF(ISNA(HLOOKUP(X27,Données!$C4:$O5,2,FALSE)),"... mois",HLOOKUP(X27,Données!$C4:$O5,2,FALSE)) -> ... mois | Z3: =IF(X11<>"",$C11,IF(Y11<>"",$D11,IF(Z11<>"",$E11,IF(AA11<>"",$F11,"...")))) -> ... | AD3: Périodicité : | AF3: =IF(ISNA(HLOOKUP(AE27,Données!$C4:$O5,2,FALSE)),"... mois",HLOOKUP(AE27,Données!$C4:$O5,2,FALSE)) -> ... mois | AG3: =IF(AE11<>"",$C11,IF(AF11<>"",$D11,IF(AG11<>"",$E11,IF(AH11<>"",$F11,"...")))) -> ... | AK3: Périodicité : | AM3: =IF(ISNA(HLOOKUP(AL27,Données!$C4:$O5,2,FALSE)),"... mois",HLOOKUP(AL27,Données!$C4:$O5,2,FALSE)) -> ... mois | AN3: =IF(AL11<>"",$C11,IF(AM11<>"",$D11,IF(AN11<>"",$E11,IF(AO11<>"",$F11,"...")))) -> ... | AR3: Périodicité : | AT3: =IF(ISNA(HLOOKUP(AS27,Données!$C4:$O5,2,FALSE)),"... mois",HLOOKUP(AS27,Données!$C4:$O5,2,FALSE)) -> ... mois | AU3: =IF(AS11<>"",$C11,IF(AT11<>"",$D11,IF(AU11<>"",$E11,IF(AV11<>"",$F11,"...")))) -> ... | AY3: Périodicité : | BA3: =IF(ISNA(HLOOKUP(AZ27,Données!$C4:$O5,2,FALSE)),"... mois",HLOOKUP(AZ27,Données!$C4:$O5,2,FALSE)) -> ... mois | BB3: =IF(AZ11<>"",$C11,IF(BA11<>"",$D11,IF(BB11<>"",$E11,IF(BC11<>"",$F11,"...")))) -> ... | BF3: Périodicité : | BH3: =IF(ISNA(HLOOKUP(BG27,Données!$C4:$O5,2,FALSE)),"... mois",HLOOKUP(BG27,Données!$C4:$O5,2,FALSE)) -> ... mois | BI3: =IF(BG11<>"",$C11,IF(BH11<>"",$D11,IF(BI11<>"",$E11,IF(BJ11<>"",$F11,"...")))) -> ... | BM3: Périodicité : | BO3: =IF(ISNA(HLOOKUP(BN27,Données!$C4:$O5,2,FALSE)),"... mois",HLOOKUP(BN27,Données!$C4:$O5,2,FALSE)) -> ... mois | BP3: =IF(BN11<>"",$C11,IF(BO11<>"",$D11,IF(BP11<>"",$E11,IF(BQ11<>"",$F11,"...")))) -> ... | BT3: Périodicité : | BV3: =IF(ISNA(HLOOKUP(BU27,Données!$C4:$O5,2,FALSE)),"... mois",HLOOKUP(BU27,Données!$C4:$O5,2,FALSE)) -> ... mois | BW3: =IF(BU11<>"",$C11,IF(BV11<>"",$D11,IF(BW11<>"",$E11,IF(BX11<>"",$F11,"...")))) -> ...
B5: Critères (X) | C5: Point | I5: Critères (X) | J5: Point | P5: Critères (X) | Q5: Point | W5: Critères (X) | X5: Point | AD5: Critères (X) | AE5: Point | AK5: Critères (X) | AL5: Point | AR5: Critères (X) | AS5: Point | AY5: Critères (X) | AZ5: Point | BF5: Critères (X) | BG5: Point | BM5: Critères (X) | BN5: Point | BT5: Critères (X) | BU5: Point
C6: 0 | D6: 1 | E6: 2 | F6: 3 | J6: 0 | K6: 1 | L6: 2 | M6: 3 | Q6: 0 | R6: 1 | S6: 2 | T6: 3 | X6: 0 | Y6: 1 | Z6: 2 | AA6: 3 | AE6: 0 | AF6: 1 | AG6: 2 | AH6: 3 | AL6: 0 | AM6: 1 | AN6: 2 | AO6: 3 | AS6: 0 | AT6: 1 | AU6: 2 | AV6: 3 | AZ6: 0 | BA6: 1 | BB6: 2 | BC6: 3 | BG6: 0 | BH6: 1 | BI6: 2 | BJ6: 3 | BN6: 0 | BO6: 1 | BP6: 2 | BQ6: 3 | BU6: 0 | BV6: 1 | BW6: 2 | BX6: 3
B7: Fréquence d'utilisation | C7: Occasionnellement | D7: 1 fois / jour | E7: Plusieurs fois / jour | F7: En permanence | I7: Fréquence d'utilisation | P7: Fréquence d'utilisation | W7: Fréquence d'utilisation | AD7: Fréquence d'utilisation | AK7: Fréquence d'utilisation | AR7: Fréquence d'utilisation | AY7: Fréquence d'utilisation | BF7: Fréquence d'utilisation | BM7: Fréquence d'utilisation | BT7: Fréquence d'utilisation
B8: Lieu d'utilisation | C8: / | D8: Métrologie Laboratoire | E8: Bureaux Local spécifique | F8: Maintenance UP | I8: Lieu d'utilisation | P8: Lieu d'utilisation | W8: Lieu d'utilisation | AD8: Lieu d'utilisation | AK8: Lieu d'utilisation | AR8: Lieu d'utilisation | AY8: Lieu d'utilisation | BF8: Lieu d'utilisation | BM8: Lieu d'utilisation | BT8: Lieu d'utilisation
B9: Risque d'usure | C9: Aucun | D9: Faible | E9: Moyen | F9: Importante | I9: Risque d'usure | P9: Risque d'usure | W9: Risque d'usure | AD9: Risque d'usure | AK9: Risque d'usure | AR9: Risque d'usure | AY9: Risque d'usure | BF9: Risque d'usure | BM9: Risque d'usure | BT9: Risque d'usure
B10: Conséquence d'une mesure erronée | C10: Aucune | D10: Faible Ctrl IPC hors validation | E10: Importante Ctrl de validation | F10: Très importante Contrôle libératoire | I10: Conséquence d'une mesure erronée | P10: Conséquence d'une mesure erronée | W10: Conséquence d'une mesure erronée | AD10: Conséquence d'une mesure erronée | AK10: Conséquence d'une mesure erronée | AR10: Conséquence d'une mesure erronée | AY10: Conséquence d'une mesure erronée | BF10: Conséquence d'une mesure erronée | BM10: Conséquence d'une mesure erronée | BT10: Conséquence d'une mesure erronée
B11: Type de contrôle | C11: Surveillance Entretien | D11: Vérification Interne | E11: Vérification Externe Indirect | F11: Vérification Externe Direct (type COFRAC) | I11: Type de contrôle | P11: Type de contrôle | W11: Type de contrôle | AD11: Type de contrôle | AK11: Type de contrôle | AR11: Type de contrôle | AY11: Type de contrôle | BF11: Type de contrôle | BM11: Type de contrôle | BT11: Type de contrôle
K12: =COUNTIF(K7:K10,"x") -> 0 | L12: =COUNTIF(L7:L10,"x")*2 -> 0 | M12: =COUNTIF(M7:M10,"x")*3 -> 0 | R12: =COUNTIF(R7:R10,"x") -> 0 | S12: =COUNTIF(S7:S10,"x")*2 -> 0 | T12: =COUNTIF(T7:T10,"x")*3 -> 0 | Y12: =COUNTIF(Y7:Y10,"x") -> 0 | Z12: =COUNTIF(Z7:Z10,"x")*2 -> 0 | AA12: =COUNTIF(AA7:AA10,"x")*3 -> 0 | AF12: =COUNTIF(AF7:AF10,"x") -> 0 | AG12: =COUNTIF(AG7:AG10,"x")*2 -> 0 | AH12: =COUNTIF(AH7:AH10,"x")*3 -> 0 | AM12: =COUNTIF(AM7:AM10,"x") -> 0 | AN12: =COUNTIF(AN7:AN10,"x")*2 -> 0 | AO12: =COUNTIF(AO7:AO10,"x")*3 -> 0 | AT12: =COUNTIF(AT7:AT10,"x") -> 0 | AU12: =COUNTIF(AU7:AU10,"x")*2 -> 0 | AV12: =COUNTIF(AV7:AV10,"x")*3 -> 0 | BA12: =COUNTIF(BA7:BA10,"x") -> 0 | BB12: =COUNTIF(BB7:BB10,"x")*2 -> 0 | BC12: =COUNTIF(BC7:BC10,"x")*3 -> 0 | BH12: =COUNTIF(BH7:BH10,"x") -> 0 | BI12: =COUNTIF(BI7:BI10,"x")*2 -> 0 | BJ12: =COUNTIF(BJ7:BJ10,"x")*3 -> 0 | BO12: =COUNTIF(BO7:BO10,"x") -> 0 | BP12: =COUNTIF(BP7:BP10,"x")*2 -> 0 | BQ12: =COUNTIF(BQ7:BQ10,"x")*3 -> 0 | BV12: =COUNTIF(BV7:BV10,"x") -> 0 | BW12: =COUNTIF(BW7:BW10,"x")*2 -> 0 | BX12: =COUNTIF(BX7:BX10,"x")*3 -> 0
I13: Tableau A : | J13: =SUM(K12:M12) -> 0 | K13: point(s) | P13: Tableau A : | Q13: =SUM(R12:T12) -> 0 | R13: point(s) | W13: Tableau A : | X13: =SUM(Y12:AA12) -> 0 | Y13: point(s) | AD13: Tableau A : | AE13: =SUM(AF12:AH12) -> 0 | AF13: point(s) | AK13: Tableau A : | AL13: =SUM(AM12:AO12) -> 0 | AM13: point(s) | AR13: Tableau A : | AS13: =SUM(AT12:AV12) -> 0 | AT13: point(s) | AY13: Tableau A : | AZ13: =SUM(BA12:BC12) -> 0 | BA13: point(s) | BF13: Tableau A : | BG13: =SUM(BH12:BJ12) -> 0 | BH13: point(s) | BM13: Tableau A : | BN13: =SUM(BO12:BQ12) -> 0 | BO13: point(s) | BT13: Tableau A : | BU13: =SUM(BV12:BX12) -> 0 | BV13: point(s)
I15: Historique des données d'étalonnage | P15: Historique des données d'étalonnage | W15: Historique des données d'étalonnage | AD15: Historique des données d'étalonnage | AK15: Historique des données d'étalonnage | AR15: Historique des données d'étalonnage | AY15: Historique des données d'étalonnage | BF15: Historique des données d'étalonnage | BM15: Historique des données d'étalonnage | BT15: Historique des données d'étalonnage
I17: Critères B | M17: Point | P17: Critères B | T17: Point | W17: Critères B | AA17: Point | AD17: Critères B | AH17: Point | AK17: Critères B | AO17: Point | AR17: Critères B | AV17: Point | AY17: Critères B | BC17: Point | BF17: Critères B | BJ17: Point | BM17: Critères B | BQ17: Point | BT17: Critères B | BX17: Point
I18: Les résultats de mesure des 3 derniers étalonnages sont dans les spécifications | N18: =IF(M18="x",-2,"") | P18: Les résultats de mesure des 3 derniers étalonnages sont dans les spécifications | U18: =IF(T18="x",-2,"") | W18: Les résultats de mesure des 3 derniers étalonnages sont dans les spécifications | AB18: =IF(AA18="x",-2,"") | AD18: Les résultats de mesure des 3 derniers étalonnages sont dans les spécifications | AI18: =IF(AH18="x",-2,"") | AK18: Les résultats de mesure des 3 derniers étalonnages sont dans les spécifications | AP18: =IF(AO18="x",-2,"") | AR18: Les résultats de mesure des 3 derniers étalonnages sont dans les spécifications | AW18: =IF(AV18="x",-2,"") | AY18: Les résultats de mesure des 3 derniers étalonnages sont dans les spécifications | BD18: =IF(BC18="x",-2,"") | BF18: Les résultats de mesure des 3 derniers étalonnages sont dans les spécifications | BK18: =IF(BJ18="x",-2,"") | BM18: Les résultats de mesure des 3 derniers étalonnages sont dans les spécifications | BR18: =IF(BQ18="x",-2,"") | BT18: Les résultats de mesure des 3 derniers étalonnages sont dans les spécifications | BY18: =IF(BX18="x",-2,"")
I19: Les résultats de mesure des 2 derniers étalonnages sont dans les spécifications | N19: =IF(M19="x",-1,"") | P19: Les résultats de mesure des 2 derniers étalonnages sont dans les spécifications | U19: =IF(T19="x",-1,"") | W19: Les résultats de mesure des 2 derniers étalonnages sont dans les spécifications | AB19: =IF(AA19="x",-1,"") | AD19: Les résultats de mesure des 2 derniers étalonnages sont dans les spécifications | AI19: =IF(AH19="x",-1,"") | AK19: Les résultats de mesure des 2 derniers étalonnages sont dans les spécifications | AP19: =IF(AO19="x",-1,"") | AR19: Les résultats de mesure des 2 derniers étalonnages sont dans les spécifications | AW19: =IF(AV19="x",-1,"") | AY19: Les résultats de mesure des 2 derniers étalonnages sont dans les spécifications | BD19: =IF(BC19="x",-1,"") | BF19: Les résultats de mesure des 2 derniers étalonnages sont dans les spécifications | BK19: =IF(BJ19="x",-1,"") | BM19: Les résultats de mesure des 2 derniers étalonnages sont dans les spécifications | BR19: =IF(BQ19="x",-1,"") | BT19: Les résultats de mesure des 2 derniers étalonnages sont dans les spécifications | BY19: =IF(BX19="x",-1,"")
I20: Les résultats de mesure du dernier étalonnage sont dans les spécifications | N20: =IF(M20="x",0,"") | P20: Les résultats de mesure du dernier étalonnage sont dans les spécifications | U20: =IF(T20="x",0,"") | W20: Les résultats de mesure du dernier étalonnage sont dans les spécifications | AB20: =IF(AA20="x",0,"") | AD20: Les résultats de mesure du dernier étalonnage sont dans les spécifications | AI20: =IF(AH20="x",0,"") | AK20: Les résultats de mesure du dernier étalonnage sont dans les spécifications | AP20: =IF(AO20="x",0,"") | AR20: Les résultats de mesure du dernier étalonnage sont dans les spécifications | AW20: =IF(AV20="x",0,"") | AY20: Les résultats de mesure du dernier étalonnage sont dans les spécifications | BD20: =IF(BC20="x",0,"") | BF20: Les résultats de mesure du dernier étalonnage sont dans les spécifications | BK20: =IF(BJ20="x",0,"") | BM20: Les résultats de mesure du dernier étalonnage sont dans les spécifications | BR20: =IF(BQ20="x",0,"") | BT20: Les résultats de mesure du dernier étalonnage sont dans les spécifications | BY20: =IF(BX20="x",0,"")
I21: Les résultats de mesure sont à la limite des spécifications (zone de doute) | N21: =IF(M21="x",1,"") | P21: Les résultats de mesure sont à la limite des spécifications (zone de doute) | U21: =IF(T21="x",1,"") | W21: Les résultats de mesure sont à la limite des spécifications (zone de doute) | AB21: =IF(AA21="x",1,"") | AD21: Les résultats de mesure sont à la limite des spécifications (zone de doute) | AI21: =IF(AH21="x",1,"") | AK21: Les résultats de mesure sont à la limite des spécifications (zone de doute) | AP21: =IF(AO21="x",1,"") | AR21: Les résultats de mesure sont à la limite des spécifications (zone de doute) | AW21: =IF(AV21="x",1,"") | AY21: Les résultats de mesure sont à la limite des spécifications (zone de doute) | BD21: =IF(BC21="x",1,"") | BF21: Les résultats de mesure sont à la limite des spécifications (zone de doute) | BK21: =IF(BJ21="x",1,"") | BM21: Les résultats de mesure sont à la limite des spécifications (zone de doute) | BR21: =IF(BQ21="x",1,"") | BT21: Les résultats de mesure sont à la limite des spécifications (zone de doute) | BY21: =IF(BX21="x",1,"")
I22: Un des résultats est en dehors des spécifications | N22: =IF(M22="x",2,"") | P22: Un des résultats est en dehors des spécifications | U22: =IF(T22="x",2,"") | W22: Un des résultats est en dehors des spécifications | AB22: =IF(AA22="x",2,"") | AD22: Un des résultats est en dehors des spécifications | AI22: =IF(AH22="x",2,"") | AK22: Un des résultats est en dehors des spécifications | AP22: =IF(AO22="x",2,"") | AR22: Un des résultats est en dehors des spécifications | AW22: =IF(AV22="x",2,"") | AY22: Un des résultats est en dehors des spécifications | BD22: =IF(BC22="x",2,"") | BF22: Un des résultats est en dehors des spécifications | BK22: =IF(BJ22="x",2,"") | BM22: Un des résultats est en dehors des spécifications | BR22: =IF(BQ22="x",2,"") | BT22: Un des résultats est en dehors des spécifications | BY22: =IF(BX22="x",2,"")
I23: Plusieurs résultats sont en dehors des spécifications | N23: =IF(M23="x",3,"") | P23: Plusieurs résultats sont en dehors des spécifications | U23: =IF(T23="x",3,"") | W23: Plusieurs résultats sont en dehors des spécifications | AB23: =IF(AA23="x",3,"") | AD23: Plusieurs résultats sont en dehors des spécifications | AI23: =IF(AH23="x",3,"") | AK23: Plusieurs résultats sont en dehors des spécifications | AP23: =IF(AO23="x",3,"") | AR23: Plusieurs résultats sont en dehors des spécifications | AW23: =IF(AV23="x",3,"") | AY23: Plusieurs résultats sont en dehors des spécifications | BD23: =IF(BC23="x",3,"") | BF23: Plusieurs résultats sont en dehors des spécifications | BK23: =IF(BJ23="x",3,"") | BM23: Plusieurs résultats sont en dehors des spécifications | BR23: =IF(BQ23="x",3,"") | BT23: Plusieurs résultats sont en dehors des spécifications | BY23: =IF(BX23="x",3,"")
I25: Tableau B : | J25: =SUM(N18:N23) -> 0 | K25: point(s) | P25: Tableau B : | Q25: =SUM(U18:U23) -> 0 | R25: point(s) | W25: Tableau B : | X25: =SUM(AB18:AB23) -> 0 | Y25: point(s) | AD25: Tableau B : | AE25: =SUM(AI18:AI23) -> 0 | AF25: point(s) | AK25: Tableau B : | AL25: =SUM(AP18:AP23) -> 0 | AM25: point(s) | AR25: Tableau B : | AS25: =SUM(AW18:AW23) -> 0 | AT25: point(s) | AY25: Tableau B : | AZ25: =SUM(BD18:BD23) -> 0 | BA25: point(s) | BF25: Tableau B : | BG25: =SUM(BK18:BK23) -> 0 | BH25: point(s) | BM25: Tableau B : | BN25: =SUM(BR18:BR23) -> 0 | BO25: point(s) | BT25: Tableau B : | BU25: =SUM(BY18:BY23) -> 0 | BV25: point(s)
I27: Tableaux A et B : | J27: =J13+J25 -> 0 | K27: point(s) | P27: Tableaux A et B : | Q27: =Q13+Q25 -> 0 | R27: point(s) | W27: Tableaux A et B : | X27: =X13+X25 -> 0 | Y27: point(s) | AD27: Tableaux A et B : | AE27: =AE13+AE25 -> 0 | AF27: point(s) | AK27: Tableaux A et B : | AL27: =AL13+AL25 -> 0 | AM27: point(s) | AR27: Tableaux A et B : | AS27: =AS13+AS25 -> 0 | AT27: point(s) | AY27: Tableaux A et B : | AZ27: =AZ13+AZ25 -> 0 | BA27: point(s) | BF27: Tableaux A et B : | BG27: =BG13+BG25 -> 0 | BH27: point(s) | BM27: Tableaux A et B : | BN27: =BN13+BN25 -> 0 | BO27: point(s) | BT27: Tableaux A et B : | BU27: =BU13+BU25 -> 0 | BV27: point(s)

Sheet TAC 184-1
B2: Table d'autocontrôle : HALL 1 | D2: TAC - | E2: 184 | F2: - 1 | I2: 1 - Réglet | K2: CRP01 | P2: 2 - … | R2: … | W2: 3 - … | Y2: … | AD2: 4 - … | AF2: … | AK2: 5 - … | AM2: … | AR2: 6 - … | AT2: … | AY2: 7 - … | BA2: … | BF2: 8 - … | BH2: … | BM2: 9 - … | BO2: … | BT2: 10 - … | BV2: …
I3: Périodicité : | K3: =IF(ISNA(HLOOKUP(J27,Données!$C4:$O5,2,FALSE)),"... mois",HLOOKUP(J27,Données!$C4:$O5,2,FALSE)) -> ... mois | L3: =IF(J11<>"",$C11,IF(K11<>"",$D11,IF(L11<>"",$E11,IF(M11<>"",$F11,"...")))) -> ... | P3: Périodicité : | R3: =IF(ISNA(HLOOKUP(Q27,Données!$C4:$O5,2,FALSE)),"... mois",HLOOKUP(Q27,Données!$C4:$O5,2,FALSE)) -> ... mois | S3: =IF(Q11<>"",$C11,IF(R11<>"",$D11,IF(S11<>"",$E11,IF(T11<>"",$F11,"...")))) -> ... | W3: Périodicité : | Y3: =IF(ISNA(HLOOKUP(X27,Données!$C4:$O5,2,FALSE)),"... mois",HLOOKUP(X27,Données!$C4:$O5,2,FALSE)) -> ... mois | Z3: =IF(X11<>"",$C11,IF(Y11<>"",$D11,IF(Z11<>"",$E11,IF(AA11<>"",$F11,"...")))) -> ... | AD3: Périodicité : | AF3: =IF(ISNA(HLOOKUP(AE27,Données!$C4:$O5,2,FALSE)),"... mois",HLOOKUP(AE27,Données!$C4:$O5,2,FALSE)) -> ... mois | AG3: =IF(AE11<>"",$C11,IF(AF11<>"",$D11,IF(AG11<>"",$E11,IF(AH11<>"",$F11,"...")))) -> ... | AK3: Périodicité : | AM3: =IF(ISNA(HLOOKUP(AL27,Données!$C4:$O5,2,FALSE)),"... mois",HLOOKUP(AL27,Données!$C4:$O5,2,FALSE)) -> ... mois | AN3: =IF(AL11<>"",$C11,IF(AM11<>"",$D11,IF(AN11<>"",$E11,IF(AO11<>"",$F11,"...")))) -> ... | AR3: Périodicité : | AT3: =IF(ISNA(HLOOKUP(AS27,Données!$C4:$O5,2,FALSE)),"... mois",HLOOKUP(AS27,Données!$C4:$O5,2,FALSE)) -> ... mois | AU3: =IF(AS11<>"",$C11,IF(AT11<>"",$D11,IF(AU11<>"",$E11,IF(AV11<>"",$F11,"...")))) -> ... | AY3: Périodicité : | BA3: =IF(ISNA(HLOOKUP(AZ27,Données!$C4:$O5,2,FALSE)),"... mois",HLOOKUP(AZ27,Données!$C4:$O5,2,FALSE)) -> ... mois | BB3: =IF(AZ11<>"",$C11,IF(BA11<>"",$D11,IF(BB11<>"",$E11,IF(BC11<>"",$F11,"...")))) -> ... | BF3: Périodicité : | BH3: =IF(ISNA(HLOOKUP(BG27,Données!$C4:$O5,2,FALSE)),"... mois",HLOOKUP(BG27,Données!$C4:$O5,2,FALSE)) -> ... mois | BI3: =IF(BG11<>"",$C11,IF(BH11<>"",$D11,IF(BI11<>"",$E11,IF(BJ11<>"",$F11,"...")))) -> ... | BM3: Périodicité : | BO3: =IF(ISNA(HLOOKUP(BN27,Données!$C4:$O5,2,FALSE)),"... mois",HLOOKUP(BN27,Données!$C4:$O5,2,FALSE)) -> ... mois | BP3: =IF(BN11<>"",$C11,IF(BO11<>"",$D11,IF(BP11<>"",$E11,IF(BQ11<>"",$F11,"...")))) -> ... | BT3: Périodicité : | BV3: =IF(ISNA(HLOOKUP(BU27,Données!$C4:$O5,2,FALSE)),"... mois",HLOOKUP(BU27,Données!$C4:$O5,2,FALSE)) -> ... mois | BW3: =IF(BU11<>"",$C11,IF(BV11<>"",$D11,IF(BW11<>"",$E11,IF(BX11<>"",$F11,"...")))) -> ...
B5: Critères (X) | C5: Point | I5: Critères (X) | J5: Point | P5: Critères (X) | Q5: Point | W5: Critères (X) | X5: Point | AD5: Critères (X) | AE5: Point | AK5: Critères (X) | AL5: Point | AR5: Critères (X) | AS5: Point | AY5: Critères (X) | AZ5: Point | BF5: Critères (X) | BG5: Point | BM5: Critères (X) | BN5: Point | BT5: Critères (X) | BU5: Point
C6: 0 | D6: 1 | E6: 2 | F6: 3 | J6: 0 | K6: 1 | L6: 2 | M6: 3 | Q6: 0 | R6: 1 | S6: 2 | T6: 3 | X6: 0 | Y6: 1 | Z6: 2 | AA6: 3 | AE6: 0 | AF6: 1 | AG6: 2 | AH6: 3 | AL6: 0 | AM6: 1 | AN6: 2 | AO6: 3 | AS6: 0 | AT6: 1 | AU6: 2 | AV6: 3 | AZ6: 0 | BA6: 1 | BB6: 2 | BC6: 3 | BG6: 0 | BH6: 1 | BI6: 2 | BJ6: 3 | BN6: 0 | BO6: 1 | BP6: 2 | BQ6: 3 | BU6: 0 | BV6: 1 | BW6: 2 | BX6: 3
B7: Fréquence d'utilisation | C7: Occasionnellement | D7: 1 fois / jour | E7: Plusieurs fois / jour | F7: En permanence | I7: Fréquence d'utilisation | P7: Fréquence d'utilisation | W7: Fréquence d'utilisation | AD7: Fréquence d'utilisation | AK7: Fréquence d'utilisation | AR7: Fréquence d'utilisation | AY7: Fréquence d'utilisation | BF7: Fréquence d'utilisation | BM7: Fréquence d'utilisation | BT7: Fréquence d'utilisation
B8: Lieu d'utilisation | C8: / | D8: Métrologie Laboratoire | E8: Bureaux Local spécifique | F8: Maintenance UP | I8: Lieu d'utilisation | P8: Lieu d'utilisation | W8: Lieu d'utilisation | AD8: Lieu d'utilisation | AK8: Lieu d'utilisation | AR8: Lieu d'utilisation | AY8: Lieu d'utilisation | BF8: Lieu d'utilisation | BM8: Lieu d'utilisation | BT8: Lieu d'utilisation
B9: Risque d'usure | C9: Aucun | D9: Faible | E9: Moyen | F9: Importante | I9: Risque d'usure | P9: Risque d'usure | W9: Risque d'usure | AD9: Risque d'usure | AK9: Risque d'usure | AR9: Risque d'usure | AY9: Risque d'usure | BF9: Risque d'usure | BM9: Risque d'usure | BT9: Risque d'usure
B10: Conséquence d'une mesure erronée | C10: Aucune | D10: Faible Ctrl IPC hors validation | E10: Importante Ctrl de validation | F10: Très importante Contrôle libératoire | I10: Conséquence d'une mesure erronée | P10: Conséquence d'une mesure erronée | W10: Conséquence d'une mesure erronée | AD10: Conséquence d'une mesure erronée | AK10: Conséquence d'une mesure erronée | AR10: Conséquence d'une mesure erronée | AY10: Conséquence d'une mesure erronée | BF10: Conséquence d'une mesure erronée | BM10: Conséquence d'une mesure erronée | BT10: Conséquence d'une mesure erronée
B11: Type de contrôle | C11: Surveillance Entretien | D11: Vérification Interne | E11: Vérification Externe Indirect | F11: Vérification Externe Direct (type COFRAC) | I11: Type de contrôle | P11: Type de contrôle | W11: Type de contrôle | AD11: Type de contrôle | AK11: Type de contrôle | AR11: Type de contrôle | AY11: Type de contrôle | BF11: Type de contrôle | BM11: Type de contrôle | BT11: Type de contrôle
K12: =COUNTIF(K7:K10,"x") -> 0 | L12: =COUNTIF(L7:L10,"x")*2 -> 0 | M12: =COUNTIF(M7:M10,"x")*3 -> 0 | R12: =COUNTIF(R7:R10,"x") -> 0 | S12: =COUNTIF(S7:S10,"x")*2 -> 0 | T12: =COUNTIF(T7:T10,"x")*3 -> 0 | Y12: =COUNTIF(Y7:Y10,"x") -> 0 | Z12: =COUNTIF(Z7:Z10,"x")*2 -> 0 | AA12: =COUNTIF(AA7:AA10,"x")*3 -> 0 | AF12: =COUNTIF(AF7:AF10,"x") -> 0 | AG12: =COUNTIF(AG7:AG10,"x")*2 -> 0 | AH12: =COUNTIF(AH7:AH10,"x")*3 -> 0 | AM12: =COUNTIF(AM7:AM10,"x") -> 0 | AN12: =COUNTIF(AN7:AN10,"x")*2 -> 0 | AO12: =COUNTIF(AO7:AO10,"x")*3 -> 0 | AT12: =COUNTIF(AT7:AT10,"x") -> 0 | AU12: =COUNTIF(AU7:AU10,"x")*2 -> 0 | AV12: =COUNTIF(AV7:AV10,"x")*3 -> 0 | BA12: =COUNTIF(BA7:BA10,"x") -> 0 | BB12: =COUNTIF(BB7:BB10,"x")*2 -> 0 | BC12: =COUNTIF(BC7:BC10,"x")*3 -> 0 | BH12: =COUNTIF(BH7:BH10,"x") -> 0 | BI12: =COUNTIF(BI7:BI10,"x")*2 -> 0 | BJ12: =COUNTIF(BJ7:BJ10,"x")*3 -> 0 | BO12: =COUNTIF(BO7:BO10,"x") -> 0 | BP12: =COUNTIF(BP7:BP10,"x")*2 -> 0 | BQ12: =COUNTIF(BQ7:BQ10,"x")*3 -> 0 | BV12: =COUNTIF(BV7:BV10,"x") -> 0 | BW12: =COUNTIF(BW7:BW10,"x")*2 -> 0 | BX12: =COUNTIF(BX7:BX10,"x")*3 -> 0
I13: Tableau A : | J13: =SUM(K12:M12) -> 0 | K13: point(s) | P13: Tableau A : | Q13: =SUM(R12:T12) -> 0 | R13: point(s) | W13: Tableau A : | X13: =SUM(Y12:AA12) -> 0 | Y13: point(s) | AD13: Tableau A : | AE13: =SUM(AF12:AH12) -> 0 | AF13: point(s) | AK13: Tableau A : | AL13: =SUM(AM12:AO12) -> 0 | AM13: point(s) | AR13: Tableau A : | AS13: =SUM(AT12:AV12) -> 0 | AT13: point(s) | AY13: Tableau A : | AZ13: =SUM(BA12:BC12) -> 0 | BA13: point(s) | BF13: Tableau A : | BG13: =SUM(BH12:BJ12) -> 0 | BH13: point(s) | BM13: Tableau A : | BN13: =SUM(BO12:BQ12) -> 0 | BO13: point(s) | BT13: Tableau A : | BU13: =SUM(BV12:BX12) -> 0 | BV13: point(s)
I15: Historique des données d'étalonnage | P15: Historique des données d'étalonnage | W15: Historique des données d'étalonnage | AD15: Historique des données d'étalonnage | AK15: Historique des données d'étalonnage | AR15: Historique des données d'étalonnage | AY15: Historique des données d'étalonnage | BF15: Historique des données d'étalonnage | BM15: Historique des données d'étalonnage | BT15: Historique des données d'étalonnage
I17: Critères B | M17: Point | P17: Critères B | T17: Point | W17: Critères B | AA17: Point | AD17: Critères B | AH17: Point | AK17: Critères B | AO17: Point | AR17: Critères B | AV17: Point | AY17: Critères B | BC17: Point | BF17: Critères B | BJ17: Point | BM17: Critères B | BQ17: Point | BT17: Critères B | BX17: Point
I18: Les résultats de mesure des 3 derniers étalonnages sont dans les spécifications | N18: =IF(M18="x",-2,"") | P18: Les résultats de mesure des 3 derniers étalonnages sont dans les spécifications | U18: =IF(T18="x",-2,"") | W18: Les résultats de mesure des 3 derniers étalonnages sont dans les spécifications | AB18: =IF(AA18="x",-2,"") | AD18: Les résultats de mesure des 3 derniers étalonnages sont dans les spécifications | AI18: =IF(AH18="x",-2,"") | AK18: Les résultats de mesure des 3 derniers étalonnages sont dans les spécifications | AP18: =IF(AO18="x",-2,"") | AR18: Les résultats de mesure des 3 derniers étalonnages sont dans les spécifications | AW18: =IF(AV18="x",-2,"") | AY18: Les résultats de mesure des 3 derniers étalonnages sont dans les spécifications | BD18: =IF(BC18="x",-2,"") | BF18: Les résultats de mesure des 3 derniers étalonnages sont dans les spécifications | BK18: =IF(BJ18="x",-2,"") | BM18: Les résultats de mesure des 3 derniers étalonnages sont dans les spécifications | BR18: =IF(BQ18="x",-2,"") | BT18: Les résultats de mesure des 3 derniers étalonnages sont dans les spécifications | BY18: =IF(BX18="x",-2,"")
I19: Les résultats de mesure des 2 derniers étalonnages sont dans les spécifications | N19: =IF(M19="x",-1,"") | P19: Les résultats de mesure des 2 derniers étalonnages sont dans les spécifications | U19: =IF(T19="x",-1,"") | W19: Les résultats de mesure des 2 derniers étalonnages sont dans les spécifications | AB19: =IF(AA19="x",-1,"") | AD19: Les résultats de mesure des 2 derniers étalonnages sont dans les spécifications | AI19: =IF(AH19="x",-1,"") | AK19: Les résultats de mesure des 2 derniers étalonnages sont dans les spécifications | AP19: =IF(AO19="x",-1,"") | AR19: Les résultats de mesure des 2 derniers étalonnages sont dans les spécifications | AW19: =IF(AV19="x",-1,"") | AY19: Les résultats de mesure des 2 derniers étalonnages sont dans les spécifications | BD19: =IF(BC19="x",-1,"") | BF19: Les résultats de mesure des 2 derniers étalonnages sont dans les spécifications | BK19: =IF(BJ19="x",-1,"") | BM19: Les résultats de mesure des 2 derniers étalonnages sont dans les spécifications | BR19: =IF(BQ19="x",-1,"") | BT19: Les résultats de mesure des 2 derniers étalonnages sont dans les spécifications | BY19: =IF(BX19="x",-1,"")
I20: Les résultats de mesure du dernier étalonnage sont dans les spécifications | N20: =IF(M20="x",0,"") | P20: Les résultats de mesure du dernier étalonnage sont dans les spécifications | U20: =IF(T20="x",0,"") | W20: Les résultats de mesure du dernier étalonnage sont dans les spécifications | AB20: =IF(AA20="x",0,"") | AD20: Les résultats de mesure du dernier étalonnage sont dans les spécifications | AI20: =IF(AH20="x",0,"") | AK20: Les résultats de mesure du dernier étalonnage sont dans les spécifications | AP20: =IF(AO20="x",0,"") | AR20: Les résultats de mesure du dernier étalonnage sont dans les spécifications | AW20: =IF(AV20="x",0,"") | AY20: Les résultats de mesure du dernier étalonnage sont dans les spécifications | BD20: =IF(BC20="x",0,"") | BF20: Les résultats de mesure du dernier étalonnage sont dans les spécifications | BK20: =IF(BJ20="x",0,"") | BM20: Les résultats de mesure du dernier étalonnage sont dans les spécifications | BR20: =IF(BQ20="x",0,"") | BT20: Les résultats de mesure du dernier étalonnage sont dans les spécifications | BY20: =IF(BX20="x",0,"")
I21: Les résultats de mesure sont à la limite des spécifications (zone de doute) | N21: =IF(M21="x",1,"") | P21: Les résultats de mesure sont à la limite des spécifications (zone de doute) | U21: =IF(T21="x",1,"") | W21: Les résultats de mesure sont à la limite des spécifications (zone de doute) | AB21: =IF(AA21="x",1,"") | AD21: Les résultats de mesure sont à la limite des spécifications (zone de doute) | AI21: =IF(AH21="x",1,"") | AK21: Les résultats de mesure sont à la limite des spécifications (zone de doute) | AP21: =IF(AO21="x",1,"") | AR21: Les résultats de mesure sont à la limite des spécifications (zone de doute) | AW21: =IF(AV21="x",1,"") | AY21: Les résultats de mesure sont à la limite des spécifications (zone de doute) | BD21: =IF(BC21="x",1,"") | BF21: Les résultats de mesure sont à la limite des spécifications (zone de doute) | BK21: =IF(BJ21="x",1,"") | BM21: Les résultats de mesure sont à la limite des spécifications (zone de doute) | BR21: =IF(BQ21="x",1,"") | BT21: Les résultats de mesure sont à la limite des spécifications (zone de doute) | BY21: =IF(BX21="x",1,"")
I22: Un des résultats est en dehors des spécifications | N22: =IF(M22="x",2,"") | P22: Un des résultats est en dehors des spécifications | U22: =IF(T22="x",2,"") | W22: Un des résultats est en dehors des spécifications | AB22: =IF(AA22="x",2,"") | AD22: Un des résultats est en dehors des spécifications | AI22: =IF(AH22="x",2,"") | AK22: Un des résultats est en dehors des spécifications | AP22: =IF(AO22="x",2,"") | AR22: Un des résultats est en dehors des spécifications | AW22: =IF(AV22="x",2,"") | AY22: Un des résultats est en dehors des spécifications | BD22: =IF(BC22="x",2,"") | BF22: Un des résultats est en dehors des spécifications | BK22: =IF(BJ22="x",2,"") | BM22: Un des résultats est en dehors des spécifications | BR22: =IF(BQ22="x",2,"") | BT22: Un des résultats est en dehors des spécifications | BY22: =IF(BX22="x",2,"")
I23: Plusieurs résultats sont en dehors des spécifications | N23: =IF(M23="x",3,"") | P23: Plusieurs résultats sont en dehors des spécifications | U23: =IF(T23="x",3,"") | W23: Plusieurs résultats sont en dehors des spécifications | AB23: =IF(AA23="x",3,"") | AD23: Plusieurs résultats sont en dehors des spécifications | AI23: =IF(AH23="x",3,"") | AK23: Plusieurs résultats sont en dehors des spécifications | AP23: =IF(AO23="x",3,"") | AR23: Plusieurs résultats sont en dehors des spécifications | AW23: =IF(AV23="x",3,"") | AY23: Plusieurs résultats sont en dehors des spécifications | BD23: =IF(BC23="x",3,"") | BF23: Plusieurs résultats sont en dehors des spécifications | BK23: =IF(BJ23="x",3,"") | BM23: Plusieurs résultats sont en dehors des spécifications | BR23: =IF(BQ23="x",3,"") | BT23: Plusieurs résultats sont en dehors des spécifications | BY23: =IF(BX23="x",3,"")
I25: Tableau B : | J25: =SUM(N18:N23) -> 0 | K25: point(s) | P25: Tableau B : | Q25: =SUM(U18:U23) -> 0 | R25: point(s) | W25: Tableau B : | X25: =SUM(AB18:AB23) -> 0 | Y25: point(s) | AD25: Tableau B : | AE25: =SUM(AI18:AI23) -> 0 | AF25: point(s) | AK25: Tableau B : | AL25: =SUM(AP18:AP23) -> 0 | AM25: point(s) | AR25: Tableau B : | AS25: =SUM(AW18:AW23) -> 0 | AT25: point(s) | AY25: Tableau B : | AZ25: =SUM(BD18:BD23) -> 0 | BA25: point(s) | BF25: Tableau B : | BG25: =SUM(BK18:BK23) -> 0 | BH25: point(s) | BM25: Tableau B : | BN25: =SUM(BR18:BR23) -> 0 | BO25: point(s) | BT25: Tableau B : | BU25: =SUM(BY18:BY23) -> 0 | BV25: point(s)
I27: Tableaux A et B : | J27: =J13+J25 -> 0 | K27: point(s) | P27: Tableaux A et B : | Q27: =Q13+Q25 -> 0 | R27: point(s) | W27: Tableaux A et B : | X27: =X13+X25 -> 0 | Y27: point(s) | AD27: Tableaux A et B : | AE27: =AE13+AE25 -> 0 | AF27: point(s) | AK27: Tableaux A et B : | AL27: =AL13+AL25 -> 0 | AM27: point(s) | AR27: Tableaux A et B : | AS27: =AS13+AS25 -> 0 | AT27: point(s) | AY27: Tableaux A et B : | AZ27: =AZ13+AZ25 -> 0 | BA27: point(s) | BF27: Tableaux A et B : | BG27: =BG13+BG25 -> 0 | BH27: point(s) | BM27: Tableaux A et B : | BN27: =BN13+BN25 -> 0 | BO27: point(s) | BT27: Tableaux A et B : | BU27: =BU13+BU25 -> 0 | BV27: point(s)

Sheet TAC 184-2
B2: Table d'autocontrôle : HALL 1 | D2: TAC - | E2: 184 | F2: - 2 | I2: 1 - Jauge de contrôle | K2: AP70 | P2: 2 - Dynamomètre | R2: AP-3551156 | W2: 3 - Dynamomètre | Y2: AP-T14850 | AD2: 4 - Comparateur | AF2: INP-61070420 | AK2: 5 - Minuterie de travail | AM2: AP60 | AR2: 6 - Minuterie de travail | AT2: AP63 | AY2: 7 - Binoculaire | BA2: BI09 | BF2: 8 - Manomètre | BH2: AP61 | BM2: 9 - Manomètre | BO2: AP62 | BT2: 10 - Courbure tube | BV2: AP-3601-3 | CA2: 10 - Contrôle de spray | CC2: …
I3: Périodicité : | K3: =IF(ISNA(HLOOKUP(J27,Données!$C4:$O5,2,FALSE)),"... mois",HLOOKUP(J27,Données!$C4:$O5,2,FALSE)) -> ... mois | L3: =IF(J11<>"",$C11,IF(K11<>"",$D11,IF(L11<>"",$E11,IF(M11<>"",$F11,"...")))) -> ... | P3: Périodicité : | R3: =IF(ISNA(HLOOKUP(Q27,Données!$C4:$O5,2,FALSE)),"... mois",HLOOKUP(Q27,Données!$C4:$O5,2,FALSE)) -> ... mois | S3: =IF(Q11<>"",$C11,IF(R11<>"",$D11,IF(S11<>"",$E11,IF(T11<>"",$F11,"...")))) -> ... | W3: Périodicité : | Y3: =IF(ISNA(HLOOKUP(X27,Données!$C4:$O5,2,FALSE)),"... mois",HLOOKUP(X27,Données!$C4:$O5,2,FALSE)) -> ... mois | Z3: =IF(X11<>"",$C11,IF(Y11<>"",$D11,IF(Z11<>"",$E11,IF(AA11<>"",$F11,"...")))) -> ... | AD3: Périodicité : | AF3: =IF(ISNA(HLOOKUP(AE27,Données!$C4:$O5,2,FALSE)),"... mois",HLOOKUP(AE27,Données!$C4:$O5,2,FALSE)) -> ... mois | AG3: =IF(AE11<>"",$C11,IF(AF11<>"",$D11,IF(AG11<>"",$E11,IF(AH11<>"",$F11,"...")))) -> ... | AK3: Périodicité : | AM3: =IF(ISNA(HLOOKUP(AL27,Données!$C4:$O5,2,FALSE)),"... mois",HLOOKUP(AL27,Données!$C4:$O5,2,FALSE)) -> ... mois | AN3: =IF(AL11<>"",$C11,IF(AM11<>"",$D11,IF(AN11<>"",$E11,IF(AO11<>"",$F11,"...")))) -> ... | AR3: Périodicité : | AT3: =IF(ISNA(HLOOKUP(AS27,Données!$C4:$O5,2,FALSE)),"... mois",HLOOKUP(AS27,Données!$C4:$O5,2,FALSE)) -> ... mois | AU3: =IF(AS11<>"",$C11,IF(AT11<>"",$D11,IF(AU11<>"",$E11,IF(AV11<>"",$F11,"...")))) -> ... | AY3: Périodicité : | BA3: =IF(ISNA(HLOOKUP(AZ27,Données!$C4:$O5,2,FALSE)),"... mois",HLOOKUP(AZ27,Données!$C4:$O5,2,FALSE)) -> ... mois | BB3: =IF(AZ11<>"",$C11,IF(BA11<>"",$D11,IF(BB11<>"",$E11,IF(BC11<>"",$F11,"...")))) -> ... | BF3: Périodicité : | BH3: =IF(ISNA(HLOOKUP(BG27,Données!$C4:$O5,2,FALSE)),"... mois",HLOOKUP(BG27,Données!$C4:$O5,2,FALSE)) -> ... mois | BI3: =IF(BG11<>"",$C11,IF(BH11<>"",$D11,IF(BI11<>"",$E11,IF(BJ11<>"",$F11,"...")))) -> ... | BM3: Périodicité : | BO3: =IF(ISNA(HLOOKUP(BN27,Données!$C4:$O5,2,FALSE)),"... mois",HLOOKUP(BN27,Données!$C4:$O5,2,FALSE)) -> ... mois | BP3: =IF(BN11<>"",$C11,IF(BO11<>"",$D11,IF(BP11<>"",$E11,IF(BQ11<>"",$F11,"...")))) -> ... | BT3: Périodicité : | BV3: =IF(ISNA(HLOOKUP(BU27,Données!$C4:$O5,2,FALSE)),"... mois",HLOOKUP(BU27,Données!$C4:$O5,2,FALSE)) -> ... mois | BW3: =IF(BU11<>"",$C11,IF(BV11<>"",$D11,IF(BW11<>"",$E11,IF(BX11<>"",$F11,"...")))) -> ... | CA3: Périodicité : | CC3: =IF(ISNA(HLOOKUP(CB27,Données!$C4:$O5,2,FALSE)),"... mois",HLOOKUP(CB27,Données!$C4:$O5,2,FALSE)) -> ... mois | CD3: =IF(CB11<>"",$C11,IF(CC11<>"",$D11,IF(CD11<>"",$E11,IF(CE11<>"",$F11,"...")))) -> ...
B5: Critères (X) | C5: Point | I5: Critères (X) | J5: Point | P5: Critères (X) | Q5: Point | W5: Critères (X) | X5: Point | AD5: Critères (X) | AE5: Point | AK5: Critères (X) | AL5: Point | AR5: Critères (X) | AS5: Point | AY5: Critères (X) | AZ5: Point | BF5: Critères (X) | BG5: Point | BM5: Critères (X) | BN5: Point | BT5: Critères (X) | BU5: Point | CA5: Critères (X) | CB5: Point
C6: 0 | D6: 1 | E6: 2 | F6: 3 | J6: 0 | K6: 1 | L6: 2 | M6: 3 | Q6: 0 | R6: 1 | S6: 2 | T6: 3 | X6: 0 | Y6: 1 | Z6: 2 | AA6: 3 | AE6: 0 | AF6: 1 | AG6: 2 | AH6: 3 | AL6: 0 | AM6: 1 | AN6: 2 | AO6: 3 | AS6: 0 | AT6: 1 | AU6: 2 | AV6: 3 | AZ6: 0 | BA6: 1 | BB6: 2 | BC6: 3 | BG6: 0 | BH6: 1 | BI6: 2 | BJ6: 3 | BN6: 0 | BO6: 1 | BP6: 2 | BQ6: 3 | BU6: 0 | BV6: 1 | BW6: 2 | BX6: 3 | CB6: 0 | CC6: 1 | CD6: 2 | CE6: 3
B7: Fréquence d'utilisation | C7: Occasionnellement | D7: 1 fois / jour | E7: Plusieurs fois / jour | F7: En permanence | I7: Fréquence d'utilisation | P7: Fréquence d'utilisation | W7: Fréquence d'utilisation | AD7: Fréquence d'utilisation | AK7: Fréquence d'utilisation | AR7: Fréquence d'utilisation | AY7: Fréquence d'utilisation | BF7: Fréquence d'utilisation | BM7: Fréquence d'utilisation | BT7: Fréquence d'utilisation | CA7: Fréquence d'utilisation
B8: Lieu d'utilisation | C8: / | D8: Métrologie Laboratoire | E8: Bureaux Local spécifique | F8: Maintenance UP | I8: Lieu d'utilisation | P8: Lieu d'utilisation | W8: Lieu d'utilisation | AD8: Lieu d'utilisation | AK8: Lieu d'utilisation | AR8: Lieu d'utilisation | AY8: Lieu d'utilisation | BF8: Lieu d'utilisation | BM8: Lieu d'utilisation | BT8: Lieu d'utilisation | CA8: Lieu d'utilisation
B9: Risque d'usure | C9: Aucun | D9: Faible | E9: Moyen | F9: Importante | I9: Risque d'usure | P9: Risque d'usure | W9: Risque d'usure | AD9: Risque d'usure | AK9: Risque d'usure | AR9: Risque d'usure | AY9: Risque d'usure | BF9: Risque d'usure | BM9: Risque d'usure | BT9: Risque d'usure | CA9: Risque d'usure
B10: Conséquence d'une mesure erronée | C10: Aucune | D10: Faible Ctrl IPC hors validation | E10: Importante Ctrl de validation | F10: Très importante Contrôle libératoire | I10: Conséquence d'une mesure erronée | P10: Conséquence d'une mesure erronée | W10: Conséquence d'une mesure erronée | AD10: Conséquence d'une mesure erronée | AK10: Conséquence d'une mesure erronée | AR10: Conséquence d'une mesure erronée | AY10: Conséquence d'une mesure erronée | BF10: Conséquence d'une mesure erronée | BM10: Conséquence d'une mesure erronée | BT10: Conséquence d'une mesure erronée | CA10: Conséquence d'une mesure erronée
B11: Type de contrôle | C11: Surveillance Entretien | D11: Vérification Interne | E11: Vérification Externe Indirect | F11: Vérification Externe Direct (type COFRAC) | I11: Type de contrôle | P11: Type de contrôle | W11: Type de contrôle | AD11: Type de contrôle | AK11: Type de contrôle | AR11: Type de contrôle | AY11: Type de contrôle | BF11: Type de contrôle | BM11: Type de contrôle | BT11: Type de contrôle | CA11: Type de contrôle
K12: =COUNTIF(K7:K10,"x") -> 0 | L12: =COUNTIF(L7:L10,"x")*2 -> 0 | M12: =COUNTIF(M7:M10,"x")*3 -> 0 | R12: =COUNTIF(R7:R10,"x") -> 0 | S12: =COUNTIF(S7:S10,"x")*2 -> 0 | T12: =COUNTIF(T7:T10,"x")*3 -> 0 | Y12: =COUNTIF(Y7:Y10,"x") -> 0 | Z12: =COUNTIF(Z7:Z10,"x")*2 -> 0 | AA12: =COUNTIF(AA7:AA10,"x")*3 -> 0 | AF12: =COUNTIF(AF7:AF10,"x") -> 0 | AG12: =COUNTIF(AG7:AG10,"x")*2 -> 0 | AH12: =COUNTIF(AH7:AH10,"x")*3 -> 0 | AM12: =COUNTIF(AM7:AM10,"x") -> 0 | AN12: =COUNTIF(AN7:AN10,"x")*2 -> 0 | AO12: =COUNTIF(AO7:AO10,"x")*3 -> 0 | AT12: =COUNTIF(AT7:AT10,"x") -> 0 | AU12: =COUNTIF(AU7:AU10,"x")*2 -> 0 | AV12: =COUNTIF(AV7:AV10,"x")*3 -> 0 | BA12: =COUNTIF(BA7:BA10,"x") -> 0 | BB12: =COUNTIF(BB7:BB10,"x")*2 -> 0 | BC12: =COUNTIF(BC7:BC10,"x")*3 -> 0 | BH12: =COUNTIF(BH7:BH10,"x") -> 0 | BI12: =COUNTIF(BI7:BI10,"x")*2 -> 0 | BJ12: =COUNTIF(BJ7:BJ10,"x")*3 -> 0 | BO12: =COUNTIF(BO7:BO10,"x") -> 0 | BP12: =COUNTIF(BP7:BP10,"x")*2 -> 0 | BQ12: =COUNTIF(BQ7:BQ10,"x")*3 -> 0 | BV12: =COUNTIF(BV7:BV10,"x") -> 0 | BW12: =COUNTIF(BW7:BW10,"x")*2 -> 0 | BX12: =COUNTIF(BX7:BX10,"x")*3 -> 0 | CC12: =COUNTIF(CC7:CC10,"x") -> 0 | CD12: =COUNTIF(CD7:CD10,"x")*2 -> 0 | CE12: =COUNTIF(CE7:CE10,"x")*3 -> 0
I13: Tableau A : | J13: =SUM(K12:M12) -> 0 | K13: point(s) | P13: Tableau A : | Q13: =SUM(R12:T12) -> 0 | R13: point(s) | W13: Tableau A : | X13: =SUM(Y12:AA12) -> 0 | Y13: point(s) | AD13: Tableau A : | AE13: =SUM(AF12:AH12) -> 0 | AF13: point(s) | AK13: Tableau A : | AL13: =SUM(AM12:AO12) -> 0 | AM13: point(s) | AR13: Tableau A : | AS13: =SUM(AT12:AV12) -> 0 | AT13: point(s) | AY13: Tableau A : | AZ13: =SUM(BA12:BC12) -> 0 | BA13: point(s) | BF13: Tableau A : | BG13: =SUM(BH12:BJ12) -> 0 | BH13: point(s) | BM13: Tableau A : | BN13: =SUM(BO12:BQ12) -> 0 | BO13: point(s) | BT13: Tableau A : | BU13: =SUM(BV12:BX12) -> 0 | BV13: point(s) | CA13: Tableau A : | CB13: =SUM(CC12:CE12) -> 0 | CC13: point(s)
I15: Historique des données d'étalonnage | P15: Historique des données d'étalonnage | W15: Historique des données d'étalonnage | AD15: Historique des données d'étalonnage | AK15: Historique des données d'étalonnage | AR15: Historique des données d'étalonnage | AY15: Historique des données d'étalonnage | BF15: Historique des données d'étalonnage | BM15: Historique des données d'étalonnage | BT15: Historique des données d'étalonnage | CA15: Historique des données d'étalonnage
I17: Critères B | M17: Point | P17: Critères B | T17: Point | W17: Critères B | AA17: Point | AD17: Critères B | AH17: Point | AK17: Critères B | AO17: Point | AR17: Critères B | AV17: Point | AY17: Critères B | BC17: Point | BF17: Critères B | BJ17: Point | BM17: Critères B | BQ17: Point | BT17: Critères B | BX17: Point | CA17: Critères B | CE17: Point
I18: Les résultats de mesure des 3 derniers étalonnages sont dans les spécifications | N18: =IF(M18="x",-2,"") | P18: Les résultats de mesure des 3 derniers étalonnages sont dans les spécifications | U18: =IF(T18="x",-2,"") | W18: Les résultats de mesure des 3 derniers étalonnages sont dans les spécifications | AB18: =IF(AA18="x",-2,"") | AD18: Les résultats de mesure des 3 derniers étalonnages sont dans les spécifications | AI18: =IF(AH18="x",-2,"") | AK18: Les résultats de mesure des 3 derniers étalonnages sont dans les spécifications | AP18: =IF(AO18="x",-2,"") | AR18: Les résultats de mesure des 3 derniers étalonnages sont dans les spécifications | AW18: =IF(AV18="x",-2,"") | AY18: Les résultats de mesure des 3 derniers étalonnages sont dans les spécifications | BD18: =IF(BC18="x",-2,"") | BF18: Les résultats de mesure des 3 derniers étalonnages sont dans les spécifications | BK18: =IF(BJ18="x",-2,"") | BM18: Les résultats de mesure des 3 derniers étalonnages sont dans les spécifications | BR18: =IF(BQ18="x",-2,"") | BT18: Les résultats de mesure des 3 derniers étalonnages sont dans les spécifications | BY18: =IF(BX18="x",-2,"") | CA18: Les résultats de mesure des 3 derniers étalonnages sont dans les spécifications
I19: Les résultats de mesure des 2 derniers étalonnages sont dans les spécifications | N19: =IF(M19="x",-1,"") | P19: Les résultats de mesure des 2 derniers étalonnages sont dans les spécifications | U19: =IF(T19="x",-1,"") | W19: Les résultats de mesure des 2 derniers étalonnages sont dans les spécifications | AB19: =IF(AA19="x",-1,"") | AD19: Les résultats de mesure des 2 derniers étalonnages sont dans les spécifications | AI19: =IF(AH19="x",-1,"") | AK19: Les résultats de mesure des 2 derniers étalonnages sont dans les spécifications | AP19: =IF(AO19="x",-1,"") | AR19: Les résultats de mesure des 2 derniers étalonnages sont dans les spécifications | AW19: =IF(AV19="x",-1,"") | AY19: Les résultats de mesure des 2 derniers étalonnages sont dans les spécifications | BD19: =IF(BC19="x",-1,"") | BF19: Les résultats de mesure des 2 derniers étalonnages sont dans les spécifications | BK19: =IF(BJ19="x",-1,"") | BM19: Les résultats de mesure des 2 derniers étalonnages sont dans les spécifications | BR19: =IF(BQ19="x",-1,"") | BT19: Les résultats de mesure des 2 derniers étalonnages sont dans les spécifications | BY19: =IF(BX19="x",-1,"") | CA19: Les résultats de mesure des 2 derniers étalonnages sont dans les spécifications
I20: Les résultats de mesure du dernier étalonnage sont dans les spécifications | N20: =IF(M20="x",0,"") | P20: Les résultats de mesure du dernier étalonnage sont dans les spécifications | U20: =IF(T20="x",0,"") | W20: Les résultats de mesure du dernier étalonnage sont dans les spécifications | AB20: =IF(AA20="x",0,"") | AD20: Les résultats de mesure du dernier étalonnage sont dans les spécifications | AI20: =IF(AH20="x",0,"") | AK20: Les résultats de mesure du dernier étalonnage sont dans les spécifications | AP20: =IF(AO20="x",0,"") | AR20: Les résultats de mesure du dernier étalonnage sont dans les spécifications | AW20: =IF(AV20="x",0,"") | AY20: Les résultats de mesure du dernier étalonnage sont dans les spécifications | BD20: =IF(BC20="x",0,"") | BF20: Les résultats de mesure du dernier étalonnage sont dans les spécifications | BK20: =IF(BJ20="x",0,"") | BM20: Les résultats de mesure du dernier étalonnage sont dans les spécifications | BR20: =IF(BQ20="x",0,"") | BT20: Les résultats de mesure du dernier étalonnage sont dans les spécifications | BY20: =IF(BX20="x",0,"") | CA20: Les résultats de mesure du dernier étalonnage sont dans les spécifications
I21: Les résultats de mesure sont à la limite des spécifications (zone de doute) | N21: =IF(M21="x",1,"") | P21: Les résultats de mesure sont à la limite des spécifications (zone de doute) | U21: =IF(T21="x",1,"") | W21: Les résultats de mesure sont à la limite des spécifications (zone de doute) | AB21: =IF(AA21="x",1,"") | AD21: Les résultats de mesure sont à la limite des spécifications (zone de doute) | AI21: =IF(AH21="x",1,"") | AK21: Les résultats de mesure sont à la limite des spécifications (zone de doute) | AP21: =IF(AO21="x",1,"") | AR21: Les résultats de mesure sont à la limite des spécifications (zone de doute) | AW21: =IF(AV21="x",1,"") | AY21: Les résultats de mesure sont à la limite des spécifications (zone de doute) | BD21: =IF(BC21="x",1,"") | BF21: Les résultats de mesure sont à la limite des spécifications (zone de doute) | BK21: =IF(BJ21="x",1,"") | BM21: Les résultats de mesure sont à la limite des spécifications (zone de doute) | BR21: =IF(BQ21="x",1,"") | BT21: Les résultats de mesure sont à la limite des spécifications (zone de doute) | BY21: =IF(BX21="x",1,"") | CA21: Les résultats de mesure sont à la limite des spécifications (zone de doute)
I22: Un des résultats est en dehors des spécifications | N22: =IF(M22="x",2,"") | P22: Un des résultats est en dehors des spécifications | U22: =IF(T22="x",2,"") | W22: Un des résultats est en dehors des spécifications | AB22: =IF(AA22="x",2,"") | AD22: Un des résultats est en dehors des spécifications | AI22: =IF(AH22="x",2,"") | AK22: Un des résultats est en dehors des spécifications | AP22: =IF(AO22="x",2,"") | AR22: Un des résultats est en dehors des spécifications | AW22: =IF(AV22="x",2,"") | AY22: Un des résultats est en dehors des spécifications | BD22: =IF(BC22="x",2,"") | BF22: Un des résultats est en dehors des spécifications | BK22: =IF(BJ22="x",2,"") | BM22: Un des résultats est en dehors des spécifications | BR22: =IF(BQ22="x",2,"") | BT22: Un des résultats est en dehors des spécifications | BY22: =IF(BX22="x",2,"") | CA22: Un des résultats est en dehors des spécifications
I23: Plusieurs résultats sont en dehors des spécifications | N23: =IF(M23="x",3,"") | P23: Plusieurs résultats sont en dehors des spécifications | U23: =IF(T23="x",3,"") | W23: Plusieurs résultats sont en dehors des spécifications | AB23: =IF(AA23="x",3,"") | AD23: Plusieurs résultats sont en dehors des spécifications | AI23: =IF(AH23="x",3,"") | AK23: Plusieurs résultats sont en dehors des spécifications | AP23: =IF(AO23="x",3,"") | AR23: Plusieurs résultats sont en dehors des spécifications | AW23: =IF(AV23="x",3,"") | AY23: Plusieurs résultats sont en dehors des spécifications | BD23: =IF(BC23="x",3,"") | BF23: Plusieurs résultats sont en dehors des spécifications | BK23: =IF(BJ23="x",3,"") | BM23: Plusieurs résultats sont en dehors des spécifications | BR23: =IF(BQ23="x",3,"") | BT23: Plusieurs résultats sont en dehors des spécifications | BY23: =IF(BX23="x",3,"") | CA23: Plusieurs résultats sont en dehors des spécifications
I25: Tableau B : | J25: =SUM(N18:N23) -> 0 | K25: point(s) | P25: Tableau B : | Q25: =SUM(U18:U23) -> 0 | R25: point(s) | W25: Tableau B : | X25: =SUM(AB18:AB23) -> 0 | Y25: point(s) | AD25: Tableau B : | AE25: =SUM(AI18:AI23) -> 0 | AF25: point(s) | AK25: Tableau B : | AL25: =SUM(AP18:AP23) -> 0 | AM25: point(s) | AR25: Tableau B : | AS25: =SUM(AW18:AW23) -> 0 | AT25: point(s) | AY25: Tableau B : | AZ25: =SUM(BD18:BD23) -> 0 | BA25: point(s) | BF25: Tableau B : | BG25: =SUM(BK18:BK23) -> 0 | BH25: point(s) | BM25: Tableau B : | BN25: =SUM(BR18:BR23) -> 0 | BO25: point(s) | BT25: Tableau B : | BU25: =SUM(BY18:BY23) -> 0 | BV25: point(s) | CA25: Tableau B : | CB25: =SUM(CF18:CF23) -> 0 | CC25: point(s)
I27: Tableaux A et B : | J27: =J13+J25 -> 0 | K27: point(s) | P27: Tableaux A et B : | Q27: =Q13+Q25 -> 0 | R27: point(s) | W27: Tableaux A et B : | X27: =X13+X25 -> 0 | Y27: point(s) | AD27: Tableaux A et B : | AE27: =AE13+AE25 -> 0 | AF27: point(s) | AK27: Tableaux A et B : | AL27: =AL13+AL25 -> 0 | AM27: point(s) | AR27: Tableaux A et B : | AS27: =AS13+AS25 -> 0 | AT27: point(s) | AY27: Tableaux A et B : | AZ27: =AZ13+AZ25 -> 0 | BA27: point(s) | BF27: Tableaux A et B : | BG27: =BG13+BG25 -> 0 | BH27: point(s) | BM27: Tableaux A et B : | BN27: =BN13+BN25 -> 0 | BO27: point(s) | BT27: Tableaux A et B : | BU27: =BU13+BU25 -> 0 | BV27: point(s) | CA27: Tableaux A et B : | CB27: =CB13+CB25 -> 0 | CC27: point(s)

Sheet TAC 193-1
B2: Table d'autocontrôle : HALL 1 | D2: TAC - | E2: 193 | F2: - 1 | I2: 1 - … | K2: … | P2: 2 - … | R2: … | W2: 3 - … | Y2: … | AD2: 4 - … | AF2: … | AK2: 5 - … | AM2: … | AR2: 6 - … | AT2: … | AY2: 7 - ... | BA2: … | BF2: 8 - … | BH2: … | BM2: 9 - ... | BO2: … | BT2: 10 - … | BV2: …
I3: Périodicité : | K3: =IF(ISNA(HLOOKUP(J27,Données!$C4:$O5,2,FALSE)),"... mois",HLOOKUP(J27,Données!$C4:$O5,2,FALSE)) -> ... mois | L3: =IF(J11<>"",$C11,IF(K11<>"",$D11,IF(L11<>"",$E11,IF(M11<>"",$F11,"...")))) -> ... | P3: Périodicité : | R3: =IF(ISNA(HLOOKUP(Q27,Données!$C4:$O5,2,FALSE)),"... mois",HLOOKUP(Q27,Données!$C4:$O5,2,FALSE)) -> ... mois | S3: =IF(Q11<>"",$C11,IF(R11<>"",$D11,IF(S11<>"",$E11,IF(T11<>"",$F11,"...")))) -> ... | W3: Périodicité : | Y3: =IF(ISNA(HLOOKUP(X27,Données!$C4:$O5,2,FALSE)),"... mois",HLOOKUP(X27,Données!$C4:$O5,2,FALSE)) -> ... mois | Z3: =IF(X11<>"",$C11,IF(Y11<>"",$D11,IF(Z11<>"",$E11,IF(AA11<>"",$F11,"...")))) -> ... | AD3: Périodicité : | AF3: =IF(ISNA(HLOOKUP(AE27,Données!$C4:$O5,2,FALSE)),"... mois",HLOOKUP(AE27,Données!$C4:$O5,2,FALSE)) -> ... mois | AG3: =IF(AE11<>"",$C11,IF(AF11<>"",$D11,IF(AG11<>"",$E11,IF(AH11<>"",$F11,"...")))) -> ... | AK3: Périodicité : | AM3: =IF(ISNA(HLOOKUP(AL27,Données!$C4:$O5,2,FALSE)),"... mois",HLOOKUP(AL27,Données!$C4:$O5,2,FALSE)) -> ... mois | AN3: =IF(AL11<>"",$C11,IF(AM11<>"",$D11,IF(AN11<>"",$E11,IF(AO11<>"",$F11,"...")))) -> ... | AR3: Périodicité : | AT3: =IF(ISNA(HLOOKUP(AS27,Données!$C4:$O5,2,FALSE)),"... mois",HLOOKUP(AS27,Données!$C4:$O5,2,FALSE)) -> ... mois | AU3: =IF(AS11<>"",$C11,IF(AT11<>"",$D11,IF(AU11<>"",$E11,IF(AV11<>"",$F11,"...")))) -> ... | AY3: Périodicité : | BA3: =IF(ISNA(HLOOKUP(AZ27,Données!$C4:$O5,2,FALSE)),"... mois",HLOOKUP(AZ27,Données!$C4:$O5,2,FALSE)) -> ... mois | BB3: =IF(AZ11<>"",$C11,IF(BA11<>"",$D11,IF(BB11<>"",$E11,IF(BC11<>"",$F11,"...")))) -> ... | BF3: Périodicité : | BH3: =IF(ISNA(HLOOKUP(BG27,Données!$C4:$O5,2,FALSE)),"... mois",HLOOKUP(BG27,Données!$C4:$O5,2,FALSE)) -> ... mois | BI3: =IF(BG11<>"",$C11,IF(BH11<>"",$D11,IF(BI11<>"",$E11,IF(BJ11<>"",$F11,"...")))) -> ... | BM3: Périodicité : | BO3: =IF(ISNA(HLOOKUP(BN27,Données!$C4:$O5,2,FALSE)),"... mois",HLOOKUP(BN27,Données!$C4:$O5,2,FALSE)) -> ... mois | BP3: =IF(BN11<>"",$C11,IF(BO11<>"",$D11,IF(BP11<>"",$E11,IF(BQ11<>"",$F11,"...")))) -> ... | BT3: Périodicité : | BV3: =IF(ISNA(HLOOKUP(BU27,Données!$C4:$O5,2,FALSE)),"... mois",HLOOKUP(BU27,Données!$C4:$O5,2,FALSE)) -> ... mois | BW3: =IF(BU11<>"",$C11,IF(BV11<>"",$D11,IF(BW11<>"",$E11,IF(BX11<>"",$F11,"...")))) -> ...
B5: Critères (X) | C5: Point | I5: Critères (X) | J5: Point | P5: Critères (X) | Q5: Point | W5: Critères (X) | X5: Point | AD5: Critères (X) | AE5: Point | AK5: Critères (X) | AL5: Point | AR5: Critères (X) | AS5: Point | AY5: Critères (X) | AZ5: Point | BF5: Critères (X) | BG5: Point | BM5: Critères (X) | BN5: Point | BT5: Critères (X) | BU5: Point
C6: 0 | D6: 1 | E6: 2 | F6: 3 | J6: 0 | K6: 1 | L6: 2 | M6: 3 | Q6: 0 | R6: 1 | S6: 2 | T6: 3 | X6: 0 | Y6: 1 | Z6: 2 | AA6: 3 | AE6: 0 | AF6: 1 | AG6: 2 | AH6: 3 | AL6: 0 | AM6: 1 | AN6: 2 | AO6: 3 | AS6: 0 | AT6: 1 | AU6: 2 | AV6: 3 | AZ6: 0 | BA6: 1 | BB6: 2 | BC6: 3 | BG6: 0 | BH6: 1 | BI6: 2 | BJ6: 3 | BN6: 0 | BO6: 1 | BP6: 2 | BQ6: 3 | BU6: 0 | BV6: 1 | BW6: 2 | BX6: 3
B7: Fréquence d'utilisation | C7: Occasionnellement | D7: 1 fois / jour | E7: Plusieurs fois / jour | F7: En permanence | I7: Fréquence d'utilisation | P7: Fréquence d'utilisation | W7: Fréquence d'utilisation | AD7: Fréquence d'utilisation | AK7: Fréquence d'utilisation | AR7: Fréquence d'utilisation | AY7: Fréquence d'utilisation | BF7: Fréquence d'utilisation | BM7: Fréquence d'utilisation | BT7: Fréquence d'utilisation
B8: Lieu d'utilisation | C8: / | D8: Métrologie Laboratoire | E8: Bureaux Local spécifique | F8: Maintenance UP | I8: Lieu d'utilisation | P8: Lieu d'utilisation | W8: Lieu d'utilisation | AD8: Lieu d'utilisation | AK8: Lieu d'utilisation | AR8: Lieu d'utilisation | AY8: Lieu d'utilisation | BF8: Lieu d'utilisation | BM8: Lieu d'utilisation | BT8: Lieu d'utilisation
B9: Risque d'usure | C9: Aucun | D9: Faible | E9: Moyen | F9: Importante | I9: Risque d'usure | P9: Risque d'usure | W9: Risque d'usure | AD9: Risque d'usure | AK9: Risque d'usure | AR9: Risque d'usure | AY9: Risque d'usure | BF9: Risque d'usure | BM9: Risque d'usure | BT9: Risque d'usure
B10: Conséquence d'une mesure erronée | C10: Aucune | D10: Faible Ctrl IPC hors validation | E10: Importante Ctrl de validation | F10: Très importante Contrôle libératoire | I10: Conséquence d'une mesure erronée | P10: Conséquence d'une mesure erronée | W10: Conséquence d'une mesure erronée | AD10: Conséquence d'une mesure erronée | AK10: Conséquence d'une mesure erronée | AR10: Conséquence d'une mesure erronée | AY10: Conséquence d'une mesure erronée | BF10: Conséquence d'une mesure erronée | BM10: Conséquence d'une mesure erronée | BT10: Conséquence d'une mesure erronée
B11: Type de contrôle | C11: Surveillance Entretien | D11: Vérification Interne | E11: Vérification Externe Indirect | F11: Vérification Externe Direct (type COFRAC) | I11: Type de contrôle | P11: Type de contrôle | W11: Type de contrôle | AD11: Type de contrôle | AK11: Type de contrôle | AR11: Type de contrôle | AY11: Type de contrôle | BF11: Type de contrôle | BM11: Type de contrôle | BT11: Type de contrôle
K12: =COUNTIF(K7:K10,"x") -> 0 | L12: =COUNTIF(L7:L10,"x")*2 -> 0 | M12: =COUNTIF(M7:M10,"x")*3 -> 0 | R12: =COUNTIF(R7:R10,"x") -> 0 | S12: =COUNTIF(S7:S10,"x")*2 -> 0 | T12: =COUNTIF(T7:T10,"x")*3 -> 0 | Y12: =COUNTIF(Y7:Y10,"x") -> 0 | Z12: =COUNTIF(Z7:Z10,"x")*2 -> 0 | AA12: =COUNTIF(AA7:AA10,"x")*3 -> 0 | AF12: =COUNTIF(AF7:AF10,"x") -> 0 | AG12: =COUNTIF(AG7:AG10,"x")*2 -> 0 | AH12: =COUNTIF(AH7:AH10,"x")*3 -> 0 | AM12: =COUNTIF(AM7:AM10,"x") -> 0 | AN12: =COUNTIF(AN7:AN10,"x")*2 -> 0 | AO12: =COUNTIF(AO7:AO10,"x")*3 -> 0 | AT12: =COUNTIF(AT7:AT10,"x") -> 0 | AU12: =COUNTIF(AU7:AU10,"x")*2 -> 0 | AV12: =COUNTIF(AV7:AV10,"x")*3 -> 0 | BA12: =COUNTIF(BA7:BA10,"x") -> 0 | BB12: =COUNTIF(BB7:BB10,"x")*2 -> 0 | BC12: =COUNTIF(BC7:BC10,"x")*3 -> 0 | BH12: =COUNTIF(BH7:BH10,"x") -> 0 | BI12: =COUNTIF(BI7:BI10,"x")*2 -> 0 | BJ12: =COUNTIF(BJ7:BJ10,"x")*3 -> 0 | BO12: =COUNTIF(BO7:BO10,"x") -> 0 | BP12: =COUNTIF(BP7:BP10,"x")*2 -> 0 | BQ12: =COUNTIF(BQ7:BQ10,"x")*3 -> 0 | BV12: =COUNTIF(BV7:BV10,"x") -> 0 | BW12: =COUNTIF(BW7:BW10,"x")*2 -> 0 | BX12: =COUNTIF(BX7:BX10,"x")*3 -> 0
I13: Tableau A : | J13: =SUM(K12:M12) -> 0 | K13: point(s) | P13: Tableau A : | Q13: =SUM(R12:T12) -> 0 | R13: point(s) | W13: Tableau A : | X13: =SUM(Y12:AA12) -> 0 | Y13: point(s) | AD13: Tableau A : | AE13: =SUM(AF12:AH12) -> 0 | AF13: point(s) | AK13: Tableau A : | AL13: =SUM(AM12:AO12) -> 0 | AM13: point(s) | AR13: Tableau A : | AS13: =SUM(AT12:AV12) -> 0 | AT13: point(s) | AY13: Tableau A : | AZ13: =SUM(BA12:BC12) -> 0 | BA13: point(s) | BF13: Tableau A : | BG13: =SUM(BH12:BJ12) -> 0 | BH13: point(s) | BM13: Tableau A : | BN13: =SUM(BO12:BQ12) -> 0 | BO13: point(s) | BT13: Tableau A : | BU13: =SUM(BV12:BX12) -> 0 | BV13: point(s)
I15: Historique des données d'étalonnage | P15: Historique des données d'étalonnage | W15: Historique des données d'étalonnage | AD15: Historique des données d'étalonnage | AK15: Historique des données d'étalonnage | AR15: Historique des données d'étalonnage | AY15: Historique des données d'étalonnage | BF15: Historique des données d'étalonnage | BM15: Historique des données d'étalonnage | BT15: Historique des données d'étalonnage
I17: Critères B | M17: Point | P17: Critères B | T17: Point | W17: Critères B | AA17: Point | AD17: Critères B | AH17: Point | AK17: Critères B | AO17: Point | AR17: Critères B | AV17: Point | AY17: Critères B | BC17: Point | BF17: Critères B | BJ17: Point | BM17: Critères B | BQ17: Point | BT17: Critères B | BX17: Point
I18: Les résultats de mesure des 3 derniers étalonnages sont dans les spécifications | N18: =IF(M18="x",-2,"") | P18: Les résultats de mesure des 3 derniers étalonnages sont dans les spécifications | U18: =IF(T18="x",-2,"") | W18: Les résultats de mesure des 3 derniers étalonnages sont dans les spécifications | AB18: =IF(AA18="x",-2,"") | AD18: Les résultats de mesure des 3 derniers étalonnages sont dans les spécifications | AI18: =IF(AH18="x",-2,"") | AK18: Les résultats de mesure des 3 derniers étalonnages sont dans les spécifications | AP18: =IF(AO18="x",-2,"") | AR18: Les résultats de mesure des 3 derniers étalonnages sont dans les spécifications | AW18: =IF(AV18="x",-2,"") | AY18: Les résultats de mesure des 3 derniers étalonnages sont dans les spécifications | BD18: =IF(BC18="x",-2,"") | BF18: Les résultats de mesure des 3 derniers étalonnages sont dans les spécifications | BK18: =IF(BJ18="x",-2,"") | BM18: Les résultats de mesure des 3 derniers étalonnages sont dans les spécifications | BR18: =IF(BQ18="x",-2,"") | BT18: Les résultats de mesure des 3 derniers étalonnages sont dans les spécifications | BY18: =IF(BX18="x",-2,"")
I19: Les résultats de mesure des 2 derniers étalonnages sont dans les spécifications | N19: =IF(M19="x",-1,"") | P19: Les résultats de mesure des 2 derniers étalonnages sont dans les spécifications | U19: =IF(T19="x",-1,"") | W19: Les résultats de mesure des 2 derniers étalonnages sont dans les spécifications | AB19: =IF(AA19="x",-1,"") | AD19: Les résultats de mesure des 2 derniers étalonnages sont dans les spécifications | AI19: =IF(AH19="x",-1,"") | AK19: Les résultats de mesure des 2 derniers étalonnages sont dans les spécifications | AP19: =IF(AO19="x",-1,"") | AR19: Les résultats de mesure des 2 derniers étalonnages sont dans les spécifications | AW19: =IF(AV19="x",-1,"") | AY19: Les résultats de mesure des 2 derniers étalonnages sont dans les spécifications | BD19: =IF(BC19="x",-1,"") | BF19: Les résultats de mesure des 2 derniers étalonnages sont dans les spécifications | BK19: =IF(BJ19="x",-1,"") | BM19: Les résultats de mesure des 2 derniers étalonnages sont dans les spécifications | BR19: =IF(BQ19="x",-1,"") | BT19: Les résultats de mesure des 2 derniers étalonnages sont dans les spécifications | BY19: =IF(BX19="x",-1,"")
I20: Les résultats de mesure du dernier étalonnage sont dans les spécifications | N20: =IF(M20="x",0,"") | P20: Les résultats de mesure du dernier étalonnage sont dans les spécifications | U20: =IF(T20="x",0,"") | W20: Les résultats de mesure du dernier étalonnage sont dans les spécifications | AB20: =IF(AA20="x",0,"") | AD20: Les résultats de mesure du dernier étalonnage sont dans les spécifications | AI20: =IF(AH20="x",0,"") | AK20: Les résultats de mesure du dernier étalonnage sont dans les spécifications | AP20: =IF(AO20="x",0,"") | AR20: Les résultats de mesure du dernier étalonnage sont dans les spécifications | AW20: =IF(AV20="x",0,"") | AY20: Les résultats de mesure du dernier étalonnage sont dans les spécifications | BD20: =IF(BC20="x",0,"") | BF20: Les résultats de mesure du dernier étalonnage sont dans les spécifications | BK20: =IF(BJ20="x",0,"") | BM20: Les résultats de mesure du dernier étalonnage sont dans les spécifications | BR20: =IF(BQ20="x",0,"") | BT20: Les résultats de mesure du dernier étalonnage sont dans les spécifications | BY20: =IF(BX20="x",0,"")
I21: Les résultats de mesure sont à la limite des spécifications (zone de doute) | N21: =IF(M21="x",1,"") | P21: Les résultats de mesure sont à la limite des spécifications (zone de doute) | U21: =IF(T21="x",1,"") | W21: Les résultats de mesure sont à la limite des spécifications (zone de doute) | AB21: =IF(AA21="x",1,"") | AD21: Les résultats de mesure sont à la limite des spécifications (zone de doute) | AI21: =IF(AH21="x",1,"") | AK21: Les résultats de mesure sont à la limite des spécifications (zone de doute) | AP21: =IF(AO21="x",1,"") | AR21: Les résultats de mesure sont à la limite des spécifications (zone de doute) | AW21: =IF(AV21="x",1,"") | AY21: Les résultats de mesure sont à la limite des spécifications (zone de doute) | BD21: =IF(BC21="x",1,"") | BF21: Les résultats de mesure sont à la limite des spécifications (zone de doute) | BK21: =IF(BJ21="x",1,"") | BM21: Les résultats de mesure sont à la limite des spécifications (zone de doute) | BR21: =IF(BQ21="x",1,"") | BT21: Les résultats de mesure sont à la limite des spécifications (zone de doute) | BY21: =IF(BX21="x",1,"")
I22: Un des résultats est en dehors des spécifications | N22: =IF(M22="x",2,"") | P22: Un des résultats est en dehors des spécifications | U22: =IF(T22="x",2,"") | W22: Un des résultats est en dehors des spécifications | AB22: =IF(AA22="x",2,"") | AD22: Un des résultats est en dehors des spécifications | AI22: =IF(AH22="x",2,"") | AK22: Un des résultats est en dehors des spécifications | AP22: =IF(AO22="x",2,"") | AR22: Un des résultats est en dehors des spécifications | AW22: =IF(AV22="x",2,"") | AY22: Un des résultats est en dehors des spécifications | BD22: =IF(BC22="x",2,"") | BF22: Un des résultats est en dehors des spécifications | BK22: =IF(BJ22="x",2,"") | BM22: Un des résultats est en dehors des spécifications | BR22: =IF(BQ22="x",2,"") | BT22: Un des résultats est en dehors des spécifications | BY22: =IF(BX22="x",2,"")
I23: Plusieurs résultats sont en dehors des spécifications | N23: =IF(M23="x",3,"") | P23: Plusieurs résultats sont en dehors des spécifications | U23: =IF(T23="x",3,"") | W23: Plusieurs résultats sont en dehors des spécifications | AB23: =IF(AA23="x",3,"") | AD23: Plusieurs résultats sont en dehors des spécifications | AI23: =IF(AH23="x",3,"") | AK23: Plusieurs résultats sont en dehors des spécifications | AP23: =IF(AO23="x",3,"") | AR23: Plusieurs résultats sont en dehors des spécifications | AW23: =IF(AV23="x",3,"") | AY23: Plusieurs résultats sont en dehors des spécifications | BD23: =IF(BC23="x",3,"") | BF23: Plusieurs résultats sont en dehors des spécifications | BK23: =IF(BJ23="x",3,"") | BM23: Plusieurs résultats sont en dehors des spécifications | BR23: =IF(BQ23="x",3,"") | BT23: Plusieurs résultats sont en dehors des spécifications | BY23: =IF(BX23="x",3,"")
I25: Tableau B : | J25: =SUM(N18:N23) -> 0 | K25: point(s) | P25: Tableau B : | Q25: =SUM(U18:U23) -> 0 | R25: point(s) | W25: Tableau B : | X25: =SUM(AB18:AB23) -> 0 | Y25: point(s) | AD25: Tableau B : | AE25: =SUM(AI18:AI23) -> 0 | AF25: point(s) | AK25: Tableau B : | AL25: =SUM(AP18:AP23) -> 0 | AM25: point(s) | AR25: Tableau B : | AS25: =SUM(AW18:AW23) -> 0 | AT25: point(s) | AY25: Tableau B : | AZ25: =SUM(BD18:BD23) -> 0 | BA25: point(s) | BF25: Tableau B : | BG25: =SUM(BK18:BK23) -> 0 | BH25: point(s) | BM25: Tableau B : | BN25: =SUM(BR18:BR23) -> 0 | BO25: point(s) | BT25: Tableau B : | BU25: =SUM(BY18:BY23) -> 0 | BV25: point(s)
I27: Tableaux A et B : | J27: =J13+J25 -> 0 | K27: point(s) | P27: Tableaux A et B : | Q27: =Q13+Q25 -> 0 | R27: point(s) | W27: Tableaux A et B : | X27: =X13+X25 -> 0 | Y27: point(s) | AD27: Tableaux A et B : | AE27: =AE13+AE25 -> 0 | AF27: point(s) | AK27: Tableaux A et B : | AL27: =AL13+AL25 -> 0 | AM27: point(s) | AR27: Tableaux A et B : | AS27: =AS13+AS25 -> 0 | AT27: point(s) | AY27: Tableaux A et B : | AZ27: =AZ13+AZ25 -> 0 | BA27: point(s) | BF27: Tableaux A et B : | BG27: =BG13+BG25 -> 0 | BH27: point(s) | BM27: Tableaux A et B : | BN27: =BN13+BN25 -> 0 | BO27: point(s) | BT27: Tableaux A et B : | BU27: =BU13+BU25 -> 0 | BV27: point(s)

Sheet TAC 193-2
B2: Table d'autocontrôle : HALL 1 | D2: TAC - | E2: 193 | F2: - 2 | I2: 1 - Comparateur | K2: ME-13429510 | P2: 2 - Calibre | R2: CTR-97-09 | W2: 3 - Courbure tube | Y2: AP-3601-2 | AD2: 4 - Réglet | AF2: PO128 | AK2: 5 - Réglet | AM2: PO206 | AR2: 6 - Spray | AT2: … | AY2: 7 - ... | BA2: … | BF2: 8 - … | BH2: … | BM2: 9 - ... | BO2: … | BT2: 10 - … | BV2: …
I3: Périodicité : | K3: =IF(ISNA(HLOOKUP(J27,Données!$C4:$O5,2,FALSE)),"... mois",HLOOKUP(J27,Données!$C4:$O5,2,FALSE)) -> ... mois | L3: =IF(J11<>"",$C11,IF(K11<>"",$D11,IF(L11<>"",$E11,IF(M11<>"",$F11,"...")))) -> ... | P3: Périodicité : | R3: =IF(ISNA(HLOOKUP(Q27,Données!$C4:$O5,2,FALSE)),"... mois",HLOOKUP(Q27,Données!$C4:$O5,2,FALSE)) -> ... mois | S3: =IF(Q11<>"",$C11,IF(R11<>"",$D11,IF(S11<>"",$E11,IF(T11<>"",$F11,"...")))) -> ... | W3: Périodicité : | Y3: =IF(ISNA(HLOOKUP(X27,Données!$C4:$O5,2,FALSE)),"... mois",HLOOKUP(X27,Données!$C4:$O5,2,FALSE)) -> ... mois | Z3: =IF(X11<>"",$C11,IF(Y11<>"",$D11,IF(Z11<>"",$E11,IF(AA11<>"",$F11,"...")))) -> ... | AD3: Périodicité : | AF3: =IF(ISNA(HLOOKUP(AE27,Données!$C4:$O5,2,FALSE)),"... mois",HLOOKUP(AE27,Données!$C4:$O5,2,FALSE)) -> ... mois | AG3: =IF(AE11<>"",$C11,IF(AF11<>"",$D11,IF(AG11<>"",$E11,IF(AH11<>"",$F11,"...")))) -> ... | AK3: Périodicité : | AM3: =IF(ISNA(HLOOKUP(AL27,Données!$C4:$O5,2,FALSE)),"... mois",HLOOKUP(AL27,Données!$C4:$O5,2,FALSE)) -> ... mois | AN3: =IF(AL11<>"",$C11,IF(AM11<>"",$D11,IF(AN11<>"",$E11,IF(AO11<>"",$F11,"...")))) -> ... | AR3: Périodicité : | AT3: =IF(ISNA(HLOOKUP(AS27,Données!$C4:$O5,2,FALSE)),"... mois",HLOOKUP(AS27,Données!$C4:$O5,2,FALSE)) -> ... mois | AU3: =IF(AS11<>"",$C11,IF(AT11<>"",$D11,IF(AU11<>"",$E11,IF(AV11<>"",$F11,"...")))) -> ... | AY3: Périodicité : | BA3: =IF(ISNA(HLOOKUP(AZ27,Données!$C4:$O5,2,FALSE)),"... mois",HLOOKUP(AZ27,Données!$C4:$O5,2,FALSE)) -> ... mois | BB3: =IF(AZ11<>"",$C11,IF(BA11<>"",$D11,IF(BB11<>"",$E11,IF(BC11<>"",$F11,"...")))) -> ... | BF3: Périodicité : | BH3: =IF(ISNA(HLOOKUP(BG27,Données!$C4:$O5,2,FALSE)),"... mois",HLOOKUP(BG27,Données!$C4:$O5,2,FALSE)) -> ... mois | BI3: =IF(BG11<>"",$C11,IF(BH11<>"",$D11,IF(BI11<>"",$E11,IF(BJ11<>"",$F11,"...")))) -> ... | BM3: Périodicité : | BO3: =IF(ISNA(HLOOKUP(BN27,Données!$C4:$O5,2,FALSE)),"... mois",HLOOKUP(BN27,Données!$C4:$O5,2,FALSE)) -> ... mois | BP3: =IF(BN11<>"",$C11,IF(BO11<>"",$D11,IF(BP11<>"",$E11,IF(BQ11<>"",$F11,"...")))) -> ... | BT3: Périodicité : | BV3: =IF(ISNA(HLOOKUP(BU27,Données!$C4:$O5,2,FALSE)),"... mois",HLOOKUP(BU27,Données!$C4:$O5,2,FALSE)) -> ... mois | BW3: =IF(BU11<>"",$C11,IF(BV11<>"",$D11,IF(BW11<>"",$E11,IF(BX11<>"",$F11,"...")))) -> ...
B5: Critères (X) | C5: Point | I5: Critères (X) | J5: Point | P5: Critères (X) | Q5: Point | W5: Critères (X) | X5: Point | AD5: Critères (X) | AE5: Point | AK5: Critères (X) | AL5: Point | AR5: Critères (X) | AS5: Point | AY5: Critères (X) | AZ5: Point | BF5: Critères (X) | BG5: Point | BM5: Critères (X) | BN5: Point | BT5: Critères (X) | BU5: Point
C6: 0 | D6: 1 | E6: 2 | F6: 3 | J6: 0 | K6: 1 | L6: 2 | M6: 3 | Q6: 0 | R6: 1 | S6: 2 | T6: 3 | X6: 0 | Y6: 1 | Z6: 2 | AA6: 3 | AE6: 0 | AF6: 1 | AG6: 2 | AH6: 3 | AL6: 0 | AM6: 1 | AN6: 2 | AO6: 3 | AS6: 0 | AT6: 1 | AU6: 2 | AV6: 3 | AZ6: 0 | BA6: 1 | BB6: 2 | BC6: 3 | BG6: 0 | BH6: 1 | BI6: 2 | BJ6: 3 | BN6: 0 | BO6: 1 | BP6: 2 | BQ6: 3 | BU6: 0 | BV6: 1 | BW6: 2 | BX6: 3
B7: Fréquence d'utilisation | C7: Occasionnellement | D7: 1 fois / jour | E7: Plusieurs fois / jour | F7: En permanence | I7: Fréquence d'utilisation | P7: Fréquence d'utilisation | W7: Fréquence d'utilisation | AD7: Fréquence d'utilisation | AK7: Fréquence d'utilisation | AR7: Fréquence d'utilisation | AY7: Fréquence d'utilisation | BF7: Fréquence d'utilisation | BM7: Fréquence d'utilisation | BT7: Fréquence d'utilisation
B8: Lieu d'utilisation | C8: / | D8: Métrologie Laboratoire | E8: Bureaux Local spécifique | F8: Maintenance UP | I8: Lieu d'utilisation | P8: Lieu d'utilisation | W8: Lieu d'utilisation | AD8: Lieu d'utilisation | AK8: Lieu d'utilisation | AR8: Lieu d'utilisation | AY8: Lieu d'utilisation | BF8: Lieu d'utilisation | BM8: Lieu d'utilisation | BT8: Lieu d'utilisation
B9: Risque d'usure | C9: Aucun | D9: Faible | E9: Moyen | F9: Importante | I9: Risque d'usure | P9: Risque d'usure | W9: Risque d'usure | AD9: Risque d'usure | AK9: Risque d'usure | AR9: Risque d'usure | AY9: Risque d'usure | BF9: Risque d'usure | BM9: Risque d'usure | BT9: Risque d'usure
B10: Conséquence d'une mesure erronée | C10: Aucune | D10: Faible Ctrl IPC hors validation | E10: Importante Ctrl de validation | F10: Très importante Contrôle libératoire | I10: Conséquence d'une mesure erronée | P10: Conséquence d'une mesure erronée | W10: Conséquence d'une mesure erronée | AD10: Conséquence d'une mesure erronée | AK10: Conséquence d'une mesure erronée | AR10: Conséquence d'une mesure erronée | AY10: Conséquence d'une mesure erronée | BF10: Conséquence d'une mesure erronée | BM10: Conséquence d'une mesure erronée | BT10: Conséquence d'une mesure erronée
B11: Type de contrôle | C11: Surveillance Entretien | D11: Vérification Interne | E11: Vérification Externe Indirect | F11: Vérification Externe Direct (type COFRAC) | I11: Type de contrôle | P11: Type de contrôle | W11: Type de contrôle | AD11: Type de contrôle | AK11: Type de contrôle | AR11: Type de contrôle | AY11: Type de contrôle | BF11: Type de contrôle | BM11: Type de contrôle | BT11: Type de contrôle
K12: =COUNTIF(K7:K10,"x") -> 0 | L12: =COUNTIF(L7:L10,"x")*2 -> 0 | M12: =COUNTIF(M7:M10,"x")*3 -> 0 | R12: =COUNTIF(R7:R10,"x") -> 0 | S12: =COUNTIF(S7:S10,"x")*2 -> 0 | T12: =COUNTIF(T7:T10,"x")*3 -> 0 | Y12: =COUNTIF(Y7:Y10,"x") -> 0 | Z12: =COUNTIF(Z7:Z10,"x")*2 -> 0 | AA12: =COUNTIF(AA7:AA10,"x")*3 -> 0 | AF12: =COUNTIF(AF7:AF10,"x") -> 0 | AG12: =COUNTIF(AG7:AG10,"x")*2 -> 0 | AH12: =COUNTIF(AH7:AH10,"x")*3 -> 0 | AM12: =COUNTIF(AM7:AM10,"x") -> 0 | AN12: =COUNTIF(AN7:AN10,"x")*2 -> 0 | AO12: =COUNTIF(AO7:AO10,"x")*3 -> 0 | AT12: =COUNTIF(AT7:AT10,"x") -> 0 | AU12: =COUNTIF(AU7:AU10,"x")*2 -> 0 | AV12: =COUNTIF(AV7:AV10,"x")*3 -> 0 | BA12: =COUNTIF(BA7:BA10,"x") -> 0 | BB12: =COUNTIF(BB7:BB10,"x")*2 -> 0 | BC12: =COUNTIF(BC7:BC10,"x")*3 -> 0 | BH12: =COUNTIF(BH7:BH10,"x") -> 0 | BI12: =COUNTIF(BI7:BI10,"x")*2 -> 0 | BJ12: =COUNTIF(BJ7:BJ10,"x")*3 -> 0 | BO12: =COUNTIF(BO7:BO10,"x") -> 0 | BP12: =COUNTIF(BP7:BP10,"x")*2 -> 0 | BQ12: =COUNTIF(BQ7:BQ10,"x")*3 -> 0 | BV12: =COUNTIF(BV7:BV10,"x") -> 0 | BW12: =COUNTIF(BW7:BW10,"x")*2 -> 0 | BX12: =COUNTIF(BX7:BX10,"x")*3 -> 0
I13: Tableau A : | J13: =SUM(K12:M12) -> 0 | K13: point(s) | P13: Tableau A : | Q13: =SUM(R12:T12) -> 0 | R13: point(s) | W13: Tableau A : | X13: =SUM(Y12:AA12) -> 0 | Y13: point(s) | AD13: Tableau A : | AE13: =SUM(AF12:AH12) -> 0 | AF13: point(s) | AK13: Tableau A : | AL13: =SUM(AM12:AO12) -> 0 | AM13: point(s) | AR13: Tableau A : | AS13: =SUM(AT12:AV12) -> 0 | AT13: point(s) | AY13: Tableau A : | AZ13: =SUM(BA12:BC12) -> 0 | BA13: point(s) | BF13: Tableau A : | BG13: =SUM(BH12:BJ12) -> 0 | BH13: point(s) | BM13: Tableau A : | BN13: =SUM(BO12:BQ12) -> 0 | BO13: point(s) | BT13: Tableau A : | BU13: =SUM(BV12:BX12) -> 0 | BV13: point(s)
I15: Historique des données d'étalonnage | P15: Historique des données d'étalonnage | W15: Historique des données d'étalonnage | AD15: Historique des données d'étalonnage | AK15: Historique des données d'étalonnage | AR15: Historique des données d'étalonnage | AY15: Historique des données d'étalonnage | BF15: Historique des données d'étalonnage | BM15: Historique des données d'étalonnage | BT15: Historique des données d'étalonnage
I17: Critères B | M17: Point | P17: Critères B | T17: Point | W17: Critères B | AA17: Point | AD17: Critères B | AH17: Point | AK17: Critères B | AO17: Point | AR17: Critères B | AV17: Point | AY17: Critères B | BC17: Point | BF17: Critères B | BJ17: Point | BM17: Critères B | BQ17: Point | BT17: Critères B | BX17: Point
I18: Les résultats de mesure des 3 derniers étalonnages sont dans les spécifications | N18: =IF(M18="x",-2,"") | P18: Les résultats de mesure des 3 derniers étalonnages sont dans les spécifications | U18: =IF(T18="x",-2,"") | W18: Les résultats de mesure des 3 derniers étalonnages sont dans les spécifications | AB18: =IF(AA18="x",-2,"") | AD18: Les résultats de mesure des 3 derniers étalonnages sont dans les spécifications | AI18: =IF(AH18="x",-2,"") | AK18: Les résultats de mesure des 3 derniers étalonnages sont dans les spécifications | AP18: =IF(AO18="x",-2,"") | AR18: Les résultats de mesure des 3 derniers étalonnages sont dans les spécifications | AW18: =IF(AV18="x",-2,"") | AY18: Les résultats de mesure des 3 derniers étalonnages sont dans les spécifications | BD18: =IF(BC18="x",-2,"") | BF18: Les résultats de mesure des 3 derniers étalonnages sont dans les spécifications | BK18: =IF(BJ18="x",-2,"") | BM18: Les résultats de mesure des 3 derniers étalonnages sont dans les spécifications | BR18: =IF(BQ18="x",-2,"") | BT18: Les résultats de mesure des 3 derniers étalonnages sont dans les spécifications | BY18: =IF(BX18="x",-2,"")
I19: Les résultats de mesure des 2 derniers étalonnages sont dans les spécifications | N19: =IF(M19="x",-1,"") | P19: Les résultats de mesure des 2 derniers étalonnages sont dans les spécifications | U19: =IF(T19="x",-1,"") | W19: Les résultats de mesure des 2 derniers étalonnages sont dans les spécifications | AB19: =IF(AA19="x",-1,"") | AD19: Les résultats de mesure des 2 derniers étalonnages sont dans les spécifications | AI19: =IF(AH19="x",-1,"") | AK19: Les résultats de mesure des 2 derniers étalonnages sont dans les spécifications | AP19: =IF(AO19="x",-1,"") | AR19: Les résultats de mesure des 2 derniers étalonnages sont dans les spécifications | AW19: =IF(AV19="x",-1,"") | AY19: Les résultats de mesure des 2 derniers étalonnages sont dans les spécifications | BD19: =IF(BC19="x",-1,"") | BF19: Les résultats de mesure des 2 derniers étalonnages sont dans les spécifications | BK19: =IF(BJ19="x",-1,"") | BM19: Les résultats de mesure des 2 derniers étalonnages sont dans les spécifications | BR19: =IF(BQ19="x",-1,"") | BT19: Les résultats de mesure des 2 derniers étalonnages sont dans les spécifications | BY19: =IF(BX19="x",-1,"")
I20: Les résultats de mesure du dernier étalonnage sont dans les spécifications | N20: =IF(M20="x",0,"") | P20: Les résultats de mesure du dernier étalonnage sont dans les spécifications | U20: =IF(T20="x",0,"") | W20: Les résultats de mesure du dernier étalonnage sont dans les spécifications | AB20: =IF(AA20="x",0,"") | AD20: Les résultats de mesure du dernier étalonnage sont dans les spécifications | AI20: =IF(AH20="x",0,"") | AK20: Les résultats de mesure du dernier étalonnage sont dans les spécifications | AP20: =IF(AO20="x",0,"") | AR20: Les résultats de mesure du dernier étalonnage sont dans les spécifications | AW20: =IF(AV20="x",0,"") | AY20: Les résultats de mesure du dernier étalonnage sont dans les spécifications | BD20: =IF(BC20="x",0,"") | BF20: Les résultats de mesure du dernier étalonnage sont dans les spécifications | BK20: =IF(BJ20="x",0,"") | BM20: Les résultats de mesure du dernier étalonnage sont dans les spécifications | BR20: =IF(BQ20="x",0,"") | BT20: Les résultats de mesure du dernier étalonnage sont dans les spécifications | BY20: =IF(BX20="x",0,"")
I21: Les résultats de mesure sont à la limite des spécifications (zone de doute) | N21: =IF(M21="x",1,"") | P21: Les résultats de mesure sont à la limite des spécifications (zone de doute) | U21: =IF(T21="x",1,"") | W21: Les résultats de mesure sont à la limite des spécifications (zone de doute) | AB21: =IF(AA21="x",1,"") | AD21: Les résultats de mesure sont à la limite des spécifications (zone de doute) | AI21: =IF(AH21="x",1,"") | AK21: Les résultats de mesure sont à la limite des spécifications (zone de doute) | AP21: =IF(AO21="x",1,"") | AR21: Les résultats de mesure sont à la limite des spécifications (zone de doute) | AW21: =IF(AV21="x",1,"") | AY21: Les résultats de mesure sont à la limite des spécifications (zone de doute) | BD21: =IF(BC21="x",1,"") | BF21: Les résultats de mesure sont à la limite des spécifications (zone de doute) | BK21: =IF(BJ21="x",1,"") | BM21: Les résultats de mesure sont à la limite des spécifications (zone de doute) | BR21: =IF(BQ21="x",1,"") | BT21: Les résultats de mesure sont à la limite des spécifications (zone de doute) | BY21: =IF(BX21="x",1,"")
I22: Un des résultats est en dehors des spécifications | N22: =IF(M22="x",2,"") | P22: Un des résultats est en dehors des spécifications | U22: =IF(T22="x",2,"") | W22: Un des résultats est en dehors des spécifications | AB22: =IF(AA22="x",2,"") | AD22: Un des résultats est en dehors des spécifications | AI22: =IF(AH22="x",2,"") | AK22: Un des résultats est en dehors des spécifications | AP22: =IF(AO22="x",2,"") | AR22: Un des résultats est en dehors des spécifications | AW22: =IF(AV22="x",2,"") | AY22: Un des résultats est en dehors des spécifications | BD22: =IF(BC22="x",2,"") | BF22: Un des résultats est en dehors des spécifications | BK22: =IF(BJ22="x",2,"") | BM22: Un des résultats est en dehors des spécifications | BR22: =IF(BQ22="x",2,"") | BT22: Un des résultats est en dehors des spécifications | BY22: =IF(BX22="x",2,"")
I23: Plusieurs résultats sont en dehors des spécifications | N23: =IF(M23="x",3,"") | P23: Plusieurs résultats sont en dehors des spécifications | U23: =IF(T23="x",3,"") | W23: Plusieurs résultats sont en dehors des spécifications | AB23: =IF(AA23="x",3,"") | AD23: Plusieurs résultats sont en dehors des spécifications | AI23: =IF(AH23="x",3,"") | AK23: Plusieurs résultats sont en dehors des spécifications | AP23: =IF(AO23="x",3,"") | AR23: Plusieurs résultats sont en dehors des spécifications | AW23: =IF(AV23="x",3,"") | AY23: Plusieurs résultats sont en dehors des spécifications | BD23: =IF(BC23="x",3,"") | BF23: Plusieurs résultats sont en dehors des spécifications | BK23: =IF(BJ23="x",3,"") | BM23: Plusieurs résultats sont en dehors des spécifications | BR23: =IF(BQ23="x",3,"") | BT23: Plusieurs résultats sont en dehors des spécifications | BY23: =IF(BX23="x",3,"")
I25: Tableau B : | J25: =SUM(N18:N23) -> 0 | K25: point(s) | P25: Tableau B : | Q25: =SUM(U18:U23) -> 0 | R25: point(s) | W25: Tableau B : | X25: =SUM(AB18:AB23) -> 0 | Y25: point(s) | AD25: Tableau B : | AE25: =SUM(AI18:AI23) -> 0 | AF25: point(s) | AK25: Tableau B : | AL25: =SUM(AP18:AP23) -> 0 | AM25: point(s) | AR25: Tableau B : | AS25: =SUM(AW18:AW23) -> 0 | AT25: point(s) | AY25: Tableau B : | AZ25: =SUM(BD18:BD23) -> 0 | BA25: point(s) | BF25: Tableau B : | BG25: =SUM(BK18:BK23) -> 0 | BH25: point(s) | BM25: Tableau B : | BN25: =SUM(BR18:BR23) -> 0 | BO25: point(s) | BT25: Tableau B : | BU25: =SUM(BY18:BY23) -> 0 | BV25: point(s)
I27: Tableaux A et B : | J27: =J13+J25 -> 0 | K27: point(s) | P27: Tableaux A et B : | Q27: =Q13+Q25 -> 0 | R27: point(s) | W27: Tableaux A et B : | X27: =X13+X25 -> 0 | Y27: point(s) | AD27: Tableaux A et B : | AE27: =AE13+AE25 -> 0 | AF27: point(s) | AK27: Tableaux A et B : | AL27: =AL13+AL25 -> 0 | AM27: point(s) | AR27: Tableaux A et B : | AS27: =AS13+AS25 -> 0 | AT27: point(s) | AY27: Tableaux A et B : | AZ27: =AZ13+AZ25 -> 0 | BA27: point(s) | BF27: Tableaux A et B : | BG27: =BG13+BG25 -> 0 | BH27: point(s) | BM27: Tableaux A et B : | BN27: =BN13+BN25 -> 0 | BO27: point(s) | BT27: Tableaux A et B : | BU27: =BU13+BU25 -> 0 | BV27: point(s)

Sheet TAC 201-1
B2: Table d'autocontrôle : HALL 1 | D2: TAC - | E2: 201 | F2: - 1 | I2: 1 - Débitmètre Solex | K2: AP84 | P2: 2 - Gycleur de tête | R2: X5.19 | W2: 3 - … | Y2: … | AD2: 4 - … | AF2: … | AK2: 5 - … | AM2: … | AR2: 6 - … | AT2: … | AY2: 7 - ... | BA2: … | BF2: 8 - … | BH2: … | BM2: 9 - ... | BO2: … | BT2: 10 - … | BV2: …
I3: Périodicité : | K3: =IF(ISNA(HLOOKUP(J27,Données!$C4:$O5,2,FALSE)),"... mois",HLOOKUP(J27,Données!$C4:$O5,2,FALSE)) -> ... mois | L3: =IF(J11<>"",$C11,IF(K11<>"",$D11,IF(L11<>"",$E11,IF(M11<>"",$F11,"...")))) -> ... | P3: Périodicité : | R3: =IF(ISNA(HLOOKUP(Q27,Données!$C4:$O5,2,FALSE)),"... mois",HLOOKUP(Q27,Données!$C4:$O5,2,FALSE)) -> ... mois | S3: =IF(Q11<>"",$C11,IF(R11<>"",$D11,IF(S11<>"",$E11,IF(T11<>"",$F11,"...")))) -> ... | W3: Périodicité : | Y3: =IF(ISNA(HLOOKUP(X27,Données!$C4:$O5,2,FALSE)),"... mois",HLOOKUP(X27,Données!$C4:$O5,2,FALSE)) -> ... mois | Z3: =IF(X11<>"",$C11,IF(Y11<>"",$D11,IF(Z11<>"",$E11,IF(AA11<>"",$F11,"...")))) -> ... | AD3: Périodicité : | AF3: =IF(ISNA(HLOOKUP(AE27,Données!$C4:$O5,2,FALSE)),"... mois",HLOOKUP(AE27,Données!$C4:$O5,2,FALSE)) -> ... mois | AG3: =IF(AE11<>"",$C11,IF(AF11<>"",$D11,IF(AG11<>"",$E11,IF(AH11<>"",$F11,"...")))) -> ... | AK3: Périodicité : | AM3: =IF(ISNA(HLOOKUP(AL27,Données!$C4:$O5,2,FALSE)),"... mois",HLOOKUP(AL27,Données!$C4:$O5,2,FALSE)) -> ... mois | AN3: =IF(AL11<>"",$C11,IF(AM11<>"",$D11,IF(AN11<>"",$E11,IF(AO11<>"",$F11,"...")))) -> ... | AR3: Périodicité : | AT3: =IF(ISNA(HLOOKUP(AS27,Données!$C4:$O5,2,FALSE)),"... mois",HLOOKUP(AS27,Données!$C4:$O5,2,FALSE)) -> ... mois | AU3: =IF(AS11<>"",$C11,IF(AT11<>"",$D11,IF(AU11<>"",$E11,IF(AV11<>"",$F11,"...")))) -> ... | AY3: Périodicité : | BA3: =IF(ISNA(HLOOKUP(AZ27,Données!$C4:$O5,2,FALSE)),"... mois",HLOOKUP(AZ27,Données!$C4:$O5,2,FALSE)) -> ... mois | BB3: =IF(AZ11<>"",$C11,IF(BA11<>"",$D11,IF(BB11<>"",$E11,IF(BC11<>"",$F11,"...")))) -> ... | BF3: Périodicité : | BH3: =IF(ISNA(HLOOKUP(BG27,Données!$C4:$O5,2,FALSE)),"... mois",HLOOKUP(BG27,Données!$C4:$O5,2,FALSE)) -> ... mois | BI3: =IF(BG11<>"",$C11,IF(BH11<>"",$D11,IF(BI11<>"",$E11,IF(BJ11<>"",$F11,"...")))) -> ... | BM3: Périodicité : | BO3: =IF(ISNA(HLOOKUP(BN27,Données!$C4:$O5,2,FALSE)),"... mois",HLOOKUP(BN27,Données!$C4:$O5,2,FALSE)) -> ... mois | BP3: =IF(BN11<>"",$C11,IF(BO11<>"",$D11,IF(BP11<>"",$E11,IF(BQ11<>"",$F11,"...")))) -> ... | BT3: Périodicité : | BV3: =IF(ISNA(HLOOKUP(BU27,Données!$C4:$O5,2,FALSE)),"... mois",HLOOKUP(BU27,Données!$C4:$O5,2,FALSE)) -> ... mois | BW3: =IF(BU11<>"",$C11,IF(BV11<>"",$D11,IF(BW11<>"",$E11,IF(BX11<>"",$F11,"...")))) -> ...
B5: Critères (X) | C5: Point | I5: Critères (X) | J5: Point | P5: Critères (X) | Q5: Point | W5: Critères (X) | X5: Point | AD5: Critères (X) | AE5: Point | AK5: Critères (X) | AL5: Point | AR5: Critères (X) | AS5: Point | AY5: Critères (X) | AZ5: Point | BF5: Critères (X) | BG5: Point | BM5: Critères (X) | BN5: Point | BT5: Critères (X) | BU5: Point
C6: 0 | D6: 1 | E6: 2 | F6: 3 | J6: 0 | K6: 1 | L6: 2 | M6: 3 | Q6: 0 | R6: 1 | S6: 2 | T6: 3 | X6: 0 | Y6: 1 | Z6: 2 | AA6: 3 | AE6: 0 | AF6: 1 | AG6: 2 | AH6: 3 | AL6: 0 | AM6: 1 | AN6: 2 | AO6: 3 | AS6: 0 | AT6: 1 | AU6: 2 | AV6: 3 | AZ6: 0 | BA6: 1 | BB6: 2 | BC6: 3 | BG6: 0 | BH6: 1 | BI6: 2 | BJ6: 3 | BN6: 0 | BO6: 1 | BP6: 2 | BQ6: 3 | BU6: 0 | BV6: 1 | BW6: 2 | BX6: 3
B7: Fréquence d'utilisation | C7: Occasionnellement | D7: 1 fois / jour | E7: Plusieurs fois / jour | F7: En permanence | I7: Fréquence d'utilisation | P7: Fréquence d'utilisation | W7: Fréquence d'utilisation | AD7: Fréquence d'utilisation | AK7: Fréquence d'utilisation | AR7: Fréquence d'utilisation | AY7: Fréquence d'utilisation | BF7: Fréquence d'utilisation | BM7: Fréquence d'utilisation | BT7: Fréquence d'utilisation
B8: Lieu d'utilisation | C8: / | D8: Métrologie Laboratoire | E8: Bureaux Local spécifique | F8: Maintenance UP | I8: Lieu d'utilisation | P8: Lieu d'utilisation | W8: Lieu d'utilisation | AD8: Lieu d'utilisation | AK8: Lieu d'utilisation | AR8: Lieu d'utilisation | AY8: Lieu d'utilisation | BF8: Lieu d'utilisation | BM8: Lieu d'utilisation | BT8: Lieu d'utilisation
B9: Risque d'usure | C9: Aucun | D9: Faible | E9: Moyen | F9: Importante | I9: Risque d'usure | P9: Risque d'usure | W9: Risque d'usure | AD9: Risque d'usure | AK9: Risque d'usure | AR9: Risque d'usure | AY9: Risque d'usure | BF9: Risque d'usure | BM9: Risque d'usure | BT9: Risque d'usure
B10: Conséquence d'une mesure erronée | C10: Aucune | D10: Faible Ctrl IPC hors validation | E10: Importante Ctrl de validation | F10: Très importante Contrôle libératoire | I10: Conséquence d'une mesure erronée | P10: Conséquence d'une mesure erronée | W10: Conséquence d'une mesure erronée | AD10: Conséquence d'une mesure erronée | AK10: Conséquence d'une mesure erronée | AR10: Conséquence d'une mesure erronée | AY10: Conséquence d'une mesure erronée | BF10: Conséquence d'une mesure erronée | BM10: Conséquence d'une mesure erronée | BT10: Conséquence d'une mesure erronée
B11: Type de contrôle | C11: Surveillance Entretien | D11: Vérification Interne | E11: Vérification Externe Indirect | F11: Vérification Externe Direct (type COFRAC) | I11: Type de contrôle | P11: Type de contrôle | W11: Type de contrôle | AD11: Type de contrôle | AK11: Type de contrôle | AR11: Type de contrôle | AY11: Type de contrôle | BF11: Type de contrôle | BM11: Type de contrôle | BT11: Type de contrôle
K12: =COUNTIF(K7:K10,"x") -> 0 | L12: =COUNTIF(L7:L10,"x")*2 -> 0 | M12: =COUNTIF(M7:M10,"x")*3 -> 0 | R12: =COUNTIF(R7:R10,"x") -> 0 | S12: =COUNTIF(S7:S10,"x")*2 -> 0 | T12: =COUNTIF(T7:T10,"x")*3 -> 0 | Y12: =COUNTIF(Y7:Y10,"x") -> 0 | Z12: =COUNTIF(Z7:Z10,"x")*2 -> 0 | AA12: =COUNTIF(AA7:AA10,"x")*3 -> 0 | AF12: =COUNTIF(AF7:AF10,"x") -> 0 | AG12: =COUNTIF(AG7:AG10,"x")*2 -> 0 | AH12: =COUNTIF(AH7:AH10,"x")*3 -> 0 | AM12: =COUNTIF(AM7:AM10,"x") -> 0 | AN12: =COUNTIF(AN7:AN10,"x")*2 -> 0 | AO12: =COUNTIF(AO7:AO10,"x")*3 -> 0 | AT12: =COUNTIF(AT7:AT10,"x") -> 0 | AU12: =COUNTIF(AU7:AU10,"x")*2 -> 0 | AV12: =COUNTIF(AV7:AV10,"x")*3 -> 0 | BA12: =COUNTIF(BA7:BA10,"x") -> 0 | BB12: =COUNTIF(BB7:BB10,"x")*2 -> 0 | BC12: =COUNTIF(BC7:BC10,"x")*3 -> 0 | BH12: =COUNTIF(BH7:BH10,"x") -> 0 | BI12: =COUNTIF(BI7:BI10,"x")*2 -> 0 | BJ12: =COUNTIF(BJ7:BJ10,"x")*3 -> 0 | BO12: =COUNTIF(BO7:BO10,"x") -> 0 | BP12: =COUNTIF(BP7:BP10,"x")*2 -> 0 | BQ12: =COUNTIF(BQ7:BQ10,"x")*3 -> 0 | BV12: =COUNTIF(BV7:BV10,"x") -> 0 | BW12: =COUNTIF(BW7:BW10,"x")*2 -> 0 | BX12: =COUNTIF(BX7:BX10,"x")*3 -> 0
I13: Tableau A : | J13: =SUM(K12:M12) -> 0 | K13: point(s) | P13: Tableau A : | Q13: =SUM(R12:T12) -> 0 | R13: point(s) | W13: Tableau A : | X13: =SUM(Y12:AA12) -> 0 | Y13: point(s) | AD13: Tableau A : | AE13: =SUM(AF12:AH12) -> 0 | AF13: point(s) | AK13: Tableau A : | AL13: =SUM(AM12:AO12) -> 0 | AM13: point(s) | AR13: Tableau A : | AS13: =SUM(AT12:AV12) -> 0 | AT13: point(s) | AY13: Tableau A : | AZ13: =SUM(BA12:BC12) -> 0 | BA13: point(s) | BF13: Tableau A : | BG13: =SUM(BH12:BJ12) -> 0 | BH13: point(s) | BM13: Tableau A : | BN13: =SUM(BO12:BQ12) -> 0 | BO13: point(s) | BT13: Tableau A : | BU13: =SUM(BV12:BX12) -> 0 | BV13: point(s)
I15: Historique des données d'étalonnage | P15: Historique des données d'étalonnage | W15: Historique des données d'étalonnage | AD15: Historique des données d'étalonnage | AK15: Historique des données d'étalonnage | AR15: Historique des données d'étalonnage | AY15: Historique des données d'étalonnage | BF15: Historique des données d'étalonnage | BM15: Historique des données d'étalonnage | BT15: Historique des données d'étalonnage
I17: Critères B | M17: Point | P17: Critères B | T17: Point | W17: Critères B | AA17: Point | AD17: Critères B | AH17: Point | AK17: Critères B | AO17: Point | AR17: Critères B | AV17: Point | AY17: Critères B | BC17: Point | BF17: Critères B | BJ17: Point | BM17: Critères B | BQ17: Point | BT17: Critères B | BX17: Point
I18: Les résultats de mesure des 3 derniers étalonnages sont dans les spécifications | N18: =IF(M18="x",-2,"") | P18: Les résultats de mesure des 3 derniers étalonnages sont dans les spécifications | U18: =IF(T18="x",-2,"") | W18: Les résultats de mesure des 3 derniers étalonnages sont dans les spécifications | AB18: =IF(AA18="x",-2,"") | AD18: Les résultats de mesure des 3 derniers étalonnages sont dans les spécifications | AI18: =IF(AH18="x",-2,"") | AK18: Les résultats de mesure des 3 derniers étalonnages sont dans les spécifications | AP18: =IF(AO18="x",-2,"") | AR18: Les résultats de mesure des 3 derniers étalonnages sont dans les spécifications | AW18: =IF(AV18="x",-2,"") | AY18: Les résultats de mesure des 3 derniers étalonnages sont dans les spécifications | BD18: =IF(BC18="x",-2,"") | BF18: Les résultats de mesure des 3 derniers étalonnages sont dans les spécifications | BK18: =IF(BJ18="x",-2,"") | BM18: Les résultats de mesure des 3 derniers étalonnages sont dans les spécifications | BR18: =IF(BQ18="x",-2,"") | BT18: Les résultats de mesure des 3 derniers étalonnages sont dans les spécifications | BY18: =IF(BX18="x",-2,"")
I19: Les résultats de mesure des 2 derniers étalonnages sont dans les spécifications | N19: =IF(M19="x",-1,"") | P19: Les résultats de mesure des 2 derniers étalonnages sont dans les spécifications | U19: =IF(T19="x",-1,"") | W19: Les résultats de mesure des 2 derniers étalonnages sont dans les spécifications | AB19: =IF(AA19="x",-1,"") | AD19: Les résultats de mesure des 2 derniers étalonnages sont dans les spécifications | AI19: =IF(AH19="x",-1,"") | AK19: Les résultats de mesure des 2 derniers étalonnages sont dans les spécifications | AP19: =IF(AO19="x",-1,"") | AR19: Les résultats de mesure des 2 derniers étalonnages sont dans les spécifications | AW19: =IF(AV19="x",-1,"") | AY19: Les résultats de mesure des 2 derniers étalonnages sont dans les spécifications | BD19: =IF(BC19="x",-1,"") | BF19: Les résultats de mesure des 2 derniers étalonnages sont dans les spécifications | BK19: =IF(BJ19="x",-1,"") | BM19: Les résultats de mesure des 2 derniers étalonnages sont dans les spécifications | BR19: =IF(BQ19="x",-1,"") | BT19: Les résultats de mesure des 2 derniers étalonnages sont dans les spécifications | BY19: =IF(BX19="x",-1,"")
I20: Les résultats de mesure du dernier étalonnage sont dans les spécifications | N20: =IF(M20="x",0,"") | P20: Les résultats de mesure du dernier étalonnage sont dans les spécifications | U20: =IF(T20="x",0,"") | W20: Les résultats de mesure du dernier étalonnage sont dans les spécifications | AB20: =IF(AA20="x",0,"") | AD20: Les résultats de mesure du dernier étalonnage sont dans les spécifications | AI20: =IF(AH20="x",0,"") | AK20: Les résultats de mesure du dernier étalonnage sont dans les spécifications | AP20: =IF(AO20="x",0,"") | AR20: Les résultats de mesure du dernier étalonnage sont dans les spécifications | AW20: =IF(AV20="x",0,"") | AY20: Les résultats de mesure du dernier étalonnage sont dans les spécifications | BD20: =IF(BC20="x",0,"") | BF20: Les résultats de mesure du dernier étalonnage sont dans les spécifications | BK20: =IF(BJ20="x",0,"") | BM20: Les résultats de mesure du dernier étalonnage sont dans les spécifications | BR20: =IF(BQ20="x",0,"") | BT20: Les résultats de mesure du dernier étalonnage sont dans les spécifications | BY20: =IF(BX20="x",0,"")
I21: Les résultats de mesure sont à la limite des spécifications (zone de doute) | N21: =IF(M21="x",1,"") | P21: Les résultats de mesure sont à la limite des spécifications (zone de doute) | U21: =IF(T21="x",1,"") | W21: Les résultats de mesure sont à la limite des spécifications (zone de doute) | AB21: =IF(AA21="x",1,"") | AD21: Les résultats de mesure sont à la limite des spécifications (zone de doute) | AI21: =IF(AH21="x",1,"") | AK21: Les résultats de mesure sont à la limite des spécifications (zone de doute) | AP21: =IF(AO21="x",1,"") | AR21: Les résultats de mesure sont à la limite des spécifications (zone de doute) | AW21: =IF(AV21="x",1,"") | AY21: Les résultats de mesure sont à la limite des spécifications (zone de doute) | BD21: =IF(BC21="x",1,"") | BF21: Les résultats de mesure sont à la limite des spécifications (zone de doute) | BK21: =IF(BJ21="x",1,"") | BM21: Les résultats de mesure sont à la limite des spécifications (zone de doute) | BR21: =IF(BQ21="x",1,"") | BT21: Les résultats de mesure sont à la limite des spécifications (zone de doute) | BY21: =IF(BX21="x",1,"")
I22: Un des résultats est en dehors des spécifications | N22: =IF(M22="x",2,"") | P22: Un des résultats est en dehors des spécifications | U22: =IF(T22="x",2,"") | W22: Un des résultats est en dehors des spécifications | AB22: =IF(AA22="x",2,"") | AD22: Un des résultats est en dehors des spécifications | AI22: =IF(AH22="x",2,"") | AK22: Un des résultats est en dehors des spécifications | AP22: =IF(AO22="x",2,"") | AR22: Un des résultats est en dehors des spécifications | AW22: =IF(AV22="x",2,"") | AY22: Un des résultats est en dehors des spécifications | BD22: =IF(BC22="x",2,"") | BF22: Un des résultats est en dehors des spécifications | BK22: =IF(BJ22="x",2,"") | BM22: Un des résultats est en dehors des spécifications | BR22: =IF(BQ22="x",2,"") | BT22: Un des résultats est en dehors des spécifications | BY22: =IF(BX22="x",2,"")
I23: Plusieurs résultats sont en dehors des spécifications | N23: =IF(M23="x",3,"") | P23: Plusieurs résultats sont en dehors des spécifications | U23: =IF(T23="x",3,"") | W23: Plusieurs résultats sont en dehors des spécifications | AB23: =IF(AA23="x",3,"") | AD23: Plusieurs résultats sont en dehors des spécifications | AI23: =IF(AH23="x",3,"") | AK23: Plusieurs résultats sont en dehors des spécifications | AP23: =IF(AO23="x",3,"") | AR23: Plusieurs résultats sont en dehors des spécifications | AW23: =IF(AV23="x",3,"") | AY23: Plusieurs résultats sont en dehors des spécifications | BD23: =IF(BC23="x",3,"") | BF23: Plusieurs résultats sont en dehors des spécifications | BK23: =IF(BJ23="x",3,"") | BM23: Plusieurs résultats sont en dehors des spécifications | BR23: =IF(BQ23="x",3,"") | BT23: Plusieurs résultats sont en dehors des spécifications | BY23: =IF(BX23="x",3,"")
I25: Tableau B : | J25: =SUM(N18:N23) -> 0 | K25: point(s) | P25: Tableau B : | Q25: =SUM(U18:U23) -> 0 | R25: point(s) | W25: Tableau B : | X25: =SUM(AB18:AB23) -> 0 | Y25: point(s) | AD25: Tableau B : | AE25: =SUM(AI18:AI23) -> 0 | AF25: point(s) | AK25: Tableau B : | AL25: =SUM(AP18:AP23) -> 0 | AM25: point(s) | AR25: Tableau B : | AS25: =SUM(AW18:AW23) -> 0 | AT25: point(s) | AY25: Tableau B : | AZ25: =SUM(BD18:BD23) -> 0 | BA25: point(s) | BF25: Tableau B : | BG25: =SUM(BK18:BK23) -> 0 | BH25: point(s) | BM25: Tableau B : | BN25: =SUM(BR18:BR23) -> 0 | BO25: point(s) | BT25: Tableau B : | BU25: =SUM(BY18:BY23) -> 0 | BV25: point(s)
I27: Tableaux A et B : | J27: =J13+J25 -> 0 | K27: point(s) | P27: Tableaux A et B : | Q27: =Q13+Q25 -> 0 | R27: point(s) | W27: Tableaux A et B : | X27: =X13+X25 -> 0 | Y27: point(s) | AD27: Tableaux A et B : | AE27: =AE13+AE25 -> 0 | AF27: point(s) | AK27: Tableaux A et B : | AL27: =AL13+AL25 -> 0 | AM27: point(s) | AR27: Tableaux A et B : | AS27: =AS13+AS25 -> 0 | AT27: point(s) | AY27: Tableaux A et B : | AZ27: =AZ13+AZ25 -> 0 | BA27: point(s) | BF27: Tableaux A et B : | BG27: =BG13+BG25 -> 0 | BH27: point(s) | BM27: Tableaux A et B : | BN27: =BN13+BN25 -> 0 | BO27: point(s) | BT27: Tableaux A et B : | BU27: =BU13+BU25 -> 0 | BV27: point(s)

Sheet TAC 214-1
B2: Table d'autocontrôle : HALL 1 | D2: TAC - | E2: 214 | F2: - 1 | I2: 1 - … | K2: … | P2: 2 - … | R2: … | W2: 3 - … | Y2: … | AD2: 4 - … | AF2: … | AK2: 5 - … | AM2: … | AR2: 6 - … | AT2: … | AY2: 7 - ... | BA2: … | BF2: 8 - … | BH2: … | BM2: 9 - ... | BO2: … | BT2: 10 - … | BV2: …
I3: Périodicité : | K3: =IF(ISNA(HLOOKUP(J27,Données!$C4:$O5,2,FALSE)),"... mois",HLOOKUP(J27,Données!$C4:$O5,2,FALSE)) -> ... mois | L3: =IF(J11<>"",$C11,IF(K11<>"",$D11,IF(L11<>"",$E11,IF(M11<>"",$F11,"...")))) -> ... | P3: Périodicité : | R3: =IF(ISNA(HLOOKUP(Q27,Données!$C4:$O5,2,FALSE)),"... mois",HLOOKUP(Q27,Données!$C4:$O5,2,FALSE)) -> ... mois | S3: =IF(Q11<>"",$C11,IF(R11<>"",$D11,IF(S11<>"",$E11,IF(T11<>"",$F11,"...")))) -> ... | W3: Périodicité : | Y3: =IF(ISNA(HLOOKUP(X27,Données!$C4:$O5,2,FALSE)),"... mois",HLOOKUP(X27,Données!$C4:$O5,2,FALSE)) -> ... mois | Z3: =IF(X11<>"",$C11,IF(Y11<>"",$D11,IF(Z11<>"",$E11,IF(AA11<>"",$F11,"...")))) -> ... | AD3: Périodicité : | AF3: =IF(ISNA(HLOOKUP(AE27,Données!$C4:$O5,2,FALSE)),"... mois",HLOOKUP(AE27,Données!$C4:$O5,2,FALSE)) -> ... mois | AG3: =IF(AE11<>"",$C11,IF(AF11<>"",$D11,IF(AG11<>"",$E11,IF(AH11<>"",$F11,"...")))) -> ... | AK3: Périodicité : | AM3: =IF(ISNA(HLOOKUP(AL27,Données!$C4:$O5,2,FALSE)),"... mois",HLOOKUP(AL27,Données!$C4:$O5,2,FALSE)) -> ... mois | AN3: =IF(AL11<>"",$C11,IF(AM11<>"",$D11,IF(AN11<>"",$E11,IF(AO11<>"",$F11,"...")))) -> ... | AR3: Périodicité : | AT3: =IF(ISNA(HLOOKUP(AS27,Données!$C4:$O5,2,FALSE)),"... mois",HLOOKUP(AS27,Données!$C4:$O5,2,FALSE)) -> ... mois | AU3: =IF(AS11<>"",$C11,IF(AT11<>"",$D11,IF(AU11<>"",$E11,IF(AV11<>"",$F11,"...")))) -> ... | AY3: Périodicité : | BA3: =IF(ISNA(HLOOKUP(AZ27,Données!$C4:$O5,2,FALSE)),"... mois",HLOOKUP(AZ27,Données!$C4:$O5,2,FALSE)) -> ... mois | BB3: =IF(AZ11<>"",$C11,IF(BA11<>"",$D11,IF(BB11<>"",$E11,IF(BC11<>"",$F11,"...")))) -> ... | BF3: Périodicité : | BH3: =IF(ISNA(HLOOKUP(BG27,Données!$C4:$O5,2,FALSE)),"... mois",HLOOKUP(BG27,Données!$C4:$O5,2,FALSE)) -> ... mois | BI3: =IF(BG11<>"",$C11,IF(BH11<>"",$D11,IF(BI11<>"",$E11,IF(BJ11<>"",$F11,"...")))) -> ... | BM3: Périodicité : | BO3: =IF(ISNA(HLOOKUP(BN27,Données!$C4:$O5,2,FALSE)),"... mois",HLOOKUP(BN27,Données!$C4:$O5,2,FALSE)) -> ... mois | BP3: =IF(BN11<>"",$C11,IF(BO11<>"",$D11,IF(BP11<>"",$E11,IF(BQ11<>"",$F11,"...")))) -> ... | BT3: Périodicité : | BV3: =IF(ISNA(HLOOKUP(BU27,Données!$C4:$O5,2,FALSE)),"... mois",HLOOKUP(BU27,Données!$C4:$O5,2,FALSE)) -> ... mois | BW3: =IF(BU11<>"",$C11,IF(BV11<>"",$D11,IF(BW11<>"",$E11,IF(BX11<>"",$F11,"...")))) -> ...
B5: Critères (X) | C5: Point | I5: Critères (X) | J5: Point | P5: Critères (X) | Q5: Point | W5: Critères (X) | X5: Point | AD5: Critères (X) | AE5: Point | AK5: Critères (X) | AL5: Point | AR5: Critères (X) | AS5: Point | AY5: Critères (X) | AZ5: Point | BF5: Critères (X) | BG5: Point | BM5: Critères (X) | BN5: Point | BT5: Critères (X) | BU5: Point
C6: 0 | D6: 1 | E6: 2 | F6: 3 | J6: 0 | K6: 1 | L6: 2 | M6: 3 | Q6: 0 | R6: 1 | S6: 2 | T6: 3 | X6: 0 | Y6: 1 | Z6: 2 | AA6: 3 | AE6: 0 | AF6: 1 | AG6: 2 | AH6: 3 | AL6: 0 | AM6: 1 | AN6: 2 | AO6: 3 | AS6: 0 | AT6: 1 | AU6: 2 | AV6: 3 | AZ6: 0 | BA6: 1 | BB6: 2 | BC6: 3 | BG6: 0 | BH6: 1 | BI6: 2 | BJ6: 3 | BN6: 0 | BO6: 1 | BP6: 2 | BQ6: 3 | BU6: 0 | BV6: 1 | BW6: 2 | BX6: 3
B7: Fréquence d'utilisation | C7: Occasionnellement | D7: 1 fois / jour | E7: Plusieurs fois / jour | F7: En permanence | I7: Fréquence d'utilisation | P7: Fréquence d'utilisation | W7: Fréquence d'utilisation | AD7: Fréquence d'utilisation | AK7: Fréquence d'utilisation | AR7: Fréquence d'utilisation | AY7: Fréquence d'utilisation | BF7: Fréquence d'utilisation | BM7: Fréquence d'utilisation | BT7: Fréquence d'utilisation
B8: Lieu d'utilisation | C8: / | D8: Métrologie Laboratoire | E8: Bureaux Local spécifique | F8: Maintenance UP | I8: Lieu d'utilisation | P8: Lieu d'utilisation | W8: Lieu d'utilisation | AD8: Lieu d'utilisation | AK8: Lieu d'utilisation | AR8: Lieu d'utilisation | AY8: Lieu d'utilisation | BF8: Lieu d'utilisation | BM8: Lieu d'utilisation | BT8: Lieu d'utilisation
B9: Risque d'usure | C9: Aucun | D9: Faible | E9: Moyen | F9: Importante | I9: Risque d'usure | P9: Risque d'usure | W9: Risque d'usure | AD9: Risque d'usure | AK9: Risque d'usure | AR9: Risque d'usure | AY9: Risque d'usure | BF9: Risque d'usure | BM9: Risque d'usure | BT9: Risque d'usure
B10: Conséquence d'une mesure erronée | C10: Aucune | D10: Faible Ctrl IPC hors validation | E10: Importante Ctrl de validation | F10: Très importante Contrôle libératoire | I10: Conséquence d'une mesure erronée | P10: Conséquence d'une mesure erronée | W10: Conséquence d'une mesure erronée | AD10: Conséquence d'une mesure erronée | AK10: Conséquence d'une mesure erronée | AR10: Conséquence d'une mesure erronée | AY10: Conséquence d'une mesure erronée | BF10: Conséquence d'une mesure erronée | BM10: Conséquence d'une mesure erronée | BT10: Conséquence d'une mesure erronée
B11: Type de contrôle | C11: Surveillance Entretien | D11: Vérification Interne | E11: Vérification Externe Indirect | F11: Vérification Externe Direct (type COFRAC) | I11: Type de contrôle | P11: Type de contrôle | W11: Type de contrôle | AD11: Type de contrôle | AK11: Type de contrôle | AR11: Type de contrôle | AY11: Type de contrôle | BF11: Type de contrôle | BM11: Type de contrôle | BT11: Type de contrôle
K12: =COUNTIF(K7:K10,"x") -> 0 | L12: =COUNTIF(L7:L10,"x")*2 -> 0 | M12: =COUNTIF(M7:M10,"x")*3 -> 0 | R12: =COUNTIF(R7:R10,"x") -> 0 | S12: =COUNTIF(S7:S10,"x")*2 -> 0 | T12: =COUNTIF(T7:T10,"x")*3 -> 0 | Y12: =COUNTIF(Y7:Y10,"x") -> 0 | Z12: =COUNTIF(Z7:Z10,"x")*2 -> 0 | AA12: =COUNTIF(AA7:AA10,"x")*3 -> 0 | AF12: =COUNTIF(AF7:AF10,"x") -> 0 | AG12: =COUNTIF(AG7:AG10,"x")*2 -> 0 | AH12: =COUNTIF(AH7:AH10,"x")*3 -> 0 | AM12: =COUNTIF(AM7:AM10,"x") -> 0 | AN12: =COUNTIF(AN7:AN10,"x")*2 -> 0 | AO12: =COUNTIF(AO7:AO10,"x")*3 -> 0 | AT12: =COUNTIF(AT7:AT10,"x") -> 0 | AU12: =COUNTIF(AU7:AU10,"x")*2 -> 0 | AV12: =COUNTIF(AV7:AV10,"x")*3 -> 0 | BA12: =COUNTIF(BA7:BA10,"x") -> 0 | BB12: =COUNTIF(BB7:BB10,"x")*2 -> 0 | BC12: =COUNTIF(BC7:BC10,"x")*3 -> 0 | BH12: =COUNTIF(BH7:BH10,"x") -> 0 | BI12: =COUNTIF(BI7:BI10,"x")*2 -> 0 | BJ12: =COUNTIF(BJ7:BJ10,"x")*3 -> 0 | BO12: =COUNTIF(BO7:BO10,"x") -> 0 | BP12: =COUNTIF(BP7:BP10,"x")*2 -> 0 | BQ12: =COUNTIF(BQ7:BQ10,"x")*3 -> 0 | BV12: =COUNTIF(BV7:BV10,"x") -> 0 | BW12: =COUNTIF(BW7:BW10,"x")*2 -> 0 | BX12: =COUNTIF(BX7:BX10,"x")*3 -> 0
I13: Tableau A : | J13: =SUM(K12:M12) -> 0 | K13: point(s) | P13: Tableau A : | Q13: =SUM(R12:T12) -> 0 | R13: point(s) | W13: Tableau A : | X13: =SUM(Y12:AA12) -> 0 | Y13: point(s) | AD13: Tableau A : | AE13: =SUM(AF12:AH12) -> 0 | AF13: point(s) | AK13: Tableau A : | AL13: =SUM(AM12:AO12) -> 0 | AM13: point(s) | AR13: Tableau A : | AS13: =SUM(AT12:AV12) -> 0 | AT13: point(s) | AY13: Tableau A : | AZ13: =SUM(BA12:BC12) -> 0 | BA13: point(s) | BF13: Tableau A : | BG13: =SUM(BH12:BJ12) -> 0 | BH13: point(s) | BM13: Tableau A : | BN13: =SUM(BO12:BQ12) -> 0 | BO13: point(s) | BT13: Tableau A : | BU13: =SUM(BV12:BX12) -> 0 | BV13: point(s)
I15: Historique des données d'étalonnage | P15: Historique des données d'étalonnage | W15: Historique des données d'étalonnage | AD15: Historique des données d'étalonnage | AK15: Historique des données d'étalonnage | AR15: Historique des données d'étalonnage | AY15: Historique des données d'étalonnage | BF15: Historique des données d'étalonnage | BM15: Historique des données d'étalonnage | BT15: Historique des données d'étalonnage
I17: Critères B | M17: Point | P17: Critères B | T17: Point | W17: Critères B | AA17: Point | AD17: Critères B | AH17: Point | AK17: Critères B | AO17: Point | AR17: Critères B | AV17: Point | AY17: Critères B | BC17: Point | BF17: Critères B | BJ17: Point | BM17: Critères B | BQ17: Point | BT17: Critères B | BX17: Point
I18: Les résultats de mesure des 3 derniers étalonnages sont dans les spécifications | N18: =IF(M18="x",-2,"") | P18: Les résultats de mesure des 3 derniers étalonnages sont dans les spécifications | U18: =IF(T18="x",-2,"") | W18: Les résultats de mesure des 3 derniers étalonnages sont dans les spécifications | AB18: =IF(AA18="x",-2,"") | AD18: Les résultats de mesure des 3 derniers étalonnages sont dans les spécifications | AI18: =IF(AH18="x",-2,"") | AK18: Les résultats de mesure des 3 derniers étalonnages sont dans les spécifications | AP18: =IF(AO18="x",-2,"") | AR18: Les résultats de mesure des 3 derniers étalonnages sont dans les spécifications | AW18: =IF(AV18="x",-2,"") | AY18: Les résultats de mesure des 3 derniers étalonnages sont dans les spécifications | BD18: =IF(BC18="x",-2,"") | BF18: Les résultats de mesure des 3 derniers étalonnages sont dans les spécifications | BK18: =IF(BJ18="x",-2,"") | BM18: Les résultats de mesure des 3 derniers étalonnages sont dans les spécifications | BR18: =IF(BQ18="x",-2,"") | BT18: Les résultats de mesure des 3 derniers étalonnages sont dans les spécifications | BY18: =IF(BX18="x",-2,"")
I19: Les résultats de mesure des 2 derniers étalonnages sont dans les spécifications | N19: =IF(M19="x",-1,"") | P19: Les résultats de mesure des 2 derniers étalonnages sont dans les spécifications | U19: =IF(T19="x",-1,"") | W19: Les résultats de mesure des 2 derniers étalonnages sont dans les spécifications | AB19: =IF(AA19="x",-1,"") | AD19: Les résultats de mesure des 2 derniers étalonnages sont dans les spécifications | AI19: =IF(AH19="x",-1,"") | AK19: Les résultats de mesure des 2 derniers étalonnages sont dans les spécifications | AP19: =IF(AO19="x",-1,"") | AR19: Les résultats de mesure des 2 derniers étalonnages sont dans les spécifications | AW19: =IF(AV19="x",-1,"") | AY19: Les résultats de mesure des 2 derniers étalonnages sont dans les spécifications | BD19: =IF(BC19="x",-1,"") | BF19: Les résultats de mesure des 2 derniers étalonnages sont dans les spécifications | BK19: =IF(BJ19="x",-1,"") | BM19: Les résultats de mesure des 2 derniers étalonnages sont dans les spécifications | BR19: =IF(BQ19="x",-1,"") | BT19: Les résultats de mesure des 2 derniers étalonnages sont dans les spécifications | BY19: =IF(BX19="x",-1,"")
I20: Les résultats de mesure du dernier étalonnage sont dans les spécifications | N20: =IF(M20="x",0,"") | P20: Les résultats de mesure du dernier étalonnage sont dans les spécifications | U20: =IF(T20="x",0,"") | W20: Les résultats de mesure du dernier étalonnage sont dans les spécifications | AB20: =IF(AA20="x",0,"") | AD20: Les résultats de mesure du dernier étalonnage sont dans les spécifications | AI20: =IF(AH20="x",0,"") | AK20: Les résultats de mesure du dernier étalonnage sont dans les spécifications | AP20: =IF(AO20="x",0,"") | AR20: Les résultats de mesure du dernier étalonnage sont dans les spécifications | AW20: =IF(AV20="x",0,"") | AY20: Les résultats de mesure du dernier étalonnage sont dans les spécifications | BD20: =IF(BC20="x",0,"") | BF20: Les résultats de mesure du dernier étalonnage sont dans les spécifications | BK20: =IF(BJ20="x",0,"") | BM20: Les résultats de mesure du dernier étalonnage sont dans les spécifications | BR20: =IF(BQ20="x",0,"") | BT20: Les résultats de mesure du dernier étalonnage sont dans les spécifications | BY20: =IF(BX20="x",0,"")
I21: Les résultats de mesure sont à la limite des spécifications (zone de doute) | N21: =IF(M21="x",1,"") | P21: Les résultats de mesure sont à la limite des spécifications (zone de doute) | U21: =IF(T21="x",1,"") | W21: Les résultats de mesure sont à la limite des spécifications (zone de doute) | AB21: =IF(AA21="x",1,"") | AD21: Les résultats de mesure sont à la limite des spécifications (zone de doute) | AI21: =IF(AH21="x",1,"") | AK21: Les résultats de mesure sont à la limite des spécifications (zone de doute) | AP21: =IF(AO21="x",1,"") | AR21: Les résultats de mesure sont à la limite des spécifications (zone de doute) | AW21: =IF(AV21="x",1,"") | AY21: Les résultats de mesure sont à la limite des spécifications (zone de doute) | BD21: =IF(BC21="x",1,"") | BF21: Les résultats de mesure sont à la limite des spécifications (zone de doute) | BK21: =IF(BJ21="x",1,"") | BM21: Les résultats de mesure sont à la limite des spécifications (zone de doute) | BR21: =IF(BQ21="x",1,"") | BT21: Les résultats de mesure sont à la limite des spécifications (zone de doute) | BY21: =IF(BX21="x",1,"")
I22: Un des résultats est en dehors des spécifications | N22: =IF(M22="x",2,"") | P22: Un des résultats est en dehors des spécifications | U22: =IF(T22="x",2,"") | W22: Un des résultats est en dehors des spécifications | AB22: =IF(AA22="x",2,"") | AD22: Un des résultats est en dehors des spécifications | AI22: =IF(AH22="x",2,"") | AK22: Un des résultats est en dehors des spécifications | AP22: =IF(AO22="x",2,"") | AR22: Un des résultats est en dehors des spécifications | AW22: =IF(AV22="x",2,"") | AY22: Un des résultats est en dehors des spécifications | BD22: =IF(BC22="x",2,"") | BF22: Un des résultats est en dehors des spécifications | BK22: =IF(BJ22="x",2,"") | BM22: Un des résultats est en dehors des spécifications | BR22: =IF(BQ22="x",2,"") | BT22: Un des résultats est en dehors des spécifications | BY22: =IF(BX22="x",2,"")
I23: Plusieurs résultats sont en dehors des spécifications | N23: =IF(M23="x",3,"") | P23: Plusieurs résultats sont en dehors des spécifications | U23: =IF(T23="x",3,"") | W23: Plusieurs résultats sont en dehors des spécifications | AB23: =IF(AA23="x",3,"") | AD23: Plusieurs résultats sont en dehors des spécifications | AI23: =IF(AH23="x",3,"") | AK23: Plusieurs résultats sont en dehors des spécifications | AP23: =IF(AO23="x",3,"") | AR23: Plusieurs résultats sont en dehors des spécifications | AW23: =IF(AV23="x",3,"") | AY23: Plusieurs résultats sont en dehors des spécifications | BD23: =IF(BC23="x",3,"") | BF23: Plusieurs résultats sont en dehors des spécifications | BK23: =IF(BJ23="x",3,"") | BM23: Plusieurs résultats sont en dehors des spécifications | BR23: =IF(BQ23="x",3,"") | BT23: Plusieurs résultats sont en dehors des spécifications | BY23: =IF(BX23="x",3,"")
I25: Tableau B : | J25: =SUM(N18:N23) -> 0 | K25: point(s) | P25: Tableau B : | Q25: =SUM(U18:U23) -> 0 | R25: point(s) | W25: Tableau B : | X25: =SUM(AB18:AB23) -> 0 | Y25: point(s) | AD25: Tableau B : | AE25: =SUM(AI18:AI23) -> 0 | AF25: point(s) | AK25: Tableau B : | AL25: =SUM(AP18:AP23) -> 0 | AM25: point(s) | AR25: Tableau B : | AS25: =SUM(AW18:AW23) -> 0 | AT25: point(s) | AY25: Tableau B : | AZ25: =SUM(BD18:BD23) -> 0 | BA25: point(s) | BF25: Tableau B : | BG25: =SUM(BK18:BK23) -> 0 | BH25: point(s) | BM25: Tableau B : | BN25: =SUM(BR18:BR23) -> 0 | BO25: point(s) | BT25: Tableau B : | BU25: =SUM(BY18:BY23) -> 0 | BV25: point(s)
I27: Tableaux A et B : | J27: =J13+J25 -> 0 | K27: point(s) | P27: Tableaux A et B : | Q27: =Q13+Q25 -> 0 | R27: point(s) | W27: Tableaux A et B : | X27: =X13+X25 -> 0 | Y27: point(s) | AD27: Tableaux A et B : | AE27: =AE13+AE25 -> 0 | AF27: point(s) | AK27: Tableaux A et B : | AL27: =AL13+AL25 -> 0 | AM27: point(s) | AR27: Tableaux A et B : | AS27: =AS13+AS25 -> 0 | AT27: point(s) | AY27: Tableaux A et B : | AZ27: =AZ13+AZ25 -> 0 | BA27: point(s) | BF27: Tableaux A et B : | BG27: =BG13+BG25 -> 0 | BH27: point(s) | BM27: Tableaux A et B : | BN27: =BN13+BN25 -> 0 | BO27: point(s) | BT27: Tableaux A et B : | BU27: =BU13+BU25 -> 0 | BV27: point(s)

Sheet TAC 215-2
B2: Table d'autocontrôle : HALL 1 | D2: TAC - | E2: 215 | F2: - 2 | I2: 1 - Comparateur | K2: AP-19167706 | P2: 2 - Comparateur | R2: PO-52467 | W2: 3 - Comparateur | Y2: PO-52503 | AD2: 4 - Calibre | AF2: PO94 | AK2: 5 - Dynamomètre | AM2: … | AR2: 6 - Manomètre | AT2: AP76 | AY2: 7 - Minuterie de travail | BA2: AP27 | BF2: 8 - Courbure tube | BH2: AP-3601-8 | BM2: 9 - Réglet | BO2: PO230 | BT2: 10 - Spray | BV2: …
I3: Périodicité : | K3: =IF(ISNA(HLOOKUP(J27,Données!$C4:$O5,2,FALSE)),"... mois",HLOOKUP(J27,Données!$C4:$O5,2,FALSE)) -> ... mois | L3: =IF(J11<>"",$C11,IF(K11<>"",$D11,IF(L11<>"",$E11,IF(M11<>"",$F11,"...")))) -> ... | P3: Périodicité : | R3: =IF(ISNA(HLOOKUP(Q27,Données!$C4:$O5,2,FALSE)),"... mois",HLOOKUP(Q27,Données!$C4:$O5,2,FALSE)) -> ... mois | S3: =IF(Q11<>"",$C11,IF(R11<>"",$D11,IF(S11<>"",$E11,IF(T11<>"",$F11,"...")))) -> ... | W3: Périodicité : | Y3: =IF(ISNA(HLOOKUP(X27,Données!$C4:$O5,2,FALSE)),"... mois",HLOOKUP(X27,Données!$C4:$O5,2,FALSE)) -> ... mois | Z3: =IF(X11<>"",$C11,IF(Y11<>"",$D11,IF(Z11<>"",$E11,IF(AA11<>"",$F11,"...")))) -> ... | AD3: Périodicité : | AF3: =IF(ISNA(HLOOKUP(AE27,Données!$C4:$O5,2,FALSE)),"... mois",HLOOKUP(AE27,Données!$C4:$O5,2,FALSE)) -> ... mois | AG3: =IF(AE11<>"",$C11,IF(AF11<>"",$D11,IF(AG11<>"",$E11,IF(AH11<>"",$F11,"...")))) -> ... | AK3: Périodicité : | AM3: =IF(ISNA(HLOOKUP(AL27,Données!$C4:$O5,2,FALSE)),"... mois",HLOOKUP(AL27,Données!$C4:$O5,2,FALSE)) -> ... mois | AN3: =IF(AL11<>"",$C11,IF(AM11<>"",$D11,IF(AN11<>"",$E11,IF(AO11<>"",$F11,"...")))) -> ... | AR3: Périodicité : | AT3: =IF(ISNA(HLOOKUP(AS27,Données!$C4:$O5,2,FALSE)),"... mois",HLOOKUP(AS27,Données!$C4:$O5,2,FALSE)) -> ... mois | AU3: =IF(AS11<>"",$C11,IF(AT11<>"",$D11,IF(AU11<>"",$E11,IF(AV11<>"",$F11,"...")))) -> ... | AY3: Périodicité : | BA3: =IF(ISNA(HLOOKUP(AZ27,Données!$C4:$O5,2,FALSE)),"... mois",HLOOKUP(AZ27,Données!$C4:$O5,2,FALSE)) -> ... mois | BB3: =IF(AZ11<>"",$C11,IF(BA11<>"",$D11,IF(BB11<>"",$E11,IF(BC11<>"",$F11,"...")))) -> ... | BF3: Périodicité : | BH3: =IF(ISNA(HLOOKUP(BG27,Données!$C4:$O5,2,FALSE)),"... mois",HLOOKUP(BG27,Données!$C4:$O5,2,FALSE)) -> ... mois | BI3: =IF(BG11<>"",$C11,IF(BH11<>"",$D11,IF(BI11<>"",$E11,IF(BJ11<>"",$F11,"...")))) -> ... | BM3: Périodicité : | BO3: =IF(ISNA(HLOOKUP(BN27,Données!$C4:$O5,2,FALSE)),"... mois",HLOOKUP(BN27,Données!$C4:$O5,2,FALSE)) -> ... mois | BP3: =IF(BN11<>"",$C11,IF(BO11<>"",$D11,IF(BP11<>"",$E11,IF(BQ11<>"",$F11,"...")))) -> ... | BT3: Périodicité : | BV3: =IF(ISNA(HLOOKUP(BU27,Données!$C4:$O5,2,FALSE)),"... mois",HLOOKUP(BU27,Données!$C4:$O5,2,FALSE)) -> ... mois | BW3: =IF(BU11<>"",$C11,IF(BV11<>"",$D11,IF(BW11<>"",$E11,IF(BX11<>"",$F11,"...")))) -> ...
B5: Critères (X) | C5: Point | I5: Critères (X) | J5: Point | P5: Critères (X) | Q5: Point | W5: Critères (X) | X5: Point | AD5: Critères (X) | AE5: Point | AK5: Critères (X) | AL5: Point | AR5: Critères (X) | AS5: Point | AY5: Critères (X) | AZ5: Point | BF5: Critères (X) | BG5: Point | BM5: Critères (X) | BN5: Point | BT5: Critères (X) | BU5: Point
C6: 0 | D6: 1 | E6: 2 | F6: 3 | J6: 0 | K6: 1 | L6: 2 | M6: 3 | Q6: 0 | R6: 1 | S6: 2 | T6: 3 | X6: 0 | Y6: 1 | Z6: 2 | AA6: 3 | AE6: 0 | AF6: 1 | AG6: 2 | AH6: 3 | AL6: 0 | AM6: 1 | AN6: 2 | AO6: 3 | AS6: 0 | AT6: 1 | AU6: 2 | AV6: 3 | AZ6: 0 | BA6: 1 | BB6: 2 | BC6: 3 | BG6: 0 | BH6: 1 | BI6: 2 | BJ6: 3 | BN6: 0 | BO6: 1 | BP6: 2 | BQ6: 3 | BU6: 0 | BV6: 1 | BW6: 2 | BX6: 3
B7: Fréquence d'utilisation | C7: Occasionnellement | D7: 1 fois / jour | E7: Plusieurs fois / jour | F7: En permanence | I7: Fréquence d'utilisation | P7: Fréquence d'utilisation | W7: Fréquence d'utilisation | AD7: Fréquence d'utilisation | AK7: Fréquence d'utilisation | AR7: Fréquence d'utilisation | AY7: Fréquence d'utilisation | BF7: Fréquence d'utilisation | BM7: Fréquence d'utilisation | BT7: Fréquence d'utilisation
B8: Lieu d'utilisation | C8: / | D8: Métrologie Laboratoire | E8: Bureaux Local spécifique | F8: Maintenance UP | I8: Lieu d'utilisation | P8: Lieu d'utilisation | W8: Lieu d'utilisation | AD8: Lieu d'utilisation | AK8: Lieu d'utilisation | AR8: Lieu d'utilisation | AY8: Lieu d'utilisation | BF8: Lieu d'utilisation | BM8: Lieu d'utilisation | BT8: Lieu d'utilisation
B9: Risque d'usure | C9: Aucun | D9: Faible | E9: Moyen | F9: Importante | I9: Risque d'usure | P9: Risque d'usure | W9: Risque d'usure | AD9: Risque d'usure | AK9: Risque d'usure | AR9: Risque d'usure | AY9: Risque d'usure | BF9: Risque d'usure | BM9: Risque d'usure | BT9: Risque d'usure
B10: Conséquence d'une mesure erronée | C10: Aucune | D10: Faible Ctrl IPC hors validation | E10: Importante Ctrl de validation | F10: Très importante Contrôle libératoire | I10: Conséquence d'une mesure erronée | P10: Conséquence d'une mesure erronée | W10: Conséquence d'une mesure erronée | AD10: Conséquence d'une mesure erronée | AK10: Conséquence d'une mesure erronée | AR10: Conséquence d'une mesure erronée | AY10: Conséquence d'une mesure erronée | BF10: Conséquence d'une mesure erronée | BM10: Conséquence d'une mesure erronée | BT10: Conséquence d'une mesure erronée
B11: Type de contrôle | C11: Surveillance Entretien | D11: Vérification Interne | E11: Vérification Externe Indirect | F11: Vérification Externe Direct (type COFRAC) | I11: Type de contrôle | P11: Type de contrôle | W11: Type de contrôle | AD11: Type de contrôle | AK11: Type de contrôle | AR11: Type de contrôle | AY11: Type de contrôle | BF11: Type de contrôle | BM11: Type de contrôle | BT11: Type de contrôle
K12: =COUNTIF(K7:K10,"x") -> 0 | L12: =COUNTIF(L7:L10,"x")*2 -> 0 | M12: =COUNTIF(M7:M10,"x")*3 -> 0 | R12: =COUNTIF(R7:R10,"x") -> 0 | S12: =COUNTIF(S7:S10,"x")*2 -> 0 | T12: =COUNTIF(T7:T10,"x")*3 -> 0 | Y12: =COUNTIF(Y7:Y10,"x") -> 0 | Z12: =COUNTIF(Z7:Z10,"x")*2 -> 0 | AA12: =COUNTIF(AA7:AA10,"x")*3 -> 0 | AF12: =COUNTIF(AF7:AF10,"x") -> 0 | AG12: =COUNTIF(AG7:AG10,"x")*2 -> 0 | AH12: =COUNTIF(AH7:AH10,"x")*3 -> 0 | AM12: =COUNTIF(AM7:AM10,"x") -> 0 | AN12: =COUNTIF(AN7:AN10,"x")*2 -> 0 | AO12: =COUNTIF(AO7:AO10,"x")*3 -> 0 | AT12: =COUNTIF(AT7:AT10,"x") -> 0 | AU12: =COUNTIF(AU7:AU10,"x")*2 -> 0 | AV12: =COUNTIF(AV7:AV10,"x")*3 -> 0 | BA12: =COUNTIF(BA7:BA10,"x") -> 0 | BB12: =COUNTIF(BB7:BB10,"x")*2 -> 0 | BC12: =COUNTIF(BC7:BC10,"x")*3 -> 0 | BH12: =COUNTIF(BH7:BH10,"x") -> 0 | BI12: =COUNTIF(BI7:BI10,"x")*2 -> 0 | BJ12: =COUNTIF(BJ7:BJ10,"x")*3 -> 0 | BO12: =COUNTIF(BO7:BO10,"x") -> 0 | BP12: =COUNTIF(BP7:BP10,"x")*2 -> 0 | BQ12: =COUNTIF(BQ7:BQ10,"x")*3 -> 0 | BV12: =COUNTIF(BV7:BV10,"x") -> 0 | BW12: =COUNTIF(BW7:BW10,"x")*2 -> 0 | BX12: =COUNTIF(BX7:BX10,"x")*3 -> 0
I13: Tableau A : | J13: =SUM(K12:M12) -> 0 | K13: point(s) | P13: Tableau A : | Q13: =SUM(R12:T12) -> 0 | R13: point(s) | W13: Tableau A : | X13: =SUM(Y12:AA12) -> 0 | Y13: point(s) | AD13: Tableau A : | AE13: =SUM(AF12:AH12) -> 0 | AF13: point(s) | AK13: Tableau A : | AL13: =SUM(AM12:AO12) -> 0 | AM13: point(s) | AR13: Tableau A : | AS13: =SUM(AT12:AV12) -> 0 | AT13: point(s) | AY13: Tableau A : | AZ13: =SUM(BA12:BC12) -> 0 | BA13: point(s) | BF13: Tableau A : | BG13: =SUM(BH12:BJ12) -> 0 | BH13: point(s) | BM13: Tableau A : | BN13: =SUM(BO12:BQ12) -> 0 | BO13: point(s) | BT13: Tableau A : | BU13: =SUM(BV12:BX12) -> 0 | BV13: point(s)
I15: Historique des données d'étalonnage | P15: Historique des données d'étalonnage | W15: Historique des données d'étalonnage | AD15: Historique des données d'étalonnage | AK15: Historique des données d'étalonnage | AR15: Historique des données d'étalonnage | AY15: Historique des données d'étalonnage | BF15: Historique des données d'étalonnage | BM15: Historique des données d'étalonnage | BT15: Historique des données d'étalonnage
I17: Critères B | M17: Point | P17: Critères B | T17: Point | W17: Critères B | AA17: Point | AD17: Critères B | AH17: Point | AK17: Critères B | AO17: Point | AR17: Critères B | AV17: Point | AY17: Critères B | BC17: Point | BF17: Critères B | BJ17: Point | BM17: Critères B | BQ17: Point | BT17: Critères B | BX17: Point
I18: Les résultats de mesure des 3 derniers étalonnages sont dans les spécifications | N18: =IF(M18="x",-2,"") | P18: Les résultats de mesure des 3 derniers étalonnages sont dans les spécifications | U18: =IF(T18="x",-2,"") | W18: Les résultats de mesure des 3 derniers étalonnages sont dans les spécifications | AB18: =IF(AA18="x",-2,"") | AD18: Les résultats de mesure des 3 derniers étalonnages sont dans les spécifications | AI18: =IF(AH18="x",-2,"") | AK18: Les résultats de mesure des 3 derniers étalonnages sont dans les spécifications | AP18: =IF(AO18="x",-2,"") | AR18: Les résultats de mesure des 3 derniers étalonnages sont dans les spécifications | AW18: =IF(AV18="x",-2,"") | AY18: Les résultats de mesure des 3 derniers étalonnages sont dans les spécifications | BD18: =IF(BC18="x",-2,"") | BF18: Les résultats de mesure des 3 derniers étalonnages sont dans les spécifications | BK18: =IF(BJ18="x",-2,"") | BM18: Les résultats de mesure des 3 derniers étalonnages sont dans les spécifications | BR18: =IF(BQ18="x",-2,"") | BT18: Les résultats de mesure des 3 derniers étalonnages sont dans les spécifications | BY18: =IF(BX18="x",-2,"")
I19: Les résultats de mesure des 2 derniers étalonnages sont dans les spécifications | N19: =IF(M19="x",-1,"") | P19: Les résultats de mesure des 2 derniers étalonnages sont dans les spécifications | U19: =IF(T19="x",-1,"") | W19: Les résultats de mesure des 2 derniers étalonnages sont dans les spécifications | AB19: =IF(AA19="x",-1,"") | AD19: Les résultats de mesure des 2 derniers étalonnages sont dans les spécifications | AI19: =IF(AH19="x",-1,"") | AK19: Les résultats de mesure des 2 derniers étalonnages sont dans les spécifications | AP19: =IF(AO19="x",-1,"") | AR19: Les résultats de mesure des 2 derniers étalonnages sont dans les spécifications | AW19: =IF(AV19="x",-1,"") | AY19: Les résultats de mesure des 2 derniers étalonnages sont dans les spécifications | BD19: =IF(BC19="x",-1,"") | BF19: Les résultats de mesure des 2 derniers étalonnages sont dans les spécifications | BK19: =IF(BJ19="x",-1,"") | BM19: Les résultats de mesure des 2 derniers étalonnages sont dans les spécifications | BR19: =IF(BQ19="x",-1,"") | BT19: Les résultats de mesure des 2 derniers étalonnages sont dans les spécifications | BY19: =IF(BX19="x",-1,"")
I20: Les résultats de mesure du dernier étalonnage sont dans les spécifications | N20: =IF(M20="x",0,"") | P20: Les résultats de mesure du dernier étalonnage sont dans les spécifications | U20: =IF(T20="x",0,"") | W20: Les résultats de mesure du dernier étalonnage sont dans les spécifications | AB20: =IF(AA20="x",0,"") | AD20: Les résultats de mesure du dernier étalonnage sont dans les spécifications | AI20: =IF(AH20="x",0,"") | AK20: Les résultats de mesure du dernier étalonnage sont dans les spécifications | AP20: =IF(AO20="x",0,"") | AR20: Les résultats de mesure du dernier étalonnage sont dans les spécifications | AW20: =IF(AV20="x",0,"") | AY20: Les résultats de mesure du dernier étalonnage sont dans les spécifications | BD20: =IF(BC20="x",0,"") | BF20: Les résultats de mesure du dernier étalonnage sont dans les spécifications | BK20: =IF(BJ20="x",0,"") | BM20: Les résultats de mesure du dernier étalonnage sont dans les spécifications | BR20: =IF(BQ20="x",0,"") | BT20: Les résultats de mesure du dernier étalonnage sont dans les spécifications | BY20: =IF(BX20="x",0,"")
I21: Les résultats de mesure sont à la limite des spécifications (zone de doute) | N21: =IF(M21="x",1,"") | P21: Les résultats de mesure sont à la limite des spécifications (zone de doute) | U21: =IF(T21="x",1,"") | W21: Les résultats de mesure sont à la limite des spécifications (zone de doute) | AB21: =IF(AA21="x",1,"") | AD21: Les résultats de mesure sont à la limite des spécifications (zone de doute) | AI21: =IF(AH21="x",1,"") | AK21: Les résultats de mesure sont à la limite des spécifications (zone de doute) | AP21: =IF(AO21="x",1,"") | AR21: Les résultats de mesure sont à la limite des spécifications (zone de doute) | AW21: =IF(AV21="x",1,"") | AY21: Les résultats de mesure sont à la limite des spécifications (zone de doute) | BD21: =IF(BC21="x",1,"") | BF21: Les résultats de mesure sont à la limite des spécifications (zone de doute) | BK21: =IF(BJ21="x",1,"") | BM21: Les résultats de mesure sont à la limite des spécifications (zone de doute) | BR21: =IF(BQ21="x",1,"") | BT21: Les résultats de mesure sont à la limite des spécifications (zone de doute) | BY21: =IF(BX21="x",1,"")
B22: Changer photo après mise en place d'un nouveau dynamomètre | I22: Un des résultats est en dehors des spécifications | N22: =IF(M22="x",2,"") | P22: Un des résultats est en dehors des spécifications | U22: =IF(T22="x",2,"") | W22: Un des résultats est en dehors des spécifications | AB22: =IF(AA22="x",2,"") | AD22: Un des résultats est en dehors des spécifications | AI22: =IF(AH22="x",2,"") | AK22: Un des résultats est en dehors des spécifications | AP22: =IF(AO22="x",2,"") | AR22: Un des résultats est en dehors des spécifications | AW22: =IF(AV22="x",2,"") | AY22: Un des résultats est en dehors des spécifications | BD22: =IF(BC22="x",2,"") | BF22: Un des résultats est en dehors des spécifications | BK22: =IF(BJ22="x",2,"") | BM22: Un des résultats est en dehors des spécifications | BR22: =IF(BQ22="x",2,"") | BT22: Un des résultats est en dehors des spécifications | BY22: =IF(BX22="x",2,"")
I23: Plusieurs résultats sont en dehors des spécifications | N23: =IF(M23="x",3,"") | P23: Plusieurs résultats sont en dehors des spécifications | U23: =IF(T23="x",3,"") | W23: Plusieurs résultats sont en dehors des spécifications | AB23: =IF(AA23="x",3,"") | AD23: Plusieurs résultats sont en dehors des spécifications | AI23: =IF(AH23="x",3,"") | AK23: Plusieurs résultats sont en dehors des spécifications | AP23: =IF(AO23="x",3,"") | AR23: Plusieurs résultats sont en dehors des spécifications | AW23: =IF(AV23="x",3,"") | AY23: Plusieurs résultats sont en dehors des spécifications | BD23: =IF(BC23="x",3,"") | BF23: Plusieurs résultats sont en dehors des spécifications | BK23: =IF(BJ23="x",3,"") | BM23: Plusieurs résultats sont en dehors des spécifications | BR23: =IF(BQ23="x",3,"") | BT23: Plusieurs résultats sont en dehors des spécifications | BY23: =IF(BX23="x",3,"")
I25: Tableau B : | J25: =SUM(N18:N23) -> 0 | K25: point(s) | P25: Tableau B : | Q25: =SUM(U18:U23) -> 0 | R25: point(s) | W25: Tableau B : | X25: =SUM(AB18:AB23) -> 0 | Y25: point(s) | AD25: Tableau B : | AE25: =SUM(AI18:AI23) -> 0 | AF25: point(s) | AK25: Tableau B : | AL25: =SUM(AP18:AP23) -> 0 | AM25: point(s) | AR25: Tableau B : | AS25: =SUM(AW18:AW23) -> 0 | AT25: point(s) | AY25: Tableau B : | AZ25: =SUM(BD18:BD23) -> 0 | BA25: point(s) | BF25: Tableau B : | BG25: =SUM(BK18:BK23) -> 0 | BH25: point(s) | BM25: Tableau B : | BN25: =SUM(BR18:BR23) -> 0 | BO25: point(s) | BT25: Tableau B : | BU25: =SUM(BY18:BY23) -> 0 | BV25: point(s)
I27: Tableaux A et B : | J27: =J13+J25 -> 0 | K27: point(s) | P27: Tableaux A et B : | Q27: =Q13+Q25 -> 0 | R27: point(s) | W27: Tableaux A et B : | X27: =X13+X25 -> 0 | Y27: point(s) | AD27: Tableaux A et B : | AE27: =AE13+AE25 -> 0 | AF27: point(s) | AK27: Tableaux A et B : | AL27: =AL13+AL25 -> 0 | AM27: point(s) | AR27: Tableaux A et B : | AS27: =AS13+AS25 -> 0 | AT27: point(s) | AY27: Tableaux A et B : | AZ27: =AZ13+AZ25 -> 0 | BA27: point(s) | BF27: Tableaux A et B : | BG27: =BG13+BG25 -> 0 | BH27: point(s) | BM27: Tableaux A et B : | BN27: =BN13+BN25 -> 0 | BO27: point(s) | BT27: Tableaux A et B : | BU27: =BU13+BU25 -> 0 | BV27: point(s)

Sheet TAC 218-1
B2: Table d'autocontrôle : HALL 1 | D2: TAC - | E2: 218 | F2: - 1 | I2: 1 - Comparateur | K2: PO-52466 | P2: 2 - Courbure tube | R2: AP-3601-10 | W2: 3 - Dynamomètre | Y2: … | AD2: 4 - Réglet | AF2: PO188 | AK2: 5 - Spray | AM2: … | AR2: 6 - | AY2: 7 - | BA2: … | BF2: 8 - | BH2: … | BM2: 9 - | BO2: … | BT2: 10 - | BV2: …
I3: Périodicité : | K3: =IF(ISNA(HLOOKUP(J27,Données!$C4:$O5,2,FALSE)),"... mois",HLOOKUP(J27,Données!$C4:$O5,2,FALSE)) -> ... mois | L3: =IF(J11<>"",$C11,IF(K11<>"",$D11,IF(L11<>"",$E11,IF(M11<>"",$F11,"...")))) -> ... | P3: Périodicité : | R3: =IF(ISNA(HLOOKUP(Q27,Données!$C4:$O5,2,FALSE)),"... mois",HLOOKUP(Q27,Données!$C4:$O5,2,FALSE)) -> ... mois | S3: =IF(Q11<>"",$C11,IF(R11<>"",$D11,IF(S11<>"",$E11,IF(T11<>"",$F11,"...")))) -> ... | W3: Périodicité : | Y3: =IF(ISNA(HLOOKUP(X27,Données!$C4:$O5,2,FALSE)),"... mois",HLOOKUP(X27,Données!$C4:$O5,2,FALSE)) -> ... mois | Z3: =IF(X11<>"",$C11,IF(Y11<>"",$D11,IF(Z11<>"",$E11,IF(AA11<>"",$F11,"...")))) -> ... | AD3: Périodicité : | AF3: =IF(ISNA(HLOOKUP(AE27,Données!$C4:$O5,2,FALSE)),"... mois",HLOOKUP(AE27,Données!$C4:$O5,2,FALSE)) -> ... mois | AG3: =IF(AE11<>"",$C11,IF(AF11<>"",$D11,IF(AG11<>"",$E11,IF(AH11<>"",$F11,"...")))) -> ... | AK3: Périodicité : | AM3: =IF(ISNA(HLOOKUP(AL27,Données!$C4:$O5,2,FALSE)),"... mois",HLOOKUP(AL27,Données!$C4:$O5,2,FALSE)) -> ... mois | AN3: =IF(AL11<>"",$C11,IF(AM11<>"",$D11,IF(AN11<>"",$E11,IF(AO11<>"",$F11,"...")))) -> ... | AR3: Périodicité : | AT3: =IF(ISNA(HLOOKUP(AS27,Données!$C4:$O5,2,FALSE)),"... mois",HLOOKUP(AS27,Données!$C4:$O5,2,FALSE)) -> ... mois | AU3: =IF(AS11<>"",$C11,IF(AT11<>"",$D11,IF(AU11<>"",$E11,IF(AV11<>"",$F11,"...")))) -> ... | AY3: Périodicité : | BA3: =IF(ISNA(HLOOKUP(AZ27,Données!$C4:$O5,2,FALSE)),"... mois",HLOOKUP(AZ27,Données!$C4:$O5,2,FALSE)) -> ... mois | BB3: =IF(AZ11<>"",$C11,IF(BA11<>"",$D11,IF(BB11<>"",$E11,IF(BC11<>"",$F11,"...")))) -> ... | BF3: Périodicité : | BH3: =IF(ISNA(HLOOKUP(BG27,Données!$C4:$O5,2,FALSE)),"... mois",HLOOKUP(BG27,Données!$C4:$O5,2,FALSE)) -> ... mois | BI3: =IF(BG11<>"",$C11,IF(BH11<>"",$D11,IF(BI11<>"",$E11,IF(BJ11<>"",$F11,"...")))) -> ... | BM3: Périodicité : | BO3: =IF(ISNA(HLOOKUP(BN27,Données!$C4:$O5,2,FALSE)),"... mois",HLOOKUP(BN27,Données!$C4:$O5,2,FALSE)) -> ... mois | BP3: =IF(BN11<>"",$C11,IF(BO11<>"",$D11,IF(BP11<>"",$E11,IF(BQ11<>"",$F11,"...")))) -> ... | BT3: Périodicité : | BV3: =IF(ISNA(HLOOKUP(BU27,Données!$C4:$O5,2,FALSE)),"... mois",HLOOKUP(BU27,Données!$C4:$O5,2,FALSE)) -> ... mois | BW3: =IF(BU11<>"",$C11,IF(BV11<>"",$D11,IF(BW11<>"",$E11,IF(BX11<>"",$F11,"...")))) -> ...
B5: Critères (X) | C5: Point | I5: Critères (X) | J5: Point | P5: Critères (X) | Q5: Point | W5: Critères (X) | X5: Point | AD5: Critères (X) | AE5: Point | AK5: Critères (X) | AL5: Point | AR5: Critères (X) | AS5: Point | AY5: Critères (X) | AZ5: Point | BF5: Critères (X) | BG5: Point | BM5: Critères (X) | BN5: Point | BT5: Critères (X) | BU5: Point
C6: 0 | D6: 1 | E6: 2 | F6: 3 | J6: 0 | K6: 1 | L6: 2 | M6: 3 | Q6: 0 | R6: 1 | S6: 2 | T6: 3 | X6: 0 | Y6: 1 | Z6: 2 | AA6: 3 | AE6: 0 | AF6: 1 | AG6: 2 | AH6: 3 | AL6: 0 | AM6: 1 | AN6: 2 | AO6: 3 | AS6: 0 | AT6: 1 | AU6: 2 | AV6: 3 | AZ6: 0 | BA6: 1 | BB6: 2 | BC6: 3 | BG6: 0 | BH6: 1 | BI6: 2 | BJ6: 3 | BN6: 0 | BO6: 1 | BP6: 2 | BQ6: 3 | BU6: 0 | BV6: 1 | BW6: 2 | BX6: 3
B7: Fréquence d'utilisation | C7: Occasionnellement | D7: 1 fois / jour | E7: Plusieurs fois / jour | F7: En permanence | I7: Fréquence d'utilisation | P7: Fréquence d'utilisation | W7: Fréquence d'utilisation | AD7: Fréquence d'utilisation | AK7: Fréquence d'utilisation | AR7: Fréquence d'utilisation | AY7: Fréquence d'utilisation | BF7: Fréquence d'utilisation | BM7: Fréquence d'utilisation | BT7: Fréquence d'utilisation
B8: Lieu d'utilisation | C8: / | D8: Métrologie Laboratoire | E8: Bureaux Local spécifique | F8: Maintenance UP | I8: Lieu d'utilisation | P8: Lieu d'utilisation | W8: Lieu d'utilisation | AD8: Lieu d'utilisation | AK8: Lieu d'utilisation | AR8: Lieu d'utilisation | AY8: Lieu d'utilisation | BF8: Lieu d'utilisation | BM8: Lieu d'utilisation | BT8: Lieu d'utilisation
B9: Risque d'usure | C9: Aucun | D9: Faible | E9: Moyen | F9: Importante | I9: Risque d'usure | P9: Risque d'usure | W9: Risque d'usure | AD9: Risque d'usure | AK9: Risque d'usure | AR9: Risque d'usure | AY9: Risque d'usure | BF9: Risque d'usure | BM9: Risque d'usure | BT9: Risque d'usure
B10: Conséquence d'une mesure erronée | C10: Aucune | D10: Faible Ctrl IPC hors validation | E10: Importante Ctrl de validation | F10: Très importante Contrôle libératoire | I10: Conséquence d'une mesure erronée | P10: Conséquence d'une mesure erronée | W10: Conséquence d'une mesure erronée | AD10: Conséquence d'une mesure erronée | AK10: Conséquence d'une mesure erronée | AR10: Conséquence d'une mesure erronée | AY10: Conséquence d'une mesure erronée | BF10: Conséquence d'une mesure erronée | BM10: Conséquence d'une mesure erronée | BT10: Conséquence d'une mesure erronée
B11: Type de contrôle | C11: Surveillance Entretien | D11: Vérification Interne | E11: Vérification Externe Indirect | F11: Vérification Externe Direct (type COFRAC) | I11: Type de contrôle | P11: Type de contrôle | W11: Type de contrôle | AD11: Type de contrôle | AK11: Type de contrôle | AR11: Type de contrôle | AY11: Type de contrôle | BF11: Type de contrôle | BM11: Type de contrôle | BT11: Type de contrôle
K12: =COUNTIF(K7:K10,"x") -> 0 | L12: =COUNTIF(L7:L10,"x")*2 -> 0 | M12: =COUNTIF(M7:M10,"x")*3 -> 0 | R12: =COUNTIF(R7:R10,"x") -> 0 | S12: =COUNTIF(S7:S10,"x")*2 -> 0 | T12: =COUNTIF(T7:T10,"x")*3 -> 0 | Y12: =COUNTIF(Y7:Y10,"x") -> 0 | Z12: =COUNTIF(Z7:Z10,"x")*2 -> 0 | AA12: =COUNTIF(AA7:AA10,"x")*3 -> 0 | AF12: =COUNTIF(AF7:AF10,"x") -> 0 | AG12: =COUNTIF(AG7:AG10,"x")*2 -> 0 | AH12: =COUNTIF(AH7:AH10,"x")*3 -> 0 | AM12: =COUNTIF(AM7:AM10,"x") -> 0 | AN12: =COUNTIF(AN7:AN10,"x")*2 -> 0 | AO12: =COUNTIF(AO7:AO10,"x")*3 -> 0 | AT12: =COUNTIF(AT7:AT10,"x") -> 0 | AU12: =COUNTIF(AU7:AU10,"x")*2 -> 0 | AV12: =COUNTIF(AV7:AV10,"x")*3 -> 0 | BA12: =COUNTIF(BA7:BA10,"x") -> 0 | BB12: =COUNTIF(BB7:BB10,"x")*2 -> 0 | BC12: =COUNTIF(BC7:BC10,"x")*3 -> 0 | BH12: =COUNTIF(BH7:BH10,"x") -> 0 | BI12: =COUNTIF(BI7:BI10,"x")*2 -> 0 | BJ12: =COUNTIF(BJ7:BJ10,"x")*3 -> 0 | BO12: =COUNTIF(BO7:BO10,"x") -> 0 | BP12: =COUNTIF(BP7:BP10,"x")*2 -> 0 | BQ12: =COUNTIF(BQ7:BQ10,"x")*3 -> 0 | BV12: =COUNTIF(BV7:BV10,"x") -> 0 | BW12: =COUNTIF(BW7:BW10,"x")*2 -> 0 | BX12: =COUNTIF(BX7:BX10,"x")*3 -> 0
I13: Tableau A : | J13: =SUM(K12:M12) -> 0 | K13: point(s) | P13: Tableau A : | Q13: =SUM(R12:T12) -> 0 | R13: point(s) | W13: Tableau A : | X13: =SUM(Y12:AA12) -> 0 | Y13: point(s) | AD13: Tableau A : | AE13: =SUM(AF12:AH12) -> 0 | AF13: point(s) | AK13: Tableau A : | AL13: =SUM(AM12:AO12) -> 0 | AM13: point(s) | AR13: Tableau A : | AS13: =SUM(AT12:AV12) -> 0 | AT13: point(s) | AY13: Tableau A : | AZ13: =SUM(BA12:BC12) -> 0 | BA13: point(s) | BF13: Tableau A : | BG13: =SUM(BH12:BJ12) -> 0 | BH13: point(s) | BM13: Tableau A : | BN13: =SUM(BO12:BQ12) -> 0 | BO13: point(s) | BT13: Tableau A : | BU13: =SUM(BV12:BX12) -> 0 | BV13: point(s)
I15: Historique des données d'étalonnage | P15: Historique des données d'étalonnage | W15: Historique des données d'étalonnage | AD15: Historique des données d'étalonnage | AK15: Historique des données d'étalonnage | AR15: Historique des données d'étalonnage | AY15: Historique des données d'étalonnage | BF15: Historique des données d'étalonnage | BM15: Historique des données d'étalonnage | BT15: Historique des données d'étalonnage
I17: Critères B | M17: Point | P17: Critères B | T17: Point | W17: Critères B | AA17: Point | AD17: Critères B | AH17: Point | AK17: Critères B | AO17: Point | AR17: Critères B | AV17: Point | AY17: Critères B | BC17: Point | BF17: Critères B | BJ17: Point | BM17: Critères B | BQ17: Point | BT17: Critères B | BX17: Point
I18: Les résultats de mesure des 3 derniers étalonnages sont dans les spécifications | N18: =IF(M18="x",-2,"") | P18: Les résultats de mesure des 3 derniers étalonnages sont dans les spécifications | U18: =IF(T18="x",-2,"") | W18: Les résultats de mesure des 3 derniers étalonnages sont dans les spécifications | AB18: =IF(AA18="x",-2,"") | AD18: Les résultats de mesure des 3 derniers étalonnages sont dans les spécifications | AI18: =IF(AH18="x",-2,"") | AK18: Les résultats de mesure des 3 derniers étalonnages sont dans les spécifications | AP18: =IF(AO18="x",-2,"") | AR18: Les résultats de mesure des 3 derniers étalonnages sont dans les spécifications | AW18: =IF(AV18="x",-2,"") | AY18: Les résultats de mesure des 3 derniers étalonnages sont dans les spécifications | BD18: =IF(BC18="x",-2,"") | BF18: Les résultats de mesure des 3 derniers étalonnages sont dans les spécifications | BK18: =IF(BJ18="x",-2,"") | BM18: Les résultats de mesure des 3 derniers étalonnages sont dans les spécifications | BR18: =IF(BQ18="x",-2,"") | BT18: Les résultats de mesure des 3 derniers étalonnages sont dans les spécifications | BY18: =IF(BX18="x",-2,"")
